BEGIN:VCALENDAR
VERSION:2.0
PRODID:-//Epic Trivia - ECPv6.15.18//NONSGML v1.0//EN
CALSCALE:GREGORIAN
METHOD:PUBLISH
X-WR-CALNAME:Epic Trivia
X-ORIGINAL-URL:https://epictriviafl.com
X-WR-CALDESC:Events for Epic Trivia
REFRESH-INTERVAL;VALUE=DURATION:PT1H
X-Robots-Tag:noindex
X-PUBLISHED-TTL:PT1H
BEGIN:VTIMEZONE
TZID:America/New_York
BEGIN:DAYLIGHT
TZOFFSETFROM:-0500
TZOFFSETTO:-0400
TZNAME:EDT
DTSTART:20260308T070000
END:DAYLIGHT
BEGIN:STANDARD
TZOFFSETFROM:-0400
TZOFFSETTO:-0500
TZNAME:EST
DTSTART:20261101T060000
END:STANDARD
BEGIN:DAYLIGHT
TZOFFSETFROM:-0500
TZOFFSETTO:-0400
TZNAME:EDT
DTSTART:20270314T070000
END:DAYLIGHT
BEGIN:STANDARD
TZOFFSETFROM:-0400
TZOFFSETTO:-0500
TZNAME:EST
DTSTART:20271107T060000
END:STANDARD
BEGIN:DAYLIGHT
TZOFFSETFROM:-0500
TZOFFSETTO:-0400
TZNAME:EDT
DTSTART:20280312T070000
END:DAYLIGHT
BEGIN:STANDARD
TZOFFSETFROM:-0400
TZOFFSETTO:-0500
TZNAME:EST
DTSTART:20281105T060000
END:STANDARD
END:VTIMEZONE
BEGIN:VEVENT
DTSTART;TZID=America/New_York:20270823T190000
DTEND;TZID=America/New_York:20270823T190000
DTSTAMP:20260422T024402
CREATED:20260105T003046Z
LAST-MODIFIED:20260105T055526Z
UID:10018028-1819047600-1819047600@epictriviafl.com
SUMMARY:Music Bingo
DESCRIPTION:
URL:https://epictriviafl.com/event/music-bingo-hurricane-longwood/2027-08-23/
LOCATION:Hurricane Grill & Wings\, 2401 W State Rd 434\, Longwood\, FL 32779 USA
GEO:28.6883313;-81.4046306
X-APPLE-STRUCTURED-LOCATION;VALUE=URI;X-ADDRESS=Hurricane Grill & Wings 2401 W State Rd 434 Longwood FL 32779 USA;X-APPLE-RADIUS=500;X-TITLE=2401 W State Rd 434\, Longwood\, FL 32779 USA:geo:-81.4046306,28.6883313
END:VEVENT
BEGIN:VEVENT
DTSTART;TZID=America/New_York:20270824T190000
DTEND;TZID=America/New_York:20270824T190000
DTSTAMP:20260422T024402
CREATED:20260105T003103Z
LAST-MODIFIED:20260105T055137Z
UID:10016208-1819134000-1819134000@epictriviafl.com
SUMMARY:Trivia
DESCRIPTION:
URL:https://epictriviafl.com/event/trivia-hurricane-longwood/2027-08-24/
LOCATION:Hurricane Grill & Wings\, 2401 W State Rd 434\, Longwood\, FL 32779 USA
GEO:28.6883313;-81.4046306
X-APPLE-STRUCTURED-LOCATION;VALUE=URI;X-ADDRESS=Hurricane Grill & Wings 2401 W State Rd 434 Longwood FL 32779 USA;X-APPLE-RADIUS=500;X-TITLE=2401 W State Rd 434\, Longwood\, FL 32779 USA:geo:-81.4046306,28.6883313
END:VEVENT
BEGIN:VEVENT
DTSTART;TZID=America/New_York:20270825T183000
DTEND;TZID=America/New_York:20270825T183000
DTSTAMP:20260422T024402
CREATED:20260105T003119Z
LAST-MODIFIED:20260105T054818Z
UID:10014908-1819218600-1819218600@epictriviafl.com
SUMMARY:Music Bingo
DESCRIPTION:
URL:https://epictriviafl.com/event/music-bingo-hurricane-apopka-2/2027-08-25/
LOCATION:Hurricane Grill & Wings\, 2401 W State Rd 434\, Longwood\, FL 32779 USA
GEO:28.6883313;-81.4046306
X-APPLE-STRUCTURED-LOCATION;VALUE=URI;X-ADDRESS=Hurricane Grill & Wings 2401 W State Rd 434 Longwood FL 32779 USA;X-APPLE-RADIUS=500;X-TITLE=2401 W State Rd 434\, Longwood\, FL 32779 USA:geo:-81.4046306,28.6883313
END:VEVENT
BEGIN:VEVENT
DTSTART;TZID=America/New_York:20270829T183000
DTEND;TZID=America/New_York:20270829T183000
DTSTAMP:20260422T024402
CREATED:20260105T003234Z
LAST-MODIFIED:20260105T060012Z
UID:10019849-1819564200-1819564200@epictriviafl.com
SUMMARY:Music Bingo
DESCRIPTION:
URL:https://epictriviafl.com/event/music-bingo-hurricane-apopka-3/2027-08-29/
LOCATION:Hurricane Grill & Wings\, 2401 W State Rd 434\, Longwood\, FL 32779 USA
GEO:28.6883313;-81.4046306
X-APPLE-STRUCTURED-LOCATION;VALUE=URI;X-ADDRESS=Hurricane Grill & Wings 2401 W State Rd 434 Longwood FL 32779 USA;X-APPLE-RADIUS=500;X-TITLE=2401 W State Rd 434\, Longwood\, FL 32779 USA:geo:-81.4046306,28.6883313
END:VEVENT
BEGIN:VEVENT
DTSTART;TZID=America/New_York:20270830T183000
DTEND;TZID=America/New_York:20270830T183000
DTSTAMP:20260422T024402
CREATED:20260105T003044Z
LAST-MODIFIED:20260105T055734Z
UID:10018809-1819650600-1819650600@epictriviafl.com
SUMMARY:Music Bingo
DESCRIPTION:
URL:https://epictriviafl.com/event/music-bingo-hurricane-apopka/2027-08-30/
LOCATION:Hurricane Grill & Wings\, 2401 W State Rd 434\, Longwood\, FL 32779 USA
GEO:28.6883313;-81.4046306
X-APPLE-STRUCTURED-LOCATION;VALUE=URI;X-ADDRESS=Hurricane Grill & Wings 2401 W State Rd 434 Longwood FL 32779 USA;X-APPLE-RADIUS=500;X-TITLE=2401 W State Rd 434\, Longwood\, FL 32779 USA:geo:-81.4046306,28.6883313
END:VEVENT
BEGIN:VEVENT
DTSTART;TZID=America/New_York:20270830T190000
DTEND;TZID=America/New_York:20270830T190000
DTSTAMP:20260422T024402
CREATED:20260105T003046Z
LAST-MODIFIED:20260105T055526Z
UID:10018029-1819652400-1819652400@epictriviafl.com
SUMMARY:Music Bingo
DESCRIPTION:
URL:https://epictriviafl.com/event/music-bingo-hurricane-longwood/2027-08-30/
LOCATION:Hurricane Grill & Wings\, 2401 W State Rd 434\, Longwood\, FL 32779 USA
GEO:28.6883313;-81.4046306
X-APPLE-STRUCTURED-LOCATION;VALUE=URI;X-ADDRESS=Hurricane Grill & Wings 2401 W State Rd 434 Longwood FL 32779 USA;X-APPLE-RADIUS=500;X-TITLE=2401 W State Rd 434\, Longwood\, FL 32779 USA:geo:-81.4046306,28.6883313
END:VEVENT
BEGIN:VEVENT
DTSTART;TZID=America/New_York:20270831T190000
DTEND;TZID=America/New_York:20270831T190000
DTSTAMP:20260422T024402
CREATED:20260105T003103Z
LAST-MODIFIED:20260105T055137Z
UID:10016209-1819738800-1819738800@epictriviafl.com
SUMMARY:Trivia
DESCRIPTION:
URL:https://epictriviafl.com/event/trivia-hurricane-longwood/2027-08-31/
LOCATION:Hurricane Grill & Wings\, 2401 W State Rd 434\, Longwood\, FL 32779 USA
GEO:28.6883313;-81.4046306
X-APPLE-STRUCTURED-LOCATION;VALUE=URI;X-ADDRESS=Hurricane Grill & Wings 2401 W State Rd 434 Longwood FL 32779 USA;X-APPLE-RADIUS=500;X-TITLE=2401 W State Rd 434\, Longwood\, FL 32779 USA:geo:-81.4046306,28.6883313
END:VEVENT
BEGIN:VEVENT
DTSTART;TZID=America/New_York:20270901T183000
DTEND;TZID=America/New_York:20270901T183000
DTSTAMP:20260422T024402
CREATED:20260105T003119Z
LAST-MODIFIED:20260105T054818Z
UID:10014909-1819823400-1819823400@epictriviafl.com
SUMMARY:Music Bingo
DESCRIPTION:
URL:https://epictriviafl.com/event/music-bingo-hurricane-apopka-2/2027-09-01/
LOCATION:Hurricane Grill & Wings\, 2401 W State Rd 434\, Longwood\, FL 32779 USA
GEO:28.6883313;-81.4046306
X-APPLE-STRUCTURED-LOCATION;VALUE=URI;X-ADDRESS=Hurricane Grill & Wings 2401 W State Rd 434 Longwood FL 32779 USA;X-APPLE-RADIUS=500;X-TITLE=2401 W State Rd 434\, Longwood\, FL 32779 USA:geo:-81.4046306,28.6883313
END:VEVENT
BEGIN:VEVENT
DTSTART;TZID=America/New_York:20270905T183000
DTEND;TZID=America/New_York:20270905T183000
DTSTAMP:20260422T024402
CREATED:20260105T003234Z
LAST-MODIFIED:20260105T060012Z
UID:10019850-1820169000-1820169000@epictriviafl.com
SUMMARY:Music Bingo
DESCRIPTION:
URL:https://epictriviafl.com/event/music-bingo-hurricane-apopka-3/2027-09-05/
LOCATION:Hurricane Grill & Wings\, 2401 W State Rd 434\, Longwood\, FL 32779 USA
GEO:28.6883313;-81.4046306
X-APPLE-STRUCTURED-LOCATION;VALUE=URI;X-ADDRESS=Hurricane Grill & Wings 2401 W State Rd 434 Longwood FL 32779 USA;X-APPLE-RADIUS=500;X-TITLE=2401 W State Rd 434\, Longwood\, FL 32779 USA:geo:-81.4046306,28.6883313
END:VEVENT
BEGIN:VEVENT
DTSTART;TZID=America/New_York:20270906T183000
DTEND;TZID=America/New_York:20270906T183000
DTSTAMP:20260422T024402
CREATED:20260105T003044Z
LAST-MODIFIED:20260105T055734Z
UID:10018810-1820255400-1820255400@epictriviafl.com
SUMMARY:Music Bingo
DESCRIPTION:
URL:https://epictriviafl.com/event/music-bingo-hurricane-apopka/2027-09-06/
LOCATION:Hurricane Grill & Wings\, 2401 W State Rd 434\, Longwood\, FL 32779 USA
GEO:28.6883313;-81.4046306
X-APPLE-STRUCTURED-LOCATION;VALUE=URI;X-ADDRESS=Hurricane Grill & Wings 2401 W State Rd 434 Longwood FL 32779 USA;X-APPLE-RADIUS=500;X-TITLE=2401 W State Rd 434\, Longwood\, FL 32779 USA:geo:-81.4046306,28.6883313
END:VEVENT
BEGIN:VEVENT
DTSTART;TZID=America/New_York:20270906T190000
DTEND;TZID=America/New_York:20270906T190000
DTSTAMP:20260422T024402
CREATED:20260105T003046Z
LAST-MODIFIED:20260105T055526Z
UID:10018030-1820257200-1820257200@epictriviafl.com
SUMMARY:Music Bingo
DESCRIPTION:
URL:https://epictriviafl.com/event/music-bingo-hurricane-longwood/2027-09-06/
LOCATION:Hurricane Grill & Wings\, 2401 W State Rd 434\, Longwood\, FL 32779 USA
GEO:28.6883313;-81.4046306
X-APPLE-STRUCTURED-LOCATION;VALUE=URI;X-ADDRESS=Hurricane Grill & Wings 2401 W State Rd 434 Longwood FL 32779 USA;X-APPLE-RADIUS=500;X-TITLE=2401 W State Rd 434\, Longwood\, FL 32779 USA:geo:-81.4046306,28.6883313
END:VEVENT
BEGIN:VEVENT
DTSTART;TZID=America/New_York:20270907T190000
DTEND;TZID=America/New_York:20270907T190000
DTSTAMP:20260422T024402
CREATED:20260105T003103Z
LAST-MODIFIED:20260105T055137Z
UID:10016210-1820343600-1820343600@epictriviafl.com
SUMMARY:Trivia
DESCRIPTION:
URL:https://epictriviafl.com/event/trivia-hurricane-longwood/2027-09-07/
LOCATION:Hurricane Grill & Wings\, 2401 W State Rd 434\, Longwood\, FL 32779 USA
GEO:28.6883313;-81.4046306
X-APPLE-STRUCTURED-LOCATION;VALUE=URI;X-ADDRESS=Hurricane Grill & Wings 2401 W State Rd 434 Longwood FL 32779 USA;X-APPLE-RADIUS=500;X-TITLE=2401 W State Rd 434\, Longwood\, FL 32779 USA:geo:-81.4046306,28.6883313
END:VEVENT
BEGIN:VEVENT
DTSTART;TZID=America/New_York:20270908T183000
DTEND;TZID=America/New_York:20270908T183000
DTSTAMP:20260422T024402
CREATED:20260105T003119Z
LAST-MODIFIED:20260105T054818Z
UID:10014910-1820428200-1820428200@epictriviafl.com
SUMMARY:Music Bingo
DESCRIPTION:
URL:https://epictriviafl.com/event/music-bingo-hurricane-apopka-2/2027-09-08/
LOCATION:Hurricane Grill & Wings\, 2401 W State Rd 434\, Longwood\, FL 32779 USA
GEO:28.6883313;-81.4046306
X-APPLE-STRUCTURED-LOCATION;VALUE=URI;X-ADDRESS=Hurricane Grill & Wings 2401 W State Rd 434 Longwood FL 32779 USA;X-APPLE-RADIUS=500;X-TITLE=2401 W State Rd 434\, Longwood\, FL 32779 USA:geo:-81.4046306,28.6883313
END:VEVENT
BEGIN:VEVENT
DTSTART;TZID=America/New_York:20270912T183000
DTEND;TZID=America/New_York:20270912T183000
DTSTAMP:20260422T024402
CREATED:20260105T003234Z
LAST-MODIFIED:20260105T060012Z
UID:10019851-1820773800-1820773800@epictriviafl.com
SUMMARY:Music Bingo
DESCRIPTION:
URL:https://epictriviafl.com/event/music-bingo-hurricane-apopka-3/2027-09-12/
LOCATION:Hurricane Grill & Wings\, 2401 W State Rd 434\, Longwood\, FL 32779 USA
GEO:28.6883313;-81.4046306
X-APPLE-STRUCTURED-LOCATION;VALUE=URI;X-ADDRESS=Hurricane Grill & Wings 2401 W State Rd 434 Longwood FL 32779 USA;X-APPLE-RADIUS=500;X-TITLE=2401 W State Rd 434\, Longwood\, FL 32779 USA:geo:-81.4046306,28.6883313
END:VEVENT
BEGIN:VEVENT
DTSTART;TZID=America/New_York:20270913T183000
DTEND;TZID=America/New_York:20270913T183000
DTSTAMP:20260422T024402
CREATED:20260105T003044Z
LAST-MODIFIED:20260105T055734Z
UID:10018811-1820860200-1820860200@epictriviafl.com
SUMMARY:Music Bingo
DESCRIPTION:
URL:https://epictriviafl.com/event/music-bingo-hurricane-apopka/2027-09-13/
LOCATION:Hurricane Grill & Wings\, 2401 W State Rd 434\, Longwood\, FL 32779 USA
GEO:28.6883313;-81.4046306
X-APPLE-STRUCTURED-LOCATION;VALUE=URI;X-ADDRESS=Hurricane Grill & Wings 2401 W State Rd 434 Longwood FL 32779 USA;X-APPLE-RADIUS=500;X-TITLE=2401 W State Rd 434\, Longwood\, FL 32779 USA:geo:-81.4046306,28.6883313
END:VEVENT
BEGIN:VEVENT
DTSTART;TZID=America/New_York:20270913T190000
DTEND;TZID=America/New_York:20270913T190000
DTSTAMP:20260422T024402
CREATED:20260105T003046Z
LAST-MODIFIED:20260105T055526Z
UID:10018031-1820862000-1820862000@epictriviafl.com
SUMMARY:Music Bingo
DESCRIPTION:
URL:https://epictriviafl.com/event/music-bingo-hurricane-longwood/2027-09-13/
LOCATION:Hurricane Grill & Wings\, 2401 W State Rd 434\, Longwood\, FL 32779 USA
GEO:28.6883313;-81.4046306
X-APPLE-STRUCTURED-LOCATION;VALUE=URI;X-ADDRESS=Hurricane Grill & Wings 2401 W State Rd 434 Longwood FL 32779 USA;X-APPLE-RADIUS=500;X-TITLE=2401 W State Rd 434\, Longwood\, FL 32779 USA:geo:-81.4046306,28.6883313
END:VEVENT
BEGIN:VEVENT
DTSTART;TZID=America/New_York:20270914T190000
DTEND;TZID=America/New_York:20270914T190000
DTSTAMP:20260422T024402
CREATED:20260105T003103Z
LAST-MODIFIED:20260105T055137Z
UID:10016211-1820948400-1820948400@epictriviafl.com
SUMMARY:Trivia
DESCRIPTION:
URL:https://epictriviafl.com/event/trivia-hurricane-longwood/2027-09-14/
LOCATION:Hurricane Grill & Wings\, 2401 W State Rd 434\, Longwood\, FL 32779 USA
GEO:28.6883313;-81.4046306
X-APPLE-STRUCTURED-LOCATION;VALUE=URI;X-ADDRESS=Hurricane Grill & Wings 2401 W State Rd 434 Longwood FL 32779 USA;X-APPLE-RADIUS=500;X-TITLE=2401 W State Rd 434\, Longwood\, FL 32779 USA:geo:-81.4046306,28.6883313
END:VEVENT
BEGIN:VEVENT
DTSTART;TZID=America/New_York:20270915T183000
DTEND;TZID=America/New_York:20270915T183000
DTSTAMP:20260422T024402
CREATED:20260105T003119Z
LAST-MODIFIED:20260105T054818Z
UID:10014911-1821033000-1821033000@epictriviafl.com
SUMMARY:Music Bingo
DESCRIPTION:
URL:https://epictriviafl.com/event/music-bingo-hurricane-apopka-2/2027-09-15/
LOCATION:Hurricane Grill & Wings\, 2401 W State Rd 434\, Longwood\, FL 32779 USA
GEO:28.6883313;-81.4046306
X-APPLE-STRUCTURED-LOCATION;VALUE=URI;X-ADDRESS=Hurricane Grill & Wings 2401 W State Rd 434 Longwood FL 32779 USA;X-APPLE-RADIUS=500;X-TITLE=2401 W State Rd 434\, Longwood\, FL 32779 USA:geo:-81.4046306,28.6883313
END:VEVENT
BEGIN:VEVENT
DTSTART;TZID=America/New_York:20270919T183000
DTEND;TZID=America/New_York:20270919T183000
DTSTAMP:20260422T024402
CREATED:20260105T003234Z
LAST-MODIFIED:20260105T060012Z
UID:10019852-1821378600-1821378600@epictriviafl.com
SUMMARY:Music Bingo
DESCRIPTION:
URL:https://epictriviafl.com/event/music-bingo-hurricane-apopka-3/2027-09-19/
LOCATION:Hurricane Grill & Wings\, 2401 W State Rd 434\, Longwood\, FL 32779 USA
GEO:28.6883313;-81.4046306
X-APPLE-STRUCTURED-LOCATION;VALUE=URI;X-ADDRESS=Hurricane Grill & Wings 2401 W State Rd 434 Longwood FL 32779 USA;X-APPLE-RADIUS=500;X-TITLE=2401 W State Rd 434\, Longwood\, FL 32779 USA:geo:-81.4046306,28.6883313
END:VEVENT
BEGIN:VEVENT
DTSTART;TZID=America/New_York:20270920T183000
DTEND;TZID=America/New_York:20270920T183000
DTSTAMP:20260422T024402
CREATED:20260105T003044Z
LAST-MODIFIED:20260105T055734Z
UID:10018812-1821465000-1821465000@epictriviafl.com
SUMMARY:Music Bingo
DESCRIPTION:
URL:https://epictriviafl.com/event/music-bingo-hurricane-apopka/2027-09-20/
LOCATION:Hurricane Grill & Wings\, 2401 W State Rd 434\, Longwood\, FL 32779 USA
GEO:28.6883313;-81.4046306
X-APPLE-STRUCTURED-LOCATION;VALUE=URI;X-ADDRESS=Hurricane Grill & Wings 2401 W State Rd 434 Longwood FL 32779 USA;X-APPLE-RADIUS=500;X-TITLE=2401 W State Rd 434\, Longwood\, FL 32779 USA:geo:-81.4046306,28.6883313
END:VEVENT
BEGIN:VEVENT
DTSTART;TZID=America/New_York:20270920T190000
DTEND;TZID=America/New_York:20270920T190000
DTSTAMP:20260422T024402
CREATED:20260105T003046Z
LAST-MODIFIED:20260105T055526Z
UID:10018032-1821466800-1821466800@epictriviafl.com
SUMMARY:Music Bingo
DESCRIPTION:
URL:https://epictriviafl.com/event/music-bingo-hurricane-longwood/2027-09-20/
LOCATION:Hurricane Grill & Wings\, 2401 W State Rd 434\, Longwood\, FL 32779 USA
GEO:28.6883313;-81.4046306
X-APPLE-STRUCTURED-LOCATION;VALUE=URI;X-ADDRESS=Hurricane Grill & Wings 2401 W State Rd 434 Longwood FL 32779 USA;X-APPLE-RADIUS=500;X-TITLE=2401 W State Rd 434\, Longwood\, FL 32779 USA:geo:-81.4046306,28.6883313
END:VEVENT
BEGIN:VEVENT
DTSTART;TZID=America/New_York:20270921T190000
DTEND;TZID=America/New_York:20270921T190000
DTSTAMP:20260422T024402
CREATED:20260105T003103Z
LAST-MODIFIED:20260105T055137Z
UID:10016212-1821553200-1821553200@epictriviafl.com
SUMMARY:Trivia
DESCRIPTION:
URL:https://epictriviafl.com/event/trivia-hurricane-longwood/2027-09-21/
LOCATION:Hurricane Grill & Wings\, 2401 W State Rd 434\, Longwood\, FL 32779 USA
GEO:28.6883313;-81.4046306
X-APPLE-STRUCTURED-LOCATION;VALUE=URI;X-ADDRESS=Hurricane Grill & Wings 2401 W State Rd 434 Longwood FL 32779 USA;X-APPLE-RADIUS=500;X-TITLE=2401 W State Rd 434\, Longwood\, FL 32779 USA:geo:-81.4046306,28.6883313
END:VEVENT
BEGIN:VEVENT
DTSTART;TZID=America/New_York:20270922T183000
DTEND;TZID=America/New_York:20270922T183000
DTSTAMP:20260422T024402
CREATED:20260105T003119Z
LAST-MODIFIED:20260105T054818Z
UID:10014912-1821637800-1821637800@epictriviafl.com
SUMMARY:Music Bingo
DESCRIPTION:
URL:https://epictriviafl.com/event/music-bingo-hurricane-apopka-2/2027-09-22/
LOCATION:Hurricane Grill & Wings\, 2401 W State Rd 434\, Longwood\, FL 32779 USA
GEO:28.6883313;-81.4046306
X-APPLE-STRUCTURED-LOCATION;VALUE=URI;X-ADDRESS=Hurricane Grill & Wings 2401 W State Rd 434 Longwood FL 32779 USA;X-APPLE-RADIUS=500;X-TITLE=2401 W State Rd 434\, Longwood\, FL 32779 USA:geo:-81.4046306,28.6883313
END:VEVENT
BEGIN:VEVENT
DTSTART;TZID=America/New_York:20270926T183000
DTEND;TZID=America/New_York:20270926T183000
DTSTAMP:20260422T024402
CREATED:20260105T003234Z
LAST-MODIFIED:20260105T060012Z
UID:10019853-1821983400-1821983400@epictriviafl.com
SUMMARY:Music Bingo
DESCRIPTION:
URL:https://epictriviafl.com/event/music-bingo-hurricane-apopka-3/2027-09-26/
LOCATION:Hurricane Grill & Wings\, 2401 W State Rd 434\, Longwood\, FL 32779 USA
GEO:28.6883313;-81.4046306
X-APPLE-STRUCTURED-LOCATION;VALUE=URI;X-ADDRESS=Hurricane Grill & Wings 2401 W State Rd 434 Longwood FL 32779 USA;X-APPLE-RADIUS=500;X-TITLE=2401 W State Rd 434\, Longwood\, FL 32779 USA:geo:-81.4046306,28.6883313
END:VEVENT
BEGIN:VEVENT
DTSTART;TZID=America/New_York:20270927T183000
DTEND;TZID=America/New_York:20270927T183000
DTSTAMP:20260422T024402
CREATED:20260105T003044Z
LAST-MODIFIED:20260105T055734Z
UID:10018813-1822069800-1822069800@epictriviafl.com
SUMMARY:Music Bingo
DESCRIPTION:
URL:https://epictriviafl.com/event/music-bingo-hurricane-apopka/2027-09-27/
LOCATION:Hurricane Grill & Wings\, 2401 W State Rd 434\, Longwood\, FL 32779 USA
GEO:28.6883313;-81.4046306
X-APPLE-STRUCTURED-LOCATION;VALUE=URI;X-ADDRESS=Hurricane Grill & Wings 2401 W State Rd 434 Longwood FL 32779 USA;X-APPLE-RADIUS=500;X-TITLE=2401 W State Rd 434\, Longwood\, FL 32779 USA:geo:-81.4046306,28.6883313
END:VEVENT
BEGIN:VEVENT
DTSTART;TZID=America/New_York:20270927T190000
DTEND;TZID=America/New_York:20270927T190000
DTSTAMP:20260422T024402
CREATED:20260105T003046Z
LAST-MODIFIED:20260105T055526Z
UID:10018033-1822071600-1822071600@epictriviafl.com
SUMMARY:Music Bingo
DESCRIPTION:
URL:https://epictriviafl.com/event/music-bingo-hurricane-longwood/2027-09-27/
LOCATION:Hurricane Grill & Wings\, 2401 W State Rd 434\, Longwood\, FL 32779 USA
GEO:28.6883313;-81.4046306
X-APPLE-STRUCTURED-LOCATION;VALUE=URI;X-ADDRESS=Hurricane Grill & Wings 2401 W State Rd 434 Longwood FL 32779 USA;X-APPLE-RADIUS=500;X-TITLE=2401 W State Rd 434\, Longwood\, FL 32779 USA:geo:-81.4046306,28.6883313
END:VEVENT
BEGIN:VEVENT
DTSTART;TZID=America/New_York:20270928T190000
DTEND;TZID=America/New_York:20270928T190000
DTSTAMP:20260422T024402
CREATED:20260105T003103Z
LAST-MODIFIED:20260105T055137Z
UID:10016213-1822158000-1822158000@epictriviafl.com
SUMMARY:Trivia
DESCRIPTION:
URL:https://epictriviafl.com/event/trivia-hurricane-longwood/2027-09-28/
LOCATION:Hurricane Grill & Wings\, 2401 W State Rd 434\, Longwood\, FL 32779 USA
GEO:28.6883313;-81.4046306
X-APPLE-STRUCTURED-LOCATION;VALUE=URI;X-ADDRESS=Hurricane Grill & Wings 2401 W State Rd 434 Longwood FL 32779 USA;X-APPLE-RADIUS=500;X-TITLE=2401 W State Rd 434\, Longwood\, FL 32779 USA:geo:-81.4046306,28.6883313
END:VEVENT
BEGIN:VEVENT
DTSTART;TZID=America/New_York:20270929T183000
DTEND;TZID=America/New_York:20270929T183000
DTSTAMP:20260422T024402
CREATED:20260105T003119Z
LAST-MODIFIED:20260105T054818Z
UID:10014913-1822242600-1822242600@epictriviafl.com
SUMMARY:Music Bingo
DESCRIPTION:
URL:https://epictriviafl.com/event/music-bingo-hurricane-apopka-2/2027-09-29/
LOCATION:Hurricane Grill & Wings\, 2401 W State Rd 434\, Longwood\, FL 32779 USA
GEO:28.6883313;-81.4046306
X-APPLE-STRUCTURED-LOCATION;VALUE=URI;X-ADDRESS=Hurricane Grill & Wings 2401 W State Rd 434 Longwood FL 32779 USA;X-APPLE-RADIUS=500;X-TITLE=2401 W State Rd 434\, Longwood\, FL 32779 USA:geo:-81.4046306,28.6883313
END:VEVENT
BEGIN:VEVENT
DTSTART;TZID=America/New_York:20271003T183000
DTEND;TZID=America/New_York:20271003T183000
DTSTAMP:20260422T024402
CREATED:20260105T003234Z
LAST-MODIFIED:20260105T060012Z
UID:10019854-1822588200-1822588200@epictriviafl.com
SUMMARY:Music Bingo
DESCRIPTION:
URL:https://epictriviafl.com/event/music-bingo-hurricane-apopka-3/2027-10-03/
LOCATION:Hurricane Grill & Wings\, 2401 W State Rd 434\, Longwood\, FL 32779 USA
GEO:28.6883313;-81.4046306
X-APPLE-STRUCTURED-LOCATION;VALUE=URI;X-ADDRESS=Hurricane Grill & Wings 2401 W State Rd 434 Longwood FL 32779 USA;X-APPLE-RADIUS=500;X-TITLE=2401 W State Rd 434\, Longwood\, FL 32779 USA:geo:-81.4046306,28.6883313
END:VEVENT
BEGIN:VEVENT
DTSTART;TZID=America/New_York:20271004T183000
DTEND;TZID=America/New_York:20271004T183000
DTSTAMP:20260422T024402
CREATED:20260105T003044Z
LAST-MODIFIED:20260105T055734Z
UID:10018814-1822674600-1822674600@epictriviafl.com
SUMMARY:Music Bingo
DESCRIPTION:
URL:https://epictriviafl.com/event/music-bingo-hurricane-apopka/2027-10-04/
LOCATION:Hurricane Grill & Wings\, 2401 W State Rd 434\, Longwood\, FL 32779 USA
GEO:28.6883313;-81.4046306
X-APPLE-STRUCTURED-LOCATION;VALUE=URI;X-ADDRESS=Hurricane Grill & Wings 2401 W State Rd 434 Longwood FL 32779 USA;X-APPLE-RADIUS=500;X-TITLE=2401 W State Rd 434\, Longwood\, FL 32779 USA:geo:-81.4046306,28.6883313
END:VEVENT
END:VCALENDAR