BEGIN:VCALENDAR
VERSION:2.0
PRODID:-//Epic Trivia - ECPv6.15.18//NONSGML v1.0//EN
CALSCALE:GREGORIAN
METHOD:PUBLISH
X-ORIGINAL-URL:https://epictriviafl.com
X-WR-CALDESC:Events for Epic Trivia
REFRESH-INTERVAL;VALUE=DURATION:PT1H
X-Robots-Tag:noindex
X-PUBLISHED-TTL:PT1H
BEGIN:VTIMEZONE
TZID:America/New_York
BEGIN:DAYLIGHT
TZOFFSETFROM:-0500
TZOFFSETTO:-0400
TZNAME:EDT
DTSTART:20260308T070000
END:DAYLIGHT
BEGIN:STANDARD
TZOFFSETFROM:-0400
TZOFFSETTO:-0500
TZNAME:EST
DTSTART:20261101T060000
END:STANDARD
BEGIN:DAYLIGHT
TZOFFSETFROM:-0500
TZOFFSETTO:-0400
TZNAME:EDT
DTSTART:20270314T070000
END:DAYLIGHT
BEGIN:STANDARD
TZOFFSETFROM:-0400
TZOFFSETTO:-0500
TZNAME:EST
DTSTART:20271107T060000
END:STANDARD
BEGIN:DAYLIGHT
TZOFFSETFROM:-0500
TZOFFSETTO:-0400
TZNAME:EDT
DTSTART:20280312T070000
END:DAYLIGHT
BEGIN:STANDARD
TZOFFSETFROM:-0400
TZOFFSETTO:-0500
TZNAME:EST
DTSTART:20281105T060000
END:STANDARD
END:VTIMEZONE
BEGIN:VEVENT
DTSTART;TZID=America/New_York:20270512T183000
DTEND;TZID=America/New_York:20270512T183000
DTSTAMP:20260421T170636
CREATED:20260105T003119Z
LAST-MODIFIED:20260105T054818Z
UID:10014893-1810146600-1810146600@epictriviafl.com
SUMMARY:Music Bingo
DESCRIPTION:
URL:https://epictriviafl.com/event/music-bingo-hurricane-apopka-2/2027-05-12/
LOCATION:Hurricane Grill & Wings\, 2401 W State Rd 434\, Longwood\, FL 32779 USA
GEO:28.6883313;-81.4046306
X-APPLE-STRUCTURED-LOCATION;VALUE=URI;X-ADDRESS=Hurricane Grill & Wings 2401 W State Rd 434 Longwood FL 32779 USA;X-APPLE-RADIUS=500;X-TITLE=2401 W State Rd 434\, Longwood\, FL 32779 USA:geo:-81.4046306,28.6883313
END:VEVENT
BEGIN:VEVENT
DTSTART;TZID=America/New_York:20270516T183000
DTEND;TZID=America/New_York:20270516T183000
DTSTAMP:20260421T170636
CREATED:20260105T003234Z
LAST-MODIFIED:20260105T060012Z
UID:10019834-1810492200-1810492200@epictriviafl.com
SUMMARY:Music Bingo
DESCRIPTION:
URL:https://epictriviafl.com/event/music-bingo-hurricane-apopka-3/2027-05-16/
LOCATION:Hurricane Grill & Wings\, 2401 W State Rd 434\, Longwood\, FL 32779 USA
GEO:28.6883313;-81.4046306
X-APPLE-STRUCTURED-LOCATION;VALUE=URI;X-ADDRESS=Hurricane Grill & Wings 2401 W State Rd 434 Longwood FL 32779 USA;X-APPLE-RADIUS=500;X-TITLE=2401 W State Rd 434\, Longwood\, FL 32779 USA:geo:-81.4046306,28.6883313
END:VEVENT
BEGIN:VEVENT
DTSTART;TZID=America/New_York:20270517T183000
DTEND;TZID=America/New_York:20270517T183000
DTSTAMP:20260421T170636
CREATED:20260105T003044Z
LAST-MODIFIED:20260105T055734Z
UID:10018794-1810578600-1810578600@epictriviafl.com
SUMMARY:Music Bingo
DESCRIPTION:
URL:https://epictriviafl.com/event/music-bingo-hurricane-apopka/2027-05-17/
LOCATION:Hurricane Grill & Wings\, 2401 W State Rd 434\, Longwood\, FL 32779 USA
GEO:28.6883313;-81.4046306
X-APPLE-STRUCTURED-LOCATION;VALUE=URI;X-ADDRESS=Hurricane Grill & Wings 2401 W State Rd 434 Longwood FL 32779 USA;X-APPLE-RADIUS=500;X-TITLE=2401 W State Rd 434\, Longwood\, FL 32779 USA:geo:-81.4046306,28.6883313
END:VEVENT
BEGIN:VEVENT
DTSTART;TZID=America/New_York:20270517T190000
DTEND;TZID=America/New_York:20270517T190000
DTSTAMP:20260421T170636
CREATED:20260105T003046Z
LAST-MODIFIED:20260105T055526Z
UID:10018014-1810580400-1810580400@epictriviafl.com
SUMMARY:Music Bingo
DESCRIPTION:
URL:https://epictriviafl.com/event/music-bingo-hurricane-longwood/2027-05-17/
LOCATION:Hurricane Grill & Wings\, 2401 W State Rd 434\, Longwood\, FL 32779 USA
GEO:28.6883313;-81.4046306
X-APPLE-STRUCTURED-LOCATION;VALUE=URI;X-ADDRESS=Hurricane Grill & Wings 2401 W State Rd 434 Longwood FL 32779 USA;X-APPLE-RADIUS=500;X-TITLE=2401 W State Rd 434\, Longwood\, FL 32779 USA:geo:-81.4046306,28.6883313
END:VEVENT
BEGIN:VEVENT
DTSTART;TZID=America/New_York:20270518T190000
DTEND;TZID=America/New_York:20270518T190000
DTSTAMP:20260421T170636
CREATED:20260105T003103Z
LAST-MODIFIED:20260105T055137Z
UID:10016194-1810666800-1810666800@epictriviafl.com
SUMMARY:Trivia
DESCRIPTION:
URL:https://epictriviafl.com/event/trivia-hurricane-longwood/2027-05-18/
LOCATION:Hurricane Grill & Wings\, 2401 W State Rd 434\, Longwood\, FL 32779 USA
GEO:28.6883313;-81.4046306
X-APPLE-STRUCTURED-LOCATION;VALUE=URI;X-ADDRESS=Hurricane Grill & Wings 2401 W State Rd 434 Longwood FL 32779 USA;X-APPLE-RADIUS=500;X-TITLE=2401 W State Rd 434\, Longwood\, FL 32779 USA:geo:-81.4046306,28.6883313
END:VEVENT
BEGIN:VEVENT
DTSTART;TZID=America/New_York:20270519T183000
DTEND;TZID=America/New_York:20270519T183000
DTSTAMP:20260421T170636
CREATED:20260105T003119Z
LAST-MODIFIED:20260105T054818Z
UID:10014894-1810751400-1810751400@epictriviafl.com
SUMMARY:Music Bingo
DESCRIPTION:
URL:https://epictriviafl.com/event/music-bingo-hurricane-apopka-2/2027-05-19/
LOCATION:Hurricane Grill & Wings\, 2401 W State Rd 434\, Longwood\, FL 32779 USA
GEO:28.6883313;-81.4046306
X-APPLE-STRUCTURED-LOCATION;VALUE=URI;X-ADDRESS=Hurricane Grill & Wings 2401 W State Rd 434 Longwood FL 32779 USA;X-APPLE-RADIUS=500;X-TITLE=2401 W State Rd 434\, Longwood\, FL 32779 USA:geo:-81.4046306,28.6883313
END:VEVENT
BEGIN:VEVENT
DTSTART;TZID=America/New_York:20270523T183000
DTEND;TZID=America/New_York:20270523T183000
DTSTAMP:20260421T170636
CREATED:20260105T003234Z
LAST-MODIFIED:20260105T060012Z
UID:10019835-1811097000-1811097000@epictriviafl.com
SUMMARY:Music Bingo
DESCRIPTION:
URL:https://epictriviafl.com/event/music-bingo-hurricane-apopka-3/2027-05-23/
LOCATION:Hurricane Grill & Wings\, 2401 W State Rd 434\, Longwood\, FL 32779 USA
GEO:28.6883313;-81.4046306
X-APPLE-STRUCTURED-LOCATION;VALUE=URI;X-ADDRESS=Hurricane Grill & Wings 2401 W State Rd 434 Longwood FL 32779 USA;X-APPLE-RADIUS=500;X-TITLE=2401 W State Rd 434\, Longwood\, FL 32779 USA:geo:-81.4046306,28.6883313
END:VEVENT
BEGIN:VEVENT
DTSTART;TZID=America/New_York:20270524T183000
DTEND;TZID=America/New_York:20270524T183000
DTSTAMP:20260421T170636
CREATED:20260105T003044Z
LAST-MODIFIED:20260105T055734Z
UID:10018795-1811183400-1811183400@epictriviafl.com
SUMMARY:Music Bingo
DESCRIPTION:
URL:https://epictriviafl.com/event/music-bingo-hurricane-apopka/2027-05-24/
LOCATION:Hurricane Grill & Wings\, 2401 W State Rd 434\, Longwood\, FL 32779 USA
GEO:28.6883313;-81.4046306
X-APPLE-STRUCTURED-LOCATION;VALUE=URI;X-ADDRESS=Hurricane Grill & Wings 2401 W State Rd 434 Longwood FL 32779 USA;X-APPLE-RADIUS=500;X-TITLE=2401 W State Rd 434\, Longwood\, FL 32779 USA:geo:-81.4046306,28.6883313
END:VEVENT
BEGIN:VEVENT
DTSTART;TZID=America/New_York:20270524T190000
DTEND;TZID=America/New_York:20270524T190000
DTSTAMP:20260421T170636
CREATED:20260105T003046Z
LAST-MODIFIED:20260105T055526Z
UID:10018015-1811185200-1811185200@epictriviafl.com
SUMMARY:Music Bingo
DESCRIPTION:
URL:https://epictriviafl.com/event/music-bingo-hurricane-longwood/2027-05-24/
LOCATION:Hurricane Grill & Wings\, 2401 W State Rd 434\, Longwood\, FL 32779 USA
GEO:28.6883313;-81.4046306
X-APPLE-STRUCTURED-LOCATION;VALUE=URI;X-ADDRESS=Hurricane Grill & Wings 2401 W State Rd 434 Longwood FL 32779 USA;X-APPLE-RADIUS=500;X-TITLE=2401 W State Rd 434\, Longwood\, FL 32779 USA:geo:-81.4046306,28.6883313
END:VEVENT
BEGIN:VEVENT
DTSTART;TZID=America/New_York:20270525T190000
DTEND;TZID=America/New_York:20270525T190000
DTSTAMP:20260421T170636
CREATED:20260105T003103Z
LAST-MODIFIED:20260105T055137Z
UID:10016195-1811271600-1811271600@epictriviafl.com
SUMMARY:Trivia
DESCRIPTION:
URL:https://epictriviafl.com/event/trivia-hurricane-longwood/2027-05-25/
LOCATION:Hurricane Grill & Wings\, 2401 W State Rd 434\, Longwood\, FL 32779 USA
GEO:28.6883313;-81.4046306
X-APPLE-STRUCTURED-LOCATION;VALUE=URI;X-ADDRESS=Hurricane Grill & Wings 2401 W State Rd 434 Longwood FL 32779 USA;X-APPLE-RADIUS=500;X-TITLE=2401 W State Rd 434\, Longwood\, FL 32779 USA:geo:-81.4046306,28.6883313
END:VEVENT
BEGIN:VEVENT
DTSTART;TZID=America/New_York:20270526T183000
DTEND;TZID=America/New_York:20270526T183000
DTSTAMP:20260421T170636
CREATED:20260105T003119Z
LAST-MODIFIED:20260105T054818Z
UID:10014895-1811356200-1811356200@epictriviafl.com
SUMMARY:Music Bingo
DESCRIPTION:
URL:https://epictriviafl.com/event/music-bingo-hurricane-apopka-2/2027-05-26/
LOCATION:Hurricane Grill & Wings\, 2401 W State Rd 434\, Longwood\, FL 32779 USA
GEO:28.6883313;-81.4046306
X-APPLE-STRUCTURED-LOCATION;VALUE=URI;X-ADDRESS=Hurricane Grill & Wings 2401 W State Rd 434 Longwood FL 32779 USA;X-APPLE-RADIUS=500;X-TITLE=2401 W State Rd 434\, Longwood\, FL 32779 USA:geo:-81.4046306,28.6883313
END:VEVENT
BEGIN:VEVENT
DTSTART;TZID=America/New_York:20270530T183000
DTEND;TZID=America/New_York:20270530T183000
DTSTAMP:20260421T170636
CREATED:20260105T003234Z
LAST-MODIFIED:20260105T060012Z
UID:10019836-1811701800-1811701800@epictriviafl.com
SUMMARY:Music Bingo
DESCRIPTION:
URL:https://epictriviafl.com/event/music-bingo-hurricane-apopka-3/2027-05-30/
LOCATION:Hurricane Grill & Wings\, 2401 W State Rd 434\, Longwood\, FL 32779 USA
GEO:28.6883313;-81.4046306
X-APPLE-STRUCTURED-LOCATION;VALUE=URI;X-ADDRESS=Hurricane Grill & Wings 2401 W State Rd 434 Longwood FL 32779 USA;X-APPLE-RADIUS=500;X-TITLE=2401 W State Rd 434\, Longwood\, FL 32779 USA:geo:-81.4046306,28.6883313
END:VEVENT
BEGIN:VEVENT
DTSTART;TZID=America/New_York:20270531T183000
DTEND;TZID=America/New_York:20270531T183000
DTSTAMP:20260421T170636
CREATED:20260105T003044Z
LAST-MODIFIED:20260105T055734Z
UID:10018796-1811788200-1811788200@epictriviafl.com
SUMMARY:Music Bingo
DESCRIPTION:
URL:https://epictriviafl.com/event/music-bingo-hurricane-apopka/2027-05-31/
LOCATION:Hurricane Grill & Wings\, 2401 W State Rd 434\, Longwood\, FL 32779 USA
GEO:28.6883313;-81.4046306
X-APPLE-STRUCTURED-LOCATION;VALUE=URI;X-ADDRESS=Hurricane Grill & Wings 2401 W State Rd 434 Longwood FL 32779 USA;X-APPLE-RADIUS=500;X-TITLE=2401 W State Rd 434\, Longwood\, FL 32779 USA:geo:-81.4046306,28.6883313
END:VEVENT
BEGIN:VEVENT
DTSTART;TZID=America/New_York:20270531T190000
DTEND;TZID=America/New_York:20270531T190000
DTSTAMP:20260421T170636
CREATED:20260105T003046Z
LAST-MODIFIED:20260105T055526Z
UID:10018016-1811790000-1811790000@epictriviafl.com
SUMMARY:Music Bingo
DESCRIPTION:
URL:https://epictriviafl.com/event/music-bingo-hurricane-longwood/2027-05-31/
LOCATION:Hurricane Grill & Wings\, 2401 W State Rd 434\, Longwood\, FL 32779 USA
GEO:28.6883313;-81.4046306
X-APPLE-STRUCTURED-LOCATION;VALUE=URI;X-ADDRESS=Hurricane Grill & Wings 2401 W State Rd 434 Longwood FL 32779 USA;X-APPLE-RADIUS=500;X-TITLE=2401 W State Rd 434\, Longwood\, FL 32779 USA:geo:-81.4046306,28.6883313
END:VEVENT
BEGIN:VEVENT
DTSTART;TZID=America/New_York:20270601T190000
DTEND;TZID=America/New_York:20270601T190000
DTSTAMP:20260421T170636
CREATED:20260105T003103Z
LAST-MODIFIED:20260105T055137Z
UID:10016196-1811876400-1811876400@epictriviafl.com
SUMMARY:Trivia
DESCRIPTION:
URL:https://epictriviafl.com/event/trivia-hurricane-longwood/2027-06-01/
LOCATION:Hurricane Grill & Wings\, 2401 W State Rd 434\, Longwood\, FL 32779 USA
GEO:28.6883313;-81.4046306
X-APPLE-STRUCTURED-LOCATION;VALUE=URI;X-ADDRESS=Hurricane Grill & Wings 2401 W State Rd 434 Longwood FL 32779 USA;X-APPLE-RADIUS=500;X-TITLE=2401 W State Rd 434\, Longwood\, FL 32779 USA:geo:-81.4046306,28.6883313
END:VEVENT
BEGIN:VEVENT
DTSTART;TZID=America/New_York:20270602T183000
DTEND;TZID=America/New_York:20270602T183000
DTSTAMP:20260421T170636
CREATED:20260105T003119Z
LAST-MODIFIED:20260105T054818Z
UID:10014896-1811961000-1811961000@epictriviafl.com
SUMMARY:Music Bingo
DESCRIPTION:
URL:https://epictriviafl.com/event/music-bingo-hurricane-apopka-2/2027-06-02/
LOCATION:Hurricane Grill & Wings\, 2401 W State Rd 434\, Longwood\, FL 32779 USA
GEO:28.6883313;-81.4046306
X-APPLE-STRUCTURED-LOCATION;VALUE=URI;X-ADDRESS=Hurricane Grill & Wings 2401 W State Rd 434 Longwood FL 32779 USA;X-APPLE-RADIUS=500;X-TITLE=2401 W State Rd 434\, Longwood\, FL 32779 USA:geo:-81.4046306,28.6883313
END:VEVENT
BEGIN:VEVENT
DTSTART;TZID=America/New_York:20270606T183000
DTEND;TZID=America/New_York:20270606T183000
DTSTAMP:20260421T170636
CREATED:20260105T003234Z
LAST-MODIFIED:20260105T060012Z
UID:10019837-1812306600-1812306600@epictriviafl.com
SUMMARY:Music Bingo
DESCRIPTION:
URL:https://epictriviafl.com/event/music-bingo-hurricane-apopka-3/2027-06-06/
LOCATION:Hurricane Grill & Wings\, 2401 W State Rd 434\, Longwood\, FL 32779 USA
GEO:28.6883313;-81.4046306
X-APPLE-STRUCTURED-LOCATION;VALUE=URI;X-ADDRESS=Hurricane Grill & Wings 2401 W State Rd 434 Longwood FL 32779 USA;X-APPLE-RADIUS=500;X-TITLE=2401 W State Rd 434\, Longwood\, FL 32779 USA:geo:-81.4046306,28.6883313
END:VEVENT
BEGIN:VEVENT
DTSTART;TZID=America/New_York:20270607T183000
DTEND;TZID=America/New_York:20270607T183000
DTSTAMP:20260421T170636
CREATED:20260105T003044Z
LAST-MODIFIED:20260105T055734Z
UID:10018797-1812393000-1812393000@epictriviafl.com
SUMMARY:Music Bingo
DESCRIPTION:
URL:https://epictriviafl.com/event/music-bingo-hurricane-apopka/2027-06-07/
LOCATION:Hurricane Grill & Wings\, 2401 W State Rd 434\, Longwood\, FL 32779 USA
GEO:28.6883313;-81.4046306
X-APPLE-STRUCTURED-LOCATION;VALUE=URI;X-ADDRESS=Hurricane Grill & Wings 2401 W State Rd 434 Longwood FL 32779 USA;X-APPLE-RADIUS=500;X-TITLE=2401 W State Rd 434\, Longwood\, FL 32779 USA:geo:-81.4046306,28.6883313
END:VEVENT
BEGIN:VEVENT
DTSTART;TZID=America/New_York:20270607T190000
DTEND;TZID=America/New_York:20270607T190000
DTSTAMP:20260421T170636
CREATED:20260105T003046Z
LAST-MODIFIED:20260105T055526Z
UID:10018017-1812394800-1812394800@epictriviafl.com
SUMMARY:Music Bingo
DESCRIPTION:
URL:https://epictriviafl.com/event/music-bingo-hurricane-longwood/2027-06-07/
LOCATION:Hurricane Grill & Wings\, 2401 W State Rd 434\, Longwood\, FL 32779 USA
GEO:28.6883313;-81.4046306
X-APPLE-STRUCTURED-LOCATION;VALUE=URI;X-ADDRESS=Hurricane Grill & Wings 2401 W State Rd 434 Longwood FL 32779 USA;X-APPLE-RADIUS=500;X-TITLE=2401 W State Rd 434\, Longwood\, FL 32779 USA:geo:-81.4046306,28.6883313
END:VEVENT
BEGIN:VEVENT
DTSTART;TZID=America/New_York:20270608T190000
DTEND;TZID=America/New_York:20270608T190000
DTSTAMP:20260421T170636
CREATED:20260105T003103Z
LAST-MODIFIED:20260105T055137Z
UID:10016197-1812481200-1812481200@epictriviafl.com
SUMMARY:Trivia
DESCRIPTION:
URL:https://epictriviafl.com/event/trivia-hurricane-longwood/2027-06-08/
LOCATION:Hurricane Grill & Wings\, 2401 W State Rd 434\, Longwood\, FL 32779 USA
GEO:28.6883313;-81.4046306
X-APPLE-STRUCTURED-LOCATION;VALUE=URI;X-ADDRESS=Hurricane Grill & Wings 2401 W State Rd 434 Longwood FL 32779 USA;X-APPLE-RADIUS=500;X-TITLE=2401 W State Rd 434\, Longwood\, FL 32779 USA:geo:-81.4046306,28.6883313
END:VEVENT
BEGIN:VEVENT
DTSTART;TZID=America/New_York:20270609T183000
DTEND;TZID=America/New_York:20270609T183000
DTSTAMP:20260421T170636
CREATED:20260105T003119Z
LAST-MODIFIED:20260105T054818Z
UID:10014897-1812565800-1812565800@epictriviafl.com
SUMMARY:Music Bingo
DESCRIPTION:
URL:https://epictriviafl.com/event/music-bingo-hurricane-apopka-2/2027-06-09/
LOCATION:Hurricane Grill & Wings\, 2401 W State Rd 434\, Longwood\, FL 32779 USA
GEO:28.6883313;-81.4046306
X-APPLE-STRUCTURED-LOCATION;VALUE=URI;X-ADDRESS=Hurricane Grill & Wings 2401 W State Rd 434 Longwood FL 32779 USA;X-APPLE-RADIUS=500;X-TITLE=2401 W State Rd 434\, Longwood\, FL 32779 USA:geo:-81.4046306,28.6883313
END:VEVENT
BEGIN:VEVENT
DTSTART;TZID=America/New_York:20270613T183000
DTEND;TZID=America/New_York:20270613T183000
DTSTAMP:20260421T170636
CREATED:20260105T003234Z
LAST-MODIFIED:20260105T060012Z
UID:10019838-1812911400-1812911400@epictriviafl.com
SUMMARY:Music Bingo
DESCRIPTION:
URL:https://epictriviafl.com/event/music-bingo-hurricane-apopka-3/2027-06-13/
LOCATION:Hurricane Grill & Wings\, 2401 W State Rd 434\, Longwood\, FL 32779 USA
GEO:28.6883313;-81.4046306
X-APPLE-STRUCTURED-LOCATION;VALUE=URI;X-ADDRESS=Hurricane Grill & Wings 2401 W State Rd 434 Longwood FL 32779 USA;X-APPLE-RADIUS=500;X-TITLE=2401 W State Rd 434\, Longwood\, FL 32779 USA:geo:-81.4046306,28.6883313
END:VEVENT
BEGIN:VEVENT
DTSTART;TZID=America/New_York:20270614T183000
DTEND;TZID=America/New_York:20270614T183000
DTSTAMP:20260421T170636
CREATED:20260105T003044Z
LAST-MODIFIED:20260105T055734Z
UID:10018798-1812997800-1812997800@epictriviafl.com
SUMMARY:Music Bingo
DESCRIPTION:
URL:https://epictriviafl.com/event/music-bingo-hurricane-apopka/2027-06-14/
LOCATION:Hurricane Grill & Wings\, 2401 W State Rd 434\, Longwood\, FL 32779 USA
GEO:28.6883313;-81.4046306
X-APPLE-STRUCTURED-LOCATION;VALUE=URI;X-ADDRESS=Hurricane Grill & Wings 2401 W State Rd 434 Longwood FL 32779 USA;X-APPLE-RADIUS=500;X-TITLE=2401 W State Rd 434\, Longwood\, FL 32779 USA:geo:-81.4046306,28.6883313
END:VEVENT
BEGIN:VEVENT
DTSTART;TZID=America/New_York:20270614T190000
DTEND;TZID=America/New_York:20270614T190000
DTSTAMP:20260421T170636
CREATED:20260105T003046Z
LAST-MODIFIED:20260105T055526Z
UID:10018018-1812999600-1812999600@epictriviafl.com
SUMMARY:Music Bingo
DESCRIPTION:
URL:https://epictriviafl.com/event/music-bingo-hurricane-longwood/2027-06-14/
LOCATION:Hurricane Grill & Wings\, 2401 W State Rd 434\, Longwood\, FL 32779 USA
GEO:28.6883313;-81.4046306
X-APPLE-STRUCTURED-LOCATION;VALUE=URI;X-ADDRESS=Hurricane Grill & Wings 2401 W State Rd 434 Longwood FL 32779 USA;X-APPLE-RADIUS=500;X-TITLE=2401 W State Rd 434\, Longwood\, FL 32779 USA:geo:-81.4046306,28.6883313
END:VEVENT
BEGIN:VEVENT
DTSTART;TZID=America/New_York:20270615T190000
DTEND;TZID=America/New_York:20270615T190000
DTSTAMP:20260421T170636
CREATED:20260105T003103Z
LAST-MODIFIED:20260105T055137Z
UID:10016198-1813086000-1813086000@epictriviafl.com
SUMMARY:Trivia
DESCRIPTION:
URL:https://epictriviafl.com/event/trivia-hurricane-longwood/2027-06-15/
LOCATION:Hurricane Grill & Wings\, 2401 W State Rd 434\, Longwood\, FL 32779 USA
GEO:28.6883313;-81.4046306
X-APPLE-STRUCTURED-LOCATION;VALUE=URI;X-ADDRESS=Hurricane Grill & Wings 2401 W State Rd 434 Longwood FL 32779 USA;X-APPLE-RADIUS=500;X-TITLE=2401 W State Rd 434\, Longwood\, FL 32779 USA:geo:-81.4046306,28.6883313
END:VEVENT
BEGIN:VEVENT
DTSTART;TZID=America/New_York:20270616T183000
DTEND;TZID=America/New_York:20270616T183000
DTSTAMP:20260421T170636
CREATED:20260105T003119Z
LAST-MODIFIED:20260105T054818Z
UID:10014898-1813170600-1813170600@epictriviafl.com
SUMMARY:Music Bingo
DESCRIPTION:
URL:https://epictriviafl.com/event/music-bingo-hurricane-apopka-2/2027-06-16/
LOCATION:Hurricane Grill & Wings\, 2401 W State Rd 434\, Longwood\, FL 32779 USA
GEO:28.6883313;-81.4046306
X-APPLE-STRUCTURED-LOCATION;VALUE=URI;X-ADDRESS=Hurricane Grill & Wings 2401 W State Rd 434 Longwood FL 32779 USA;X-APPLE-RADIUS=500;X-TITLE=2401 W State Rd 434\, Longwood\, FL 32779 USA:geo:-81.4046306,28.6883313
END:VEVENT
BEGIN:VEVENT
DTSTART;TZID=America/New_York:20270620T183000
DTEND;TZID=America/New_York:20270620T183000
DTSTAMP:20260421T170636
CREATED:20260105T003234Z
LAST-MODIFIED:20260105T060012Z
UID:10019839-1813516200-1813516200@epictriviafl.com
SUMMARY:Music Bingo
DESCRIPTION:
URL:https://epictriviafl.com/event/music-bingo-hurricane-apopka-3/2027-06-20/
LOCATION:Hurricane Grill & Wings\, 2401 W State Rd 434\, Longwood\, FL 32779 USA
GEO:28.6883313;-81.4046306
X-APPLE-STRUCTURED-LOCATION;VALUE=URI;X-ADDRESS=Hurricane Grill & Wings 2401 W State Rd 434 Longwood FL 32779 USA;X-APPLE-RADIUS=500;X-TITLE=2401 W State Rd 434\, Longwood\, FL 32779 USA:geo:-81.4046306,28.6883313
END:VEVENT
BEGIN:VEVENT
DTSTART;TZID=America/New_York:20270621T183000
DTEND;TZID=America/New_York:20270621T183000
DTSTAMP:20260421T170636
CREATED:20260105T003044Z
LAST-MODIFIED:20260105T055734Z
UID:10018799-1813602600-1813602600@epictriviafl.com
SUMMARY:Music Bingo
DESCRIPTION:
URL:https://epictriviafl.com/event/music-bingo-hurricane-apopka/2027-06-21/
LOCATION:Hurricane Grill & Wings\, 2401 W State Rd 434\, Longwood\, FL 32779 USA
GEO:28.6883313;-81.4046306
X-APPLE-STRUCTURED-LOCATION;VALUE=URI;X-ADDRESS=Hurricane Grill & Wings 2401 W State Rd 434 Longwood FL 32779 USA;X-APPLE-RADIUS=500;X-TITLE=2401 W State Rd 434\, Longwood\, FL 32779 USA:geo:-81.4046306,28.6883313
END:VEVENT
BEGIN:VEVENT
DTSTART;TZID=America/New_York:20270621T190000
DTEND;TZID=America/New_York:20270621T190000
DTSTAMP:20260421T170636
CREATED:20260105T003046Z
LAST-MODIFIED:20260105T055526Z
UID:10018019-1813604400-1813604400@epictriviafl.com
SUMMARY:Music Bingo
DESCRIPTION:
URL:https://epictriviafl.com/event/music-bingo-hurricane-longwood/2027-06-21/
LOCATION:Hurricane Grill & Wings\, 2401 W State Rd 434\, Longwood\, FL 32779 USA
GEO:28.6883313;-81.4046306
X-APPLE-STRUCTURED-LOCATION;VALUE=URI;X-ADDRESS=Hurricane Grill & Wings 2401 W State Rd 434 Longwood FL 32779 USA;X-APPLE-RADIUS=500;X-TITLE=2401 W State Rd 434\, Longwood\, FL 32779 USA:geo:-81.4046306,28.6883313
END:VEVENT
BEGIN:VEVENT
DTSTART;TZID=America/New_York:20270622T190000
DTEND;TZID=America/New_York:20270622T190000
DTSTAMP:20260421T170636
CREATED:20260105T003103Z
LAST-MODIFIED:20260105T055137Z
UID:10016199-1813690800-1813690800@epictriviafl.com
SUMMARY:Trivia
DESCRIPTION:
URL:https://epictriviafl.com/event/trivia-hurricane-longwood/2027-06-22/
LOCATION:Hurricane Grill & Wings\, 2401 W State Rd 434\, Longwood\, FL 32779 USA
GEO:28.6883313;-81.4046306
X-APPLE-STRUCTURED-LOCATION;VALUE=URI;X-ADDRESS=Hurricane Grill & Wings 2401 W State Rd 434 Longwood FL 32779 USA;X-APPLE-RADIUS=500;X-TITLE=2401 W State Rd 434\, Longwood\, FL 32779 USA:geo:-81.4046306,28.6883313
END:VEVENT
END:VCALENDAR