BEGIN:VCALENDAR
VERSION:2.0
PRODID:-//Epic Trivia - ECPv6.15.18//NONSGML v1.0//EN
CALSCALE:GREGORIAN
METHOD:PUBLISH
X-ORIGINAL-URL:https://epictriviafl.com
X-WR-CALDESC:Events for Epic Trivia
REFRESH-INTERVAL;VALUE=DURATION:PT1H
X-Robots-Tag:noindex
X-PUBLISHED-TTL:PT1H
BEGIN:VTIMEZONE
TZID:America/New_York
BEGIN:DAYLIGHT
TZOFFSETFROM:-0500
TZOFFSETTO:-0400
TZNAME:EDT
DTSTART:20290311T070000
END:DAYLIGHT
BEGIN:STANDARD
TZOFFSETFROM:-0400
TZOFFSETTO:-0500
TZNAME:EST
DTSTART:20291104T060000
END:STANDARD
BEGIN:DAYLIGHT
TZOFFSETFROM:-0500
TZOFFSETTO:-0400
TZNAME:EDT
DTSTART:20300310T070000
END:DAYLIGHT
BEGIN:STANDARD
TZOFFSETFROM:-0400
TZOFFSETTO:-0500
TZNAME:EST
DTSTART:20301103T060000
END:STANDARD
BEGIN:DAYLIGHT
TZOFFSETFROM:-0500
TZOFFSETTO:-0400
TZNAME:EDT
DTSTART:20310309T070000
END:DAYLIGHT
BEGIN:STANDARD
TZOFFSETFROM:-0400
TZOFFSETTO:-0500
TZNAME:EST
DTSTART:20311102T060000
END:STANDARD
END:VTIMEZONE
BEGIN:VEVENT
DTSTART;TZID=America/New_York:20300904T190000
DTEND;TZID=America/New_York:20300904T190000
DTSTAMP:20260422T023754
CREATED:20260105T003132Z
LAST-MODIFIED:20260105T054647Z
UID:10014286-1914778800-1914778800@epictriviafl.com
SUMMARY:Music Bingo
DESCRIPTION:
URL:https://epictriviafl.com/event/music-bingo-gators-lake-mary/2030-09-04/
LOCATION:Gators Lake Mary\, 1319 W Lake Mary Blvd\, Lake Mary\, FL 32746 USA
GEO:28.7557415;-81.3060575
X-APPLE-STRUCTURED-LOCATION;VALUE=URI;X-ADDRESS=Gators Lake Mary 1319 W Lake Mary Blvd Lake Mary FL 32746 USA;X-APPLE-RADIUS=500;X-TITLE=1319 W Lake Mary Blvd\, Lake Mary\, FL 32746 USA:geo:-81.3060575,28.7557415
END:VEVENT
BEGIN:VEVENT
DTSTART;TZID=America/New_York:20300905T180000
DTEND;TZID=America/New_York:20300905T180000
DTSTAMP:20260422T023754
CREATED:20260105T003148Z
LAST-MODIFIED:20260105T054342Z
UID:10012986-1914861600-1914861600@epictriviafl.com
SUMMARY:Music Bingo
DESCRIPTION:
URL:https://epictriviafl.com/event/music-bingo-gators-lake-mary-2/2030-09-05/
LOCATION:Gators Lake Mary\, 1319 W Lake Mary Blvd\, Lake Mary\, FL 32746 USA
GEO:28.7557415;-81.3060575
X-APPLE-STRUCTURED-LOCATION;VALUE=URI;X-ADDRESS=Gators Lake Mary 1319 W Lake Mary Blvd Lake Mary FL 32746 USA;X-APPLE-RADIUS=500;X-TITLE=1319 W Lake Mary Blvd\, Lake Mary\, FL 32746 USA:geo:-81.3060575,28.7557415
END:VEVENT
BEGIN:VEVENT
DTSTART;TZID=America/New_York:20300911T190000
DTEND;TZID=America/New_York:20300911T190000
DTSTAMP:20260422T023754
CREATED:20260105T003132Z
LAST-MODIFIED:20260105T054647Z
UID:10014287-1915383600-1915383600@epictriviafl.com
SUMMARY:Music Bingo
DESCRIPTION:
URL:https://epictriviafl.com/event/music-bingo-gators-lake-mary/2030-09-11/
LOCATION:Gators Lake Mary\, 1319 W Lake Mary Blvd\, Lake Mary\, FL 32746 USA
GEO:28.7557415;-81.3060575
X-APPLE-STRUCTURED-LOCATION;VALUE=URI;X-ADDRESS=Gators Lake Mary 1319 W Lake Mary Blvd Lake Mary FL 32746 USA;X-APPLE-RADIUS=500;X-TITLE=1319 W Lake Mary Blvd\, Lake Mary\, FL 32746 USA:geo:-81.3060575,28.7557415
END:VEVENT
BEGIN:VEVENT
DTSTART;TZID=America/New_York:20300912T180000
DTEND;TZID=America/New_York:20300912T180000
DTSTAMP:20260422T023754
CREATED:20260105T003148Z
LAST-MODIFIED:20260105T054342Z
UID:10012987-1915466400-1915466400@epictriviafl.com
SUMMARY:Music Bingo
DESCRIPTION:
URL:https://epictriviafl.com/event/music-bingo-gators-lake-mary-2/2030-09-12/
LOCATION:Gators Lake Mary\, 1319 W Lake Mary Blvd\, Lake Mary\, FL 32746 USA
GEO:28.7557415;-81.3060575
X-APPLE-STRUCTURED-LOCATION;VALUE=URI;X-ADDRESS=Gators Lake Mary 1319 W Lake Mary Blvd Lake Mary FL 32746 USA;X-APPLE-RADIUS=500;X-TITLE=1319 W Lake Mary Blvd\, Lake Mary\, FL 32746 USA:geo:-81.3060575,28.7557415
END:VEVENT
BEGIN:VEVENT
DTSTART;TZID=America/New_York:20300918T190000
DTEND;TZID=America/New_York:20300918T190000
DTSTAMP:20260422T023754
CREATED:20260105T003132Z
LAST-MODIFIED:20260105T054647Z
UID:10014288-1915988400-1915988400@epictriviafl.com
SUMMARY:Music Bingo
DESCRIPTION:
URL:https://epictriviafl.com/event/music-bingo-gators-lake-mary/2030-09-18/
LOCATION:Gators Lake Mary\, 1319 W Lake Mary Blvd\, Lake Mary\, FL 32746 USA
GEO:28.7557415;-81.3060575
X-APPLE-STRUCTURED-LOCATION;VALUE=URI;X-ADDRESS=Gators Lake Mary 1319 W Lake Mary Blvd Lake Mary FL 32746 USA;X-APPLE-RADIUS=500;X-TITLE=1319 W Lake Mary Blvd\, Lake Mary\, FL 32746 USA:geo:-81.3060575,28.7557415
END:VEVENT
BEGIN:VEVENT
DTSTART;TZID=America/New_York:20300919T180000
DTEND;TZID=America/New_York:20300919T180000
DTSTAMP:20260422T023754
CREATED:20260105T003148Z
LAST-MODIFIED:20260105T054342Z
UID:10012988-1916071200-1916071200@epictriviafl.com
SUMMARY:Music Bingo
DESCRIPTION:
URL:https://epictriviafl.com/event/music-bingo-gators-lake-mary-2/2030-09-19/
LOCATION:Gators Lake Mary\, 1319 W Lake Mary Blvd\, Lake Mary\, FL 32746 USA
GEO:28.7557415;-81.3060575
X-APPLE-STRUCTURED-LOCATION;VALUE=URI;X-ADDRESS=Gators Lake Mary 1319 W Lake Mary Blvd Lake Mary FL 32746 USA;X-APPLE-RADIUS=500;X-TITLE=1319 W Lake Mary Blvd\, Lake Mary\, FL 32746 USA:geo:-81.3060575,28.7557415
END:VEVENT
BEGIN:VEVENT
DTSTART;TZID=America/New_York:20300925T190000
DTEND;TZID=America/New_York:20300925T190000
DTSTAMP:20260422T023754
CREATED:20260105T003132Z
LAST-MODIFIED:20260105T054647Z
UID:10014289-1916593200-1916593200@epictriviafl.com
SUMMARY:Music Bingo
DESCRIPTION:
URL:https://epictriviafl.com/event/music-bingo-gators-lake-mary/2030-09-25/
LOCATION:Gators Lake Mary\, 1319 W Lake Mary Blvd\, Lake Mary\, FL 32746 USA
GEO:28.7557415;-81.3060575
X-APPLE-STRUCTURED-LOCATION;VALUE=URI;X-ADDRESS=Gators Lake Mary 1319 W Lake Mary Blvd Lake Mary FL 32746 USA;X-APPLE-RADIUS=500;X-TITLE=1319 W Lake Mary Blvd\, Lake Mary\, FL 32746 USA:geo:-81.3060575,28.7557415
END:VEVENT
BEGIN:VEVENT
DTSTART;TZID=America/New_York:20300926T180000
DTEND;TZID=America/New_York:20300926T180000
DTSTAMP:20260422T023754
CREATED:20260105T003148Z
LAST-MODIFIED:20260105T054342Z
UID:10012989-1916676000-1916676000@epictriviafl.com
SUMMARY:Music Bingo
DESCRIPTION:
URL:https://epictriviafl.com/event/music-bingo-gators-lake-mary-2/2030-09-26/
LOCATION:Gators Lake Mary\, 1319 W Lake Mary Blvd\, Lake Mary\, FL 32746 USA
GEO:28.7557415;-81.3060575
X-APPLE-STRUCTURED-LOCATION;VALUE=URI;X-ADDRESS=Gators Lake Mary 1319 W Lake Mary Blvd Lake Mary FL 32746 USA;X-APPLE-RADIUS=500;X-TITLE=1319 W Lake Mary Blvd\, Lake Mary\, FL 32746 USA:geo:-81.3060575,28.7557415
END:VEVENT
BEGIN:VEVENT
DTSTART;TZID=America/New_York:20301002T190000
DTEND;TZID=America/New_York:20301002T190000
DTSTAMP:20260422T023754
CREATED:20260105T003132Z
LAST-MODIFIED:20260105T054647Z
UID:10014290-1917198000-1917198000@epictriviafl.com
SUMMARY:Music Bingo
DESCRIPTION:
URL:https://epictriviafl.com/event/music-bingo-gators-lake-mary/2030-10-02/
LOCATION:Gators Lake Mary\, 1319 W Lake Mary Blvd\, Lake Mary\, FL 32746 USA
GEO:28.7557415;-81.3060575
X-APPLE-STRUCTURED-LOCATION;VALUE=URI;X-ADDRESS=Gators Lake Mary 1319 W Lake Mary Blvd Lake Mary FL 32746 USA;X-APPLE-RADIUS=500;X-TITLE=1319 W Lake Mary Blvd\, Lake Mary\, FL 32746 USA:geo:-81.3060575,28.7557415
END:VEVENT
BEGIN:VEVENT
DTSTART;TZID=America/New_York:20301003T180000
DTEND;TZID=America/New_York:20301003T180000
DTSTAMP:20260422T023754
CREATED:20260105T003148Z
LAST-MODIFIED:20260105T054342Z
UID:10012990-1917280800-1917280800@epictriviafl.com
SUMMARY:Music Bingo
DESCRIPTION:
URL:https://epictriviafl.com/event/music-bingo-gators-lake-mary-2/2030-10-03/
LOCATION:Gators Lake Mary\, 1319 W Lake Mary Blvd\, Lake Mary\, FL 32746 USA
GEO:28.7557415;-81.3060575
X-APPLE-STRUCTURED-LOCATION;VALUE=URI;X-ADDRESS=Gators Lake Mary 1319 W Lake Mary Blvd Lake Mary FL 32746 USA;X-APPLE-RADIUS=500;X-TITLE=1319 W Lake Mary Blvd\, Lake Mary\, FL 32746 USA:geo:-81.3060575,28.7557415
END:VEVENT
BEGIN:VEVENT
DTSTART;TZID=America/New_York:20301009T190000
DTEND;TZID=America/New_York:20301009T190000
DTSTAMP:20260422T023754
CREATED:20260105T003132Z
LAST-MODIFIED:20260105T054647Z
UID:10014291-1917802800-1917802800@epictriviafl.com
SUMMARY:Music Bingo
DESCRIPTION:
URL:https://epictriviafl.com/event/music-bingo-gators-lake-mary/2030-10-09/
LOCATION:Gators Lake Mary\, 1319 W Lake Mary Blvd\, Lake Mary\, FL 32746 USA
GEO:28.7557415;-81.3060575
X-APPLE-STRUCTURED-LOCATION;VALUE=URI;X-ADDRESS=Gators Lake Mary 1319 W Lake Mary Blvd Lake Mary FL 32746 USA;X-APPLE-RADIUS=500;X-TITLE=1319 W Lake Mary Blvd\, Lake Mary\, FL 32746 USA:geo:-81.3060575,28.7557415
END:VEVENT
BEGIN:VEVENT
DTSTART;TZID=America/New_York:20301010T180000
DTEND;TZID=America/New_York:20301010T180000
DTSTAMP:20260422T023754
CREATED:20260105T003148Z
LAST-MODIFIED:20260105T054342Z
UID:10012991-1917885600-1917885600@epictriviafl.com
SUMMARY:Music Bingo
DESCRIPTION:
URL:https://epictriviafl.com/event/music-bingo-gators-lake-mary-2/2030-10-10/
LOCATION:Gators Lake Mary\, 1319 W Lake Mary Blvd\, Lake Mary\, FL 32746 USA
GEO:28.7557415;-81.3060575
X-APPLE-STRUCTURED-LOCATION;VALUE=URI;X-ADDRESS=Gators Lake Mary 1319 W Lake Mary Blvd Lake Mary FL 32746 USA;X-APPLE-RADIUS=500;X-TITLE=1319 W Lake Mary Blvd\, Lake Mary\, FL 32746 USA:geo:-81.3060575,28.7557415
END:VEVENT
BEGIN:VEVENT
DTSTART;TZID=America/New_York:20301016T190000
DTEND;TZID=America/New_York:20301016T190000
DTSTAMP:20260422T023754
CREATED:20260105T003132Z
LAST-MODIFIED:20260105T054647Z
UID:10014292-1918407600-1918407600@epictriviafl.com
SUMMARY:Music Bingo
DESCRIPTION:
URL:https://epictriviafl.com/event/music-bingo-gators-lake-mary/2030-10-16/
LOCATION:Gators Lake Mary\, 1319 W Lake Mary Blvd\, Lake Mary\, FL 32746 USA
GEO:28.7557415;-81.3060575
X-APPLE-STRUCTURED-LOCATION;VALUE=URI;X-ADDRESS=Gators Lake Mary 1319 W Lake Mary Blvd Lake Mary FL 32746 USA;X-APPLE-RADIUS=500;X-TITLE=1319 W Lake Mary Blvd\, Lake Mary\, FL 32746 USA:geo:-81.3060575,28.7557415
END:VEVENT
BEGIN:VEVENT
DTSTART;TZID=America/New_York:20301017T180000
DTEND;TZID=America/New_York:20301017T180000
DTSTAMP:20260422T023754
CREATED:20260105T003148Z
LAST-MODIFIED:20260105T054342Z
UID:10012992-1918490400-1918490400@epictriviafl.com
SUMMARY:Music Bingo
DESCRIPTION:
URL:https://epictriviafl.com/event/music-bingo-gators-lake-mary-2/2030-10-17/
LOCATION:Gators Lake Mary\, 1319 W Lake Mary Blvd\, Lake Mary\, FL 32746 USA
GEO:28.7557415;-81.3060575
X-APPLE-STRUCTURED-LOCATION;VALUE=URI;X-ADDRESS=Gators Lake Mary 1319 W Lake Mary Blvd Lake Mary FL 32746 USA;X-APPLE-RADIUS=500;X-TITLE=1319 W Lake Mary Blvd\, Lake Mary\, FL 32746 USA:geo:-81.3060575,28.7557415
END:VEVENT
BEGIN:VEVENT
DTSTART;TZID=America/New_York:20301023T190000
DTEND;TZID=America/New_York:20301023T190000
DTSTAMP:20260422T023754
CREATED:20260105T003132Z
LAST-MODIFIED:20260105T054647Z
UID:10014293-1919012400-1919012400@epictriviafl.com
SUMMARY:Music Bingo
DESCRIPTION:
URL:https://epictriviafl.com/event/music-bingo-gators-lake-mary/2030-10-23/
LOCATION:Gators Lake Mary\, 1319 W Lake Mary Blvd\, Lake Mary\, FL 32746 USA
GEO:28.7557415;-81.3060575
X-APPLE-STRUCTURED-LOCATION;VALUE=URI;X-ADDRESS=Gators Lake Mary 1319 W Lake Mary Blvd Lake Mary FL 32746 USA;X-APPLE-RADIUS=500;X-TITLE=1319 W Lake Mary Blvd\, Lake Mary\, FL 32746 USA:geo:-81.3060575,28.7557415
END:VEVENT
BEGIN:VEVENT
DTSTART;TZID=America/New_York:20301024T180000
DTEND;TZID=America/New_York:20301024T180000
DTSTAMP:20260422T023754
CREATED:20260105T003148Z
LAST-MODIFIED:20260105T054342Z
UID:10012993-1919095200-1919095200@epictriviafl.com
SUMMARY:Music Bingo
DESCRIPTION:
URL:https://epictriviafl.com/event/music-bingo-gators-lake-mary-2/2030-10-24/
LOCATION:Gators Lake Mary\, 1319 W Lake Mary Blvd\, Lake Mary\, FL 32746 USA
GEO:28.7557415;-81.3060575
X-APPLE-STRUCTURED-LOCATION;VALUE=URI;X-ADDRESS=Gators Lake Mary 1319 W Lake Mary Blvd Lake Mary FL 32746 USA;X-APPLE-RADIUS=500;X-TITLE=1319 W Lake Mary Blvd\, Lake Mary\, FL 32746 USA:geo:-81.3060575,28.7557415
END:VEVENT
BEGIN:VEVENT
DTSTART;TZID=America/New_York:20301030T190000
DTEND;TZID=America/New_York:20301030T190000
DTSTAMP:20260422T023754
CREATED:20260105T003132Z
LAST-MODIFIED:20260105T054647Z
UID:10014294-1919617200-1919617200@epictriviafl.com
SUMMARY:Music Bingo
DESCRIPTION:
URL:https://epictriviafl.com/event/music-bingo-gators-lake-mary/2030-10-30/
LOCATION:Gators Lake Mary\, 1319 W Lake Mary Blvd\, Lake Mary\, FL 32746 USA
GEO:28.7557415;-81.3060575
X-APPLE-STRUCTURED-LOCATION;VALUE=URI;X-ADDRESS=Gators Lake Mary 1319 W Lake Mary Blvd Lake Mary FL 32746 USA;X-APPLE-RADIUS=500;X-TITLE=1319 W Lake Mary Blvd\, Lake Mary\, FL 32746 USA:geo:-81.3060575,28.7557415
END:VEVENT
BEGIN:VEVENT
DTSTART;TZID=America/New_York:20301031T180000
DTEND;TZID=America/New_York:20301031T180000
DTSTAMP:20260422T023754
CREATED:20260105T003148Z
LAST-MODIFIED:20260105T054342Z
UID:10012994-1919700000-1919700000@epictriviafl.com
SUMMARY:Music Bingo
DESCRIPTION:
URL:https://epictriviafl.com/event/music-bingo-gators-lake-mary-2/2030-10-31/
LOCATION:Gators Lake Mary\, 1319 W Lake Mary Blvd\, Lake Mary\, FL 32746 USA
GEO:28.7557415;-81.3060575
X-APPLE-STRUCTURED-LOCATION;VALUE=URI;X-ADDRESS=Gators Lake Mary 1319 W Lake Mary Blvd Lake Mary FL 32746 USA;X-APPLE-RADIUS=500;X-TITLE=1319 W Lake Mary Blvd\, Lake Mary\, FL 32746 USA:geo:-81.3060575,28.7557415
END:VEVENT
BEGIN:VEVENT
DTSTART;TZID=America/New_York:20301106T190000
DTEND;TZID=America/New_York:20301106T190000
DTSTAMP:20260422T023754
CREATED:20260105T003132Z
LAST-MODIFIED:20260105T054647Z
UID:10014295-1920222000-1920222000@epictriviafl.com
SUMMARY:Music Bingo
DESCRIPTION:
URL:https://epictriviafl.com/event/music-bingo-gators-lake-mary/2030-11-06/
LOCATION:Gators Lake Mary\, 1319 W Lake Mary Blvd\, Lake Mary\, FL 32746 USA
GEO:28.7557415;-81.3060575
X-APPLE-STRUCTURED-LOCATION;VALUE=URI;X-ADDRESS=Gators Lake Mary 1319 W Lake Mary Blvd Lake Mary FL 32746 USA;X-APPLE-RADIUS=500;X-TITLE=1319 W Lake Mary Blvd\, Lake Mary\, FL 32746 USA:geo:-81.3060575,28.7557415
END:VEVENT
BEGIN:VEVENT
DTSTART;TZID=America/New_York:20301107T180000
DTEND;TZID=America/New_York:20301107T180000
DTSTAMP:20260422T023754
CREATED:20260105T003148Z
LAST-MODIFIED:20260105T054342Z
UID:10012995-1920304800-1920304800@epictriviafl.com
SUMMARY:Music Bingo
DESCRIPTION:
URL:https://epictriviafl.com/event/music-bingo-gators-lake-mary-2/2030-11-07/
LOCATION:Gators Lake Mary\, 1319 W Lake Mary Blvd\, Lake Mary\, FL 32746 USA
GEO:28.7557415;-81.3060575
X-APPLE-STRUCTURED-LOCATION;VALUE=URI;X-ADDRESS=Gators Lake Mary 1319 W Lake Mary Blvd Lake Mary FL 32746 USA;X-APPLE-RADIUS=500;X-TITLE=1319 W Lake Mary Blvd\, Lake Mary\, FL 32746 USA:geo:-81.3060575,28.7557415
END:VEVENT
BEGIN:VEVENT
DTSTART;TZID=America/New_York:20301113T190000
DTEND;TZID=America/New_York:20301113T190000
DTSTAMP:20260422T023754
CREATED:20260105T003132Z
LAST-MODIFIED:20260105T054647Z
UID:10014296-1920826800-1920826800@epictriviafl.com
SUMMARY:Music Bingo
DESCRIPTION:
URL:https://epictriviafl.com/event/music-bingo-gators-lake-mary/2030-11-13/
LOCATION:Gators Lake Mary\, 1319 W Lake Mary Blvd\, Lake Mary\, FL 32746 USA
GEO:28.7557415;-81.3060575
X-APPLE-STRUCTURED-LOCATION;VALUE=URI;X-ADDRESS=Gators Lake Mary 1319 W Lake Mary Blvd Lake Mary FL 32746 USA;X-APPLE-RADIUS=500;X-TITLE=1319 W Lake Mary Blvd\, Lake Mary\, FL 32746 USA:geo:-81.3060575,28.7557415
END:VEVENT
BEGIN:VEVENT
DTSTART;TZID=America/New_York:20301114T180000
DTEND;TZID=America/New_York:20301114T180000
DTSTAMP:20260422T023754
CREATED:20260105T003148Z
LAST-MODIFIED:20260105T054342Z
UID:10012996-1920909600-1920909600@epictriviafl.com
SUMMARY:Music Bingo
DESCRIPTION:
URL:https://epictriviafl.com/event/music-bingo-gators-lake-mary-2/2030-11-14/
LOCATION:Gators Lake Mary\, 1319 W Lake Mary Blvd\, Lake Mary\, FL 32746 USA
GEO:28.7557415;-81.3060575
X-APPLE-STRUCTURED-LOCATION;VALUE=URI;X-ADDRESS=Gators Lake Mary 1319 W Lake Mary Blvd Lake Mary FL 32746 USA;X-APPLE-RADIUS=500;X-TITLE=1319 W Lake Mary Blvd\, Lake Mary\, FL 32746 USA:geo:-81.3060575,28.7557415
END:VEVENT
BEGIN:VEVENT
DTSTART;TZID=America/New_York:20301120T190000
DTEND;TZID=America/New_York:20301120T190000
DTSTAMP:20260422T023754
CREATED:20260105T003132Z
LAST-MODIFIED:20260105T054647Z
UID:10014297-1921431600-1921431600@epictriviafl.com
SUMMARY:Music Bingo
DESCRIPTION:
URL:https://epictriviafl.com/event/music-bingo-gators-lake-mary/2030-11-20/
LOCATION:Gators Lake Mary\, 1319 W Lake Mary Blvd\, Lake Mary\, FL 32746 USA
GEO:28.7557415;-81.3060575
X-APPLE-STRUCTURED-LOCATION;VALUE=URI;X-ADDRESS=Gators Lake Mary 1319 W Lake Mary Blvd Lake Mary FL 32746 USA;X-APPLE-RADIUS=500;X-TITLE=1319 W Lake Mary Blvd\, Lake Mary\, FL 32746 USA:geo:-81.3060575,28.7557415
END:VEVENT
BEGIN:VEVENT
DTSTART;TZID=America/New_York:20301121T180000
DTEND;TZID=America/New_York:20301121T180000
DTSTAMP:20260422T023754
CREATED:20260105T003148Z
LAST-MODIFIED:20260105T054342Z
UID:10012997-1921514400-1921514400@epictriviafl.com
SUMMARY:Music Bingo
DESCRIPTION:
URL:https://epictriviafl.com/event/music-bingo-gators-lake-mary-2/2030-11-21/
LOCATION:Gators Lake Mary\, 1319 W Lake Mary Blvd\, Lake Mary\, FL 32746 USA
GEO:28.7557415;-81.3060575
X-APPLE-STRUCTURED-LOCATION;VALUE=URI;X-ADDRESS=Gators Lake Mary 1319 W Lake Mary Blvd Lake Mary FL 32746 USA;X-APPLE-RADIUS=500;X-TITLE=1319 W Lake Mary Blvd\, Lake Mary\, FL 32746 USA:geo:-81.3060575,28.7557415
END:VEVENT
BEGIN:VEVENT
DTSTART;TZID=America/New_York:20301127T190000
DTEND;TZID=America/New_York:20301127T190000
DTSTAMP:20260422T023754
CREATED:20260105T003132Z
LAST-MODIFIED:20260105T054647Z
UID:10014298-1922036400-1922036400@epictriviafl.com
SUMMARY:Music Bingo
DESCRIPTION:
URL:https://epictriviafl.com/event/music-bingo-gators-lake-mary/2030-11-27/
LOCATION:Gators Lake Mary\, 1319 W Lake Mary Blvd\, Lake Mary\, FL 32746 USA
GEO:28.7557415;-81.3060575
X-APPLE-STRUCTURED-LOCATION;VALUE=URI;X-ADDRESS=Gators Lake Mary 1319 W Lake Mary Blvd Lake Mary FL 32746 USA;X-APPLE-RADIUS=500;X-TITLE=1319 W Lake Mary Blvd\, Lake Mary\, FL 32746 USA:geo:-81.3060575,28.7557415
END:VEVENT
BEGIN:VEVENT
DTSTART;TZID=America/New_York:20301128T180000
DTEND;TZID=America/New_York:20301128T180000
DTSTAMP:20260422T023754
CREATED:20260105T003148Z
LAST-MODIFIED:20260105T054342Z
UID:10012998-1922119200-1922119200@epictriviafl.com
SUMMARY:Music Bingo
DESCRIPTION:
URL:https://epictriviafl.com/event/music-bingo-gators-lake-mary-2/2030-11-28/
LOCATION:Gators Lake Mary\, 1319 W Lake Mary Blvd\, Lake Mary\, FL 32746 USA
GEO:28.7557415;-81.3060575
X-APPLE-STRUCTURED-LOCATION;VALUE=URI;X-ADDRESS=Gators Lake Mary 1319 W Lake Mary Blvd Lake Mary FL 32746 USA;X-APPLE-RADIUS=500;X-TITLE=1319 W Lake Mary Blvd\, Lake Mary\, FL 32746 USA:geo:-81.3060575,28.7557415
END:VEVENT
BEGIN:VEVENT
DTSTART;TZID=America/New_York:20301204T190000
DTEND;TZID=America/New_York:20301204T190000
DTSTAMP:20260422T023754
CREATED:20260105T003132Z
LAST-MODIFIED:20260105T054647Z
UID:10014299-1922641200-1922641200@epictriviafl.com
SUMMARY:Music Bingo
DESCRIPTION:
URL:https://epictriviafl.com/event/music-bingo-gators-lake-mary/2030-12-04/
LOCATION:Gators Lake Mary\, 1319 W Lake Mary Blvd\, Lake Mary\, FL 32746 USA
GEO:28.7557415;-81.3060575
X-APPLE-STRUCTURED-LOCATION;VALUE=URI;X-ADDRESS=Gators Lake Mary 1319 W Lake Mary Blvd Lake Mary FL 32746 USA;X-APPLE-RADIUS=500;X-TITLE=1319 W Lake Mary Blvd\, Lake Mary\, FL 32746 USA:geo:-81.3060575,28.7557415
END:VEVENT
BEGIN:VEVENT
DTSTART;TZID=America/New_York:20301205T180000
DTEND;TZID=America/New_York:20301205T180000
DTSTAMP:20260422T023754
CREATED:20260105T003148Z
LAST-MODIFIED:20260105T054342Z
UID:10012999-1922724000-1922724000@epictriviafl.com
SUMMARY:Music Bingo
DESCRIPTION:
URL:https://epictriviafl.com/event/music-bingo-gators-lake-mary-2/2030-12-05/
LOCATION:Gators Lake Mary\, 1319 W Lake Mary Blvd\, Lake Mary\, FL 32746 USA
GEO:28.7557415;-81.3060575
X-APPLE-STRUCTURED-LOCATION;VALUE=URI;X-ADDRESS=Gators Lake Mary 1319 W Lake Mary Blvd Lake Mary FL 32746 USA;X-APPLE-RADIUS=500;X-TITLE=1319 W Lake Mary Blvd\, Lake Mary\, FL 32746 USA:geo:-81.3060575,28.7557415
END:VEVENT
BEGIN:VEVENT
DTSTART;TZID=America/New_York:20301211T190000
DTEND;TZID=America/New_York:20301211T190000
DTSTAMP:20260422T023754
CREATED:20260105T003132Z
LAST-MODIFIED:20260105T054647Z
UID:10014300-1923246000-1923246000@epictriviafl.com
SUMMARY:Music Bingo
DESCRIPTION:
URL:https://epictriviafl.com/event/music-bingo-gators-lake-mary/2030-12-11/
LOCATION:Gators Lake Mary\, 1319 W Lake Mary Blvd\, Lake Mary\, FL 32746 USA
GEO:28.7557415;-81.3060575
X-APPLE-STRUCTURED-LOCATION;VALUE=URI;X-ADDRESS=Gators Lake Mary 1319 W Lake Mary Blvd Lake Mary FL 32746 USA;X-APPLE-RADIUS=500;X-TITLE=1319 W Lake Mary Blvd\, Lake Mary\, FL 32746 USA:geo:-81.3060575,28.7557415
END:VEVENT
BEGIN:VEVENT
DTSTART;TZID=America/New_York:20301212T180000
DTEND;TZID=America/New_York:20301212T180000
DTSTAMP:20260422T023754
CREATED:20260105T003148Z
LAST-MODIFIED:20260105T054342Z
UID:10013000-1923328800-1923328800@epictriviafl.com
SUMMARY:Music Bingo
DESCRIPTION:
URL:https://epictriviafl.com/event/music-bingo-gators-lake-mary-2/2030-12-12/
LOCATION:Gators Lake Mary\, 1319 W Lake Mary Blvd\, Lake Mary\, FL 32746 USA
GEO:28.7557415;-81.3060575
X-APPLE-STRUCTURED-LOCATION;VALUE=URI;X-ADDRESS=Gators Lake Mary 1319 W Lake Mary Blvd Lake Mary FL 32746 USA;X-APPLE-RADIUS=500;X-TITLE=1319 W Lake Mary Blvd\, Lake Mary\, FL 32746 USA:geo:-81.3060575,28.7557415
END:VEVENT
END:VCALENDAR