BEGIN:VCALENDAR
VERSION:2.0
PRODID:-//Epic Trivia - ECPv6.15.18//NONSGML v1.0//EN
CALSCALE:GREGORIAN
METHOD:PUBLISH
X-ORIGINAL-URL:https://epictriviafl.com
X-WR-CALDESC:Events for Epic Trivia
REFRESH-INTERVAL;VALUE=DURATION:PT1H
X-Robots-Tag:noindex
X-PUBLISHED-TTL:PT1H
BEGIN:VTIMEZONE
TZID:America/New_York
BEGIN:DAYLIGHT
TZOFFSETFROM:-0500
TZOFFSETTO:-0400
TZNAME:EDT
DTSTART:20280312T070000
END:DAYLIGHT
BEGIN:STANDARD
TZOFFSETFROM:-0400
TZOFFSETTO:-0500
TZNAME:EST
DTSTART:20281105T060000
END:STANDARD
BEGIN:DAYLIGHT
TZOFFSETFROM:-0500
TZOFFSETTO:-0400
TZNAME:EDT
DTSTART:20290311T070000
END:DAYLIGHT
BEGIN:STANDARD
TZOFFSETFROM:-0400
TZOFFSETTO:-0500
TZNAME:EST
DTSTART:20291104T060000
END:STANDARD
BEGIN:DAYLIGHT
TZOFFSETFROM:-0500
TZOFFSETTO:-0400
TZNAME:EDT
DTSTART:20300310T070000
END:DAYLIGHT
BEGIN:STANDARD
TZOFFSETFROM:-0400
TZOFFSETTO:-0500
TZNAME:EST
DTSTART:20301103T060000
END:STANDARD
END:VTIMEZONE
BEGIN:VEVENT
DTSTART;TZID=America/New_York:20290418T190000
DTEND;TZID=America/New_York:20290418T190000
DTSTAMP:20260421T080200
CREATED:20260105T003132Z
LAST-MODIFIED:20260105T054647Z
UID:10014214-1871233200-1871233200@epictriviafl.com
SUMMARY:Music Bingo
DESCRIPTION:
URL:https://epictriviafl.com/event/music-bingo-gators-lake-mary/2029-04-18/
LOCATION:Gators Lake Mary\, 1319 W Lake Mary Blvd\, Lake Mary\, FL 32746 USA
GEO:28.7557415;-81.3060575
X-APPLE-STRUCTURED-LOCATION;VALUE=URI;X-ADDRESS=Gators Lake Mary 1319 W Lake Mary Blvd Lake Mary FL 32746 USA;X-APPLE-RADIUS=500;X-TITLE=1319 W Lake Mary Blvd\, Lake Mary\, FL 32746 USA:geo:-81.3060575,28.7557415
END:VEVENT
BEGIN:VEVENT
DTSTART;TZID=America/New_York:20290419T180000
DTEND;TZID=America/New_York:20290419T180000
DTSTAMP:20260421T080200
CREATED:20260105T003148Z
LAST-MODIFIED:20260105T054342Z
UID:10012914-1871316000-1871316000@epictriviafl.com
SUMMARY:Music Bingo
DESCRIPTION:
URL:https://epictriviafl.com/event/music-bingo-gators-lake-mary-2/2029-04-19/
LOCATION:Gators Lake Mary\, 1319 W Lake Mary Blvd\, Lake Mary\, FL 32746 USA
GEO:28.7557415;-81.3060575
X-APPLE-STRUCTURED-LOCATION;VALUE=URI;X-ADDRESS=Gators Lake Mary 1319 W Lake Mary Blvd Lake Mary FL 32746 USA;X-APPLE-RADIUS=500;X-TITLE=1319 W Lake Mary Blvd\, Lake Mary\, FL 32746 USA:geo:-81.3060575,28.7557415
END:VEVENT
BEGIN:VEVENT
DTSTART;TZID=America/New_York:20290425T190000
DTEND;TZID=America/New_York:20290425T190000
DTSTAMP:20260421T080200
CREATED:20260105T003132Z
LAST-MODIFIED:20260105T054647Z
UID:10014215-1871838000-1871838000@epictriviafl.com
SUMMARY:Music Bingo
DESCRIPTION:
URL:https://epictriviafl.com/event/music-bingo-gators-lake-mary/2029-04-25/
LOCATION:Gators Lake Mary\, 1319 W Lake Mary Blvd\, Lake Mary\, FL 32746 USA
GEO:28.7557415;-81.3060575
X-APPLE-STRUCTURED-LOCATION;VALUE=URI;X-ADDRESS=Gators Lake Mary 1319 W Lake Mary Blvd Lake Mary FL 32746 USA;X-APPLE-RADIUS=500;X-TITLE=1319 W Lake Mary Blvd\, Lake Mary\, FL 32746 USA:geo:-81.3060575,28.7557415
END:VEVENT
BEGIN:VEVENT
DTSTART;TZID=America/New_York:20290426T180000
DTEND;TZID=America/New_York:20290426T180000
DTSTAMP:20260421T080200
CREATED:20260105T003148Z
LAST-MODIFIED:20260105T054342Z
UID:10012915-1871920800-1871920800@epictriviafl.com
SUMMARY:Music Bingo
DESCRIPTION:
URL:https://epictriviafl.com/event/music-bingo-gators-lake-mary-2/2029-04-26/
LOCATION:Gators Lake Mary\, 1319 W Lake Mary Blvd\, Lake Mary\, FL 32746 USA
GEO:28.7557415;-81.3060575
X-APPLE-STRUCTURED-LOCATION;VALUE=URI;X-ADDRESS=Gators Lake Mary 1319 W Lake Mary Blvd Lake Mary FL 32746 USA;X-APPLE-RADIUS=500;X-TITLE=1319 W Lake Mary Blvd\, Lake Mary\, FL 32746 USA:geo:-81.3060575,28.7557415
END:VEVENT
BEGIN:VEVENT
DTSTART;TZID=America/New_York:20290502T190000
DTEND;TZID=America/New_York:20290502T190000
DTSTAMP:20260421T080200
CREATED:20260105T003132Z
LAST-MODIFIED:20260105T054647Z
UID:10014216-1872442800-1872442800@epictriviafl.com
SUMMARY:Music Bingo
DESCRIPTION:
URL:https://epictriviafl.com/event/music-bingo-gators-lake-mary/2029-05-02/
LOCATION:Gators Lake Mary\, 1319 W Lake Mary Blvd\, Lake Mary\, FL 32746 USA
GEO:28.7557415;-81.3060575
X-APPLE-STRUCTURED-LOCATION;VALUE=URI;X-ADDRESS=Gators Lake Mary 1319 W Lake Mary Blvd Lake Mary FL 32746 USA;X-APPLE-RADIUS=500;X-TITLE=1319 W Lake Mary Blvd\, Lake Mary\, FL 32746 USA:geo:-81.3060575,28.7557415
END:VEVENT
BEGIN:VEVENT
DTSTART;TZID=America/New_York:20290503T180000
DTEND;TZID=America/New_York:20290503T180000
DTSTAMP:20260421T080200
CREATED:20260105T003148Z
LAST-MODIFIED:20260105T054342Z
UID:10012916-1872525600-1872525600@epictriviafl.com
SUMMARY:Music Bingo
DESCRIPTION:
URL:https://epictriviafl.com/event/music-bingo-gators-lake-mary-2/2029-05-03/
LOCATION:Gators Lake Mary\, 1319 W Lake Mary Blvd\, Lake Mary\, FL 32746 USA
GEO:28.7557415;-81.3060575
X-APPLE-STRUCTURED-LOCATION;VALUE=URI;X-ADDRESS=Gators Lake Mary 1319 W Lake Mary Blvd Lake Mary FL 32746 USA;X-APPLE-RADIUS=500;X-TITLE=1319 W Lake Mary Blvd\, Lake Mary\, FL 32746 USA:geo:-81.3060575,28.7557415
END:VEVENT
BEGIN:VEVENT
DTSTART;TZID=America/New_York:20290509T190000
DTEND;TZID=America/New_York:20290509T190000
DTSTAMP:20260421T080200
CREATED:20260105T003132Z
LAST-MODIFIED:20260105T054647Z
UID:10014217-1873047600-1873047600@epictriviafl.com
SUMMARY:Music Bingo
DESCRIPTION:
URL:https://epictriviafl.com/event/music-bingo-gators-lake-mary/2029-05-09/
LOCATION:Gators Lake Mary\, 1319 W Lake Mary Blvd\, Lake Mary\, FL 32746 USA
GEO:28.7557415;-81.3060575
X-APPLE-STRUCTURED-LOCATION;VALUE=URI;X-ADDRESS=Gators Lake Mary 1319 W Lake Mary Blvd Lake Mary FL 32746 USA;X-APPLE-RADIUS=500;X-TITLE=1319 W Lake Mary Blvd\, Lake Mary\, FL 32746 USA:geo:-81.3060575,28.7557415
END:VEVENT
BEGIN:VEVENT
DTSTART;TZID=America/New_York:20290510T180000
DTEND;TZID=America/New_York:20290510T180000
DTSTAMP:20260421T080200
CREATED:20260105T003148Z
LAST-MODIFIED:20260105T054342Z
UID:10012917-1873130400-1873130400@epictriviafl.com
SUMMARY:Music Bingo
DESCRIPTION:
URL:https://epictriviafl.com/event/music-bingo-gators-lake-mary-2/2029-05-10/
LOCATION:Gators Lake Mary\, 1319 W Lake Mary Blvd\, Lake Mary\, FL 32746 USA
GEO:28.7557415;-81.3060575
X-APPLE-STRUCTURED-LOCATION;VALUE=URI;X-ADDRESS=Gators Lake Mary 1319 W Lake Mary Blvd Lake Mary FL 32746 USA;X-APPLE-RADIUS=500;X-TITLE=1319 W Lake Mary Blvd\, Lake Mary\, FL 32746 USA:geo:-81.3060575,28.7557415
END:VEVENT
BEGIN:VEVENT
DTSTART;TZID=America/New_York:20290516T190000
DTEND;TZID=America/New_York:20290516T190000
DTSTAMP:20260421T080200
CREATED:20260105T003132Z
LAST-MODIFIED:20260105T054647Z
UID:10014218-1873652400-1873652400@epictriviafl.com
SUMMARY:Music Bingo
DESCRIPTION:
URL:https://epictriviafl.com/event/music-bingo-gators-lake-mary/2029-05-16/
LOCATION:Gators Lake Mary\, 1319 W Lake Mary Blvd\, Lake Mary\, FL 32746 USA
GEO:28.7557415;-81.3060575
X-APPLE-STRUCTURED-LOCATION;VALUE=URI;X-ADDRESS=Gators Lake Mary 1319 W Lake Mary Blvd Lake Mary FL 32746 USA;X-APPLE-RADIUS=500;X-TITLE=1319 W Lake Mary Blvd\, Lake Mary\, FL 32746 USA:geo:-81.3060575,28.7557415
END:VEVENT
BEGIN:VEVENT
DTSTART;TZID=America/New_York:20290517T180000
DTEND;TZID=America/New_York:20290517T180000
DTSTAMP:20260421T080200
CREATED:20260105T003148Z
LAST-MODIFIED:20260105T054342Z
UID:10012918-1873735200-1873735200@epictriviafl.com
SUMMARY:Music Bingo
DESCRIPTION:
URL:https://epictriviafl.com/event/music-bingo-gators-lake-mary-2/2029-05-17/
LOCATION:Gators Lake Mary\, 1319 W Lake Mary Blvd\, Lake Mary\, FL 32746 USA
GEO:28.7557415;-81.3060575
X-APPLE-STRUCTURED-LOCATION;VALUE=URI;X-ADDRESS=Gators Lake Mary 1319 W Lake Mary Blvd Lake Mary FL 32746 USA;X-APPLE-RADIUS=500;X-TITLE=1319 W Lake Mary Blvd\, Lake Mary\, FL 32746 USA:geo:-81.3060575,28.7557415
END:VEVENT
BEGIN:VEVENT
DTSTART;TZID=America/New_York:20290523T190000
DTEND;TZID=America/New_York:20290523T190000
DTSTAMP:20260421T080200
CREATED:20260105T003132Z
LAST-MODIFIED:20260105T054647Z
UID:10014219-1874257200-1874257200@epictriviafl.com
SUMMARY:Music Bingo
DESCRIPTION:
URL:https://epictriviafl.com/event/music-bingo-gators-lake-mary/2029-05-23/
LOCATION:Gators Lake Mary\, 1319 W Lake Mary Blvd\, Lake Mary\, FL 32746 USA
GEO:28.7557415;-81.3060575
X-APPLE-STRUCTURED-LOCATION;VALUE=URI;X-ADDRESS=Gators Lake Mary 1319 W Lake Mary Blvd Lake Mary FL 32746 USA;X-APPLE-RADIUS=500;X-TITLE=1319 W Lake Mary Blvd\, Lake Mary\, FL 32746 USA:geo:-81.3060575,28.7557415
END:VEVENT
BEGIN:VEVENT
DTSTART;TZID=America/New_York:20290524T180000
DTEND;TZID=America/New_York:20290524T180000
DTSTAMP:20260421T080200
CREATED:20260105T003148Z
LAST-MODIFIED:20260105T054342Z
UID:10012919-1874340000-1874340000@epictriviafl.com
SUMMARY:Music Bingo
DESCRIPTION:
URL:https://epictriviafl.com/event/music-bingo-gators-lake-mary-2/2029-05-24/
LOCATION:Gators Lake Mary\, 1319 W Lake Mary Blvd\, Lake Mary\, FL 32746 USA
GEO:28.7557415;-81.3060575
X-APPLE-STRUCTURED-LOCATION;VALUE=URI;X-ADDRESS=Gators Lake Mary 1319 W Lake Mary Blvd Lake Mary FL 32746 USA;X-APPLE-RADIUS=500;X-TITLE=1319 W Lake Mary Blvd\, Lake Mary\, FL 32746 USA:geo:-81.3060575,28.7557415
END:VEVENT
BEGIN:VEVENT
DTSTART;TZID=America/New_York:20290530T190000
DTEND;TZID=America/New_York:20290530T190000
DTSTAMP:20260421T080200
CREATED:20260105T003132Z
LAST-MODIFIED:20260105T054647Z
UID:10014220-1874862000-1874862000@epictriviafl.com
SUMMARY:Music Bingo
DESCRIPTION:
URL:https://epictriviafl.com/event/music-bingo-gators-lake-mary/2029-05-30/
LOCATION:Gators Lake Mary\, 1319 W Lake Mary Blvd\, Lake Mary\, FL 32746 USA
GEO:28.7557415;-81.3060575
X-APPLE-STRUCTURED-LOCATION;VALUE=URI;X-ADDRESS=Gators Lake Mary 1319 W Lake Mary Blvd Lake Mary FL 32746 USA;X-APPLE-RADIUS=500;X-TITLE=1319 W Lake Mary Blvd\, Lake Mary\, FL 32746 USA:geo:-81.3060575,28.7557415
END:VEVENT
BEGIN:VEVENT
DTSTART;TZID=America/New_York:20290531T180000
DTEND;TZID=America/New_York:20290531T180000
DTSTAMP:20260421T080200
CREATED:20260105T003148Z
LAST-MODIFIED:20260105T054342Z
UID:10012920-1874944800-1874944800@epictriviafl.com
SUMMARY:Music Bingo
DESCRIPTION:
URL:https://epictriviafl.com/event/music-bingo-gators-lake-mary-2/2029-05-31/
LOCATION:Gators Lake Mary\, 1319 W Lake Mary Blvd\, Lake Mary\, FL 32746 USA
GEO:28.7557415;-81.3060575
X-APPLE-STRUCTURED-LOCATION;VALUE=URI;X-ADDRESS=Gators Lake Mary 1319 W Lake Mary Blvd Lake Mary FL 32746 USA;X-APPLE-RADIUS=500;X-TITLE=1319 W Lake Mary Blvd\, Lake Mary\, FL 32746 USA:geo:-81.3060575,28.7557415
END:VEVENT
BEGIN:VEVENT
DTSTART;TZID=America/New_York:20290606T190000
DTEND;TZID=America/New_York:20290606T190000
DTSTAMP:20260421T080200
CREATED:20260105T003132Z
LAST-MODIFIED:20260105T054647Z
UID:10014221-1875466800-1875466800@epictriviafl.com
SUMMARY:Music Bingo
DESCRIPTION:
URL:https://epictriviafl.com/event/music-bingo-gators-lake-mary/2029-06-06/
LOCATION:Gators Lake Mary\, 1319 W Lake Mary Blvd\, Lake Mary\, FL 32746 USA
GEO:28.7557415;-81.3060575
X-APPLE-STRUCTURED-LOCATION;VALUE=URI;X-ADDRESS=Gators Lake Mary 1319 W Lake Mary Blvd Lake Mary FL 32746 USA;X-APPLE-RADIUS=500;X-TITLE=1319 W Lake Mary Blvd\, Lake Mary\, FL 32746 USA:geo:-81.3060575,28.7557415
END:VEVENT
BEGIN:VEVENT
DTSTART;TZID=America/New_York:20290607T180000
DTEND;TZID=America/New_York:20290607T180000
DTSTAMP:20260421T080200
CREATED:20260105T003148Z
LAST-MODIFIED:20260105T054342Z
UID:10012921-1875549600-1875549600@epictriviafl.com
SUMMARY:Music Bingo
DESCRIPTION:
URL:https://epictriviafl.com/event/music-bingo-gators-lake-mary-2/2029-06-07/
LOCATION:Gators Lake Mary\, 1319 W Lake Mary Blvd\, Lake Mary\, FL 32746 USA
GEO:28.7557415;-81.3060575
X-APPLE-STRUCTURED-LOCATION;VALUE=URI;X-ADDRESS=Gators Lake Mary 1319 W Lake Mary Blvd Lake Mary FL 32746 USA;X-APPLE-RADIUS=500;X-TITLE=1319 W Lake Mary Blvd\, Lake Mary\, FL 32746 USA:geo:-81.3060575,28.7557415
END:VEVENT
BEGIN:VEVENT
DTSTART;TZID=America/New_York:20290613T190000
DTEND;TZID=America/New_York:20290613T190000
DTSTAMP:20260421T080200
CREATED:20260105T003132Z
LAST-MODIFIED:20260105T054647Z
UID:10014222-1876071600-1876071600@epictriviafl.com
SUMMARY:Music Bingo
DESCRIPTION:
URL:https://epictriviafl.com/event/music-bingo-gators-lake-mary/2029-06-13/
LOCATION:Gators Lake Mary\, 1319 W Lake Mary Blvd\, Lake Mary\, FL 32746 USA
GEO:28.7557415;-81.3060575
X-APPLE-STRUCTURED-LOCATION;VALUE=URI;X-ADDRESS=Gators Lake Mary 1319 W Lake Mary Blvd Lake Mary FL 32746 USA;X-APPLE-RADIUS=500;X-TITLE=1319 W Lake Mary Blvd\, Lake Mary\, FL 32746 USA:geo:-81.3060575,28.7557415
END:VEVENT
BEGIN:VEVENT
DTSTART;TZID=America/New_York:20290614T180000
DTEND;TZID=America/New_York:20290614T180000
DTSTAMP:20260421T080200
CREATED:20260105T003148Z
LAST-MODIFIED:20260105T054342Z
UID:10012922-1876154400-1876154400@epictriviafl.com
SUMMARY:Music Bingo
DESCRIPTION:
URL:https://epictriviafl.com/event/music-bingo-gators-lake-mary-2/2029-06-14/
LOCATION:Gators Lake Mary\, 1319 W Lake Mary Blvd\, Lake Mary\, FL 32746 USA
GEO:28.7557415;-81.3060575
X-APPLE-STRUCTURED-LOCATION;VALUE=URI;X-ADDRESS=Gators Lake Mary 1319 W Lake Mary Blvd Lake Mary FL 32746 USA;X-APPLE-RADIUS=500;X-TITLE=1319 W Lake Mary Blvd\, Lake Mary\, FL 32746 USA:geo:-81.3060575,28.7557415
END:VEVENT
BEGIN:VEVENT
DTSTART;TZID=America/New_York:20290620T190000
DTEND;TZID=America/New_York:20290620T190000
DTSTAMP:20260421T080200
CREATED:20260105T003132Z
LAST-MODIFIED:20260105T054647Z
UID:10014223-1876676400-1876676400@epictriviafl.com
SUMMARY:Music Bingo
DESCRIPTION:
URL:https://epictriviafl.com/event/music-bingo-gators-lake-mary/2029-06-20/
LOCATION:Gators Lake Mary\, 1319 W Lake Mary Blvd\, Lake Mary\, FL 32746 USA
GEO:28.7557415;-81.3060575
X-APPLE-STRUCTURED-LOCATION;VALUE=URI;X-ADDRESS=Gators Lake Mary 1319 W Lake Mary Blvd Lake Mary FL 32746 USA;X-APPLE-RADIUS=500;X-TITLE=1319 W Lake Mary Blvd\, Lake Mary\, FL 32746 USA:geo:-81.3060575,28.7557415
END:VEVENT
BEGIN:VEVENT
DTSTART;TZID=America/New_York:20290621T180000
DTEND;TZID=America/New_York:20290621T180000
DTSTAMP:20260421T080200
CREATED:20260105T003148Z
LAST-MODIFIED:20260105T054342Z
UID:10012923-1876759200-1876759200@epictriviafl.com
SUMMARY:Music Bingo
DESCRIPTION:
URL:https://epictriviafl.com/event/music-bingo-gators-lake-mary-2/2029-06-21/
LOCATION:Gators Lake Mary\, 1319 W Lake Mary Blvd\, Lake Mary\, FL 32746 USA
GEO:28.7557415;-81.3060575
X-APPLE-STRUCTURED-LOCATION;VALUE=URI;X-ADDRESS=Gators Lake Mary 1319 W Lake Mary Blvd Lake Mary FL 32746 USA;X-APPLE-RADIUS=500;X-TITLE=1319 W Lake Mary Blvd\, Lake Mary\, FL 32746 USA:geo:-81.3060575,28.7557415
END:VEVENT
BEGIN:VEVENT
DTSTART;TZID=America/New_York:20290627T190000
DTEND;TZID=America/New_York:20290627T190000
DTSTAMP:20260421T080200
CREATED:20260105T003132Z
LAST-MODIFIED:20260105T054647Z
UID:10014224-1877281200-1877281200@epictriviafl.com
SUMMARY:Music Bingo
DESCRIPTION:
URL:https://epictriviafl.com/event/music-bingo-gators-lake-mary/2029-06-27/
LOCATION:Gators Lake Mary\, 1319 W Lake Mary Blvd\, Lake Mary\, FL 32746 USA
GEO:28.7557415;-81.3060575
X-APPLE-STRUCTURED-LOCATION;VALUE=URI;X-ADDRESS=Gators Lake Mary 1319 W Lake Mary Blvd Lake Mary FL 32746 USA;X-APPLE-RADIUS=500;X-TITLE=1319 W Lake Mary Blvd\, Lake Mary\, FL 32746 USA:geo:-81.3060575,28.7557415
END:VEVENT
BEGIN:VEVENT
DTSTART;TZID=America/New_York:20290628T180000
DTEND;TZID=America/New_York:20290628T180000
DTSTAMP:20260421T080200
CREATED:20260105T003148Z
LAST-MODIFIED:20260105T054342Z
UID:10012924-1877364000-1877364000@epictriviafl.com
SUMMARY:Music Bingo
DESCRIPTION:
URL:https://epictriviafl.com/event/music-bingo-gators-lake-mary-2/2029-06-28/
LOCATION:Gators Lake Mary\, 1319 W Lake Mary Blvd\, Lake Mary\, FL 32746 USA
GEO:28.7557415;-81.3060575
X-APPLE-STRUCTURED-LOCATION;VALUE=URI;X-ADDRESS=Gators Lake Mary 1319 W Lake Mary Blvd Lake Mary FL 32746 USA;X-APPLE-RADIUS=500;X-TITLE=1319 W Lake Mary Blvd\, Lake Mary\, FL 32746 USA:geo:-81.3060575,28.7557415
END:VEVENT
BEGIN:VEVENT
DTSTART;TZID=America/New_York:20290704T190000
DTEND;TZID=America/New_York:20290704T190000
DTSTAMP:20260421T080200
CREATED:20260105T003132Z
LAST-MODIFIED:20260105T054647Z
UID:10014225-1877886000-1877886000@epictriviafl.com
SUMMARY:Music Bingo
DESCRIPTION:
URL:https://epictriviafl.com/event/music-bingo-gators-lake-mary/2029-07-04/
LOCATION:Gators Lake Mary\, 1319 W Lake Mary Blvd\, Lake Mary\, FL 32746 USA
GEO:28.7557415;-81.3060575
X-APPLE-STRUCTURED-LOCATION;VALUE=URI;X-ADDRESS=Gators Lake Mary 1319 W Lake Mary Blvd Lake Mary FL 32746 USA;X-APPLE-RADIUS=500;X-TITLE=1319 W Lake Mary Blvd\, Lake Mary\, FL 32746 USA:geo:-81.3060575,28.7557415
END:VEVENT
BEGIN:VEVENT
DTSTART;TZID=America/New_York:20290705T180000
DTEND;TZID=America/New_York:20290705T180000
DTSTAMP:20260421T080200
CREATED:20260105T003148Z
LAST-MODIFIED:20260105T054342Z
UID:10012925-1877968800-1877968800@epictriviafl.com
SUMMARY:Music Bingo
DESCRIPTION:
URL:https://epictriviafl.com/event/music-bingo-gators-lake-mary-2/2029-07-05/
LOCATION:Gators Lake Mary\, 1319 W Lake Mary Blvd\, Lake Mary\, FL 32746 USA
GEO:28.7557415;-81.3060575
X-APPLE-STRUCTURED-LOCATION;VALUE=URI;X-ADDRESS=Gators Lake Mary 1319 W Lake Mary Blvd Lake Mary FL 32746 USA;X-APPLE-RADIUS=500;X-TITLE=1319 W Lake Mary Blvd\, Lake Mary\, FL 32746 USA:geo:-81.3060575,28.7557415
END:VEVENT
BEGIN:VEVENT
DTSTART;TZID=America/New_York:20290711T190000
DTEND;TZID=America/New_York:20290711T190000
DTSTAMP:20260421T080200
CREATED:20260105T003132Z
LAST-MODIFIED:20260105T054647Z
UID:10014226-1878490800-1878490800@epictriviafl.com
SUMMARY:Music Bingo
DESCRIPTION:
URL:https://epictriviafl.com/event/music-bingo-gators-lake-mary/2029-07-11/
LOCATION:Gators Lake Mary\, 1319 W Lake Mary Blvd\, Lake Mary\, FL 32746 USA
GEO:28.7557415;-81.3060575
X-APPLE-STRUCTURED-LOCATION;VALUE=URI;X-ADDRESS=Gators Lake Mary 1319 W Lake Mary Blvd Lake Mary FL 32746 USA;X-APPLE-RADIUS=500;X-TITLE=1319 W Lake Mary Blvd\, Lake Mary\, FL 32746 USA:geo:-81.3060575,28.7557415
END:VEVENT
BEGIN:VEVENT
DTSTART;TZID=America/New_York:20290712T180000
DTEND;TZID=America/New_York:20290712T180000
DTSTAMP:20260421T080200
CREATED:20260105T003148Z
LAST-MODIFIED:20260105T054342Z
UID:10012926-1878573600-1878573600@epictriviafl.com
SUMMARY:Music Bingo
DESCRIPTION:
URL:https://epictriviafl.com/event/music-bingo-gators-lake-mary-2/2029-07-12/
LOCATION:Gators Lake Mary\, 1319 W Lake Mary Blvd\, Lake Mary\, FL 32746 USA
GEO:28.7557415;-81.3060575
X-APPLE-STRUCTURED-LOCATION;VALUE=URI;X-ADDRESS=Gators Lake Mary 1319 W Lake Mary Blvd Lake Mary FL 32746 USA;X-APPLE-RADIUS=500;X-TITLE=1319 W Lake Mary Blvd\, Lake Mary\, FL 32746 USA:geo:-81.3060575,28.7557415
END:VEVENT
BEGIN:VEVENT
DTSTART;TZID=America/New_York:20290718T190000
DTEND;TZID=America/New_York:20290718T190000
DTSTAMP:20260421T080200
CREATED:20260105T003132Z
LAST-MODIFIED:20260105T054647Z
UID:10014227-1879095600-1879095600@epictriviafl.com
SUMMARY:Music Bingo
DESCRIPTION:
URL:https://epictriviafl.com/event/music-bingo-gators-lake-mary/2029-07-18/
LOCATION:Gators Lake Mary\, 1319 W Lake Mary Blvd\, Lake Mary\, FL 32746 USA
GEO:28.7557415;-81.3060575
X-APPLE-STRUCTURED-LOCATION;VALUE=URI;X-ADDRESS=Gators Lake Mary 1319 W Lake Mary Blvd Lake Mary FL 32746 USA;X-APPLE-RADIUS=500;X-TITLE=1319 W Lake Mary Blvd\, Lake Mary\, FL 32746 USA:geo:-81.3060575,28.7557415
END:VEVENT
BEGIN:VEVENT
DTSTART;TZID=America/New_York:20290719T180000
DTEND;TZID=America/New_York:20290719T180000
DTSTAMP:20260421T080200
CREATED:20260105T003148Z
LAST-MODIFIED:20260105T054342Z
UID:10012927-1879178400-1879178400@epictriviafl.com
SUMMARY:Music Bingo
DESCRIPTION:
URL:https://epictriviafl.com/event/music-bingo-gators-lake-mary-2/2029-07-19/
LOCATION:Gators Lake Mary\, 1319 W Lake Mary Blvd\, Lake Mary\, FL 32746 USA
GEO:28.7557415;-81.3060575
X-APPLE-STRUCTURED-LOCATION;VALUE=URI;X-ADDRESS=Gators Lake Mary 1319 W Lake Mary Blvd Lake Mary FL 32746 USA;X-APPLE-RADIUS=500;X-TITLE=1319 W Lake Mary Blvd\, Lake Mary\, FL 32746 USA:geo:-81.3060575,28.7557415
END:VEVENT
BEGIN:VEVENT
DTSTART;TZID=America/New_York:20290725T190000
DTEND;TZID=America/New_York:20290725T190000
DTSTAMP:20260421T080200
CREATED:20260105T003132Z
LAST-MODIFIED:20260105T054647Z
UID:10014228-1879700400-1879700400@epictriviafl.com
SUMMARY:Music Bingo
DESCRIPTION:
URL:https://epictriviafl.com/event/music-bingo-gators-lake-mary/2029-07-25/
LOCATION:Gators Lake Mary\, 1319 W Lake Mary Blvd\, Lake Mary\, FL 32746 USA
GEO:28.7557415;-81.3060575
X-APPLE-STRUCTURED-LOCATION;VALUE=URI;X-ADDRESS=Gators Lake Mary 1319 W Lake Mary Blvd Lake Mary FL 32746 USA;X-APPLE-RADIUS=500;X-TITLE=1319 W Lake Mary Blvd\, Lake Mary\, FL 32746 USA:geo:-81.3060575,28.7557415
END:VEVENT
BEGIN:VEVENT
DTSTART;TZID=America/New_York:20290726T180000
DTEND;TZID=America/New_York:20290726T180000
DTSTAMP:20260421T080200
CREATED:20260105T003148Z
LAST-MODIFIED:20260105T054342Z
UID:10012928-1879783200-1879783200@epictriviafl.com
SUMMARY:Music Bingo
DESCRIPTION:
URL:https://epictriviafl.com/event/music-bingo-gators-lake-mary-2/2029-07-26/
LOCATION:Gators Lake Mary\, 1319 W Lake Mary Blvd\, Lake Mary\, FL 32746 USA
GEO:28.7557415;-81.3060575
X-APPLE-STRUCTURED-LOCATION;VALUE=URI;X-ADDRESS=Gators Lake Mary 1319 W Lake Mary Blvd Lake Mary FL 32746 USA;X-APPLE-RADIUS=500;X-TITLE=1319 W Lake Mary Blvd\, Lake Mary\, FL 32746 USA:geo:-81.3060575,28.7557415
END:VEVENT
END:VCALENDAR