BEGIN:VCALENDAR
VERSION:2.0
PRODID:-//Epic Trivia - ECPv6.15.18//NONSGML v1.0//EN
CALSCALE:GREGORIAN
METHOD:PUBLISH
X-ORIGINAL-URL:https://epictriviafl.com
X-WR-CALDESC:Events for Epic Trivia
REFRESH-INTERVAL;VALUE=DURATION:PT1H
X-Robots-Tag:noindex
X-PUBLISHED-TTL:PT1H
BEGIN:VTIMEZONE
TZID:America/New_York
BEGIN:DAYLIGHT
TZOFFSETFROM:-0500
TZOFFSETTO:-0400
TZNAME:EDT
DTSTART:20270314T070000
END:DAYLIGHT
BEGIN:STANDARD
TZOFFSETFROM:-0400
TZOFFSETTO:-0500
TZNAME:EST
DTSTART:20271107T060000
END:STANDARD
BEGIN:DAYLIGHT
TZOFFSETFROM:-0500
TZOFFSETTO:-0400
TZNAME:EDT
DTSTART:20280312T070000
END:DAYLIGHT
BEGIN:STANDARD
TZOFFSETFROM:-0400
TZOFFSETTO:-0500
TZNAME:EST
DTSTART:20281105T060000
END:STANDARD
BEGIN:DAYLIGHT
TZOFFSETFROM:-0500
TZOFFSETTO:-0400
TZNAME:EDT
DTSTART:20290311T070000
END:DAYLIGHT
BEGIN:STANDARD
TZOFFSETFROM:-0400
TZOFFSETTO:-0500
TZNAME:EST
DTSTART:20291104T060000
END:STANDARD
END:VTIMEZONE
BEGIN:VEVENT
DTSTART;TZID=America/New_York:20280628T190000
DTEND;TZID=America/New_York:20280628T190000
DTSTAMP:20260420T205618
CREATED:20260105T003132Z
LAST-MODIFIED:20260105T054647Z
UID:10014172-1845831600-1845831600@epictriviafl.com
SUMMARY:Music Bingo
DESCRIPTION:
URL:https://epictriviafl.com/event/music-bingo-gators-lake-mary/2028-06-28/
LOCATION:Gators Lake Mary\, 1319 W Lake Mary Blvd\, Lake Mary\, FL 32746 USA
GEO:28.7557415;-81.3060575
X-APPLE-STRUCTURED-LOCATION;VALUE=URI;X-ADDRESS=Gators Lake Mary 1319 W Lake Mary Blvd Lake Mary FL 32746 USA;X-APPLE-RADIUS=500;X-TITLE=1319 W Lake Mary Blvd\, Lake Mary\, FL 32746 USA:geo:-81.3060575,28.7557415
END:VEVENT
BEGIN:VEVENT
DTSTART;TZID=America/New_York:20280629T180000
DTEND;TZID=America/New_York:20280629T180000
DTSTAMP:20260420T205618
CREATED:20260105T003148Z
LAST-MODIFIED:20260105T054342Z
UID:10012872-1845914400-1845914400@epictriviafl.com
SUMMARY:Music Bingo
DESCRIPTION:
URL:https://epictriviafl.com/event/music-bingo-gators-lake-mary-2/2028-06-29/
LOCATION:Gators Lake Mary\, 1319 W Lake Mary Blvd\, Lake Mary\, FL 32746 USA
GEO:28.7557415;-81.3060575
X-APPLE-STRUCTURED-LOCATION;VALUE=URI;X-ADDRESS=Gators Lake Mary 1319 W Lake Mary Blvd Lake Mary FL 32746 USA;X-APPLE-RADIUS=500;X-TITLE=1319 W Lake Mary Blvd\, Lake Mary\, FL 32746 USA:geo:-81.3060575,28.7557415
END:VEVENT
BEGIN:VEVENT
DTSTART;TZID=America/New_York:20280705T190000
DTEND;TZID=America/New_York:20280705T190000
DTSTAMP:20260420T205618
CREATED:20260105T003132Z
LAST-MODIFIED:20260105T054647Z
UID:10014173-1846436400-1846436400@epictriviafl.com
SUMMARY:Music Bingo
DESCRIPTION:
URL:https://epictriviafl.com/event/music-bingo-gators-lake-mary/2028-07-05/
LOCATION:Gators Lake Mary\, 1319 W Lake Mary Blvd\, Lake Mary\, FL 32746 USA
GEO:28.7557415;-81.3060575
X-APPLE-STRUCTURED-LOCATION;VALUE=URI;X-ADDRESS=Gators Lake Mary 1319 W Lake Mary Blvd Lake Mary FL 32746 USA;X-APPLE-RADIUS=500;X-TITLE=1319 W Lake Mary Blvd\, Lake Mary\, FL 32746 USA:geo:-81.3060575,28.7557415
END:VEVENT
BEGIN:VEVENT
DTSTART;TZID=America/New_York:20280706T180000
DTEND;TZID=America/New_York:20280706T180000
DTSTAMP:20260420T205618
CREATED:20260105T003148Z
LAST-MODIFIED:20260105T054342Z
UID:10012873-1846519200-1846519200@epictriviafl.com
SUMMARY:Music Bingo
DESCRIPTION:
URL:https://epictriviafl.com/event/music-bingo-gators-lake-mary-2/2028-07-06/
LOCATION:Gators Lake Mary\, 1319 W Lake Mary Blvd\, Lake Mary\, FL 32746 USA
GEO:28.7557415;-81.3060575
X-APPLE-STRUCTURED-LOCATION;VALUE=URI;X-ADDRESS=Gators Lake Mary 1319 W Lake Mary Blvd Lake Mary FL 32746 USA;X-APPLE-RADIUS=500;X-TITLE=1319 W Lake Mary Blvd\, Lake Mary\, FL 32746 USA:geo:-81.3060575,28.7557415
END:VEVENT
BEGIN:VEVENT
DTSTART;TZID=America/New_York:20280712T190000
DTEND;TZID=America/New_York:20280712T190000
DTSTAMP:20260420T205618
CREATED:20260105T003132Z
LAST-MODIFIED:20260105T054647Z
UID:10014174-1847041200-1847041200@epictriviafl.com
SUMMARY:Music Bingo
DESCRIPTION:
URL:https://epictriviafl.com/event/music-bingo-gators-lake-mary/2028-07-12/
LOCATION:Gators Lake Mary\, 1319 W Lake Mary Blvd\, Lake Mary\, FL 32746 USA
GEO:28.7557415;-81.3060575
X-APPLE-STRUCTURED-LOCATION;VALUE=URI;X-ADDRESS=Gators Lake Mary 1319 W Lake Mary Blvd Lake Mary FL 32746 USA;X-APPLE-RADIUS=500;X-TITLE=1319 W Lake Mary Blvd\, Lake Mary\, FL 32746 USA:geo:-81.3060575,28.7557415
END:VEVENT
BEGIN:VEVENT
DTSTART;TZID=America/New_York:20280713T180000
DTEND;TZID=America/New_York:20280713T180000
DTSTAMP:20260420T205618
CREATED:20260105T003148Z
LAST-MODIFIED:20260105T054342Z
UID:10012874-1847124000-1847124000@epictriviafl.com
SUMMARY:Music Bingo
DESCRIPTION:
URL:https://epictriviafl.com/event/music-bingo-gators-lake-mary-2/2028-07-13/
LOCATION:Gators Lake Mary\, 1319 W Lake Mary Blvd\, Lake Mary\, FL 32746 USA
GEO:28.7557415;-81.3060575
X-APPLE-STRUCTURED-LOCATION;VALUE=URI;X-ADDRESS=Gators Lake Mary 1319 W Lake Mary Blvd Lake Mary FL 32746 USA;X-APPLE-RADIUS=500;X-TITLE=1319 W Lake Mary Blvd\, Lake Mary\, FL 32746 USA:geo:-81.3060575,28.7557415
END:VEVENT
BEGIN:VEVENT
DTSTART;TZID=America/New_York:20280719T190000
DTEND;TZID=America/New_York:20280719T190000
DTSTAMP:20260420T205618
CREATED:20260105T003132Z
LAST-MODIFIED:20260105T054647Z
UID:10014175-1847646000-1847646000@epictriviafl.com
SUMMARY:Music Bingo
DESCRIPTION:
URL:https://epictriviafl.com/event/music-bingo-gators-lake-mary/2028-07-19/
LOCATION:Gators Lake Mary\, 1319 W Lake Mary Blvd\, Lake Mary\, FL 32746 USA
GEO:28.7557415;-81.3060575
X-APPLE-STRUCTURED-LOCATION;VALUE=URI;X-ADDRESS=Gators Lake Mary 1319 W Lake Mary Blvd Lake Mary FL 32746 USA;X-APPLE-RADIUS=500;X-TITLE=1319 W Lake Mary Blvd\, Lake Mary\, FL 32746 USA:geo:-81.3060575,28.7557415
END:VEVENT
BEGIN:VEVENT
DTSTART;TZID=America/New_York:20280720T180000
DTEND;TZID=America/New_York:20280720T180000
DTSTAMP:20260420T205618
CREATED:20260105T003148Z
LAST-MODIFIED:20260105T054342Z
UID:10012875-1847728800-1847728800@epictriviafl.com
SUMMARY:Music Bingo
DESCRIPTION:
URL:https://epictriviafl.com/event/music-bingo-gators-lake-mary-2/2028-07-20/
LOCATION:Gators Lake Mary\, 1319 W Lake Mary Blvd\, Lake Mary\, FL 32746 USA
GEO:28.7557415;-81.3060575
X-APPLE-STRUCTURED-LOCATION;VALUE=URI;X-ADDRESS=Gators Lake Mary 1319 W Lake Mary Blvd Lake Mary FL 32746 USA;X-APPLE-RADIUS=500;X-TITLE=1319 W Lake Mary Blvd\, Lake Mary\, FL 32746 USA:geo:-81.3060575,28.7557415
END:VEVENT
BEGIN:VEVENT
DTSTART;TZID=America/New_York:20280726T190000
DTEND;TZID=America/New_York:20280726T190000
DTSTAMP:20260420T205618
CREATED:20260105T003132Z
LAST-MODIFIED:20260105T054647Z
UID:10014176-1848250800-1848250800@epictriviafl.com
SUMMARY:Music Bingo
DESCRIPTION:
URL:https://epictriviafl.com/event/music-bingo-gators-lake-mary/2028-07-26/
LOCATION:Gators Lake Mary\, 1319 W Lake Mary Blvd\, Lake Mary\, FL 32746 USA
GEO:28.7557415;-81.3060575
X-APPLE-STRUCTURED-LOCATION;VALUE=URI;X-ADDRESS=Gators Lake Mary 1319 W Lake Mary Blvd Lake Mary FL 32746 USA;X-APPLE-RADIUS=500;X-TITLE=1319 W Lake Mary Blvd\, Lake Mary\, FL 32746 USA:geo:-81.3060575,28.7557415
END:VEVENT
BEGIN:VEVENT
DTSTART;TZID=America/New_York:20280727T180000
DTEND;TZID=America/New_York:20280727T180000
DTSTAMP:20260420T205618
CREATED:20260105T003148Z
LAST-MODIFIED:20260105T054342Z
UID:10012876-1848333600-1848333600@epictriviafl.com
SUMMARY:Music Bingo
DESCRIPTION:
URL:https://epictriviafl.com/event/music-bingo-gators-lake-mary-2/2028-07-27/
LOCATION:Gators Lake Mary\, 1319 W Lake Mary Blvd\, Lake Mary\, FL 32746 USA
GEO:28.7557415;-81.3060575
X-APPLE-STRUCTURED-LOCATION;VALUE=URI;X-ADDRESS=Gators Lake Mary 1319 W Lake Mary Blvd Lake Mary FL 32746 USA;X-APPLE-RADIUS=500;X-TITLE=1319 W Lake Mary Blvd\, Lake Mary\, FL 32746 USA:geo:-81.3060575,28.7557415
END:VEVENT
BEGIN:VEVENT
DTSTART;TZID=America/New_York:20280802T190000
DTEND;TZID=America/New_York:20280802T190000
DTSTAMP:20260420T205618
CREATED:20260105T003132Z
LAST-MODIFIED:20260105T054647Z
UID:10014177-1848855600-1848855600@epictriviafl.com
SUMMARY:Music Bingo
DESCRIPTION:
URL:https://epictriviafl.com/event/music-bingo-gators-lake-mary/2028-08-02/
LOCATION:Gators Lake Mary\, 1319 W Lake Mary Blvd\, Lake Mary\, FL 32746 USA
GEO:28.7557415;-81.3060575
X-APPLE-STRUCTURED-LOCATION;VALUE=URI;X-ADDRESS=Gators Lake Mary 1319 W Lake Mary Blvd Lake Mary FL 32746 USA;X-APPLE-RADIUS=500;X-TITLE=1319 W Lake Mary Blvd\, Lake Mary\, FL 32746 USA:geo:-81.3060575,28.7557415
END:VEVENT
BEGIN:VEVENT
DTSTART;TZID=America/New_York:20280803T180000
DTEND;TZID=America/New_York:20280803T180000
DTSTAMP:20260420T205618
CREATED:20260105T003148Z
LAST-MODIFIED:20260105T054342Z
UID:10012877-1848938400-1848938400@epictriviafl.com
SUMMARY:Music Bingo
DESCRIPTION:
URL:https://epictriviafl.com/event/music-bingo-gators-lake-mary-2/2028-08-03/
LOCATION:Gators Lake Mary\, 1319 W Lake Mary Blvd\, Lake Mary\, FL 32746 USA
GEO:28.7557415;-81.3060575
X-APPLE-STRUCTURED-LOCATION;VALUE=URI;X-ADDRESS=Gators Lake Mary 1319 W Lake Mary Blvd Lake Mary FL 32746 USA;X-APPLE-RADIUS=500;X-TITLE=1319 W Lake Mary Blvd\, Lake Mary\, FL 32746 USA:geo:-81.3060575,28.7557415
END:VEVENT
BEGIN:VEVENT
DTSTART;TZID=America/New_York:20280809T190000
DTEND;TZID=America/New_York:20280809T190000
DTSTAMP:20260420T205618
CREATED:20260105T003132Z
LAST-MODIFIED:20260105T054647Z
UID:10014178-1849460400-1849460400@epictriviafl.com
SUMMARY:Music Bingo
DESCRIPTION:
URL:https://epictriviafl.com/event/music-bingo-gators-lake-mary/2028-08-09/
LOCATION:Gators Lake Mary\, 1319 W Lake Mary Blvd\, Lake Mary\, FL 32746 USA
GEO:28.7557415;-81.3060575
X-APPLE-STRUCTURED-LOCATION;VALUE=URI;X-ADDRESS=Gators Lake Mary 1319 W Lake Mary Blvd Lake Mary FL 32746 USA;X-APPLE-RADIUS=500;X-TITLE=1319 W Lake Mary Blvd\, Lake Mary\, FL 32746 USA:geo:-81.3060575,28.7557415
END:VEVENT
BEGIN:VEVENT
DTSTART;TZID=America/New_York:20280810T180000
DTEND;TZID=America/New_York:20280810T180000
DTSTAMP:20260420T205618
CREATED:20260105T003148Z
LAST-MODIFIED:20260105T054342Z
UID:10012878-1849543200-1849543200@epictriviafl.com
SUMMARY:Music Bingo
DESCRIPTION:
URL:https://epictriviafl.com/event/music-bingo-gators-lake-mary-2/2028-08-10/
LOCATION:Gators Lake Mary\, 1319 W Lake Mary Blvd\, Lake Mary\, FL 32746 USA
GEO:28.7557415;-81.3060575
X-APPLE-STRUCTURED-LOCATION;VALUE=URI;X-ADDRESS=Gators Lake Mary 1319 W Lake Mary Blvd Lake Mary FL 32746 USA;X-APPLE-RADIUS=500;X-TITLE=1319 W Lake Mary Blvd\, Lake Mary\, FL 32746 USA:geo:-81.3060575,28.7557415
END:VEVENT
BEGIN:VEVENT
DTSTART;TZID=America/New_York:20280816T190000
DTEND;TZID=America/New_York:20280816T190000
DTSTAMP:20260420T205618
CREATED:20260105T003132Z
LAST-MODIFIED:20260105T054647Z
UID:10014179-1850065200-1850065200@epictriviafl.com
SUMMARY:Music Bingo
DESCRIPTION:
URL:https://epictriviafl.com/event/music-bingo-gators-lake-mary/2028-08-16/
LOCATION:Gators Lake Mary\, 1319 W Lake Mary Blvd\, Lake Mary\, FL 32746 USA
GEO:28.7557415;-81.3060575
X-APPLE-STRUCTURED-LOCATION;VALUE=URI;X-ADDRESS=Gators Lake Mary 1319 W Lake Mary Blvd Lake Mary FL 32746 USA;X-APPLE-RADIUS=500;X-TITLE=1319 W Lake Mary Blvd\, Lake Mary\, FL 32746 USA:geo:-81.3060575,28.7557415
END:VEVENT
BEGIN:VEVENT
DTSTART;TZID=America/New_York:20280817T180000
DTEND;TZID=America/New_York:20280817T180000
DTSTAMP:20260420T205618
CREATED:20260105T003148Z
LAST-MODIFIED:20260105T054342Z
UID:10012879-1850148000-1850148000@epictriviafl.com
SUMMARY:Music Bingo
DESCRIPTION:
URL:https://epictriviafl.com/event/music-bingo-gators-lake-mary-2/2028-08-17/
LOCATION:Gators Lake Mary\, 1319 W Lake Mary Blvd\, Lake Mary\, FL 32746 USA
GEO:28.7557415;-81.3060575
X-APPLE-STRUCTURED-LOCATION;VALUE=URI;X-ADDRESS=Gators Lake Mary 1319 W Lake Mary Blvd Lake Mary FL 32746 USA;X-APPLE-RADIUS=500;X-TITLE=1319 W Lake Mary Blvd\, Lake Mary\, FL 32746 USA:geo:-81.3060575,28.7557415
END:VEVENT
BEGIN:VEVENT
DTSTART;TZID=America/New_York:20280823T190000
DTEND;TZID=America/New_York:20280823T190000
DTSTAMP:20260420T205618
CREATED:20260105T003132Z
LAST-MODIFIED:20260105T054647Z
UID:10014180-1850670000-1850670000@epictriviafl.com
SUMMARY:Music Bingo
DESCRIPTION:
URL:https://epictriviafl.com/event/music-bingo-gators-lake-mary/2028-08-23/
LOCATION:Gators Lake Mary\, 1319 W Lake Mary Blvd\, Lake Mary\, FL 32746 USA
GEO:28.7557415;-81.3060575
X-APPLE-STRUCTURED-LOCATION;VALUE=URI;X-ADDRESS=Gators Lake Mary 1319 W Lake Mary Blvd Lake Mary FL 32746 USA;X-APPLE-RADIUS=500;X-TITLE=1319 W Lake Mary Blvd\, Lake Mary\, FL 32746 USA:geo:-81.3060575,28.7557415
END:VEVENT
BEGIN:VEVENT
DTSTART;TZID=America/New_York:20280824T180000
DTEND;TZID=America/New_York:20280824T180000
DTSTAMP:20260420T205618
CREATED:20260105T003148Z
LAST-MODIFIED:20260105T054342Z
UID:10012880-1850752800-1850752800@epictriviafl.com
SUMMARY:Music Bingo
DESCRIPTION:
URL:https://epictriviafl.com/event/music-bingo-gators-lake-mary-2/2028-08-24/
LOCATION:Gators Lake Mary\, 1319 W Lake Mary Blvd\, Lake Mary\, FL 32746 USA
GEO:28.7557415;-81.3060575
X-APPLE-STRUCTURED-LOCATION;VALUE=URI;X-ADDRESS=Gators Lake Mary 1319 W Lake Mary Blvd Lake Mary FL 32746 USA;X-APPLE-RADIUS=500;X-TITLE=1319 W Lake Mary Blvd\, Lake Mary\, FL 32746 USA:geo:-81.3060575,28.7557415
END:VEVENT
BEGIN:VEVENT
DTSTART;TZID=America/New_York:20280830T190000
DTEND;TZID=America/New_York:20280830T190000
DTSTAMP:20260420T205618
CREATED:20260105T003132Z
LAST-MODIFIED:20260105T054647Z
UID:10014181-1851274800-1851274800@epictriviafl.com
SUMMARY:Music Bingo
DESCRIPTION:
URL:https://epictriviafl.com/event/music-bingo-gators-lake-mary/2028-08-30/
LOCATION:Gators Lake Mary\, 1319 W Lake Mary Blvd\, Lake Mary\, FL 32746 USA
GEO:28.7557415;-81.3060575
X-APPLE-STRUCTURED-LOCATION;VALUE=URI;X-ADDRESS=Gators Lake Mary 1319 W Lake Mary Blvd Lake Mary FL 32746 USA;X-APPLE-RADIUS=500;X-TITLE=1319 W Lake Mary Blvd\, Lake Mary\, FL 32746 USA:geo:-81.3060575,28.7557415
END:VEVENT
BEGIN:VEVENT
DTSTART;TZID=America/New_York:20280831T180000
DTEND;TZID=America/New_York:20280831T180000
DTSTAMP:20260420T205618
CREATED:20260105T003148Z
LAST-MODIFIED:20260105T054342Z
UID:10012881-1851357600-1851357600@epictriviafl.com
SUMMARY:Music Bingo
DESCRIPTION:
URL:https://epictriviafl.com/event/music-bingo-gators-lake-mary-2/2028-08-31/
LOCATION:Gators Lake Mary\, 1319 W Lake Mary Blvd\, Lake Mary\, FL 32746 USA
GEO:28.7557415;-81.3060575
X-APPLE-STRUCTURED-LOCATION;VALUE=URI;X-ADDRESS=Gators Lake Mary 1319 W Lake Mary Blvd Lake Mary FL 32746 USA;X-APPLE-RADIUS=500;X-TITLE=1319 W Lake Mary Blvd\, Lake Mary\, FL 32746 USA:geo:-81.3060575,28.7557415
END:VEVENT
BEGIN:VEVENT
DTSTART;TZID=America/New_York:20280906T190000
DTEND;TZID=America/New_York:20280906T190000
DTSTAMP:20260420T205618
CREATED:20260105T003132Z
LAST-MODIFIED:20260105T054647Z
UID:10014182-1851879600-1851879600@epictriviafl.com
SUMMARY:Music Bingo
DESCRIPTION:
URL:https://epictriviafl.com/event/music-bingo-gators-lake-mary/2028-09-06/
LOCATION:Gators Lake Mary\, 1319 W Lake Mary Blvd\, Lake Mary\, FL 32746 USA
GEO:28.7557415;-81.3060575
X-APPLE-STRUCTURED-LOCATION;VALUE=URI;X-ADDRESS=Gators Lake Mary 1319 W Lake Mary Blvd Lake Mary FL 32746 USA;X-APPLE-RADIUS=500;X-TITLE=1319 W Lake Mary Blvd\, Lake Mary\, FL 32746 USA:geo:-81.3060575,28.7557415
END:VEVENT
BEGIN:VEVENT
DTSTART;TZID=America/New_York:20280907T180000
DTEND;TZID=America/New_York:20280907T180000
DTSTAMP:20260420T205618
CREATED:20260105T003148Z
LAST-MODIFIED:20260105T054342Z
UID:10012882-1851962400-1851962400@epictriviafl.com
SUMMARY:Music Bingo
DESCRIPTION:
URL:https://epictriviafl.com/event/music-bingo-gators-lake-mary-2/2028-09-07/
LOCATION:Gators Lake Mary\, 1319 W Lake Mary Blvd\, Lake Mary\, FL 32746 USA
GEO:28.7557415;-81.3060575
X-APPLE-STRUCTURED-LOCATION;VALUE=URI;X-ADDRESS=Gators Lake Mary 1319 W Lake Mary Blvd Lake Mary FL 32746 USA;X-APPLE-RADIUS=500;X-TITLE=1319 W Lake Mary Blvd\, Lake Mary\, FL 32746 USA:geo:-81.3060575,28.7557415
END:VEVENT
BEGIN:VEVENT
DTSTART;TZID=America/New_York:20280913T190000
DTEND;TZID=America/New_York:20280913T190000
DTSTAMP:20260420T205618
CREATED:20260105T003132Z
LAST-MODIFIED:20260105T054647Z
UID:10014183-1852484400-1852484400@epictriviafl.com
SUMMARY:Music Bingo
DESCRIPTION:
URL:https://epictriviafl.com/event/music-bingo-gators-lake-mary/2028-09-13/
LOCATION:Gators Lake Mary\, 1319 W Lake Mary Blvd\, Lake Mary\, FL 32746 USA
GEO:28.7557415;-81.3060575
X-APPLE-STRUCTURED-LOCATION;VALUE=URI;X-ADDRESS=Gators Lake Mary 1319 W Lake Mary Blvd Lake Mary FL 32746 USA;X-APPLE-RADIUS=500;X-TITLE=1319 W Lake Mary Blvd\, Lake Mary\, FL 32746 USA:geo:-81.3060575,28.7557415
END:VEVENT
BEGIN:VEVENT
DTSTART;TZID=America/New_York:20280914T180000
DTEND;TZID=America/New_York:20280914T180000
DTSTAMP:20260420T205618
CREATED:20260105T003148Z
LAST-MODIFIED:20260105T054342Z
UID:10012883-1852567200-1852567200@epictriviafl.com
SUMMARY:Music Bingo
DESCRIPTION:
URL:https://epictriviafl.com/event/music-bingo-gators-lake-mary-2/2028-09-14/
LOCATION:Gators Lake Mary\, 1319 W Lake Mary Blvd\, Lake Mary\, FL 32746 USA
GEO:28.7557415;-81.3060575
X-APPLE-STRUCTURED-LOCATION;VALUE=URI;X-ADDRESS=Gators Lake Mary 1319 W Lake Mary Blvd Lake Mary FL 32746 USA;X-APPLE-RADIUS=500;X-TITLE=1319 W Lake Mary Blvd\, Lake Mary\, FL 32746 USA:geo:-81.3060575,28.7557415
END:VEVENT
BEGIN:VEVENT
DTSTART;TZID=America/New_York:20280920T190000
DTEND;TZID=America/New_York:20280920T190000
DTSTAMP:20260420T205618
CREATED:20260105T003132Z
LAST-MODIFIED:20260105T054647Z
UID:10014184-1853089200-1853089200@epictriviafl.com
SUMMARY:Music Bingo
DESCRIPTION:
URL:https://epictriviafl.com/event/music-bingo-gators-lake-mary/2028-09-20/
LOCATION:Gators Lake Mary\, 1319 W Lake Mary Blvd\, Lake Mary\, FL 32746 USA
GEO:28.7557415;-81.3060575
X-APPLE-STRUCTURED-LOCATION;VALUE=URI;X-ADDRESS=Gators Lake Mary 1319 W Lake Mary Blvd Lake Mary FL 32746 USA;X-APPLE-RADIUS=500;X-TITLE=1319 W Lake Mary Blvd\, Lake Mary\, FL 32746 USA:geo:-81.3060575,28.7557415
END:VEVENT
BEGIN:VEVENT
DTSTART;TZID=America/New_York:20280921T180000
DTEND;TZID=America/New_York:20280921T180000
DTSTAMP:20260420T205618
CREATED:20260105T003148Z
LAST-MODIFIED:20260105T054342Z
UID:10012884-1853172000-1853172000@epictriviafl.com
SUMMARY:Music Bingo
DESCRIPTION:
URL:https://epictriviafl.com/event/music-bingo-gators-lake-mary-2/2028-09-21/
LOCATION:Gators Lake Mary\, 1319 W Lake Mary Blvd\, Lake Mary\, FL 32746 USA
GEO:28.7557415;-81.3060575
X-APPLE-STRUCTURED-LOCATION;VALUE=URI;X-ADDRESS=Gators Lake Mary 1319 W Lake Mary Blvd Lake Mary FL 32746 USA;X-APPLE-RADIUS=500;X-TITLE=1319 W Lake Mary Blvd\, Lake Mary\, FL 32746 USA:geo:-81.3060575,28.7557415
END:VEVENT
BEGIN:VEVENT
DTSTART;TZID=America/New_York:20280927T190000
DTEND;TZID=America/New_York:20280927T190000
DTSTAMP:20260420T205618
CREATED:20260105T003132Z
LAST-MODIFIED:20260105T054647Z
UID:10014185-1853694000-1853694000@epictriviafl.com
SUMMARY:Music Bingo
DESCRIPTION:
URL:https://epictriviafl.com/event/music-bingo-gators-lake-mary/2028-09-27/
LOCATION:Gators Lake Mary\, 1319 W Lake Mary Blvd\, Lake Mary\, FL 32746 USA
GEO:28.7557415;-81.3060575
X-APPLE-STRUCTURED-LOCATION;VALUE=URI;X-ADDRESS=Gators Lake Mary 1319 W Lake Mary Blvd Lake Mary FL 32746 USA;X-APPLE-RADIUS=500;X-TITLE=1319 W Lake Mary Blvd\, Lake Mary\, FL 32746 USA:geo:-81.3060575,28.7557415
END:VEVENT
BEGIN:VEVENT
DTSTART;TZID=America/New_York:20280928T180000
DTEND;TZID=America/New_York:20280928T180000
DTSTAMP:20260420T205618
CREATED:20260105T003148Z
LAST-MODIFIED:20260105T054342Z
UID:10012885-1853776800-1853776800@epictriviafl.com
SUMMARY:Music Bingo
DESCRIPTION:
URL:https://epictriviafl.com/event/music-bingo-gators-lake-mary-2/2028-09-28/
LOCATION:Gators Lake Mary\, 1319 W Lake Mary Blvd\, Lake Mary\, FL 32746 USA
GEO:28.7557415;-81.3060575
X-APPLE-STRUCTURED-LOCATION;VALUE=URI;X-ADDRESS=Gators Lake Mary 1319 W Lake Mary Blvd Lake Mary FL 32746 USA;X-APPLE-RADIUS=500;X-TITLE=1319 W Lake Mary Blvd\, Lake Mary\, FL 32746 USA:geo:-81.3060575,28.7557415
END:VEVENT
BEGIN:VEVENT
DTSTART;TZID=America/New_York:20281004T190000
DTEND;TZID=America/New_York:20281004T190000
DTSTAMP:20260420T205618
CREATED:20260105T003132Z
LAST-MODIFIED:20260105T054647Z
UID:10014186-1854298800-1854298800@epictriviafl.com
SUMMARY:Music Bingo
DESCRIPTION:
URL:https://epictriviafl.com/event/music-bingo-gators-lake-mary/2028-10-04/
LOCATION:Gators Lake Mary\, 1319 W Lake Mary Blvd\, Lake Mary\, FL 32746 USA
GEO:28.7557415;-81.3060575
X-APPLE-STRUCTURED-LOCATION;VALUE=URI;X-ADDRESS=Gators Lake Mary 1319 W Lake Mary Blvd Lake Mary FL 32746 USA;X-APPLE-RADIUS=500;X-TITLE=1319 W Lake Mary Blvd\, Lake Mary\, FL 32746 USA:geo:-81.3060575,28.7557415
END:VEVENT
BEGIN:VEVENT
DTSTART;TZID=America/New_York:20281005T180000
DTEND;TZID=America/New_York:20281005T180000
DTSTAMP:20260420T205618
CREATED:20260105T003148Z
LAST-MODIFIED:20260105T054342Z
UID:10012886-1854381600-1854381600@epictriviafl.com
SUMMARY:Music Bingo
DESCRIPTION:
URL:https://epictriviafl.com/event/music-bingo-gators-lake-mary-2/2028-10-05/
LOCATION:Gators Lake Mary\, 1319 W Lake Mary Blvd\, Lake Mary\, FL 32746 USA
GEO:28.7557415;-81.3060575
X-APPLE-STRUCTURED-LOCATION;VALUE=URI;X-ADDRESS=Gators Lake Mary 1319 W Lake Mary Blvd Lake Mary FL 32746 USA;X-APPLE-RADIUS=500;X-TITLE=1319 W Lake Mary Blvd\, Lake Mary\, FL 32746 USA:geo:-81.3060575,28.7557415
END:VEVENT
END:VCALENDAR