BEGIN:VCALENDAR
VERSION:2.0
PRODID:-//Epic Trivia - ECPv6.15.18//NONSGML v1.0//EN
CALSCALE:GREGORIAN
METHOD:PUBLISH
X-WR-CALNAME:Epic Trivia
X-ORIGINAL-URL:https://epictriviafl.com
X-WR-CALDESC:Events for Epic Trivia
REFRESH-INTERVAL;VALUE=DURATION:PT1H
X-Robots-Tag:noindex
X-PUBLISHED-TTL:PT1H
BEGIN:VTIMEZONE
TZID:America/New_York
BEGIN:DAYLIGHT
TZOFFSETFROM:-0500
TZOFFSETTO:-0400
TZNAME:EDT
DTSTART:20270314T070000
END:DAYLIGHT
BEGIN:STANDARD
TZOFFSETFROM:-0400
TZOFFSETTO:-0500
TZNAME:EST
DTSTART:20271107T060000
END:STANDARD
BEGIN:DAYLIGHT
TZOFFSETFROM:-0500
TZOFFSETTO:-0400
TZNAME:EDT
DTSTART:20280312T070000
END:DAYLIGHT
BEGIN:STANDARD
TZOFFSETFROM:-0400
TZOFFSETTO:-0500
TZNAME:EST
DTSTART:20281105T060000
END:STANDARD
BEGIN:DAYLIGHT
TZOFFSETFROM:-0500
TZOFFSETTO:-0400
TZNAME:EDT
DTSTART:20290311T070000
END:DAYLIGHT
BEGIN:STANDARD
TZOFFSETFROM:-0400
TZOFFSETTO:-0500
TZNAME:EST
DTSTART:20291104T060000
END:STANDARD
END:VTIMEZONE
BEGIN:VEVENT
DTSTART;TZID=America/New_York:20280223T190000
DTEND;TZID=America/New_York:20280223T190000
DTSTAMP:20260420T162051
CREATED:20260105T003132Z
LAST-MODIFIED:20260105T054647Z
UID:10014154-1834945200-1834945200@epictriviafl.com
SUMMARY:Music Bingo
DESCRIPTION:
URL:https://epictriviafl.com/event/music-bingo-gators-lake-mary/2028-02-23/
LOCATION:Gators Lake Mary\, 1319 W Lake Mary Blvd\, Lake Mary\, FL 32746 USA
GEO:28.7557415;-81.3060575
X-APPLE-STRUCTURED-LOCATION;VALUE=URI;X-ADDRESS=Gators Lake Mary 1319 W Lake Mary Blvd Lake Mary FL 32746 USA;X-APPLE-RADIUS=500;X-TITLE=1319 W Lake Mary Blvd\, Lake Mary\, FL 32746 USA:geo:-81.3060575,28.7557415
END:VEVENT
BEGIN:VEVENT
DTSTART;TZID=America/New_York:20280224T180000
DTEND;TZID=America/New_York:20280224T180000
DTSTAMP:20260420T162051
CREATED:20260105T003148Z
LAST-MODIFIED:20260105T054342Z
UID:10012854-1835028000-1835028000@epictriviafl.com
SUMMARY:Music Bingo
DESCRIPTION:
URL:https://epictriviafl.com/event/music-bingo-gators-lake-mary-2/2028-02-24/
LOCATION:Gators Lake Mary\, 1319 W Lake Mary Blvd\, Lake Mary\, FL 32746 USA
GEO:28.7557415;-81.3060575
X-APPLE-STRUCTURED-LOCATION;VALUE=URI;X-ADDRESS=Gators Lake Mary 1319 W Lake Mary Blvd Lake Mary FL 32746 USA;X-APPLE-RADIUS=500;X-TITLE=1319 W Lake Mary Blvd\, Lake Mary\, FL 32746 USA:geo:-81.3060575,28.7557415
END:VEVENT
BEGIN:VEVENT
DTSTART;TZID=America/New_York:20280301T190000
DTEND;TZID=America/New_York:20280301T190000
DTSTAMP:20260420T162051
CREATED:20260105T003132Z
LAST-MODIFIED:20260105T054647Z
UID:10014155-1835550000-1835550000@epictriviafl.com
SUMMARY:Music Bingo
DESCRIPTION:
URL:https://epictriviafl.com/event/music-bingo-gators-lake-mary/2028-03-01/
LOCATION:Gators Lake Mary\, 1319 W Lake Mary Blvd\, Lake Mary\, FL 32746 USA
GEO:28.7557415;-81.3060575
X-APPLE-STRUCTURED-LOCATION;VALUE=URI;X-ADDRESS=Gators Lake Mary 1319 W Lake Mary Blvd Lake Mary FL 32746 USA;X-APPLE-RADIUS=500;X-TITLE=1319 W Lake Mary Blvd\, Lake Mary\, FL 32746 USA:geo:-81.3060575,28.7557415
END:VEVENT
BEGIN:VEVENT
DTSTART;TZID=America/New_York:20280302T180000
DTEND;TZID=America/New_York:20280302T180000
DTSTAMP:20260420T162051
CREATED:20260105T003148Z
LAST-MODIFIED:20260105T054342Z
UID:10012855-1835632800-1835632800@epictriviafl.com
SUMMARY:Music Bingo
DESCRIPTION:
URL:https://epictriviafl.com/event/music-bingo-gators-lake-mary-2/2028-03-02/
LOCATION:Gators Lake Mary\, 1319 W Lake Mary Blvd\, Lake Mary\, FL 32746 USA
GEO:28.7557415;-81.3060575
X-APPLE-STRUCTURED-LOCATION;VALUE=URI;X-ADDRESS=Gators Lake Mary 1319 W Lake Mary Blvd Lake Mary FL 32746 USA;X-APPLE-RADIUS=500;X-TITLE=1319 W Lake Mary Blvd\, Lake Mary\, FL 32746 USA:geo:-81.3060575,28.7557415
END:VEVENT
BEGIN:VEVENT
DTSTART;TZID=America/New_York:20280308T190000
DTEND;TZID=America/New_York:20280308T190000
DTSTAMP:20260420T162051
CREATED:20260105T003132Z
LAST-MODIFIED:20260105T054647Z
UID:10014156-1836154800-1836154800@epictriviafl.com
SUMMARY:Music Bingo
DESCRIPTION:
URL:https://epictriviafl.com/event/music-bingo-gators-lake-mary/2028-03-08/
LOCATION:Gators Lake Mary\, 1319 W Lake Mary Blvd\, Lake Mary\, FL 32746 USA
GEO:28.7557415;-81.3060575
X-APPLE-STRUCTURED-LOCATION;VALUE=URI;X-ADDRESS=Gators Lake Mary 1319 W Lake Mary Blvd Lake Mary FL 32746 USA;X-APPLE-RADIUS=500;X-TITLE=1319 W Lake Mary Blvd\, Lake Mary\, FL 32746 USA:geo:-81.3060575,28.7557415
END:VEVENT
BEGIN:VEVENT
DTSTART;TZID=America/New_York:20280309T180000
DTEND;TZID=America/New_York:20280309T180000
DTSTAMP:20260420T162051
CREATED:20260105T003148Z
LAST-MODIFIED:20260105T054342Z
UID:10012856-1836237600-1836237600@epictriviafl.com
SUMMARY:Music Bingo
DESCRIPTION:
URL:https://epictriviafl.com/event/music-bingo-gators-lake-mary-2/2028-03-09/
LOCATION:Gators Lake Mary\, 1319 W Lake Mary Blvd\, Lake Mary\, FL 32746 USA
GEO:28.7557415;-81.3060575
X-APPLE-STRUCTURED-LOCATION;VALUE=URI;X-ADDRESS=Gators Lake Mary 1319 W Lake Mary Blvd Lake Mary FL 32746 USA;X-APPLE-RADIUS=500;X-TITLE=1319 W Lake Mary Blvd\, Lake Mary\, FL 32746 USA:geo:-81.3060575,28.7557415
END:VEVENT
BEGIN:VEVENT
DTSTART;TZID=America/New_York:20280315T190000
DTEND;TZID=America/New_York:20280315T190000
DTSTAMP:20260420T162051
CREATED:20260105T003132Z
LAST-MODIFIED:20260105T054647Z
UID:10014157-1836759600-1836759600@epictriviafl.com
SUMMARY:Music Bingo
DESCRIPTION:
URL:https://epictriviafl.com/event/music-bingo-gators-lake-mary/2028-03-15/
LOCATION:Gators Lake Mary\, 1319 W Lake Mary Blvd\, Lake Mary\, FL 32746 USA
GEO:28.7557415;-81.3060575
X-APPLE-STRUCTURED-LOCATION;VALUE=URI;X-ADDRESS=Gators Lake Mary 1319 W Lake Mary Blvd Lake Mary FL 32746 USA;X-APPLE-RADIUS=500;X-TITLE=1319 W Lake Mary Blvd\, Lake Mary\, FL 32746 USA:geo:-81.3060575,28.7557415
END:VEVENT
BEGIN:VEVENT
DTSTART;TZID=America/New_York:20280316T180000
DTEND;TZID=America/New_York:20280316T180000
DTSTAMP:20260420T162051
CREATED:20260105T003148Z
LAST-MODIFIED:20260105T054342Z
UID:10012857-1836842400-1836842400@epictriviafl.com
SUMMARY:Music Bingo
DESCRIPTION:
URL:https://epictriviafl.com/event/music-bingo-gators-lake-mary-2/2028-03-16/
LOCATION:Gators Lake Mary\, 1319 W Lake Mary Blvd\, Lake Mary\, FL 32746 USA
GEO:28.7557415;-81.3060575
X-APPLE-STRUCTURED-LOCATION;VALUE=URI;X-ADDRESS=Gators Lake Mary 1319 W Lake Mary Blvd Lake Mary FL 32746 USA;X-APPLE-RADIUS=500;X-TITLE=1319 W Lake Mary Blvd\, Lake Mary\, FL 32746 USA:geo:-81.3060575,28.7557415
END:VEVENT
BEGIN:VEVENT
DTSTART;TZID=America/New_York:20280322T190000
DTEND;TZID=America/New_York:20280322T190000
DTSTAMP:20260420T162051
CREATED:20260105T003132Z
LAST-MODIFIED:20260105T054647Z
UID:10014158-1837364400-1837364400@epictriviafl.com
SUMMARY:Music Bingo
DESCRIPTION:
URL:https://epictriviafl.com/event/music-bingo-gators-lake-mary/2028-03-22/
LOCATION:Gators Lake Mary\, 1319 W Lake Mary Blvd\, Lake Mary\, FL 32746 USA
GEO:28.7557415;-81.3060575
X-APPLE-STRUCTURED-LOCATION;VALUE=URI;X-ADDRESS=Gators Lake Mary 1319 W Lake Mary Blvd Lake Mary FL 32746 USA;X-APPLE-RADIUS=500;X-TITLE=1319 W Lake Mary Blvd\, Lake Mary\, FL 32746 USA:geo:-81.3060575,28.7557415
END:VEVENT
BEGIN:VEVENT
DTSTART;TZID=America/New_York:20280323T180000
DTEND;TZID=America/New_York:20280323T180000
DTSTAMP:20260420T162051
CREATED:20260105T003148Z
LAST-MODIFIED:20260105T054342Z
UID:10012858-1837447200-1837447200@epictriviafl.com
SUMMARY:Music Bingo
DESCRIPTION:
URL:https://epictriviafl.com/event/music-bingo-gators-lake-mary-2/2028-03-23/
LOCATION:Gators Lake Mary\, 1319 W Lake Mary Blvd\, Lake Mary\, FL 32746 USA
GEO:28.7557415;-81.3060575
X-APPLE-STRUCTURED-LOCATION;VALUE=URI;X-ADDRESS=Gators Lake Mary 1319 W Lake Mary Blvd Lake Mary FL 32746 USA;X-APPLE-RADIUS=500;X-TITLE=1319 W Lake Mary Blvd\, Lake Mary\, FL 32746 USA:geo:-81.3060575,28.7557415
END:VEVENT
BEGIN:VEVENT
DTSTART;TZID=America/New_York:20280329T190000
DTEND;TZID=America/New_York:20280329T190000
DTSTAMP:20260420T162052
CREATED:20260105T003132Z
LAST-MODIFIED:20260105T054647Z
UID:10014159-1837969200-1837969200@epictriviafl.com
SUMMARY:Music Bingo
DESCRIPTION:
URL:https://epictriviafl.com/event/music-bingo-gators-lake-mary/2028-03-29/
LOCATION:Gators Lake Mary\, 1319 W Lake Mary Blvd\, Lake Mary\, FL 32746 USA
GEO:28.7557415;-81.3060575
X-APPLE-STRUCTURED-LOCATION;VALUE=URI;X-ADDRESS=Gators Lake Mary 1319 W Lake Mary Blvd Lake Mary FL 32746 USA;X-APPLE-RADIUS=500;X-TITLE=1319 W Lake Mary Blvd\, Lake Mary\, FL 32746 USA:geo:-81.3060575,28.7557415
END:VEVENT
BEGIN:VEVENT
DTSTART;TZID=America/New_York:20280330T180000
DTEND;TZID=America/New_York:20280330T180000
DTSTAMP:20260420T162052
CREATED:20260105T003148Z
LAST-MODIFIED:20260105T054342Z
UID:10012859-1838052000-1838052000@epictriviafl.com
SUMMARY:Music Bingo
DESCRIPTION:
URL:https://epictriviafl.com/event/music-bingo-gators-lake-mary-2/2028-03-30/
LOCATION:Gators Lake Mary\, 1319 W Lake Mary Blvd\, Lake Mary\, FL 32746 USA
GEO:28.7557415;-81.3060575
X-APPLE-STRUCTURED-LOCATION;VALUE=URI;X-ADDRESS=Gators Lake Mary 1319 W Lake Mary Blvd Lake Mary FL 32746 USA;X-APPLE-RADIUS=500;X-TITLE=1319 W Lake Mary Blvd\, Lake Mary\, FL 32746 USA:geo:-81.3060575,28.7557415
END:VEVENT
BEGIN:VEVENT
DTSTART;TZID=America/New_York:20280405T190000
DTEND;TZID=America/New_York:20280405T190000
DTSTAMP:20260420T162052
CREATED:20260105T003132Z
LAST-MODIFIED:20260105T054647Z
UID:10014160-1838574000-1838574000@epictriviafl.com
SUMMARY:Music Bingo
DESCRIPTION:
URL:https://epictriviafl.com/event/music-bingo-gators-lake-mary/2028-04-05/
LOCATION:Gators Lake Mary\, 1319 W Lake Mary Blvd\, Lake Mary\, FL 32746 USA
GEO:28.7557415;-81.3060575
X-APPLE-STRUCTURED-LOCATION;VALUE=URI;X-ADDRESS=Gators Lake Mary 1319 W Lake Mary Blvd Lake Mary FL 32746 USA;X-APPLE-RADIUS=500;X-TITLE=1319 W Lake Mary Blvd\, Lake Mary\, FL 32746 USA:geo:-81.3060575,28.7557415
END:VEVENT
BEGIN:VEVENT
DTSTART;TZID=America/New_York:20280406T180000
DTEND;TZID=America/New_York:20280406T180000
DTSTAMP:20260420T162052
CREATED:20260105T003148Z
LAST-MODIFIED:20260105T054342Z
UID:10012860-1838656800-1838656800@epictriviafl.com
SUMMARY:Music Bingo
DESCRIPTION:
URL:https://epictriviafl.com/event/music-bingo-gators-lake-mary-2/2028-04-06/
LOCATION:Gators Lake Mary\, 1319 W Lake Mary Blvd\, Lake Mary\, FL 32746 USA
GEO:28.7557415;-81.3060575
X-APPLE-STRUCTURED-LOCATION;VALUE=URI;X-ADDRESS=Gators Lake Mary 1319 W Lake Mary Blvd Lake Mary FL 32746 USA;X-APPLE-RADIUS=500;X-TITLE=1319 W Lake Mary Blvd\, Lake Mary\, FL 32746 USA:geo:-81.3060575,28.7557415
END:VEVENT
BEGIN:VEVENT
DTSTART;TZID=America/New_York:20280412T190000
DTEND;TZID=America/New_York:20280412T190000
DTSTAMP:20260420T162052
CREATED:20260105T003132Z
LAST-MODIFIED:20260105T054647Z
UID:10014161-1839178800-1839178800@epictriviafl.com
SUMMARY:Music Bingo
DESCRIPTION:
URL:https://epictriviafl.com/event/music-bingo-gators-lake-mary/2028-04-12/
LOCATION:Gators Lake Mary\, 1319 W Lake Mary Blvd\, Lake Mary\, FL 32746 USA
GEO:28.7557415;-81.3060575
X-APPLE-STRUCTURED-LOCATION;VALUE=URI;X-ADDRESS=Gators Lake Mary 1319 W Lake Mary Blvd Lake Mary FL 32746 USA;X-APPLE-RADIUS=500;X-TITLE=1319 W Lake Mary Blvd\, Lake Mary\, FL 32746 USA:geo:-81.3060575,28.7557415
END:VEVENT
BEGIN:VEVENT
DTSTART;TZID=America/New_York:20280413T180000
DTEND;TZID=America/New_York:20280413T180000
DTSTAMP:20260420T162052
CREATED:20260105T003148Z
LAST-MODIFIED:20260105T054342Z
UID:10012861-1839261600-1839261600@epictriviafl.com
SUMMARY:Music Bingo
DESCRIPTION:
URL:https://epictriviafl.com/event/music-bingo-gators-lake-mary-2/2028-04-13/
LOCATION:Gators Lake Mary\, 1319 W Lake Mary Blvd\, Lake Mary\, FL 32746 USA
GEO:28.7557415;-81.3060575
X-APPLE-STRUCTURED-LOCATION;VALUE=URI;X-ADDRESS=Gators Lake Mary 1319 W Lake Mary Blvd Lake Mary FL 32746 USA;X-APPLE-RADIUS=500;X-TITLE=1319 W Lake Mary Blvd\, Lake Mary\, FL 32746 USA:geo:-81.3060575,28.7557415
END:VEVENT
BEGIN:VEVENT
DTSTART;TZID=America/New_York:20280419T190000
DTEND;TZID=America/New_York:20280419T190000
DTSTAMP:20260420T162052
CREATED:20260105T003132Z
LAST-MODIFIED:20260105T054647Z
UID:10014162-1839783600-1839783600@epictriviafl.com
SUMMARY:Music Bingo
DESCRIPTION:
URL:https://epictriviafl.com/event/music-bingo-gators-lake-mary/2028-04-19/
LOCATION:Gators Lake Mary\, 1319 W Lake Mary Blvd\, Lake Mary\, FL 32746 USA
GEO:28.7557415;-81.3060575
X-APPLE-STRUCTURED-LOCATION;VALUE=URI;X-ADDRESS=Gators Lake Mary 1319 W Lake Mary Blvd Lake Mary FL 32746 USA;X-APPLE-RADIUS=500;X-TITLE=1319 W Lake Mary Blvd\, Lake Mary\, FL 32746 USA:geo:-81.3060575,28.7557415
END:VEVENT
BEGIN:VEVENT
DTSTART;TZID=America/New_York:20280420T180000
DTEND;TZID=America/New_York:20280420T180000
DTSTAMP:20260420T162052
CREATED:20260105T003148Z
LAST-MODIFIED:20260105T054342Z
UID:10012862-1839866400-1839866400@epictriviafl.com
SUMMARY:Music Bingo
DESCRIPTION:
URL:https://epictriviafl.com/event/music-bingo-gators-lake-mary-2/2028-04-20/
LOCATION:Gators Lake Mary\, 1319 W Lake Mary Blvd\, Lake Mary\, FL 32746 USA
GEO:28.7557415;-81.3060575
X-APPLE-STRUCTURED-LOCATION;VALUE=URI;X-ADDRESS=Gators Lake Mary 1319 W Lake Mary Blvd Lake Mary FL 32746 USA;X-APPLE-RADIUS=500;X-TITLE=1319 W Lake Mary Blvd\, Lake Mary\, FL 32746 USA:geo:-81.3060575,28.7557415
END:VEVENT
BEGIN:VEVENT
DTSTART;TZID=America/New_York:20280426T190000
DTEND;TZID=America/New_York:20280426T190000
DTSTAMP:20260420T162052
CREATED:20260105T003132Z
LAST-MODIFIED:20260105T054647Z
UID:10014163-1840388400-1840388400@epictriviafl.com
SUMMARY:Music Bingo
DESCRIPTION:
URL:https://epictriviafl.com/event/music-bingo-gators-lake-mary/2028-04-26/
LOCATION:Gators Lake Mary\, 1319 W Lake Mary Blvd\, Lake Mary\, FL 32746 USA
GEO:28.7557415;-81.3060575
X-APPLE-STRUCTURED-LOCATION;VALUE=URI;X-ADDRESS=Gators Lake Mary 1319 W Lake Mary Blvd Lake Mary FL 32746 USA;X-APPLE-RADIUS=500;X-TITLE=1319 W Lake Mary Blvd\, Lake Mary\, FL 32746 USA:geo:-81.3060575,28.7557415
END:VEVENT
BEGIN:VEVENT
DTSTART;TZID=America/New_York:20280427T180000
DTEND;TZID=America/New_York:20280427T180000
DTSTAMP:20260420T162052
CREATED:20260105T003148Z
LAST-MODIFIED:20260105T054342Z
UID:10012863-1840471200-1840471200@epictriviafl.com
SUMMARY:Music Bingo
DESCRIPTION:
URL:https://epictriviafl.com/event/music-bingo-gators-lake-mary-2/2028-04-27/
LOCATION:Gators Lake Mary\, 1319 W Lake Mary Blvd\, Lake Mary\, FL 32746 USA
GEO:28.7557415;-81.3060575
X-APPLE-STRUCTURED-LOCATION;VALUE=URI;X-ADDRESS=Gators Lake Mary 1319 W Lake Mary Blvd Lake Mary FL 32746 USA;X-APPLE-RADIUS=500;X-TITLE=1319 W Lake Mary Blvd\, Lake Mary\, FL 32746 USA:geo:-81.3060575,28.7557415
END:VEVENT
BEGIN:VEVENT
DTSTART;TZID=America/New_York:20280503T190000
DTEND;TZID=America/New_York:20280503T190000
DTSTAMP:20260420T162052
CREATED:20260105T003132Z
LAST-MODIFIED:20260105T054647Z
UID:10014164-1840993200-1840993200@epictriviafl.com
SUMMARY:Music Bingo
DESCRIPTION:
URL:https://epictriviafl.com/event/music-bingo-gators-lake-mary/2028-05-03/
LOCATION:Gators Lake Mary\, 1319 W Lake Mary Blvd\, Lake Mary\, FL 32746 USA
GEO:28.7557415;-81.3060575
X-APPLE-STRUCTURED-LOCATION;VALUE=URI;X-ADDRESS=Gators Lake Mary 1319 W Lake Mary Blvd Lake Mary FL 32746 USA;X-APPLE-RADIUS=500;X-TITLE=1319 W Lake Mary Blvd\, Lake Mary\, FL 32746 USA:geo:-81.3060575,28.7557415
END:VEVENT
BEGIN:VEVENT
DTSTART;TZID=America/New_York:20280504T180000
DTEND;TZID=America/New_York:20280504T180000
DTSTAMP:20260420T162052
CREATED:20260105T003148Z
LAST-MODIFIED:20260105T054342Z
UID:10012864-1841076000-1841076000@epictriviafl.com
SUMMARY:Music Bingo
DESCRIPTION:
URL:https://epictriviafl.com/event/music-bingo-gators-lake-mary-2/2028-05-04/
LOCATION:Gators Lake Mary\, 1319 W Lake Mary Blvd\, Lake Mary\, FL 32746 USA
GEO:28.7557415;-81.3060575
X-APPLE-STRUCTURED-LOCATION;VALUE=URI;X-ADDRESS=Gators Lake Mary 1319 W Lake Mary Blvd Lake Mary FL 32746 USA;X-APPLE-RADIUS=500;X-TITLE=1319 W Lake Mary Blvd\, Lake Mary\, FL 32746 USA:geo:-81.3060575,28.7557415
END:VEVENT
BEGIN:VEVENT
DTSTART;TZID=America/New_York:20280510T190000
DTEND;TZID=America/New_York:20280510T190000
DTSTAMP:20260420T162052
CREATED:20260105T003132Z
LAST-MODIFIED:20260105T054647Z
UID:10014165-1841598000-1841598000@epictriviafl.com
SUMMARY:Music Bingo
DESCRIPTION:
URL:https://epictriviafl.com/event/music-bingo-gators-lake-mary/2028-05-10/
LOCATION:Gators Lake Mary\, 1319 W Lake Mary Blvd\, Lake Mary\, FL 32746 USA
GEO:28.7557415;-81.3060575
X-APPLE-STRUCTURED-LOCATION;VALUE=URI;X-ADDRESS=Gators Lake Mary 1319 W Lake Mary Blvd Lake Mary FL 32746 USA;X-APPLE-RADIUS=500;X-TITLE=1319 W Lake Mary Blvd\, Lake Mary\, FL 32746 USA:geo:-81.3060575,28.7557415
END:VEVENT
BEGIN:VEVENT
DTSTART;TZID=America/New_York:20280511T180000
DTEND;TZID=America/New_York:20280511T180000
DTSTAMP:20260420T162052
CREATED:20260105T003148Z
LAST-MODIFIED:20260105T054342Z
UID:10012865-1841680800-1841680800@epictriviafl.com
SUMMARY:Music Bingo
DESCRIPTION:
URL:https://epictriviafl.com/event/music-bingo-gators-lake-mary-2/2028-05-11/
LOCATION:Gators Lake Mary\, 1319 W Lake Mary Blvd\, Lake Mary\, FL 32746 USA
GEO:28.7557415;-81.3060575
X-APPLE-STRUCTURED-LOCATION;VALUE=URI;X-ADDRESS=Gators Lake Mary 1319 W Lake Mary Blvd Lake Mary FL 32746 USA;X-APPLE-RADIUS=500;X-TITLE=1319 W Lake Mary Blvd\, Lake Mary\, FL 32746 USA:geo:-81.3060575,28.7557415
END:VEVENT
BEGIN:VEVENT
DTSTART;TZID=America/New_York:20280517T190000
DTEND;TZID=America/New_York:20280517T190000
DTSTAMP:20260420T162052
CREATED:20260105T003132Z
LAST-MODIFIED:20260105T054647Z
UID:10014166-1842202800-1842202800@epictriviafl.com
SUMMARY:Music Bingo
DESCRIPTION:
URL:https://epictriviafl.com/event/music-bingo-gators-lake-mary/2028-05-17/
LOCATION:Gators Lake Mary\, 1319 W Lake Mary Blvd\, Lake Mary\, FL 32746 USA
GEO:28.7557415;-81.3060575
X-APPLE-STRUCTURED-LOCATION;VALUE=URI;X-ADDRESS=Gators Lake Mary 1319 W Lake Mary Blvd Lake Mary FL 32746 USA;X-APPLE-RADIUS=500;X-TITLE=1319 W Lake Mary Blvd\, Lake Mary\, FL 32746 USA:geo:-81.3060575,28.7557415
END:VEVENT
BEGIN:VEVENT
DTSTART;TZID=America/New_York:20280518T180000
DTEND;TZID=America/New_York:20280518T180000
DTSTAMP:20260420T162052
CREATED:20260105T003148Z
LAST-MODIFIED:20260105T054342Z
UID:10012866-1842285600-1842285600@epictriviafl.com
SUMMARY:Music Bingo
DESCRIPTION:
URL:https://epictriviafl.com/event/music-bingo-gators-lake-mary-2/2028-05-18/
LOCATION:Gators Lake Mary\, 1319 W Lake Mary Blvd\, Lake Mary\, FL 32746 USA
GEO:28.7557415;-81.3060575
X-APPLE-STRUCTURED-LOCATION;VALUE=URI;X-ADDRESS=Gators Lake Mary 1319 W Lake Mary Blvd Lake Mary FL 32746 USA;X-APPLE-RADIUS=500;X-TITLE=1319 W Lake Mary Blvd\, Lake Mary\, FL 32746 USA:geo:-81.3060575,28.7557415
END:VEVENT
BEGIN:VEVENT
DTSTART;TZID=America/New_York:20280524T190000
DTEND;TZID=America/New_York:20280524T190000
DTSTAMP:20260420T162052
CREATED:20260105T003132Z
LAST-MODIFIED:20260105T054647Z
UID:10014167-1842807600-1842807600@epictriviafl.com
SUMMARY:Music Bingo
DESCRIPTION:
URL:https://epictriviafl.com/event/music-bingo-gators-lake-mary/2028-05-24/
LOCATION:Gators Lake Mary\, 1319 W Lake Mary Blvd\, Lake Mary\, FL 32746 USA
GEO:28.7557415;-81.3060575
X-APPLE-STRUCTURED-LOCATION;VALUE=URI;X-ADDRESS=Gators Lake Mary 1319 W Lake Mary Blvd Lake Mary FL 32746 USA;X-APPLE-RADIUS=500;X-TITLE=1319 W Lake Mary Blvd\, Lake Mary\, FL 32746 USA:geo:-81.3060575,28.7557415
END:VEVENT
BEGIN:VEVENT
DTSTART;TZID=America/New_York:20280525T180000
DTEND;TZID=America/New_York:20280525T180000
DTSTAMP:20260420T162052
CREATED:20260105T003148Z
LAST-MODIFIED:20260105T054342Z
UID:10012867-1842890400-1842890400@epictriviafl.com
SUMMARY:Music Bingo
DESCRIPTION:
URL:https://epictriviafl.com/event/music-bingo-gators-lake-mary-2/2028-05-25/
LOCATION:Gators Lake Mary\, 1319 W Lake Mary Blvd\, Lake Mary\, FL 32746 USA
GEO:28.7557415;-81.3060575
X-APPLE-STRUCTURED-LOCATION;VALUE=URI;X-ADDRESS=Gators Lake Mary 1319 W Lake Mary Blvd Lake Mary FL 32746 USA;X-APPLE-RADIUS=500;X-TITLE=1319 W Lake Mary Blvd\, Lake Mary\, FL 32746 USA:geo:-81.3060575,28.7557415
END:VEVENT
BEGIN:VEVENT
DTSTART;TZID=America/New_York:20280531T190000
DTEND;TZID=America/New_York:20280531T190000
DTSTAMP:20260420T162052
CREATED:20260105T003132Z
LAST-MODIFIED:20260105T054647Z
UID:10014168-1843412400-1843412400@epictriviafl.com
SUMMARY:Music Bingo
DESCRIPTION:
URL:https://epictriviafl.com/event/music-bingo-gators-lake-mary/2028-05-31/
LOCATION:Gators Lake Mary\, 1319 W Lake Mary Blvd\, Lake Mary\, FL 32746 USA
GEO:28.7557415;-81.3060575
X-APPLE-STRUCTURED-LOCATION;VALUE=URI;X-ADDRESS=Gators Lake Mary 1319 W Lake Mary Blvd Lake Mary FL 32746 USA;X-APPLE-RADIUS=500;X-TITLE=1319 W Lake Mary Blvd\, Lake Mary\, FL 32746 USA:geo:-81.3060575,28.7557415
END:VEVENT
BEGIN:VEVENT
DTSTART;TZID=America/New_York:20280601T180000
DTEND;TZID=America/New_York:20280601T180000
DTSTAMP:20260420T162052
CREATED:20260105T003148Z
LAST-MODIFIED:20260105T054342Z
UID:10012868-1843495200-1843495200@epictriviafl.com
SUMMARY:Music Bingo
DESCRIPTION:
URL:https://epictriviafl.com/event/music-bingo-gators-lake-mary-2/2028-06-01/
LOCATION:Gators Lake Mary\, 1319 W Lake Mary Blvd\, Lake Mary\, FL 32746 USA
GEO:28.7557415;-81.3060575
X-APPLE-STRUCTURED-LOCATION;VALUE=URI;X-ADDRESS=Gators Lake Mary 1319 W Lake Mary Blvd Lake Mary FL 32746 USA;X-APPLE-RADIUS=500;X-TITLE=1319 W Lake Mary Blvd\, Lake Mary\, FL 32746 USA:geo:-81.3060575,28.7557415
END:VEVENT
END:VCALENDAR