BEGIN:VCALENDAR
VERSION:2.0
PRODID:-//Epic Trivia - ECPv6.15.18//NONSGML v1.0//EN
CALSCALE:GREGORIAN
METHOD:PUBLISH
X-ORIGINAL-URL:https://epictriviafl.com
X-WR-CALDESC:Events for Epic Trivia
REFRESH-INTERVAL;VALUE=DURATION:PT1H
X-Robots-Tag:noindex
X-PUBLISHED-TTL:PT1H
BEGIN:VTIMEZONE
TZID:America/New_York
BEGIN:DAYLIGHT
TZOFFSETFROM:-0500
TZOFFSETTO:-0400
TZNAME:EDT
DTSTART:20260308T070000
END:DAYLIGHT
BEGIN:STANDARD
TZOFFSETFROM:-0400
TZOFFSETTO:-0500
TZNAME:EST
DTSTART:20261101T060000
END:STANDARD
BEGIN:DAYLIGHT
TZOFFSETFROM:-0500
TZOFFSETTO:-0400
TZNAME:EDT
DTSTART:20270314T070000
END:DAYLIGHT
BEGIN:STANDARD
TZOFFSETFROM:-0400
TZOFFSETTO:-0500
TZNAME:EST
DTSTART:20271107T060000
END:STANDARD
BEGIN:DAYLIGHT
TZOFFSETFROM:-0500
TZOFFSETTO:-0400
TZNAME:EDT
DTSTART:20280312T070000
END:DAYLIGHT
BEGIN:STANDARD
TZOFFSETFROM:-0400
TZOFFSETTO:-0500
TZNAME:EST
DTSTART:20281105T060000
END:STANDARD
END:VTIMEZONE
BEGIN:VEVENT
DTSTART;TZID=America/New_York:20270728T190000
DTEND;TZID=America/New_York:20270728T190000
DTSTAMP:20260420T082058
CREATED:20260105T003132Z
LAST-MODIFIED:20260105T054647Z
UID:10014124-1816801200-1816801200@epictriviafl.com
SUMMARY:Music Bingo
DESCRIPTION:
URL:https://epictriviafl.com/event/music-bingo-gators-lake-mary/2027-07-28/
LOCATION:Gators Lake Mary\, 1319 W Lake Mary Blvd\, Lake Mary\, FL 32746 USA
GEO:28.7557415;-81.3060575
X-APPLE-STRUCTURED-LOCATION;VALUE=URI;X-ADDRESS=Gators Lake Mary 1319 W Lake Mary Blvd Lake Mary FL 32746 USA;X-APPLE-RADIUS=500;X-TITLE=1319 W Lake Mary Blvd\, Lake Mary\, FL 32746 USA:geo:-81.3060575,28.7557415
END:VEVENT
BEGIN:VEVENT
DTSTART;TZID=America/New_York:20270729T180000
DTEND;TZID=America/New_York:20270729T180000
DTSTAMP:20260420T082058
CREATED:20260105T003148Z
LAST-MODIFIED:20260105T054342Z
UID:10012824-1816884000-1816884000@epictriviafl.com
SUMMARY:Music Bingo
DESCRIPTION:
URL:https://epictriviafl.com/event/music-bingo-gators-lake-mary-2/2027-07-29/
LOCATION:Gators Lake Mary\, 1319 W Lake Mary Blvd\, Lake Mary\, FL 32746 USA
GEO:28.7557415;-81.3060575
X-APPLE-STRUCTURED-LOCATION;VALUE=URI;X-ADDRESS=Gators Lake Mary 1319 W Lake Mary Blvd Lake Mary FL 32746 USA;X-APPLE-RADIUS=500;X-TITLE=1319 W Lake Mary Blvd\, Lake Mary\, FL 32746 USA:geo:-81.3060575,28.7557415
END:VEVENT
BEGIN:VEVENT
DTSTART;TZID=America/New_York:20270804T190000
DTEND;TZID=America/New_York:20270804T190000
DTSTAMP:20260420T082058
CREATED:20260105T003132Z
LAST-MODIFIED:20260105T054647Z
UID:10014125-1817406000-1817406000@epictriviafl.com
SUMMARY:Music Bingo
DESCRIPTION:
URL:https://epictriviafl.com/event/music-bingo-gators-lake-mary/2027-08-04/
LOCATION:Gators Lake Mary\, 1319 W Lake Mary Blvd\, Lake Mary\, FL 32746 USA
GEO:28.7557415;-81.3060575
X-APPLE-STRUCTURED-LOCATION;VALUE=URI;X-ADDRESS=Gators Lake Mary 1319 W Lake Mary Blvd Lake Mary FL 32746 USA;X-APPLE-RADIUS=500;X-TITLE=1319 W Lake Mary Blvd\, Lake Mary\, FL 32746 USA:geo:-81.3060575,28.7557415
END:VEVENT
BEGIN:VEVENT
DTSTART;TZID=America/New_York:20270805T180000
DTEND;TZID=America/New_York:20270805T180000
DTSTAMP:20260420T082058
CREATED:20260105T003148Z
LAST-MODIFIED:20260105T054342Z
UID:10012825-1817488800-1817488800@epictriviafl.com
SUMMARY:Music Bingo
DESCRIPTION:
URL:https://epictriviafl.com/event/music-bingo-gators-lake-mary-2/2027-08-05/
LOCATION:Gators Lake Mary\, 1319 W Lake Mary Blvd\, Lake Mary\, FL 32746 USA
GEO:28.7557415;-81.3060575
X-APPLE-STRUCTURED-LOCATION;VALUE=URI;X-ADDRESS=Gators Lake Mary 1319 W Lake Mary Blvd Lake Mary FL 32746 USA;X-APPLE-RADIUS=500;X-TITLE=1319 W Lake Mary Blvd\, Lake Mary\, FL 32746 USA:geo:-81.3060575,28.7557415
END:VEVENT
BEGIN:VEVENT
DTSTART;TZID=America/New_York:20270811T190000
DTEND;TZID=America/New_York:20270811T190000
DTSTAMP:20260420T082058
CREATED:20260105T003132Z
LAST-MODIFIED:20260105T054647Z
UID:10014126-1818010800-1818010800@epictriviafl.com
SUMMARY:Music Bingo
DESCRIPTION:
URL:https://epictriviafl.com/event/music-bingo-gators-lake-mary/2027-08-11/
LOCATION:Gators Lake Mary\, 1319 W Lake Mary Blvd\, Lake Mary\, FL 32746 USA
GEO:28.7557415;-81.3060575
X-APPLE-STRUCTURED-LOCATION;VALUE=URI;X-ADDRESS=Gators Lake Mary 1319 W Lake Mary Blvd Lake Mary FL 32746 USA;X-APPLE-RADIUS=500;X-TITLE=1319 W Lake Mary Blvd\, Lake Mary\, FL 32746 USA:geo:-81.3060575,28.7557415
END:VEVENT
BEGIN:VEVENT
DTSTART;TZID=America/New_York:20270812T180000
DTEND;TZID=America/New_York:20270812T180000
DTSTAMP:20260420T082058
CREATED:20260105T003148Z
LAST-MODIFIED:20260105T054342Z
UID:10012826-1818093600-1818093600@epictriviafl.com
SUMMARY:Music Bingo
DESCRIPTION:
URL:https://epictriviafl.com/event/music-bingo-gators-lake-mary-2/2027-08-12/
LOCATION:Gators Lake Mary\, 1319 W Lake Mary Blvd\, Lake Mary\, FL 32746 USA
GEO:28.7557415;-81.3060575
X-APPLE-STRUCTURED-LOCATION;VALUE=URI;X-ADDRESS=Gators Lake Mary 1319 W Lake Mary Blvd Lake Mary FL 32746 USA;X-APPLE-RADIUS=500;X-TITLE=1319 W Lake Mary Blvd\, Lake Mary\, FL 32746 USA:geo:-81.3060575,28.7557415
END:VEVENT
BEGIN:VEVENT
DTSTART;TZID=America/New_York:20270818T190000
DTEND;TZID=America/New_York:20270818T190000
DTSTAMP:20260420T082058
CREATED:20260105T003132Z
LAST-MODIFIED:20260105T054647Z
UID:10014127-1818615600-1818615600@epictriviafl.com
SUMMARY:Music Bingo
DESCRIPTION:
URL:https://epictriviafl.com/event/music-bingo-gators-lake-mary/2027-08-18/
LOCATION:Gators Lake Mary\, 1319 W Lake Mary Blvd\, Lake Mary\, FL 32746 USA
GEO:28.7557415;-81.3060575
X-APPLE-STRUCTURED-LOCATION;VALUE=URI;X-ADDRESS=Gators Lake Mary 1319 W Lake Mary Blvd Lake Mary FL 32746 USA;X-APPLE-RADIUS=500;X-TITLE=1319 W Lake Mary Blvd\, Lake Mary\, FL 32746 USA:geo:-81.3060575,28.7557415
END:VEVENT
BEGIN:VEVENT
DTSTART;TZID=America/New_York:20270819T180000
DTEND;TZID=America/New_York:20270819T180000
DTSTAMP:20260420T082058
CREATED:20260105T003148Z
LAST-MODIFIED:20260105T054342Z
UID:10012827-1818698400-1818698400@epictriviafl.com
SUMMARY:Music Bingo
DESCRIPTION:
URL:https://epictriviafl.com/event/music-bingo-gators-lake-mary-2/2027-08-19/
LOCATION:Gators Lake Mary\, 1319 W Lake Mary Blvd\, Lake Mary\, FL 32746 USA
GEO:28.7557415;-81.3060575
X-APPLE-STRUCTURED-LOCATION;VALUE=URI;X-ADDRESS=Gators Lake Mary 1319 W Lake Mary Blvd Lake Mary FL 32746 USA;X-APPLE-RADIUS=500;X-TITLE=1319 W Lake Mary Blvd\, Lake Mary\, FL 32746 USA:geo:-81.3060575,28.7557415
END:VEVENT
BEGIN:VEVENT
DTSTART;TZID=America/New_York:20270825T190000
DTEND;TZID=America/New_York:20270825T190000
DTSTAMP:20260420T082058
CREATED:20260105T003132Z
LAST-MODIFIED:20260105T054647Z
UID:10014128-1819220400-1819220400@epictriviafl.com
SUMMARY:Music Bingo
DESCRIPTION:
URL:https://epictriviafl.com/event/music-bingo-gators-lake-mary/2027-08-25/
LOCATION:Gators Lake Mary\, 1319 W Lake Mary Blvd\, Lake Mary\, FL 32746 USA
GEO:28.7557415;-81.3060575
X-APPLE-STRUCTURED-LOCATION;VALUE=URI;X-ADDRESS=Gators Lake Mary 1319 W Lake Mary Blvd Lake Mary FL 32746 USA;X-APPLE-RADIUS=500;X-TITLE=1319 W Lake Mary Blvd\, Lake Mary\, FL 32746 USA:geo:-81.3060575,28.7557415
END:VEVENT
BEGIN:VEVENT
DTSTART;TZID=America/New_York:20270826T180000
DTEND;TZID=America/New_York:20270826T180000
DTSTAMP:20260420T082058
CREATED:20260105T003148Z
LAST-MODIFIED:20260105T054342Z
UID:10012828-1819303200-1819303200@epictriviafl.com
SUMMARY:Music Bingo
DESCRIPTION:
URL:https://epictriviafl.com/event/music-bingo-gators-lake-mary-2/2027-08-26/
LOCATION:Gators Lake Mary\, 1319 W Lake Mary Blvd\, Lake Mary\, FL 32746 USA
GEO:28.7557415;-81.3060575
X-APPLE-STRUCTURED-LOCATION;VALUE=URI;X-ADDRESS=Gators Lake Mary 1319 W Lake Mary Blvd Lake Mary FL 32746 USA;X-APPLE-RADIUS=500;X-TITLE=1319 W Lake Mary Blvd\, Lake Mary\, FL 32746 USA:geo:-81.3060575,28.7557415
END:VEVENT
BEGIN:VEVENT
DTSTART;TZID=America/New_York:20270901T190000
DTEND;TZID=America/New_York:20270901T190000
DTSTAMP:20260420T082058
CREATED:20260105T003132Z
LAST-MODIFIED:20260105T054647Z
UID:10014129-1819825200-1819825200@epictriviafl.com
SUMMARY:Music Bingo
DESCRIPTION:
URL:https://epictriviafl.com/event/music-bingo-gators-lake-mary/2027-09-01/
LOCATION:Gators Lake Mary\, 1319 W Lake Mary Blvd\, Lake Mary\, FL 32746 USA
GEO:28.7557415;-81.3060575
X-APPLE-STRUCTURED-LOCATION;VALUE=URI;X-ADDRESS=Gators Lake Mary 1319 W Lake Mary Blvd Lake Mary FL 32746 USA;X-APPLE-RADIUS=500;X-TITLE=1319 W Lake Mary Blvd\, Lake Mary\, FL 32746 USA:geo:-81.3060575,28.7557415
END:VEVENT
BEGIN:VEVENT
DTSTART;TZID=America/New_York:20270902T180000
DTEND;TZID=America/New_York:20270902T180000
DTSTAMP:20260420T082058
CREATED:20260105T003148Z
LAST-MODIFIED:20260105T054342Z
UID:10012829-1819908000-1819908000@epictriviafl.com
SUMMARY:Music Bingo
DESCRIPTION:
URL:https://epictriviafl.com/event/music-bingo-gators-lake-mary-2/2027-09-02/
LOCATION:Gators Lake Mary\, 1319 W Lake Mary Blvd\, Lake Mary\, FL 32746 USA
GEO:28.7557415;-81.3060575
X-APPLE-STRUCTURED-LOCATION;VALUE=URI;X-ADDRESS=Gators Lake Mary 1319 W Lake Mary Blvd Lake Mary FL 32746 USA;X-APPLE-RADIUS=500;X-TITLE=1319 W Lake Mary Blvd\, Lake Mary\, FL 32746 USA:geo:-81.3060575,28.7557415
END:VEVENT
BEGIN:VEVENT
DTSTART;TZID=America/New_York:20270908T190000
DTEND;TZID=America/New_York:20270908T190000
DTSTAMP:20260420T082058
CREATED:20260105T003132Z
LAST-MODIFIED:20260105T054647Z
UID:10014130-1820430000-1820430000@epictriviafl.com
SUMMARY:Music Bingo
DESCRIPTION:
URL:https://epictriviafl.com/event/music-bingo-gators-lake-mary/2027-09-08/
LOCATION:Gators Lake Mary\, 1319 W Lake Mary Blvd\, Lake Mary\, FL 32746 USA
GEO:28.7557415;-81.3060575
X-APPLE-STRUCTURED-LOCATION;VALUE=URI;X-ADDRESS=Gators Lake Mary 1319 W Lake Mary Blvd Lake Mary FL 32746 USA;X-APPLE-RADIUS=500;X-TITLE=1319 W Lake Mary Blvd\, Lake Mary\, FL 32746 USA:geo:-81.3060575,28.7557415
END:VEVENT
BEGIN:VEVENT
DTSTART;TZID=America/New_York:20270909T180000
DTEND;TZID=America/New_York:20270909T180000
DTSTAMP:20260420T082058
CREATED:20260105T003148Z
LAST-MODIFIED:20260105T054342Z
UID:10012830-1820512800-1820512800@epictriviafl.com
SUMMARY:Music Bingo
DESCRIPTION:
URL:https://epictriviafl.com/event/music-bingo-gators-lake-mary-2/2027-09-09/
LOCATION:Gators Lake Mary\, 1319 W Lake Mary Blvd\, Lake Mary\, FL 32746 USA
GEO:28.7557415;-81.3060575
X-APPLE-STRUCTURED-LOCATION;VALUE=URI;X-ADDRESS=Gators Lake Mary 1319 W Lake Mary Blvd Lake Mary FL 32746 USA;X-APPLE-RADIUS=500;X-TITLE=1319 W Lake Mary Blvd\, Lake Mary\, FL 32746 USA:geo:-81.3060575,28.7557415
END:VEVENT
BEGIN:VEVENT
DTSTART;TZID=America/New_York:20270915T190000
DTEND;TZID=America/New_York:20270915T190000
DTSTAMP:20260420T082059
CREATED:20260105T003132Z
LAST-MODIFIED:20260105T054647Z
UID:10014131-1821034800-1821034800@epictriviafl.com
SUMMARY:Music Bingo
DESCRIPTION:
URL:https://epictriviafl.com/event/music-bingo-gators-lake-mary/2027-09-15/
LOCATION:Gators Lake Mary\, 1319 W Lake Mary Blvd\, Lake Mary\, FL 32746 USA
GEO:28.7557415;-81.3060575
X-APPLE-STRUCTURED-LOCATION;VALUE=URI;X-ADDRESS=Gators Lake Mary 1319 W Lake Mary Blvd Lake Mary FL 32746 USA;X-APPLE-RADIUS=500;X-TITLE=1319 W Lake Mary Blvd\, Lake Mary\, FL 32746 USA:geo:-81.3060575,28.7557415
END:VEVENT
BEGIN:VEVENT
DTSTART;TZID=America/New_York:20270916T180000
DTEND;TZID=America/New_York:20270916T180000
DTSTAMP:20260420T082059
CREATED:20260105T003148Z
LAST-MODIFIED:20260105T054342Z
UID:10012831-1821117600-1821117600@epictriviafl.com
SUMMARY:Music Bingo
DESCRIPTION:
URL:https://epictriviafl.com/event/music-bingo-gators-lake-mary-2/2027-09-16/
LOCATION:Gators Lake Mary\, 1319 W Lake Mary Blvd\, Lake Mary\, FL 32746 USA
GEO:28.7557415;-81.3060575
X-APPLE-STRUCTURED-LOCATION;VALUE=URI;X-ADDRESS=Gators Lake Mary 1319 W Lake Mary Blvd Lake Mary FL 32746 USA;X-APPLE-RADIUS=500;X-TITLE=1319 W Lake Mary Blvd\, Lake Mary\, FL 32746 USA:geo:-81.3060575,28.7557415
END:VEVENT
BEGIN:VEVENT
DTSTART;TZID=America/New_York:20270922T190000
DTEND;TZID=America/New_York:20270922T190000
DTSTAMP:20260420T082059
CREATED:20260105T003132Z
LAST-MODIFIED:20260105T054647Z
UID:10014132-1821639600-1821639600@epictriviafl.com
SUMMARY:Music Bingo
DESCRIPTION:
URL:https://epictriviafl.com/event/music-bingo-gators-lake-mary/2027-09-22/
LOCATION:Gators Lake Mary\, 1319 W Lake Mary Blvd\, Lake Mary\, FL 32746 USA
GEO:28.7557415;-81.3060575
X-APPLE-STRUCTURED-LOCATION;VALUE=URI;X-ADDRESS=Gators Lake Mary 1319 W Lake Mary Blvd Lake Mary FL 32746 USA;X-APPLE-RADIUS=500;X-TITLE=1319 W Lake Mary Blvd\, Lake Mary\, FL 32746 USA:geo:-81.3060575,28.7557415
END:VEVENT
BEGIN:VEVENT
DTSTART;TZID=America/New_York:20270923T180000
DTEND;TZID=America/New_York:20270923T180000
DTSTAMP:20260420T082059
CREATED:20260105T003148Z
LAST-MODIFIED:20260105T054342Z
UID:10012832-1821722400-1821722400@epictriviafl.com
SUMMARY:Music Bingo
DESCRIPTION:
URL:https://epictriviafl.com/event/music-bingo-gators-lake-mary-2/2027-09-23/
LOCATION:Gators Lake Mary\, 1319 W Lake Mary Blvd\, Lake Mary\, FL 32746 USA
GEO:28.7557415;-81.3060575
X-APPLE-STRUCTURED-LOCATION;VALUE=URI;X-ADDRESS=Gators Lake Mary 1319 W Lake Mary Blvd Lake Mary FL 32746 USA;X-APPLE-RADIUS=500;X-TITLE=1319 W Lake Mary Blvd\, Lake Mary\, FL 32746 USA:geo:-81.3060575,28.7557415
END:VEVENT
BEGIN:VEVENT
DTSTART;TZID=America/New_York:20270929T190000
DTEND;TZID=America/New_York:20270929T190000
DTSTAMP:20260420T082059
CREATED:20260105T003132Z
LAST-MODIFIED:20260105T054647Z
UID:10014133-1822244400-1822244400@epictriviafl.com
SUMMARY:Music Bingo
DESCRIPTION:
URL:https://epictriviafl.com/event/music-bingo-gators-lake-mary/2027-09-29/
LOCATION:Gators Lake Mary\, 1319 W Lake Mary Blvd\, Lake Mary\, FL 32746 USA
GEO:28.7557415;-81.3060575
X-APPLE-STRUCTURED-LOCATION;VALUE=URI;X-ADDRESS=Gators Lake Mary 1319 W Lake Mary Blvd Lake Mary FL 32746 USA;X-APPLE-RADIUS=500;X-TITLE=1319 W Lake Mary Blvd\, Lake Mary\, FL 32746 USA:geo:-81.3060575,28.7557415
END:VEVENT
BEGIN:VEVENT
DTSTART;TZID=America/New_York:20270930T180000
DTEND;TZID=America/New_York:20270930T180000
DTSTAMP:20260420T082059
CREATED:20260105T003148Z
LAST-MODIFIED:20260105T054342Z
UID:10012833-1822327200-1822327200@epictriviafl.com
SUMMARY:Music Bingo
DESCRIPTION:
URL:https://epictriviafl.com/event/music-bingo-gators-lake-mary-2/2027-09-30/
LOCATION:Gators Lake Mary\, 1319 W Lake Mary Blvd\, Lake Mary\, FL 32746 USA
GEO:28.7557415;-81.3060575
X-APPLE-STRUCTURED-LOCATION;VALUE=URI;X-ADDRESS=Gators Lake Mary 1319 W Lake Mary Blvd Lake Mary FL 32746 USA;X-APPLE-RADIUS=500;X-TITLE=1319 W Lake Mary Blvd\, Lake Mary\, FL 32746 USA:geo:-81.3060575,28.7557415
END:VEVENT
BEGIN:VEVENT
DTSTART;TZID=America/New_York:20271006T190000
DTEND;TZID=America/New_York:20271006T190000
DTSTAMP:20260420T082059
CREATED:20260105T003132Z
LAST-MODIFIED:20260105T054647Z
UID:10014134-1822849200-1822849200@epictriviafl.com
SUMMARY:Music Bingo
DESCRIPTION:
URL:https://epictriviafl.com/event/music-bingo-gators-lake-mary/2027-10-06/
LOCATION:Gators Lake Mary\, 1319 W Lake Mary Blvd\, Lake Mary\, FL 32746 USA
GEO:28.7557415;-81.3060575
X-APPLE-STRUCTURED-LOCATION;VALUE=URI;X-ADDRESS=Gators Lake Mary 1319 W Lake Mary Blvd Lake Mary FL 32746 USA;X-APPLE-RADIUS=500;X-TITLE=1319 W Lake Mary Blvd\, Lake Mary\, FL 32746 USA:geo:-81.3060575,28.7557415
END:VEVENT
BEGIN:VEVENT
DTSTART;TZID=America/New_York:20271007T180000
DTEND;TZID=America/New_York:20271007T180000
DTSTAMP:20260420T082059
CREATED:20260105T003148Z
LAST-MODIFIED:20260105T054342Z
UID:10012834-1822932000-1822932000@epictriviafl.com
SUMMARY:Music Bingo
DESCRIPTION:
URL:https://epictriviafl.com/event/music-bingo-gators-lake-mary-2/2027-10-07/
LOCATION:Gators Lake Mary\, 1319 W Lake Mary Blvd\, Lake Mary\, FL 32746 USA
GEO:28.7557415;-81.3060575
X-APPLE-STRUCTURED-LOCATION;VALUE=URI;X-ADDRESS=Gators Lake Mary 1319 W Lake Mary Blvd Lake Mary FL 32746 USA;X-APPLE-RADIUS=500;X-TITLE=1319 W Lake Mary Blvd\, Lake Mary\, FL 32746 USA:geo:-81.3060575,28.7557415
END:VEVENT
BEGIN:VEVENT
DTSTART;TZID=America/New_York:20271013T190000
DTEND;TZID=America/New_York:20271013T190000
DTSTAMP:20260420T082059
CREATED:20260105T003132Z
LAST-MODIFIED:20260105T054647Z
UID:10014135-1823454000-1823454000@epictriviafl.com
SUMMARY:Music Bingo
DESCRIPTION:
URL:https://epictriviafl.com/event/music-bingo-gators-lake-mary/2027-10-13/
LOCATION:Gators Lake Mary\, 1319 W Lake Mary Blvd\, Lake Mary\, FL 32746 USA
GEO:28.7557415;-81.3060575
X-APPLE-STRUCTURED-LOCATION;VALUE=URI;X-ADDRESS=Gators Lake Mary 1319 W Lake Mary Blvd Lake Mary FL 32746 USA;X-APPLE-RADIUS=500;X-TITLE=1319 W Lake Mary Blvd\, Lake Mary\, FL 32746 USA:geo:-81.3060575,28.7557415
END:VEVENT
BEGIN:VEVENT
DTSTART;TZID=America/New_York:20271014T180000
DTEND;TZID=America/New_York:20271014T180000
DTSTAMP:20260420T082059
CREATED:20260105T003148Z
LAST-MODIFIED:20260105T054342Z
UID:10012835-1823536800-1823536800@epictriviafl.com
SUMMARY:Music Bingo
DESCRIPTION:
URL:https://epictriviafl.com/event/music-bingo-gators-lake-mary-2/2027-10-14/
LOCATION:Gators Lake Mary\, 1319 W Lake Mary Blvd\, Lake Mary\, FL 32746 USA
GEO:28.7557415;-81.3060575
X-APPLE-STRUCTURED-LOCATION;VALUE=URI;X-ADDRESS=Gators Lake Mary 1319 W Lake Mary Blvd Lake Mary FL 32746 USA;X-APPLE-RADIUS=500;X-TITLE=1319 W Lake Mary Blvd\, Lake Mary\, FL 32746 USA:geo:-81.3060575,28.7557415
END:VEVENT
BEGIN:VEVENT
DTSTART;TZID=America/New_York:20271020T190000
DTEND;TZID=America/New_York:20271020T190000
DTSTAMP:20260420T082059
CREATED:20260105T003132Z
LAST-MODIFIED:20260105T054647Z
UID:10014136-1824058800-1824058800@epictriviafl.com
SUMMARY:Music Bingo
DESCRIPTION:
URL:https://epictriviafl.com/event/music-bingo-gators-lake-mary/2027-10-20/
LOCATION:Gators Lake Mary\, 1319 W Lake Mary Blvd\, Lake Mary\, FL 32746 USA
GEO:28.7557415;-81.3060575
X-APPLE-STRUCTURED-LOCATION;VALUE=URI;X-ADDRESS=Gators Lake Mary 1319 W Lake Mary Blvd Lake Mary FL 32746 USA;X-APPLE-RADIUS=500;X-TITLE=1319 W Lake Mary Blvd\, Lake Mary\, FL 32746 USA:geo:-81.3060575,28.7557415
END:VEVENT
BEGIN:VEVENT
DTSTART;TZID=America/New_York:20271021T180000
DTEND;TZID=America/New_York:20271021T180000
DTSTAMP:20260420T082059
CREATED:20260105T003148Z
LAST-MODIFIED:20260105T054342Z
UID:10012836-1824141600-1824141600@epictriviafl.com
SUMMARY:Music Bingo
DESCRIPTION:
URL:https://epictriviafl.com/event/music-bingo-gators-lake-mary-2/2027-10-21/
LOCATION:Gators Lake Mary\, 1319 W Lake Mary Blvd\, Lake Mary\, FL 32746 USA
GEO:28.7557415;-81.3060575
X-APPLE-STRUCTURED-LOCATION;VALUE=URI;X-ADDRESS=Gators Lake Mary 1319 W Lake Mary Blvd Lake Mary FL 32746 USA;X-APPLE-RADIUS=500;X-TITLE=1319 W Lake Mary Blvd\, Lake Mary\, FL 32746 USA:geo:-81.3060575,28.7557415
END:VEVENT
BEGIN:VEVENT
DTSTART;TZID=America/New_York:20271027T190000
DTEND;TZID=America/New_York:20271027T190000
DTSTAMP:20260420T082059
CREATED:20260105T003132Z
LAST-MODIFIED:20260105T054647Z
UID:10014137-1824663600-1824663600@epictriviafl.com
SUMMARY:Music Bingo
DESCRIPTION:
URL:https://epictriviafl.com/event/music-bingo-gators-lake-mary/2027-10-27/
LOCATION:Gators Lake Mary\, 1319 W Lake Mary Blvd\, Lake Mary\, FL 32746 USA
GEO:28.7557415;-81.3060575
X-APPLE-STRUCTURED-LOCATION;VALUE=URI;X-ADDRESS=Gators Lake Mary 1319 W Lake Mary Blvd Lake Mary FL 32746 USA;X-APPLE-RADIUS=500;X-TITLE=1319 W Lake Mary Blvd\, Lake Mary\, FL 32746 USA:geo:-81.3060575,28.7557415
END:VEVENT
BEGIN:VEVENT
DTSTART;TZID=America/New_York:20271028T180000
DTEND;TZID=America/New_York:20271028T180000
DTSTAMP:20260420T082059
CREATED:20260105T003148Z
LAST-MODIFIED:20260105T054342Z
UID:10012837-1824746400-1824746400@epictriviafl.com
SUMMARY:Music Bingo
DESCRIPTION:
URL:https://epictriviafl.com/event/music-bingo-gators-lake-mary-2/2027-10-28/
LOCATION:Gators Lake Mary\, 1319 W Lake Mary Blvd\, Lake Mary\, FL 32746 USA
GEO:28.7557415;-81.3060575
X-APPLE-STRUCTURED-LOCATION;VALUE=URI;X-ADDRESS=Gators Lake Mary 1319 W Lake Mary Blvd Lake Mary FL 32746 USA;X-APPLE-RADIUS=500;X-TITLE=1319 W Lake Mary Blvd\, Lake Mary\, FL 32746 USA:geo:-81.3060575,28.7557415
END:VEVENT
BEGIN:VEVENT
DTSTART;TZID=America/New_York:20271103T190000
DTEND;TZID=America/New_York:20271103T190000
DTSTAMP:20260420T082059
CREATED:20260105T003132Z
LAST-MODIFIED:20260105T054647Z
UID:10014138-1825268400-1825268400@epictriviafl.com
SUMMARY:Music Bingo
DESCRIPTION:
URL:https://epictriviafl.com/event/music-bingo-gators-lake-mary/2027-11-03/
LOCATION:Gators Lake Mary\, 1319 W Lake Mary Blvd\, Lake Mary\, FL 32746 USA
GEO:28.7557415;-81.3060575
X-APPLE-STRUCTURED-LOCATION;VALUE=URI;X-ADDRESS=Gators Lake Mary 1319 W Lake Mary Blvd Lake Mary FL 32746 USA;X-APPLE-RADIUS=500;X-TITLE=1319 W Lake Mary Blvd\, Lake Mary\, FL 32746 USA:geo:-81.3060575,28.7557415
END:VEVENT
BEGIN:VEVENT
DTSTART;TZID=America/New_York:20271104T180000
DTEND;TZID=America/New_York:20271104T180000
DTSTAMP:20260420T082059
CREATED:20260105T003148Z
LAST-MODIFIED:20260105T054342Z
UID:10012838-1825351200-1825351200@epictriviafl.com
SUMMARY:Music Bingo
DESCRIPTION:
URL:https://epictriviafl.com/event/music-bingo-gators-lake-mary-2/2027-11-04/
LOCATION:Gators Lake Mary\, 1319 W Lake Mary Blvd\, Lake Mary\, FL 32746 USA
GEO:28.7557415;-81.3060575
X-APPLE-STRUCTURED-LOCATION;VALUE=URI;X-ADDRESS=Gators Lake Mary 1319 W Lake Mary Blvd Lake Mary FL 32746 USA;X-APPLE-RADIUS=500;X-TITLE=1319 W Lake Mary Blvd\, Lake Mary\, FL 32746 USA:geo:-81.3060575,28.7557415
END:VEVENT
END:VCALENDAR