BEGIN:VCALENDAR
VERSION:2.0
PRODID:-//Epic Trivia - ECPv6.15.18//NONSGML v1.0//EN
CALSCALE:GREGORIAN
METHOD:PUBLISH
X-WR-CALNAME:Epic Trivia
X-ORIGINAL-URL:https://epictriviafl.com
X-WR-CALDESC:Events for Epic Trivia
REFRESH-INTERVAL;VALUE=DURATION:PT1H
X-Robots-Tag:noindex
X-PUBLISHED-TTL:PT1H
BEGIN:VTIMEZONE
TZID:America/New_York
BEGIN:DAYLIGHT
TZOFFSETFROM:-0500
TZOFFSETTO:-0400
TZNAME:EDT
DTSTART:20290311T070000
END:DAYLIGHT
BEGIN:STANDARD
TZOFFSETFROM:-0400
TZOFFSETTO:-0500
TZNAME:EST
DTSTART:20291104T060000
END:STANDARD
BEGIN:DAYLIGHT
TZOFFSETFROM:-0500
TZOFFSETTO:-0400
TZNAME:EDT
DTSTART:20300310T070000
END:DAYLIGHT
BEGIN:STANDARD
TZOFFSETFROM:-0400
TZOFFSETTO:-0500
TZNAME:EST
DTSTART:20301103T060000
END:STANDARD
BEGIN:DAYLIGHT
TZOFFSETFROM:-0500
TZOFFSETTO:-0400
TZNAME:EDT
DTSTART:20310309T070000
END:DAYLIGHT
BEGIN:STANDARD
TZOFFSETFROM:-0400
TZOFFSETTO:-0500
TZNAME:EST
DTSTART:20311102T060000
END:STANDARD
BEGIN:DAYLIGHT
TZOFFSETFROM:-0500
TZOFFSETTO:-0400
TZNAME:EDT
DTSTART:20320314T070000
END:DAYLIGHT
BEGIN:STANDARD
TZOFFSETFROM:-0400
TZOFFSETTO:-0500
TZNAME:EST
DTSTART:20321107T060000
END:STANDARD
END:VTIMEZONE
BEGIN:VEVENT
DTSTART;TZID=America/New_York:20301128T183000
DTEND;TZID=America/New_York:20301128T183000
DTSTAMP:20260420T212148
CREATED:20260105T003148Z
LAST-MODIFIED:20260105T054312Z
UID:10012738-1922121000-1922121000@epictriviafl.com
SUMMARY:Music Bingo
DESCRIPTION:
URL:https://epictriviafl.com/event/music-bingo-gators-apopka-2/2030-11-28/
LOCATION:Gators Apopka\, 3030 E Semoran Blvd\, Apopka\, FL\, 32703\, United States
GEO:28.6695653;-81.4540362
X-APPLE-STRUCTURED-LOCATION;VALUE=URI;X-ADDRESS=Gators Apopka 3030 E Semoran Blvd Apopka FL 32703 United States;X-APPLE-RADIUS=500;X-TITLE=3030 E Semoran Blvd:geo:-81.4540362,28.6695653
END:VEVENT
BEGIN:VEVENT
DTSTART;TZID=America/New_York:20301205T183000
DTEND;TZID=America/New_York:20301205T183000
DTSTAMP:20260420T212148
CREATED:20260105T003148Z
LAST-MODIFIED:20260105T054312Z
UID:10012739-1922725800-1922725800@epictriviafl.com
SUMMARY:Music Bingo
DESCRIPTION:
URL:https://epictriviafl.com/event/music-bingo-gators-apopka-2/2030-12-05/
LOCATION:Gators Apopka\, 3030 E Semoran Blvd\, Apopka\, FL\, 32703\, United States
GEO:28.6695653;-81.4540362
X-APPLE-STRUCTURED-LOCATION;VALUE=URI;X-ADDRESS=Gators Apopka 3030 E Semoran Blvd Apopka FL 32703 United States;X-APPLE-RADIUS=500;X-TITLE=3030 E Semoran Blvd:geo:-81.4540362,28.6695653
END:VEVENT
BEGIN:VEVENT
DTSTART;TZID=America/New_York:20301212T183000
DTEND;TZID=America/New_York:20301212T183000
DTSTAMP:20260420T212148
CREATED:20260105T003148Z
LAST-MODIFIED:20260105T054312Z
UID:10012740-1923330600-1923330600@epictriviafl.com
SUMMARY:Music Bingo
DESCRIPTION:
URL:https://epictriviafl.com/event/music-bingo-gators-apopka-2/2030-12-12/
LOCATION:Gators Apopka\, 3030 E Semoran Blvd\, Apopka\, FL\, 32703\, United States
GEO:28.6695653;-81.4540362
X-APPLE-STRUCTURED-LOCATION;VALUE=URI;X-ADDRESS=Gators Apopka 3030 E Semoran Blvd Apopka FL 32703 United States;X-APPLE-RADIUS=500;X-TITLE=3030 E Semoran Blvd:geo:-81.4540362,28.6695653
END:VEVENT
BEGIN:VEVENT
DTSTART;TZID=America/New_York:20301219T183000
DTEND;TZID=America/New_York:20301219T183000
DTSTAMP:20260420T212148
CREATED:20260105T003148Z
LAST-MODIFIED:20260105T054312Z
UID:10012741-1923935400-1923935400@epictriviafl.com
SUMMARY:Music Bingo
DESCRIPTION:
URL:https://epictriviafl.com/event/music-bingo-gators-apopka-2/2030-12-19/
LOCATION:Gators Apopka\, 3030 E Semoran Blvd\, Apopka\, FL\, 32703\, United States
GEO:28.6695653;-81.4540362
X-APPLE-STRUCTURED-LOCATION;VALUE=URI;X-ADDRESS=Gators Apopka 3030 E Semoran Blvd Apopka FL 32703 United States;X-APPLE-RADIUS=500;X-TITLE=3030 E Semoran Blvd:geo:-81.4540362,28.6695653
END:VEVENT
BEGIN:VEVENT
DTSTART;TZID=America/New_York:20301226T183000
DTEND;TZID=America/New_York:20301226T183000
DTSTAMP:20260420T212148
CREATED:20260105T003148Z
LAST-MODIFIED:20260105T054312Z
UID:10012742-1924540200-1924540200@epictriviafl.com
SUMMARY:Music Bingo
DESCRIPTION:
URL:https://epictriviafl.com/event/music-bingo-gators-apopka-2/2030-12-26/
LOCATION:Gators Apopka\, 3030 E Semoran Blvd\, Apopka\, FL\, 32703\, United States
GEO:28.6695653;-81.4540362
X-APPLE-STRUCTURED-LOCATION;VALUE=URI;X-ADDRESS=Gators Apopka 3030 E Semoran Blvd Apopka FL 32703 United States;X-APPLE-RADIUS=500;X-TITLE=3030 E Semoran Blvd:geo:-81.4540362,28.6695653
END:VEVENT
BEGIN:VEVENT
DTSTART;TZID=America/New_York:20310102T183000
DTEND;TZID=America/New_York:20310102T183000
DTSTAMP:20260420T212148
CREATED:20260105T003148Z
LAST-MODIFIED:20260105T054312Z
UID:10012743-1925145000-1925145000@epictriviafl.com
SUMMARY:Music Bingo
DESCRIPTION:
URL:https://epictriviafl.com/event/music-bingo-gators-apopka-2/2031-01-02/
LOCATION:Gators Apopka\, 3030 E Semoran Blvd\, Apopka\, FL\, 32703\, United States
GEO:28.6695653;-81.4540362
X-APPLE-STRUCTURED-LOCATION;VALUE=URI;X-ADDRESS=Gators Apopka 3030 E Semoran Blvd Apopka FL 32703 United States;X-APPLE-RADIUS=500;X-TITLE=3030 E Semoran Blvd:geo:-81.4540362,28.6695653
END:VEVENT
END:VCALENDAR