BEGIN:VCALENDAR
VERSION:2.0
PRODID:-//Epic Trivia - ECPv6.15.18//NONSGML v1.0//EN
CALSCALE:GREGORIAN
METHOD:PUBLISH
X-ORIGINAL-URL:https://epictriviafl.com
X-WR-CALDESC:Events for Epic Trivia
REFRESH-INTERVAL;VALUE=DURATION:PT1H
X-Robots-Tag:noindex
X-PUBLISHED-TTL:PT1H
BEGIN:VTIMEZONE
TZID:America/New_York
BEGIN:DAYLIGHT
TZOFFSETFROM:-0500
TZOFFSETTO:-0400
TZNAME:EDT
DTSTART:20290311T070000
END:DAYLIGHT
BEGIN:STANDARD
TZOFFSETFROM:-0400
TZOFFSETTO:-0500
TZNAME:EST
DTSTART:20291104T060000
END:STANDARD
BEGIN:DAYLIGHT
TZOFFSETFROM:-0500
TZOFFSETTO:-0400
TZNAME:EDT
DTSTART:20300310T070000
END:DAYLIGHT
BEGIN:STANDARD
TZOFFSETFROM:-0400
TZOFFSETTO:-0500
TZNAME:EST
DTSTART:20301103T060000
END:STANDARD
BEGIN:DAYLIGHT
TZOFFSETFROM:-0500
TZOFFSETTO:-0400
TZNAME:EDT
DTSTART:20310309T070000
END:DAYLIGHT
BEGIN:STANDARD
TZOFFSETFROM:-0400
TZOFFSETTO:-0500
TZNAME:EST
DTSTART:20311102T060000
END:STANDARD
BEGIN:DAYLIGHT
TZOFFSETFROM:-0500
TZOFFSETTO:-0400
TZNAME:EDT
DTSTART:20320314T070000
END:DAYLIGHT
BEGIN:STANDARD
TZOFFSETFROM:-0400
TZOFFSETTO:-0500
TZNAME:EST
DTSTART:20321107T060000
END:STANDARD
END:VTIMEZONE
BEGIN:VEVENT
DTSTART;TZID=America/New_York:20300613T183000
DTEND;TZID=America/New_York:20300613T183000
DTSTAMP:20260420T181507
CREATED:20260105T003148Z
LAST-MODIFIED:20260105T054312Z
UID:10012714-1907605800-1907605800@epictriviafl.com
SUMMARY:Music Bingo
DESCRIPTION:
URL:https://epictriviafl.com/event/music-bingo-gators-apopka-2/2030-06-13/
LOCATION:Gators Apopka\, 3030 E Semoran Blvd\, Apopka\, FL\, 32703\, United States
GEO:28.6695653;-81.4540362
X-APPLE-STRUCTURED-LOCATION;VALUE=URI;X-ADDRESS=Gators Apopka 3030 E Semoran Blvd Apopka FL 32703 United States;X-APPLE-RADIUS=500;X-TITLE=3030 E Semoran Blvd:geo:-81.4540362,28.6695653
END:VEVENT
BEGIN:VEVENT
DTSTART;TZID=America/New_York:20300620T183000
DTEND;TZID=America/New_York:20300620T183000
DTSTAMP:20260420T181507
CREATED:20260105T003148Z
LAST-MODIFIED:20260105T054312Z
UID:10012715-1908210600-1908210600@epictriviafl.com
SUMMARY:Music Bingo
DESCRIPTION:
URL:https://epictriviafl.com/event/music-bingo-gators-apopka-2/2030-06-20/
LOCATION:Gators Apopka\, 3030 E Semoran Blvd\, Apopka\, FL\, 32703\, United States
GEO:28.6695653;-81.4540362
X-APPLE-STRUCTURED-LOCATION;VALUE=URI;X-ADDRESS=Gators Apopka 3030 E Semoran Blvd Apopka FL 32703 United States;X-APPLE-RADIUS=500;X-TITLE=3030 E Semoran Blvd:geo:-81.4540362,28.6695653
END:VEVENT
BEGIN:VEVENT
DTSTART;TZID=America/New_York:20300627T183000
DTEND;TZID=America/New_York:20300627T183000
DTSTAMP:20260420T181507
CREATED:20260105T003148Z
LAST-MODIFIED:20260105T054312Z
UID:10012716-1908815400-1908815400@epictriviafl.com
SUMMARY:Music Bingo
DESCRIPTION:
URL:https://epictriviafl.com/event/music-bingo-gators-apopka-2/2030-06-27/
LOCATION:Gators Apopka\, 3030 E Semoran Blvd\, Apopka\, FL\, 32703\, United States
GEO:28.6695653;-81.4540362
X-APPLE-STRUCTURED-LOCATION;VALUE=URI;X-ADDRESS=Gators Apopka 3030 E Semoran Blvd Apopka FL 32703 United States;X-APPLE-RADIUS=500;X-TITLE=3030 E Semoran Blvd:geo:-81.4540362,28.6695653
END:VEVENT
BEGIN:VEVENT
DTSTART;TZID=America/New_York:20300704T183000
DTEND;TZID=America/New_York:20300704T183000
DTSTAMP:20260420T181507
CREATED:20260105T003148Z
LAST-MODIFIED:20260105T054312Z
UID:10012717-1909420200-1909420200@epictriviafl.com
SUMMARY:Music Bingo
DESCRIPTION:
URL:https://epictriviafl.com/event/music-bingo-gators-apopka-2/2030-07-04/
LOCATION:Gators Apopka\, 3030 E Semoran Blvd\, Apopka\, FL\, 32703\, United States
GEO:28.6695653;-81.4540362
X-APPLE-STRUCTURED-LOCATION;VALUE=URI;X-ADDRESS=Gators Apopka 3030 E Semoran Blvd Apopka FL 32703 United States;X-APPLE-RADIUS=500;X-TITLE=3030 E Semoran Blvd:geo:-81.4540362,28.6695653
END:VEVENT
BEGIN:VEVENT
DTSTART;TZID=America/New_York:20300711T183000
DTEND;TZID=America/New_York:20300711T183000
DTSTAMP:20260420T181507
CREATED:20260105T003148Z
LAST-MODIFIED:20260105T054312Z
UID:10012718-1910025000-1910025000@epictriviafl.com
SUMMARY:Music Bingo
DESCRIPTION:
URL:https://epictriviafl.com/event/music-bingo-gators-apopka-2/2030-07-11/
LOCATION:Gators Apopka\, 3030 E Semoran Blvd\, Apopka\, FL\, 32703\, United States
GEO:28.6695653;-81.4540362
X-APPLE-STRUCTURED-LOCATION;VALUE=URI;X-ADDRESS=Gators Apopka 3030 E Semoran Blvd Apopka FL 32703 United States;X-APPLE-RADIUS=500;X-TITLE=3030 E Semoran Blvd:geo:-81.4540362,28.6695653
END:VEVENT
BEGIN:VEVENT
DTSTART;TZID=America/New_York:20300718T183000
DTEND;TZID=America/New_York:20300718T183000
DTSTAMP:20260420T181507
CREATED:20260105T003148Z
LAST-MODIFIED:20260105T054312Z
UID:10012719-1910629800-1910629800@epictriviafl.com
SUMMARY:Music Bingo
DESCRIPTION:
URL:https://epictriviafl.com/event/music-bingo-gators-apopka-2/2030-07-18/
LOCATION:Gators Apopka\, 3030 E Semoran Blvd\, Apopka\, FL\, 32703\, United States
GEO:28.6695653;-81.4540362
X-APPLE-STRUCTURED-LOCATION;VALUE=URI;X-ADDRESS=Gators Apopka 3030 E Semoran Blvd Apopka FL 32703 United States;X-APPLE-RADIUS=500;X-TITLE=3030 E Semoran Blvd:geo:-81.4540362,28.6695653
END:VEVENT
BEGIN:VEVENT
DTSTART;TZID=America/New_York:20300725T183000
DTEND;TZID=America/New_York:20300725T183000
DTSTAMP:20260420T181507
CREATED:20260105T003148Z
LAST-MODIFIED:20260105T054312Z
UID:10012720-1911234600-1911234600@epictriviafl.com
SUMMARY:Music Bingo
DESCRIPTION:
URL:https://epictriviafl.com/event/music-bingo-gators-apopka-2/2030-07-25/
LOCATION:Gators Apopka\, 3030 E Semoran Blvd\, Apopka\, FL\, 32703\, United States
GEO:28.6695653;-81.4540362
X-APPLE-STRUCTURED-LOCATION;VALUE=URI;X-ADDRESS=Gators Apopka 3030 E Semoran Blvd Apopka FL 32703 United States;X-APPLE-RADIUS=500;X-TITLE=3030 E Semoran Blvd:geo:-81.4540362,28.6695653
END:VEVENT
BEGIN:VEVENT
DTSTART;TZID=America/New_York:20300801T183000
DTEND;TZID=America/New_York:20300801T183000
DTSTAMP:20260420T181507
CREATED:20260105T003148Z
LAST-MODIFIED:20260105T054312Z
UID:10012721-1911839400-1911839400@epictriviafl.com
SUMMARY:Music Bingo
DESCRIPTION:
URL:https://epictriviafl.com/event/music-bingo-gators-apopka-2/2030-08-01/
LOCATION:Gators Apopka\, 3030 E Semoran Blvd\, Apopka\, FL\, 32703\, United States
GEO:28.6695653;-81.4540362
X-APPLE-STRUCTURED-LOCATION;VALUE=URI;X-ADDRESS=Gators Apopka 3030 E Semoran Blvd Apopka FL 32703 United States;X-APPLE-RADIUS=500;X-TITLE=3030 E Semoran Blvd:geo:-81.4540362,28.6695653
END:VEVENT
BEGIN:VEVENT
DTSTART;TZID=America/New_York:20300808T183000
DTEND;TZID=America/New_York:20300808T183000
DTSTAMP:20260420T181507
CREATED:20260105T003148Z
LAST-MODIFIED:20260105T054312Z
UID:10012722-1912444200-1912444200@epictriviafl.com
SUMMARY:Music Bingo
DESCRIPTION:
URL:https://epictriviafl.com/event/music-bingo-gators-apopka-2/2030-08-08/
LOCATION:Gators Apopka\, 3030 E Semoran Blvd\, Apopka\, FL\, 32703\, United States
GEO:28.6695653;-81.4540362
X-APPLE-STRUCTURED-LOCATION;VALUE=URI;X-ADDRESS=Gators Apopka 3030 E Semoran Blvd Apopka FL 32703 United States;X-APPLE-RADIUS=500;X-TITLE=3030 E Semoran Blvd:geo:-81.4540362,28.6695653
END:VEVENT
BEGIN:VEVENT
DTSTART;TZID=America/New_York:20300815T183000
DTEND;TZID=America/New_York:20300815T183000
DTSTAMP:20260420T181507
CREATED:20260105T003148Z
LAST-MODIFIED:20260105T054312Z
UID:10012723-1913049000-1913049000@epictriviafl.com
SUMMARY:Music Bingo
DESCRIPTION:
URL:https://epictriviafl.com/event/music-bingo-gators-apopka-2/2030-08-15/
LOCATION:Gators Apopka\, 3030 E Semoran Blvd\, Apopka\, FL\, 32703\, United States
GEO:28.6695653;-81.4540362
X-APPLE-STRUCTURED-LOCATION;VALUE=URI;X-ADDRESS=Gators Apopka 3030 E Semoran Blvd Apopka FL 32703 United States;X-APPLE-RADIUS=500;X-TITLE=3030 E Semoran Blvd:geo:-81.4540362,28.6695653
END:VEVENT
BEGIN:VEVENT
DTSTART;TZID=America/New_York:20300822T183000
DTEND;TZID=America/New_York:20300822T183000
DTSTAMP:20260420T181507
CREATED:20260105T003148Z
LAST-MODIFIED:20260105T054312Z
UID:10012724-1913653800-1913653800@epictriviafl.com
SUMMARY:Music Bingo
DESCRIPTION:
URL:https://epictriviafl.com/event/music-bingo-gators-apopka-2/2030-08-22/
LOCATION:Gators Apopka\, 3030 E Semoran Blvd\, Apopka\, FL\, 32703\, United States
GEO:28.6695653;-81.4540362
X-APPLE-STRUCTURED-LOCATION;VALUE=URI;X-ADDRESS=Gators Apopka 3030 E Semoran Blvd Apopka FL 32703 United States;X-APPLE-RADIUS=500;X-TITLE=3030 E Semoran Blvd:geo:-81.4540362,28.6695653
END:VEVENT
BEGIN:VEVENT
DTSTART;TZID=America/New_York:20300829T183000
DTEND;TZID=America/New_York:20300829T183000
DTSTAMP:20260420T181507
CREATED:20260105T003148Z
LAST-MODIFIED:20260105T054312Z
UID:10012725-1914258600-1914258600@epictriviafl.com
SUMMARY:Music Bingo
DESCRIPTION:
URL:https://epictriviafl.com/event/music-bingo-gators-apopka-2/2030-08-29/
LOCATION:Gators Apopka\, 3030 E Semoran Blvd\, Apopka\, FL\, 32703\, United States
GEO:28.6695653;-81.4540362
X-APPLE-STRUCTURED-LOCATION;VALUE=URI;X-ADDRESS=Gators Apopka 3030 E Semoran Blvd Apopka FL 32703 United States;X-APPLE-RADIUS=500;X-TITLE=3030 E Semoran Blvd:geo:-81.4540362,28.6695653
END:VEVENT
BEGIN:VEVENT
DTSTART;TZID=America/New_York:20300905T183000
DTEND;TZID=America/New_York:20300905T183000
DTSTAMP:20260420T181507
CREATED:20260105T003148Z
LAST-MODIFIED:20260105T054312Z
UID:10012726-1914863400-1914863400@epictriviafl.com
SUMMARY:Music Bingo
DESCRIPTION:
URL:https://epictriviafl.com/event/music-bingo-gators-apopka-2/2030-09-05/
LOCATION:Gators Apopka\, 3030 E Semoran Blvd\, Apopka\, FL\, 32703\, United States
GEO:28.6695653;-81.4540362
X-APPLE-STRUCTURED-LOCATION;VALUE=URI;X-ADDRESS=Gators Apopka 3030 E Semoran Blvd Apopka FL 32703 United States;X-APPLE-RADIUS=500;X-TITLE=3030 E Semoran Blvd:geo:-81.4540362,28.6695653
END:VEVENT
BEGIN:VEVENT
DTSTART;TZID=America/New_York:20300912T183000
DTEND;TZID=America/New_York:20300912T183000
DTSTAMP:20260420T181507
CREATED:20260105T003148Z
LAST-MODIFIED:20260105T054312Z
UID:10012727-1915468200-1915468200@epictriviafl.com
SUMMARY:Music Bingo
DESCRIPTION:
URL:https://epictriviafl.com/event/music-bingo-gators-apopka-2/2030-09-12/
LOCATION:Gators Apopka\, 3030 E Semoran Blvd\, Apopka\, FL\, 32703\, United States
GEO:28.6695653;-81.4540362
X-APPLE-STRUCTURED-LOCATION;VALUE=URI;X-ADDRESS=Gators Apopka 3030 E Semoran Blvd Apopka FL 32703 United States;X-APPLE-RADIUS=500;X-TITLE=3030 E Semoran Blvd:geo:-81.4540362,28.6695653
END:VEVENT
BEGIN:VEVENT
DTSTART;TZID=America/New_York:20300919T183000
DTEND;TZID=America/New_York:20300919T183000
DTSTAMP:20260420T181507
CREATED:20260105T003148Z
LAST-MODIFIED:20260105T054312Z
UID:10012728-1916073000-1916073000@epictriviafl.com
SUMMARY:Music Bingo
DESCRIPTION:
URL:https://epictriviafl.com/event/music-bingo-gators-apopka-2/2030-09-19/
LOCATION:Gators Apopka\, 3030 E Semoran Blvd\, Apopka\, FL\, 32703\, United States
GEO:28.6695653;-81.4540362
X-APPLE-STRUCTURED-LOCATION;VALUE=URI;X-ADDRESS=Gators Apopka 3030 E Semoran Blvd Apopka FL 32703 United States;X-APPLE-RADIUS=500;X-TITLE=3030 E Semoran Blvd:geo:-81.4540362,28.6695653
END:VEVENT
BEGIN:VEVENT
DTSTART;TZID=America/New_York:20300926T183000
DTEND;TZID=America/New_York:20300926T183000
DTSTAMP:20260420T181507
CREATED:20260105T003148Z
LAST-MODIFIED:20260105T054312Z
UID:10012729-1916677800-1916677800@epictriviafl.com
SUMMARY:Music Bingo
DESCRIPTION:
URL:https://epictriviafl.com/event/music-bingo-gators-apopka-2/2030-09-26/
LOCATION:Gators Apopka\, 3030 E Semoran Blvd\, Apopka\, FL\, 32703\, United States
GEO:28.6695653;-81.4540362
X-APPLE-STRUCTURED-LOCATION;VALUE=URI;X-ADDRESS=Gators Apopka 3030 E Semoran Blvd Apopka FL 32703 United States;X-APPLE-RADIUS=500;X-TITLE=3030 E Semoran Blvd:geo:-81.4540362,28.6695653
END:VEVENT
BEGIN:VEVENT
DTSTART;TZID=America/New_York:20301003T183000
DTEND;TZID=America/New_York:20301003T183000
DTSTAMP:20260420T181507
CREATED:20260105T003148Z
LAST-MODIFIED:20260105T054312Z
UID:10012730-1917282600-1917282600@epictriviafl.com
SUMMARY:Music Bingo
DESCRIPTION:
URL:https://epictriviafl.com/event/music-bingo-gators-apopka-2/2030-10-03/
LOCATION:Gators Apopka\, 3030 E Semoran Blvd\, Apopka\, FL\, 32703\, United States
GEO:28.6695653;-81.4540362
X-APPLE-STRUCTURED-LOCATION;VALUE=URI;X-ADDRESS=Gators Apopka 3030 E Semoran Blvd Apopka FL 32703 United States;X-APPLE-RADIUS=500;X-TITLE=3030 E Semoran Blvd:geo:-81.4540362,28.6695653
END:VEVENT
BEGIN:VEVENT
DTSTART;TZID=America/New_York:20301010T183000
DTEND;TZID=America/New_York:20301010T183000
DTSTAMP:20260420T181507
CREATED:20260105T003148Z
LAST-MODIFIED:20260105T054312Z
UID:10012731-1917887400-1917887400@epictriviafl.com
SUMMARY:Music Bingo
DESCRIPTION:
URL:https://epictriviafl.com/event/music-bingo-gators-apopka-2/2030-10-10/
LOCATION:Gators Apopka\, 3030 E Semoran Blvd\, Apopka\, FL\, 32703\, United States
GEO:28.6695653;-81.4540362
X-APPLE-STRUCTURED-LOCATION;VALUE=URI;X-ADDRESS=Gators Apopka 3030 E Semoran Blvd Apopka FL 32703 United States;X-APPLE-RADIUS=500;X-TITLE=3030 E Semoran Blvd:geo:-81.4540362,28.6695653
END:VEVENT
BEGIN:VEVENT
DTSTART;TZID=America/New_York:20301017T183000
DTEND;TZID=America/New_York:20301017T183000
DTSTAMP:20260420T181507
CREATED:20260105T003148Z
LAST-MODIFIED:20260105T054312Z
UID:10012732-1918492200-1918492200@epictriviafl.com
SUMMARY:Music Bingo
DESCRIPTION:
URL:https://epictriviafl.com/event/music-bingo-gators-apopka-2/2030-10-17/
LOCATION:Gators Apopka\, 3030 E Semoran Blvd\, Apopka\, FL\, 32703\, United States
GEO:28.6695653;-81.4540362
X-APPLE-STRUCTURED-LOCATION;VALUE=URI;X-ADDRESS=Gators Apopka 3030 E Semoran Blvd Apopka FL 32703 United States;X-APPLE-RADIUS=500;X-TITLE=3030 E Semoran Blvd:geo:-81.4540362,28.6695653
END:VEVENT
BEGIN:VEVENT
DTSTART;TZID=America/New_York:20301024T183000
DTEND;TZID=America/New_York:20301024T183000
DTSTAMP:20260420T181507
CREATED:20260105T003148Z
LAST-MODIFIED:20260105T054312Z
UID:10012733-1919097000-1919097000@epictriviafl.com
SUMMARY:Music Bingo
DESCRIPTION:
URL:https://epictriviafl.com/event/music-bingo-gators-apopka-2/2030-10-24/
LOCATION:Gators Apopka\, 3030 E Semoran Blvd\, Apopka\, FL\, 32703\, United States
GEO:28.6695653;-81.4540362
X-APPLE-STRUCTURED-LOCATION;VALUE=URI;X-ADDRESS=Gators Apopka 3030 E Semoran Blvd Apopka FL 32703 United States;X-APPLE-RADIUS=500;X-TITLE=3030 E Semoran Blvd:geo:-81.4540362,28.6695653
END:VEVENT
BEGIN:VEVENT
DTSTART;TZID=America/New_York:20301031T183000
DTEND;TZID=America/New_York:20301031T183000
DTSTAMP:20260420T181507
CREATED:20260105T003148Z
LAST-MODIFIED:20260105T054312Z
UID:10012734-1919701800-1919701800@epictriviafl.com
SUMMARY:Music Bingo
DESCRIPTION:
URL:https://epictriviafl.com/event/music-bingo-gators-apopka-2/2030-10-31/
LOCATION:Gators Apopka\, 3030 E Semoran Blvd\, Apopka\, FL\, 32703\, United States
GEO:28.6695653;-81.4540362
X-APPLE-STRUCTURED-LOCATION;VALUE=URI;X-ADDRESS=Gators Apopka 3030 E Semoran Blvd Apopka FL 32703 United States;X-APPLE-RADIUS=500;X-TITLE=3030 E Semoran Blvd:geo:-81.4540362,28.6695653
END:VEVENT
BEGIN:VEVENT
DTSTART;TZID=America/New_York:20301107T183000
DTEND;TZID=America/New_York:20301107T183000
DTSTAMP:20260420T181507
CREATED:20260105T003148Z
LAST-MODIFIED:20260105T054312Z
UID:10012735-1920306600-1920306600@epictriviafl.com
SUMMARY:Music Bingo
DESCRIPTION:
URL:https://epictriviafl.com/event/music-bingo-gators-apopka-2/2030-11-07/
LOCATION:Gators Apopka\, 3030 E Semoran Blvd\, Apopka\, FL\, 32703\, United States
GEO:28.6695653;-81.4540362
X-APPLE-STRUCTURED-LOCATION;VALUE=URI;X-ADDRESS=Gators Apopka 3030 E Semoran Blvd Apopka FL 32703 United States;X-APPLE-RADIUS=500;X-TITLE=3030 E Semoran Blvd:geo:-81.4540362,28.6695653
END:VEVENT
BEGIN:VEVENT
DTSTART;TZID=America/New_York:20301114T183000
DTEND;TZID=America/New_York:20301114T183000
DTSTAMP:20260420T181507
CREATED:20260105T003148Z
LAST-MODIFIED:20260105T054312Z
UID:10012736-1920911400-1920911400@epictriviafl.com
SUMMARY:Music Bingo
DESCRIPTION:
URL:https://epictriviafl.com/event/music-bingo-gators-apopka-2/2030-11-14/
LOCATION:Gators Apopka\, 3030 E Semoran Blvd\, Apopka\, FL\, 32703\, United States
GEO:28.6695653;-81.4540362
X-APPLE-STRUCTURED-LOCATION;VALUE=URI;X-ADDRESS=Gators Apopka 3030 E Semoran Blvd Apopka FL 32703 United States;X-APPLE-RADIUS=500;X-TITLE=3030 E Semoran Blvd:geo:-81.4540362,28.6695653
END:VEVENT
BEGIN:VEVENT
DTSTART;TZID=America/New_York:20301121T183000
DTEND;TZID=America/New_York:20301121T183000
DTSTAMP:20260420T181507
CREATED:20260105T003148Z
LAST-MODIFIED:20260105T054312Z
UID:10012737-1921516200-1921516200@epictriviafl.com
SUMMARY:Music Bingo
DESCRIPTION:
URL:https://epictriviafl.com/event/music-bingo-gators-apopka-2/2030-11-21/
LOCATION:Gators Apopka\, 3030 E Semoran Blvd\, Apopka\, FL\, 32703\, United States
GEO:28.6695653;-81.4540362
X-APPLE-STRUCTURED-LOCATION;VALUE=URI;X-ADDRESS=Gators Apopka 3030 E Semoran Blvd Apopka FL 32703 United States;X-APPLE-RADIUS=500;X-TITLE=3030 E Semoran Blvd:geo:-81.4540362,28.6695653
END:VEVENT
BEGIN:VEVENT
DTSTART;TZID=America/New_York:20301128T183000
DTEND;TZID=America/New_York:20301128T183000
DTSTAMP:20260420T181507
CREATED:20260105T003148Z
LAST-MODIFIED:20260105T054312Z
UID:10012738-1922121000-1922121000@epictriviafl.com
SUMMARY:Music Bingo
DESCRIPTION:
URL:https://epictriviafl.com/event/music-bingo-gators-apopka-2/2030-11-28/
LOCATION:Gators Apopka\, 3030 E Semoran Blvd\, Apopka\, FL\, 32703\, United States
GEO:28.6695653;-81.4540362
X-APPLE-STRUCTURED-LOCATION;VALUE=URI;X-ADDRESS=Gators Apopka 3030 E Semoran Blvd Apopka FL 32703 United States;X-APPLE-RADIUS=500;X-TITLE=3030 E Semoran Blvd:geo:-81.4540362,28.6695653
END:VEVENT
BEGIN:VEVENT
DTSTART;TZID=America/New_York:20301205T183000
DTEND;TZID=America/New_York:20301205T183000
DTSTAMP:20260420T181507
CREATED:20260105T003148Z
LAST-MODIFIED:20260105T054312Z
UID:10012739-1922725800-1922725800@epictriviafl.com
SUMMARY:Music Bingo
DESCRIPTION:
URL:https://epictriviafl.com/event/music-bingo-gators-apopka-2/2030-12-05/
LOCATION:Gators Apopka\, 3030 E Semoran Blvd\, Apopka\, FL\, 32703\, United States
GEO:28.6695653;-81.4540362
X-APPLE-STRUCTURED-LOCATION;VALUE=URI;X-ADDRESS=Gators Apopka 3030 E Semoran Blvd Apopka FL 32703 United States;X-APPLE-RADIUS=500;X-TITLE=3030 E Semoran Blvd:geo:-81.4540362,28.6695653
END:VEVENT
BEGIN:VEVENT
DTSTART;TZID=America/New_York:20301212T183000
DTEND;TZID=America/New_York:20301212T183000
DTSTAMP:20260420T181507
CREATED:20260105T003148Z
LAST-MODIFIED:20260105T054312Z
UID:10012740-1923330600-1923330600@epictriviafl.com
SUMMARY:Music Bingo
DESCRIPTION:
URL:https://epictriviafl.com/event/music-bingo-gators-apopka-2/2030-12-12/
LOCATION:Gators Apopka\, 3030 E Semoran Blvd\, Apopka\, FL\, 32703\, United States
GEO:28.6695653;-81.4540362
X-APPLE-STRUCTURED-LOCATION;VALUE=URI;X-ADDRESS=Gators Apopka 3030 E Semoran Blvd Apopka FL 32703 United States;X-APPLE-RADIUS=500;X-TITLE=3030 E Semoran Blvd:geo:-81.4540362,28.6695653
END:VEVENT
BEGIN:VEVENT
DTSTART;TZID=America/New_York:20301219T183000
DTEND;TZID=America/New_York:20301219T183000
DTSTAMP:20260420T181507
CREATED:20260105T003148Z
LAST-MODIFIED:20260105T054312Z
UID:10012741-1923935400-1923935400@epictriviafl.com
SUMMARY:Music Bingo
DESCRIPTION:
URL:https://epictriviafl.com/event/music-bingo-gators-apopka-2/2030-12-19/
LOCATION:Gators Apopka\, 3030 E Semoran Blvd\, Apopka\, FL\, 32703\, United States
GEO:28.6695653;-81.4540362
X-APPLE-STRUCTURED-LOCATION;VALUE=URI;X-ADDRESS=Gators Apopka 3030 E Semoran Blvd Apopka FL 32703 United States;X-APPLE-RADIUS=500;X-TITLE=3030 E Semoran Blvd:geo:-81.4540362,28.6695653
END:VEVENT
BEGIN:VEVENT
DTSTART;TZID=America/New_York:20301226T183000
DTEND;TZID=America/New_York:20301226T183000
DTSTAMP:20260420T181507
CREATED:20260105T003148Z
LAST-MODIFIED:20260105T054312Z
UID:10012742-1924540200-1924540200@epictriviafl.com
SUMMARY:Music Bingo
DESCRIPTION:
URL:https://epictriviafl.com/event/music-bingo-gators-apopka-2/2030-12-26/
LOCATION:Gators Apopka\, 3030 E Semoran Blvd\, Apopka\, FL\, 32703\, United States
GEO:28.6695653;-81.4540362
X-APPLE-STRUCTURED-LOCATION;VALUE=URI;X-ADDRESS=Gators Apopka 3030 E Semoran Blvd Apopka FL 32703 United States;X-APPLE-RADIUS=500;X-TITLE=3030 E Semoran Blvd:geo:-81.4540362,28.6695653
END:VEVENT
BEGIN:VEVENT
DTSTART;TZID=America/New_York:20310102T183000
DTEND;TZID=America/New_York:20310102T183000
DTSTAMP:20260420T181507
CREATED:20260105T003148Z
LAST-MODIFIED:20260105T054312Z
UID:10012743-1925145000-1925145000@epictriviafl.com
SUMMARY:Music Bingo
DESCRIPTION:
URL:https://epictriviafl.com/event/music-bingo-gators-apopka-2/2031-01-02/
LOCATION:Gators Apopka\, 3030 E Semoran Blvd\, Apopka\, FL\, 32703\, United States
GEO:28.6695653;-81.4540362
X-APPLE-STRUCTURED-LOCATION;VALUE=URI;X-ADDRESS=Gators Apopka 3030 E Semoran Blvd Apopka FL 32703 United States;X-APPLE-RADIUS=500;X-TITLE=3030 E Semoran Blvd:geo:-81.4540362,28.6695653
END:VEVENT
END:VCALENDAR