BEGIN:VCALENDAR
VERSION:2.0
PRODID:-//Epic Trivia - ECPv6.15.18//NONSGML v1.0//EN
CALSCALE:GREGORIAN
METHOD:PUBLISH
X-ORIGINAL-URL:https://epictriviafl.com
X-WR-CALDESC:Events for Epic Trivia
REFRESH-INTERVAL;VALUE=DURATION:PT1H
X-Robots-Tag:noindex
X-PUBLISHED-TTL:PT1H
BEGIN:VTIMEZONE
TZID:America/New_York
BEGIN:DAYLIGHT
TZOFFSETFROM:-0500
TZOFFSETTO:-0400
TZNAME:EDT
DTSTART:20280312T070000
END:DAYLIGHT
BEGIN:STANDARD
TZOFFSETFROM:-0400
TZOFFSETTO:-0500
TZNAME:EST
DTSTART:20281105T060000
END:STANDARD
BEGIN:DAYLIGHT
TZOFFSETFROM:-0500
TZOFFSETTO:-0400
TZNAME:EDT
DTSTART:20290311T070000
END:DAYLIGHT
BEGIN:STANDARD
TZOFFSETFROM:-0400
TZOFFSETTO:-0500
TZNAME:EST
DTSTART:20291104T060000
END:STANDARD
BEGIN:DAYLIGHT
TZOFFSETFROM:-0500
TZOFFSETTO:-0400
TZNAME:EDT
DTSTART:20300310T070000
END:DAYLIGHT
BEGIN:STANDARD
TZOFFSETFROM:-0400
TZOFFSETTO:-0500
TZNAME:EST
DTSTART:20301103T060000
END:STANDARD
END:VTIMEZONE
BEGIN:VEVENT
DTSTART;TZID=America/New_York:20290419T183000
DTEND;TZID=America/New_York:20290419T183000
DTSTAMP:20260420T101123
CREATED:20260105T003148Z
LAST-MODIFIED:20260105T054312Z
UID:10012654-1871317800-1871317800@epictriviafl.com
SUMMARY:Music Bingo
DESCRIPTION:
URL:https://epictriviafl.com/event/music-bingo-gators-apopka-2/2029-04-19/
LOCATION:Gators Apopka\, 3030 E Semoran Blvd\, Apopka\, FL\, 32703\, United States
GEO:28.6695653;-81.4540362
X-APPLE-STRUCTURED-LOCATION;VALUE=URI;X-ADDRESS=Gators Apopka 3030 E Semoran Blvd Apopka FL 32703 United States;X-APPLE-RADIUS=500;X-TITLE=3030 E Semoran Blvd:geo:-81.4540362,28.6695653
END:VEVENT
BEGIN:VEVENT
DTSTART;TZID=America/New_York:20290426T183000
DTEND;TZID=America/New_York:20290426T183000
DTSTAMP:20260420T101123
CREATED:20260105T003148Z
LAST-MODIFIED:20260105T054312Z
UID:10012655-1871922600-1871922600@epictriviafl.com
SUMMARY:Music Bingo
DESCRIPTION:
URL:https://epictriviafl.com/event/music-bingo-gators-apopka-2/2029-04-26/
LOCATION:Gators Apopka\, 3030 E Semoran Blvd\, Apopka\, FL\, 32703\, United States
GEO:28.6695653;-81.4540362
X-APPLE-STRUCTURED-LOCATION;VALUE=URI;X-ADDRESS=Gators Apopka 3030 E Semoran Blvd Apopka FL 32703 United States;X-APPLE-RADIUS=500;X-TITLE=3030 E Semoran Blvd:geo:-81.4540362,28.6695653
END:VEVENT
BEGIN:VEVENT
DTSTART;TZID=America/New_York:20290503T183000
DTEND;TZID=America/New_York:20290503T183000
DTSTAMP:20260420T101123
CREATED:20260105T003148Z
LAST-MODIFIED:20260105T054312Z
UID:10012656-1872527400-1872527400@epictriviafl.com
SUMMARY:Music Bingo
DESCRIPTION:
URL:https://epictriviafl.com/event/music-bingo-gators-apopka-2/2029-05-03/
LOCATION:Gators Apopka\, 3030 E Semoran Blvd\, Apopka\, FL\, 32703\, United States
GEO:28.6695653;-81.4540362
X-APPLE-STRUCTURED-LOCATION;VALUE=URI;X-ADDRESS=Gators Apopka 3030 E Semoran Blvd Apopka FL 32703 United States;X-APPLE-RADIUS=500;X-TITLE=3030 E Semoran Blvd:geo:-81.4540362,28.6695653
END:VEVENT
BEGIN:VEVENT
DTSTART;TZID=America/New_York:20290510T183000
DTEND;TZID=America/New_York:20290510T183000
DTSTAMP:20260420T101123
CREATED:20260105T003148Z
LAST-MODIFIED:20260105T054312Z
UID:10012657-1873132200-1873132200@epictriviafl.com
SUMMARY:Music Bingo
DESCRIPTION:
URL:https://epictriviafl.com/event/music-bingo-gators-apopka-2/2029-05-10/
LOCATION:Gators Apopka\, 3030 E Semoran Blvd\, Apopka\, FL\, 32703\, United States
GEO:28.6695653;-81.4540362
X-APPLE-STRUCTURED-LOCATION;VALUE=URI;X-ADDRESS=Gators Apopka 3030 E Semoran Blvd Apopka FL 32703 United States;X-APPLE-RADIUS=500;X-TITLE=3030 E Semoran Blvd:geo:-81.4540362,28.6695653
END:VEVENT
BEGIN:VEVENT
DTSTART;TZID=America/New_York:20290517T183000
DTEND;TZID=America/New_York:20290517T183000
DTSTAMP:20260420T101123
CREATED:20260105T003148Z
LAST-MODIFIED:20260105T054312Z
UID:10012658-1873737000-1873737000@epictriviafl.com
SUMMARY:Music Bingo
DESCRIPTION:
URL:https://epictriviafl.com/event/music-bingo-gators-apopka-2/2029-05-17/
LOCATION:Gators Apopka\, 3030 E Semoran Blvd\, Apopka\, FL\, 32703\, United States
GEO:28.6695653;-81.4540362
X-APPLE-STRUCTURED-LOCATION;VALUE=URI;X-ADDRESS=Gators Apopka 3030 E Semoran Blvd Apopka FL 32703 United States;X-APPLE-RADIUS=500;X-TITLE=3030 E Semoran Blvd:geo:-81.4540362,28.6695653
END:VEVENT
BEGIN:VEVENT
DTSTART;TZID=America/New_York:20290524T183000
DTEND;TZID=America/New_York:20290524T183000
DTSTAMP:20260420T101123
CREATED:20260105T003148Z
LAST-MODIFIED:20260105T054312Z
UID:10012659-1874341800-1874341800@epictriviafl.com
SUMMARY:Music Bingo
DESCRIPTION:
URL:https://epictriviafl.com/event/music-bingo-gators-apopka-2/2029-05-24/
LOCATION:Gators Apopka\, 3030 E Semoran Blvd\, Apopka\, FL\, 32703\, United States
GEO:28.6695653;-81.4540362
X-APPLE-STRUCTURED-LOCATION;VALUE=URI;X-ADDRESS=Gators Apopka 3030 E Semoran Blvd Apopka FL 32703 United States;X-APPLE-RADIUS=500;X-TITLE=3030 E Semoran Blvd:geo:-81.4540362,28.6695653
END:VEVENT
BEGIN:VEVENT
DTSTART;TZID=America/New_York:20290531T183000
DTEND;TZID=America/New_York:20290531T183000
DTSTAMP:20260420T101123
CREATED:20260105T003148Z
LAST-MODIFIED:20260105T054312Z
UID:10012660-1874946600-1874946600@epictriviafl.com
SUMMARY:Music Bingo
DESCRIPTION:
URL:https://epictriviafl.com/event/music-bingo-gators-apopka-2/2029-05-31/
LOCATION:Gators Apopka\, 3030 E Semoran Blvd\, Apopka\, FL\, 32703\, United States
GEO:28.6695653;-81.4540362
X-APPLE-STRUCTURED-LOCATION;VALUE=URI;X-ADDRESS=Gators Apopka 3030 E Semoran Blvd Apopka FL 32703 United States;X-APPLE-RADIUS=500;X-TITLE=3030 E Semoran Blvd:geo:-81.4540362,28.6695653
END:VEVENT
BEGIN:VEVENT
DTSTART;TZID=America/New_York:20290607T183000
DTEND;TZID=America/New_York:20290607T183000
DTSTAMP:20260420T101123
CREATED:20260105T003148Z
LAST-MODIFIED:20260105T054312Z
UID:10012661-1875551400-1875551400@epictriviafl.com
SUMMARY:Music Bingo
DESCRIPTION:
URL:https://epictriviafl.com/event/music-bingo-gators-apopka-2/2029-06-07/
LOCATION:Gators Apopka\, 3030 E Semoran Blvd\, Apopka\, FL\, 32703\, United States
GEO:28.6695653;-81.4540362
X-APPLE-STRUCTURED-LOCATION;VALUE=URI;X-ADDRESS=Gators Apopka 3030 E Semoran Blvd Apopka FL 32703 United States;X-APPLE-RADIUS=500;X-TITLE=3030 E Semoran Blvd:geo:-81.4540362,28.6695653
END:VEVENT
BEGIN:VEVENT
DTSTART;TZID=America/New_York:20290614T183000
DTEND;TZID=America/New_York:20290614T183000
DTSTAMP:20260420T101123
CREATED:20260105T003148Z
LAST-MODIFIED:20260105T054312Z
UID:10012662-1876156200-1876156200@epictriviafl.com
SUMMARY:Music Bingo
DESCRIPTION:
URL:https://epictriviafl.com/event/music-bingo-gators-apopka-2/2029-06-14/
LOCATION:Gators Apopka\, 3030 E Semoran Blvd\, Apopka\, FL\, 32703\, United States
GEO:28.6695653;-81.4540362
X-APPLE-STRUCTURED-LOCATION;VALUE=URI;X-ADDRESS=Gators Apopka 3030 E Semoran Blvd Apopka FL 32703 United States;X-APPLE-RADIUS=500;X-TITLE=3030 E Semoran Blvd:geo:-81.4540362,28.6695653
END:VEVENT
BEGIN:VEVENT
DTSTART;TZID=America/New_York:20290621T183000
DTEND;TZID=America/New_York:20290621T183000
DTSTAMP:20260420T101123
CREATED:20260105T003148Z
LAST-MODIFIED:20260105T054312Z
UID:10012663-1876761000-1876761000@epictriviafl.com
SUMMARY:Music Bingo
DESCRIPTION:
URL:https://epictriviafl.com/event/music-bingo-gators-apopka-2/2029-06-21/
LOCATION:Gators Apopka\, 3030 E Semoran Blvd\, Apopka\, FL\, 32703\, United States
GEO:28.6695653;-81.4540362
X-APPLE-STRUCTURED-LOCATION;VALUE=URI;X-ADDRESS=Gators Apopka 3030 E Semoran Blvd Apopka FL 32703 United States;X-APPLE-RADIUS=500;X-TITLE=3030 E Semoran Blvd:geo:-81.4540362,28.6695653
END:VEVENT
BEGIN:VEVENT
DTSTART;TZID=America/New_York:20290628T183000
DTEND;TZID=America/New_York:20290628T183000
DTSTAMP:20260420T101123
CREATED:20260105T003148Z
LAST-MODIFIED:20260105T054312Z
UID:10012664-1877365800-1877365800@epictriviafl.com
SUMMARY:Music Bingo
DESCRIPTION:
URL:https://epictriviafl.com/event/music-bingo-gators-apopka-2/2029-06-28/
LOCATION:Gators Apopka\, 3030 E Semoran Blvd\, Apopka\, FL\, 32703\, United States
GEO:28.6695653;-81.4540362
X-APPLE-STRUCTURED-LOCATION;VALUE=URI;X-ADDRESS=Gators Apopka 3030 E Semoran Blvd Apopka FL 32703 United States;X-APPLE-RADIUS=500;X-TITLE=3030 E Semoran Blvd:geo:-81.4540362,28.6695653
END:VEVENT
BEGIN:VEVENT
DTSTART;TZID=America/New_York:20290705T183000
DTEND;TZID=America/New_York:20290705T183000
DTSTAMP:20260420T101123
CREATED:20260105T003148Z
LAST-MODIFIED:20260105T054312Z
UID:10012665-1877970600-1877970600@epictriviafl.com
SUMMARY:Music Bingo
DESCRIPTION:
URL:https://epictriviafl.com/event/music-bingo-gators-apopka-2/2029-07-05/
LOCATION:Gators Apopka\, 3030 E Semoran Blvd\, Apopka\, FL\, 32703\, United States
GEO:28.6695653;-81.4540362
X-APPLE-STRUCTURED-LOCATION;VALUE=URI;X-ADDRESS=Gators Apopka 3030 E Semoran Blvd Apopka FL 32703 United States;X-APPLE-RADIUS=500;X-TITLE=3030 E Semoran Blvd:geo:-81.4540362,28.6695653
END:VEVENT
BEGIN:VEVENT
DTSTART;TZID=America/New_York:20290712T183000
DTEND;TZID=America/New_York:20290712T183000
DTSTAMP:20260420T101123
CREATED:20260105T003148Z
LAST-MODIFIED:20260105T054312Z
UID:10012666-1878575400-1878575400@epictriviafl.com
SUMMARY:Music Bingo
DESCRIPTION:
URL:https://epictriviafl.com/event/music-bingo-gators-apopka-2/2029-07-12/
LOCATION:Gators Apopka\, 3030 E Semoran Blvd\, Apopka\, FL\, 32703\, United States
GEO:28.6695653;-81.4540362
X-APPLE-STRUCTURED-LOCATION;VALUE=URI;X-ADDRESS=Gators Apopka 3030 E Semoran Blvd Apopka FL 32703 United States;X-APPLE-RADIUS=500;X-TITLE=3030 E Semoran Blvd:geo:-81.4540362,28.6695653
END:VEVENT
BEGIN:VEVENT
DTSTART;TZID=America/New_York:20290719T183000
DTEND;TZID=America/New_York:20290719T183000
DTSTAMP:20260420T101123
CREATED:20260105T003148Z
LAST-MODIFIED:20260105T054312Z
UID:10012667-1879180200-1879180200@epictriviafl.com
SUMMARY:Music Bingo
DESCRIPTION:
URL:https://epictriviafl.com/event/music-bingo-gators-apopka-2/2029-07-19/
LOCATION:Gators Apopka\, 3030 E Semoran Blvd\, Apopka\, FL\, 32703\, United States
GEO:28.6695653;-81.4540362
X-APPLE-STRUCTURED-LOCATION;VALUE=URI;X-ADDRESS=Gators Apopka 3030 E Semoran Blvd Apopka FL 32703 United States;X-APPLE-RADIUS=500;X-TITLE=3030 E Semoran Blvd:geo:-81.4540362,28.6695653
END:VEVENT
BEGIN:VEVENT
DTSTART;TZID=America/New_York:20290726T183000
DTEND;TZID=America/New_York:20290726T183000
DTSTAMP:20260420T101123
CREATED:20260105T003148Z
LAST-MODIFIED:20260105T054312Z
UID:10012668-1879785000-1879785000@epictriviafl.com
SUMMARY:Music Bingo
DESCRIPTION:
URL:https://epictriviafl.com/event/music-bingo-gators-apopka-2/2029-07-26/
LOCATION:Gators Apopka\, 3030 E Semoran Blvd\, Apopka\, FL\, 32703\, United States
GEO:28.6695653;-81.4540362
X-APPLE-STRUCTURED-LOCATION;VALUE=URI;X-ADDRESS=Gators Apopka 3030 E Semoran Blvd Apopka FL 32703 United States;X-APPLE-RADIUS=500;X-TITLE=3030 E Semoran Blvd:geo:-81.4540362,28.6695653
END:VEVENT
BEGIN:VEVENT
DTSTART;TZID=America/New_York:20290802T183000
DTEND;TZID=America/New_York:20290802T183000
DTSTAMP:20260420T101123
CREATED:20260105T003148Z
LAST-MODIFIED:20260105T054312Z
UID:10012669-1880389800-1880389800@epictriviafl.com
SUMMARY:Music Bingo
DESCRIPTION:
URL:https://epictriviafl.com/event/music-bingo-gators-apopka-2/2029-08-02/
LOCATION:Gators Apopka\, 3030 E Semoran Blvd\, Apopka\, FL\, 32703\, United States
GEO:28.6695653;-81.4540362
X-APPLE-STRUCTURED-LOCATION;VALUE=URI;X-ADDRESS=Gators Apopka 3030 E Semoran Blvd Apopka FL 32703 United States;X-APPLE-RADIUS=500;X-TITLE=3030 E Semoran Blvd:geo:-81.4540362,28.6695653
END:VEVENT
BEGIN:VEVENT
DTSTART;TZID=America/New_York:20290809T183000
DTEND;TZID=America/New_York:20290809T183000
DTSTAMP:20260420T101123
CREATED:20260105T003148Z
LAST-MODIFIED:20260105T054312Z
UID:10012670-1880994600-1880994600@epictriviafl.com
SUMMARY:Music Bingo
DESCRIPTION:
URL:https://epictriviafl.com/event/music-bingo-gators-apopka-2/2029-08-09/
LOCATION:Gators Apopka\, 3030 E Semoran Blvd\, Apopka\, FL\, 32703\, United States
GEO:28.6695653;-81.4540362
X-APPLE-STRUCTURED-LOCATION;VALUE=URI;X-ADDRESS=Gators Apopka 3030 E Semoran Blvd Apopka FL 32703 United States;X-APPLE-RADIUS=500;X-TITLE=3030 E Semoran Blvd:geo:-81.4540362,28.6695653
END:VEVENT
BEGIN:VEVENT
DTSTART;TZID=America/New_York:20290816T183000
DTEND;TZID=America/New_York:20290816T183000
DTSTAMP:20260420T101123
CREATED:20260105T003148Z
LAST-MODIFIED:20260105T054312Z
UID:10012671-1881599400-1881599400@epictriviafl.com
SUMMARY:Music Bingo
DESCRIPTION:
URL:https://epictriviafl.com/event/music-bingo-gators-apopka-2/2029-08-16/
LOCATION:Gators Apopka\, 3030 E Semoran Blvd\, Apopka\, FL\, 32703\, United States
GEO:28.6695653;-81.4540362
X-APPLE-STRUCTURED-LOCATION;VALUE=URI;X-ADDRESS=Gators Apopka 3030 E Semoran Blvd Apopka FL 32703 United States;X-APPLE-RADIUS=500;X-TITLE=3030 E Semoran Blvd:geo:-81.4540362,28.6695653
END:VEVENT
BEGIN:VEVENT
DTSTART;TZID=America/New_York:20290823T183000
DTEND;TZID=America/New_York:20290823T183000
DTSTAMP:20260420T101123
CREATED:20260105T003148Z
LAST-MODIFIED:20260105T054312Z
UID:10012672-1882204200-1882204200@epictriviafl.com
SUMMARY:Music Bingo
DESCRIPTION:
URL:https://epictriviafl.com/event/music-bingo-gators-apopka-2/2029-08-23/
LOCATION:Gators Apopka\, 3030 E Semoran Blvd\, Apopka\, FL\, 32703\, United States
GEO:28.6695653;-81.4540362
X-APPLE-STRUCTURED-LOCATION;VALUE=URI;X-ADDRESS=Gators Apopka 3030 E Semoran Blvd Apopka FL 32703 United States;X-APPLE-RADIUS=500;X-TITLE=3030 E Semoran Blvd:geo:-81.4540362,28.6695653
END:VEVENT
BEGIN:VEVENT
DTSTART;TZID=America/New_York:20290830T183000
DTEND;TZID=America/New_York:20290830T183000
DTSTAMP:20260420T101123
CREATED:20260105T003148Z
LAST-MODIFIED:20260105T054312Z
UID:10012673-1882809000-1882809000@epictriviafl.com
SUMMARY:Music Bingo
DESCRIPTION:
URL:https://epictriviafl.com/event/music-bingo-gators-apopka-2/2029-08-30/
LOCATION:Gators Apopka\, 3030 E Semoran Blvd\, Apopka\, FL\, 32703\, United States
GEO:28.6695653;-81.4540362
X-APPLE-STRUCTURED-LOCATION;VALUE=URI;X-ADDRESS=Gators Apopka 3030 E Semoran Blvd Apopka FL 32703 United States;X-APPLE-RADIUS=500;X-TITLE=3030 E Semoran Blvd:geo:-81.4540362,28.6695653
END:VEVENT
BEGIN:VEVENT
DTSTART;TZID=America/New_York:20290906T183000
DTEND;TZID=America/New_York:20290906T183000
DTSTAMP:20260420T101123
CREATED:20260105T003148Z
LAST-MODIFIED:20260105T054312Z
UID:10012674-1883413800-1883413800@epictriviafl.com
SUMMARY:Music Bingo
DESCRIPTION:
URL:https://epictriviafl.com/event/music-bingo-gators-apopka-2/2029-09-06/
LOCATION:Gators Apopka\, 3030 E Semoran Blvd\, Apopka\, FL\, 32703\, United States
GEO:28.6695653;-81.4540362
X-APPLE-STRUCTURED-LOCATION;VALUE=URI;X-ADDRESS=Gators Apopka 3030 E Semoran Blvd Apopka FL 32703 United States;X-APPLE-RADIUS=500;X-TITLE=3030 E Semoran Blvd:geo:-81.4540362,28.6695653
END:VEVENT
BEGIN:VEVENT
DTSTART;TZID=America/New_York:20290913T183000
DTEND;TZID=America/New_York:20290913T183000
DTSTAMP:20260420T101123
CREATED:20260105T003148Z
LAST-MODIFIED:20260105T054312Z
UID:10012675-1884018600-1884018600@epictriviafl.com
SUMMARY:Music Bingo
DESCRIPTION:
URL:https://epictriviafl.com/event/music-bingo-gators-apopka-2/2029-09-13/
LOCATION:Gators Apopka\, 3030 E Semoran Blvd\, Apopka\, FL\, 32703\, United States
GEO:28.6695653;-81.4540362
X-APPLE-STRUCTURED-LOCATION;VALUE=URI;X-ADDRESS=Gators Apopka 3030 E Semoran Blvd Apopka FL 32703 United States;X-APPLE-RADIUS=500;X-TITLE=3030 E Semoran Blvd:geo:-81.4540362,28.6695653
END:VEVENT
BEGIN:VEVENT
DTSTART;TZID=America/New_York:20290920T183000
DTEND;TZID=America/New_York:20290920T183000
DTSTAMP:20260420T101123
CREATED:20260105T003148Z
LAST-MODIFIED:20260105T054312Z
UID:10012676-1884623400-1884623400@epictriviafl.com
SUMMARY:Music Bingo
DESCRIPTION:
URL:https://epictriviafl.com/event/music-bingo-gators-apopka-2/2029-09-20/
LOCATION:Gators Apopka\, 3030 E Semoran Blvd\, Apopka\, FL\, 32703\, United States
GEO:28.6695653;-81.4540362
X-APPLE-STRUCTURED-LOCATION;VALUE=URI;X-ADDRESS=Gators Apopka 3030 E Semoran Blvd Apopka FL 32703 United States;X-APPLE-RADIUS=500;X-TITLE=3030 E Semoran Blvd:geo:-81.4540362,28.6695653
END:VEVENT
BEGIN:VEVENT
DTSTART;TZID=America/New_York:20290927T183000
DTEND;TZID=America/New_York:20290927T183000
DTSTAMP:20260420T101123
CREATED:20260105T003148Z
LAST-MODIFIED:20260105T054312Z
UID:10012677-1885228200-1885228200@epictriviafl.com
SUMMARY:Music Bingo
DESCRIPTION:
URL:https://epictriviafl.com/event/music-bingo-gators-apopka-2/2029-09-27/
LOCATION:Gators Apopka\, 3030 E Semoran Blvd\, Apopka\, FL\, 32703\, United States
GEO:28.6695653;-81.4540362
X-APPLE-STRUCTURED-LOCATION;VALUE=URI;X-ADDRESS=Gators Apopka 3030 E Semoran Blvd Apopka FL 32703 United States;X-APPLE-RADIUS=500;X-TITLE=3030 E Semoran Blvd:geo:-81.4540362,28.6695653
END:VEVENT
BEGIN:VEVENT
DTSTART;TZID=America/New_York:20291004T183000
DTEND;TZID=America/New_York:20291004T183000
DTSTAMP:20260420T101123
CREATED:20260105T003148Z
LAST-MODIFIED:20260105T054312Z
UID:10012678-1885833000-1885833000@epictriviafl.com
SUMMARY:Music Bingo
DESCRIPTION:
URL:https://epictriviafl.com/event/music-bingo-gators-apopka-2/2029-10-04/
LOCATION:Gators Apopka\, 3030 E Semoran Blvd\, Apopka\, FL\, 32703\, United States
GEO:28.6695653;-81.4540362
X-APPLE-STRUCTURED-LOCATION;VALUE=URI;X-ADDRESS=Gators Apopka 3030 E Semoran Blvd Apopka FL 32703 United States;X-APPLE-RADIUS=500;X-TITLE=3030 E Semoran Blvd:geo:-81.4540362,28.6695653
END:VEVENT
BEGIN:VEVENT
DTSTART;TZID=America/New_York:20291011T183000
DTEND;TZID=America/New_York:20291011T183000
DTSTAMP:20260420T101123
CREATED:20260105T003148Z
LAST-MODIFIED:20260105T054312Z
UID:10012679-1886437800-1886437800@epictriviafl.com
SUMMARY:Music Bingo
DESCRIPTION:
URL:https://epictriviafl.com/event/music-bingo-gators-apopka-2/2029-10-11/
LOCATION:Gators Apopka\, 3030 E Semoran Blvd\, Apopka\, FL\, 32703\, United States
GEO:28.6695653;-81.4540362
X-APPLE-STRUCTURED-LOCATION;VALUE=URI;X-ADDRESS=Gators Apopka 3030 E Semoran Blvd Apopka FL 32703 United States;X-APPLE-RADIUS=500;X-TITLE=3030 E Semoran Blvd:geo:-81.4540362,28.6695653
END:VEVENT
BEGIN:VEVENT
DTSTART;TZID=America/New_York:20291018T183000
DTEND;TZID=America/New_York:20291018T183000
DTSTAMP:20260420T101123
CREATED:20260105T003148Z
LAST-MODIFIED:20260105T054312Z
UID:10012680-1887042600-1887042600@epictriviafl.com
SUMMARY:Music Bingo
DESCRIPTION:
URL:https://epictriviafl.com/event/music-bingo-gators-apopka-2/2029-10-18/
LOCATION:Gators Apopka\, 3030 E Semoran Blvd\, Apopka\, FL\, 32703\, United States
GEO:28.6695653;-81.4540362
X-APPLE-STRUCTURED-LOCATION;VALUE=URI;X-ADDRESS=Gators Apopka 3030 E Semoran Blvd Apopka FL 32703 United States;X-APPLE-RADIUS=500;X-TITLE=3030 E Semoran Blvd:geo:-81.4540362,28.6695653
END:VEVENT
BEGIN:VEVENT
DTSTART;TZID=America/New_York:20291025T183000
DTEND;TZID=America/New_York:20291025T183000
DTSTAMP:20260420T101123
CREATED:20260105T003148Z
LAST-MODIFIED:20260105T054312Z
UID:10012681-1887647400-1887647400@epictriviafl.com
SUMMARY:Music Bingo
DESCRIPTION:
URL:https://epictriviafl.com/event/music-bingo-gators-apopka-2/2029-10-25/
LOCATION:Gators Apopka\, 3030 E Semoran Blvd\, Apopka\, FL\, 32703\, United States
GEO:28.6695653;-81.4540362
X-APPLE-STRUCTURED-LOCATION;VALUE=URI;X-ADDRESS=Gators Apopka 3030 E Semoran Blvd Apopka FL 32703 United States;X-APPLE-RADIUS=500;X-TITLE=3030 E Semoran Blvd:geo:-81.4540362,28.6695653
END:VEVENT
BEGIN:VEVENT
DTSTART;TZID=America/New_York:20291101T183000
DTEND;TZID=America/New_York:20291101T183000
DTSTAMP:20260420T101123
CREATED:20260105T003148Z
LAST-MODIFIED:20260105T054312Z
UID:10012682-1888252200-1888252200@epictriviafl.com
SUMMARY:Music Bingo
DESCRIPTION:
URL:https://epictriviafl.com/event/music-bingo-gators-apopka-2/2029-11-01/
LOCATION:Gators Apopka\, 3030 E Semoran Blvd\, Apopka\, FL\, 32703\, United States
GEO:28.6695653;-81.4540362
X-APPLE-STRUCTURED-LOCATION;VALUE=URI;X-ADDRESS=Gators Apopka 3030 E Semoran Blvd Apopka FL 32703 United States;X-APPLE-RADIUS=500;X-TITLE=3030 E Semoran Blvd:geo:-81.4540362,28.6695653
END:VEVENT
BEGIN:VEVENT
DTSTART;TZID=America/New_York:20291108T183000
DTEND;TZID=America/New_York:20291108T183000
DTSTAMP:20260420T101123
CREATED:20260105T003148Z
LAST-MODIFIED:20260105T054312Z
UID:10012683-1888857000-1888857000@epictriviafl.com
SUMMARY:Music Bingo
DESCRIPTION:
URL:https://epictriviafl.com/event/music-bingo-gators-apopka-2/2029-11-08/
LOCATION:Gators Apopka\, 3030 E Semoran Blvd\, Apopka\, FL\, 32703\, United States
GEO:28.6695653;-81.4540362
X-APPLE-STRUCTURED-LOCATION;VALUE=URI;X-ADDRESS=Gators Apopka 3030 E Semoran Blvd Apopka FL 32703 United States;X-APPLE-RADIUS=500;X-TITLE=3030 E Semoran Blvd:geo:-81.4540362,28.6695653
END:VEVENT
END:VCALENDAR