BEGIN:VCALENDAR
VERSION:2.0
PRODID:-//Epic Trivia - ECPv6.15.18//NONSGML v1.0//EN
CALSCALE:GREGORIAN
METHOD:PUBLISH
X-ORIGINAL-URL:https://epictriviafl.com
X-WR-CALDESC:Events for Epic Trivia
REFRESH-INTERVAL;VALUE=DURATION:PT1H
X-Robots-Tag:noindex
X-PUBLISHED-TTL:PT1H
BEGIN:VTIMEZONE
TZID:America/New_York
BEGIN:DAYLIGHT
TZOFFSETFROM:-0500
TZOFFSETTO:-0400
TZNAME:EDT
DTSTART:20270314T070000
END:DAYLIGHT
BEGIN:STANDARD
TZOFFSETFROM:-0400
TZOFFSETTO:-0500
TZNAME:EST
DTSTART:20271107T060000
END:STANDARD
BEGIN:DAYLIGHT
TZOFFSETFROM:-0500
TZOFFSETTO:-0400
TZNAME:EDT
DTSTART:20280312T070000
END:DAYLIGHT
BEGIN:STANDARD
TZOFFSETFROM:-0400
TZOFFSETTO:-0500
TZNAME:EST
DTSTART:20281105T060000
END:STANDARD
BEGIN:DAYLIGHT
TZOFFSETFROM:-0500
TZOFFSETTO:-0400
TZNAME:EDT
DTSTART:20290311T070000
END:DAYLIGHT
BEGIN:STANDARD
TZOFFSETFROM:-0400
TZOFFSETTO:-0500
TZNAME:EST
DTSTART:20291104T060000
END:STANDARD
END:VTIMEZONE
BEGIN:VEVENT
DTSTART;TZID=America/New_York:20280518T183000
DTEND;TZID=America/New_York:20280518T183000
DTSTAMP:20260420T043820
CREATED:20260105T003148Z
LAST-MODIFIED:20260105T054312Z
UID:10012606-1842287400-1842287400@epictriviafl.com
SUMMARY:Music Bingo
DESCRIPTION:
URL:https://epictriviafl.com/event/music-bingo-gators-apopka-2/2028-05-18/
LOCATION:Gators Apopka\, 3030 E Semoran Blvd\, Apopka\, FL\, 32703\, United States
GEO:28.6695653;-81.4540362
X-APPLE-STRUCTURED-LOCATION;VALUE=URI;X-ADDRESS=Gators Apopka 3030 E Semoran Blvd Apopka FL 32703 United States;X-APPLE-RADIUS=500;X-TITLE=3030 E Semoran Blvd:geo:-81.4540362,28.6695653
END:VEVENT
BEGIN:VEVENT
DTSTART;TZID=America/New_York:20280525T183000
DTEND;TZID=America/New_York:20280525T183000
DTSTAMP:20260420T043820
CREATED:20260105T003148Z
LAST-MODIFIED:20260105T054312Z
UID:10012607-1842892200-1842892200@epictriviafl.com
SUMMARY:Music Bingo
DESCRIPTION:
URL:https://epictriviafl.com/event/music-bingo-gators-apopka-2/2028-05-25/
LOCATION:Gators Apopka\, 3030 E Semoran Blvd\, Apopka\, FL\, 32703\, United States
GEO:28.6695653;-81.4540362
X-APPLE-STRUCTURED-LOCATION;VALUE=URI;X-ADDRESS=Gators Apopka 3030 E Semoran Blvd Apopka FL 32703 United States;X-APPLE-RADIUS=500;X-TITLE=3030 E Semoran Blvd:geo:-81.4540362,28.6695653
END:VEVENT
BEGIN:VEVENT
DTSTART;TZID=America/New_York:20280601T183000
DTEND;TZID=America/New_York:20280601T183000
DTSTAMP:20260420T043820
CREATED:20260105T003148Z
LAST-MODIFIED:20260105T054312Z
UID:10012608-1843497000-1843497000@epictriviafl.com
SUMMARY:Music Bingo
DESCRIPTION:
URL:https://epictriviafl.com/event/music-bingo-gators-apopka-2/2028-06-01/
LOCATION:Gators Apopka\, 3030 E Semoran Blvd\, Apopka\, FL\, 32703\, United States
GEO:28.6695653;-81.4540362
X-APPLE-STRUCTURED-LOCATION;VALUE=URI;X-ADDRESS=Gators Apopka 3030 E Semoran Blvd Apopka FL 32703 United States;X-APPLE-RADIUS=500;X-TITLE=3030 E Semoran Blvd:geo:-81.4540362,28.6695653
END:VEVENT
BEGIN:VEVENT
DTSTART;TZID=America/New_York:20280608T183000
DTEND;TZID=America/New_York:20280608T183000
DTSTAMP:20260420T043820
CREATED:20260105T003148Z
LAST-MODIFIED:20260105T054312Z
UID:10012609-1844101800-1844101800@epictriviafl.com
SUMMARY:Music Bingo
DESCRIPTION:
URL:https://epictriviafl.com/event/music-bingo-gators-apopka-2/2028-06-08/
LOCATION:Gators Apopka\, 3030 E Semoran Blvd\, Apopka\, FL\, 32703\, United States
GEO:28.6695653;-81.4540362
X-APPLE-STRUCTURED-LOCATION;VALUE=URI;X-ADDRESS=Gators Apopka 3030 E Semoran Blvd Apopka FL 32703 United States;X-APPLE-RADIUS=500;X-TITLE=3030 E Semoran Blvd:geo:-81.4540362,28.6695653
END:VEVENT
BEGIN:VEVENT
DTSTART;TZID=America/New_York:20280615T183000
DTEND;TZID=America/New_York:20280615T183000
DTSTAMP:20260420T043820
CREATED:20260105T003148Z
LAST-MODIFIED:20260105T054312Z
UID:10012610-1844706600-1844706600@epictriviafl.com
SUMMARY:Music Bingo
DESCRIPTION:
URL:https://epictriviafl.com/event/music-bingo-gators-apopka-2/2028-06-15/
LOCATION:Gators Apopka\, 3030 E Semoran Blvd\, Apopka\, FL\, 32703\, United States
GEO:28.6695653;-81.4540362
X-APPLE-STRUCTURED-LOCATION;VALUE=URI;X-ADDRESS=Gators Apopka 3030 E Semoran Blvd Apopka FL 32703 United States;X-APPLE-RADIUS=500;X-TITLE=3030 E Semoran Blvd:geo:-81.4540362,28.6695653
END:VEVENT
BEGIN:VEVENT
DTSTART;TZID=America/New_York:20280622T183000
DTEND;TZID=America/New_York:20280622T183000
DTSTAMP:20260420T043820
CREATED:20260105T003148Z
LAST-MODIFIED:20260105T054312Z
UID:10012611-1845311400-1845311400@epictriviafl.com
SUMMARY:Music Bingo
DESCRIPTION:
URL:https://epictriviafl.com/event/music-bingo-gators-apopka-2/2028-06-22/
LOCATION:Gators Apopka\, 3030 E Semoran Blvd\, Apopka\, FL\, 32703\, United States
GEO:28.6695653;-81.4540362
X-APPLE-STRUCTURED-LOCATION;VALUE=URI;X-ADDRESS=Gators Apopka 3030 E Semoran Blvd Apopka FL 32703 United States;X-APPLE-RADIUS=500;X-TITLE=3030 E Semoran Blvd:geo:-81.4540362,28.6695653
END:VEVENT
BEGIN:VEVENT
DTSTART;TZID=America/New_York:20280629T183000
DTEND;TZID=America/New_York:20280629T183000
DTSTAMP:20260420T043820
CREATED:20260105T003148Z
LAST-MODIFIED:20260105T054312Z
UID:10012612-1845916200-1845916200@epictriviafl.com
SUMMARY:Music Bingo
DESCRIPTION:
URL:https://epictriviafl.com/event/music-bingo-gators-apopka-2/2028-06-29/
LOCATION:Gators Apopka\, 3030 E Semoran Blvd\, Apopka\, FL\, 32703\, United States
GEO:28.6695653;-81.4540362
X-APPLE-STRUCTURED-LOCATION;VALUE=URI;X-ADDRESS=Gators Apopka 3030 E Semoran Blvd Apopka FL 32703 United States;X-APPLE-RADIUS=500;X-TITLE=3030 E Semoran Blvd:geo:-81.4540362,28.6695653
END:VEVENT
BEGIN:VEVENT
DTSTART;TZID=America/New_York:20280706T183000
DTEND;TZID=America/New_York:20280706T183000
DTSTAMP:20260420T043820
CREATED:20260105T003148Z
LAST-MODIFIED:20260105T054312Z
UID:10012613-1846521000-1846521000@epictriviafl.com
SUMMARY:Music Bingo
DESCRIPTION:
URL:https://epictriviafl.com/event/music-bingo-gators-apopka-2/2028-07-06/
LOCATION:Gators Apopka\, 3030 E Semoran Blvd\, Apopka\, FL\, 32703\, United States
GEO:28.6695653;-81.4540362
X-APPLE-STRUCTURED-LOCATION;VALUE=URI;X-ADDRESS=Gators Apopka 3030 E Semoran Blvd Apopka FL 32703 United States;X-APPLE-RADIUS=500;X-TITLE=3030 E Semoran Blvd:geo:-81.4540362,28.6695653
END:VEVENT
BEGIN:VEVENT
DTSTART;TZID=America/New_York:20280713T183000
DTEND;TZID=America/New_York:20280713T183000
DTSTAMP:20260420T043820
CREATED:20260105T003148Z
LAST-MODIFIED:20260105T054312Z
UID:10012614-1847125800-1847125800@epictriviafl.com
SUMMARY:Music Bingo
DESCRIPTION:
URL:https://epictriviafl.com/event/music-bingo-gators-apopka-2/2028-07-13/
LOCATION:Gators Apopka\, 3030 E Semoran Blvd\, Apopka\, FL\, 32703\, United States
GEO:28.6695653;-81.4540362
X-APPLE-STRUCTURED-LOCATION;VALUE=URI;X-ADDRESS=Gators Apopka 3030 E Semoran Blvd Apopka FL 32703 United States;X-APPLE-RADIUS=500;X-TITLE=3030 E Semoran Blvd:geo:-81.4540362,28.6695653
END:VEVENT
BEGIN:VEVENT
DTSTART;TZID=America/New_York:20280720T183000
DTEND;TZID=America/New_York:20280720T183000
DTSTAMP:20260420T043820
CREATED:20260105T003148Z
LAST-MODIFIED:20260105T054312Z
UID:10012615-1847730600-1847730600@epictriviafl.com
SUMMARY:Music Bingo
DESCRIPTION:
URL:https://epictriviafl.com/event/music-bingo-gators-apopka-2/2028-07-20/
LOCATION:Gators Apopka\, 3030 E Semoran Blvd\, Apopka\, FL\, 32703\, United States
GEO:28.6695653;-81.4540362
X-APPLE-STRUCTURED-LOCATION;VALUE=URI;X-ADDRESS=Gators Apopka 3030 E Semoran Blvd Apopka FL 32703 United States;X-APPLE-RADIUS=500;X-TITLE=3030 E Semoran Blvd:geo:-81.4540362,28.6695653
END:VEVENT
BEGIN:VEVENT
DTSTART;TZID=America/New_York:20280727T183000
DTEND;TZID=America/New_York:20280727T183000
DTSTAMP:20260420T043820
CREATED:20260105T003148Z
LAST-MODIFIED:20260105T054312Z
UID:10012616-1848335400-1848335400@epictriviafl.com
SUMMARY:Music Bingo
DESCRIPTION:
URL:https://epictriviafl.com/event/music-bingo-gators-apopka-2/2028-07-27/
LOCATION:Gators Apopka\, 3030 E Semoran Blvd\, Apopka\, FL\, 32703\, United States
GEO:28.6695653;-81.4540362
X-APPLE-STRUCTURED-LOCATION;VALUE=URI;X-ADDRESS=Gators Apopka 3030 E Semoran Blvd Apopka FL 32703 United States;X-APPLE-RADIUS=500;X-TITLE=3030 E Semoran Blvd:geo:-81.4540362,28.6695653
END:VEVENT
BEGIN:VEVENT
DTSTART;TZID=America/New_York:20280803T183000
DTEND;TZID=America/New_York:20280803T183000
DTSTAMP:20260420T043820
CREATED:20260105T003148Z
LAST-MODIFIED:20260105T054312Z
UID:10012617-1848940200-1848940200@epictriviafl.com
SUMMARY:Music Bingo
DESCRIPTION:
URL:https://epictriviafl.com/event/music-bingo-gators-apopka-2/2028-08-03/
LOCATION:Gators Apopka\, 3030 E Semoran Blvd\, Apopka\, FL\, 32703\, United States
GEO:28.6695653;-81.4540362
X-APPLE-STRUCTURED-LOCATION;VALUE=URI;X-ADDRESS=Gators Apopka 3030 E Semoran Blvd Apopka FL 32703 United States;X-APPLE-RADIUS=500;X-TITLE=3030 E Semoran Blvd:geo:-81.4540362,28.6695653
END:VEVENT
BEGIN:VEVENT
DTSTART;TZID=America/New_York:20280810T183000
DTEND;TZID=America/New_York:20280810T183000
DTSTAMP:20260420T043820
CREATED:20260105T003148Z
LAST-MODIFIED:20260105T054312Z
UID:10012618-1849545000-1849545000@epictriviafl.com
SUMMARY:Music Bingo
DESCRIPTION:
URL:https://epictriviafl.com/event/music-bingo-gators-apopka-2/2028-08-10/
LOCATION:Gators Apopka\, 3030 E Semoran Blvd\, Apopka\, FL\, 32703\, United States
GEO:28.6695653;-81.4540362
X-APPLE-STRUCTURED-LOCATION;VALUE=URI;X-ADDRESS=Gators Apopka 3030 E Semoran Blvd Apopka FL 32703 United States;X-APPLE-RADIUS=500;X-TITLE=3030 E Semoran Blvd:geo:-81.4540362,28.6695653
END:VEVENT
BEGIN:VEVENT
DTSTART;TZID=America/New_York:20280817T183000
DTEND;TZID=America/New_York:20280817T183000
DTSTAMP:20260420T043820
CREATED:20260105T003148Z
LAST-MODIFIED:20260105T054312Z
UID:10012619-1850149800-1850149800@epictriviafl.com
SUMMARY:Music Bingo
DESCRIPTION:
URL:https://epictriviafl.com/event/music-bingo-gators-apopka-2/2028-08-17/
LOCATION:Gators Apopka\, 3030 E Semoran Blvd\, Apopka\, FL\, 32703\, United States
GEO:28.6695653;-81.4540362
X-APPLE-STRUCTURED-LOCATION;VALUE=URI;X-ADDRESS=Gators Apopka 3030 E Semoran Blvd Apopka FL 32703 United States;X-APPLE-RADIUS=500;X-TITLE=3030 E Semoran Blvd:geo:-81.4540362,28.6695653
END:VEVENT
BEGIN:VEVENT
DTSTART;TZID=America/New_York:20280824T183000
DTEND;TZID=America/New_York:20280824T183000
DTSTAMP:20260420T043820
CREATED:20260105T003148Z
LAST-MODIFIED:20260105T054312Z
UID:10012620-1850754600-1850754600@epictriviafl.com
SUMMARY:Music Bingo
DESCRIPTION:
URL:https://epictriviafl.com/event/music-bingo-gators-apopka-2/2028-08-24/
LOCATION:Gators Apopka\, 3030 E Semoran Blvd\, Apopka\, FL\, 32703\, United States
GEO:28.6695653;-81.4540362
X-APPLE-STRUCTURED-LOCATION;VALUE=URI;X-ADDRESS=Gators Apopka 3030 E Semoran Blvd Apopka FL 32703 United States;X-APPLE-RADIUS=500;X-TITLE=3030 E Semoran Blvd:geo:-81.4540362,28.6695653
END:VEVENT
BEGIN:VEVENT
DTSTART;TZID=America/New_York:20280831T183000
DTEND;TZID=America/New_York:20280831T183000
DTSTAMP:20260420T043820
CREATED:20260105T003148Z
LAST-MODIFIED:20260105T054312Z
UID:10012621-1851359400-1851359400@epictriviafl.com
SUMMARY:Music Bingo
DESCRIPTION:
URL:https://epictriviafl.com/event/music-bingo-gators-apopka-2/2028-08-31/
LOCATION:Gators Apopka\, 3030 E Semoran Blvd\, Apopka\, FL\, 32703\, United States
GEO:28.6695653;-81.4540362
X-APPLE-STRUCTURED-LOCATION;VALUE=URI;X-ADDRESS=Gators Apopka 3030 E Semoran Blvd Apopka FL 32703 United States;X-APPLE-RADIUS=500;X-TITLE=3030 E Semoran Blvd:geo:-81.4540362,28.6695653
END:VEVENT
BEGIN:VEVENT
DTSTART;TZID=America/New_York:20280907T183000
DTEND;TZID=America/New_York:20280907T183000
DTSTAMP:20260420T043820
CREATED:20260105T003148Z
LAST-MODIFIED:20260105T054312Z
UID:10012622-1851964200-1851964200@epictriviafl.com
SUMMARY:Music Bingo
DESCRIPTION:
URL:https://epictriviafl.com/event/music-bingo-gators-apopka-2/2028-09-07/
LOCATION:Gators Apopka\, 3030 E Semoran Blvd\, Apopka\, FL\, 32703\, United States
GEO:28.6695653;-81.4540362
X-APPLE-STRUCTURED-LOCATION;VALUE=URI;X-ADDRESS=Gators Apopka 3030 E Semoran Blvd Apopka FL 32703 United States;X-APPLE-RADIUS=500;X-TITLE=3030 E Semoran Blvd:geo:-81.4540362,28.6695653
END:VEVENT
BEGIN:VEVENT
DTSTART;TZID=America/New_York:20280914T183000
DTEND;TZID=America/New_York:20280914T183000
DTSTAMP:20260420T043820
CREATED:20260105T003148Z
LAST-MODIFIED:20260105T054312Z
UID:10012623-1852569000-1852569000@epictriviafl.com
SUMMARY:Music Bingo
DESCRIPTION:
URL:https://epictriviafl.com/event/music-bingo-gators-apopka-2/2028-09-14/
LOCATION:Gators Apopka\, 3030 E Semoran Blvd\, Apopka\, FL\, 32703\, United States
GEO:28.6695653;-81.4540362
X-APPLE-STRUCTURED-LOCATION;VALUE=URI;X-ADDRESS=Gators Apopka 3030 E Semoran Blvd Apopka FL 32703 United States;X-APPLE-RADIUS=500;X-TITLE=3030 E Semoran Blvd:geo:-81.4540362,28.6695653
END:VEVENT
BEGIN:VEVENT
DTSTART;TZID=America/New_York:20280921T183000
DTEND;TZID=America/New_York:20280921T183000
DTSTAMP:20260420T043820
CREATED:20260105T003148Z
LAST-MODIFIED:20260105T054312Z
UID:10012624-1853173800-1853173800@epictriviafl.com
SUMMARY:Music Bingo
DESCRIPTION:
URL:https://epictriviafl.com/event/music-bingo-gators-apopka-2/2028-09-21/
LOCATION:Gators Apopka\, 3030 E Semoran Blvd\, Apopka\, FL\, 32703\, United States
GEO:28.6695653;-81.4540362
X-APPLE-STRUCTURED-LOCATION;VALUE=URI;X-ADDRESS=Gators Apopka 3030 E Semoran Blvd Apopka FL 32703 United States;X-APPLE-RADIUS=500;X-TITLE=3030 E Semoran Blvd:geo:-81.4540362,28.6695653
END:VEVENT
BEGIN:VEVENT
DTSTART;TZID=America/New_York:20280928T183000
DTEND;TZID=America/New_York:20280928T183000
DTSTAMP:20260420T043820
CREATED:20260105T003148Z
LAST-MODIFIED:20260105T054312Z
UID:10012625-1853778600-1853778600@epictriviafl.com
SUMMARY:Music Bingo
DESCRIPTION:
URL:https://epictriviafl.com/event/music-bingo-gators-apopka-2/2028-09-28/
LOCATION:Gators Apopka\, 3030 E Semoran Blvd\, Apopka\, FL\, 32703\, United States
GEO:28.6695653;-81.4540362
X-APPLE-STRUCTURED-LOCATION;VALUE=URI;X-ADDRESS=Gators Apopka 3030 E Semoran Blvd Apopka FL 32703 United States;X-APPLE-RADIUS=500;X-TITLE=3030 E Semoran Blvd:geo:-81.4540362,28.6695653
END:VEVENT
BEGIN:VEVENT
DTSTART;TZID=America/New_York:20281005T183000
DTEND;TZID=America/New_York:20281005T183000
DTSTAMP:20260420T043820
CREATED:20260105T003148Z
LAST-MODIFIED:20260105T054312Z
UID:10012626-1854383400-1854383400@epictriviafl.com
SUMMARY:Music Bingo
DESCRIPTION:
URL:https://epictriviafl.com/event/music-bingo-gators-apopka-2/2028-10-05/
LOCATION:Gators Apopka\, 3030 E Semoran Blvd\, Apopka\, FL\, 32703\, United States
GEO:28.6695653;-81.4540362
X-APPLE-STRUCTURED-LOCATION;VALUE=URI;X-ADDRESS=Gators Apopka 3030 E Semoran Blvd Apopka FL 32703 United States;X-APPLE-RADIUS=500;X-TITLE=3030 E Semoran Blvd:geo:-81.4540362,28.6695653
END:VEVENT
BEGIN:VEVENT
DTSTART;TZID=America/New_York:20281012T183000
DTEND;TZID=America/New_York:20281012T183000
DTSTAMP:20260420T043820
CREATED:20260105T003148Z
LAST-MODIFIED:20260105T054312Z
UID:10012627-1854988200-1854988200@epictriviafl.com
SUMMARY:Music Bingo
DESCRIPTION:
URL:https://epictriviafl.com/event/music-bingo-gators-apopka-2/2028-10-12/
LOCATION:Gators Apopka\, 3030 E Semoran Blvd\, Apopka\, FL\, 32703\, United States
GEO:28.6695653;-81.4540362
X-APPLE-STRUCTURED-LOCATION;VALUE=URI;X-ADDRESS=Gators Apopka 3030 E Semoran Blvd Apopka FL 32703 United States;X-APPLE-RADIUS=500;X-TITLE=3030 E Semoran Blvd:geo:-81.4540362,28.6695653
END:VEVENT
BEGIN:VEVENT
DTSTART;TZID=America/New_York:20281019T183000
DTEND;TZID=America/New_York:20281019T183000
DTSTAMP:20260420T043820
CREATED:20260105T003148Z
LAST-MODIFIED:20260105T054312Z
UID:10012628-1855593000-1855593000@epictriviafl.com
SUMMARY:Music Bingo
DESCRIPTION:
URL:https://epictriviafl.com/event/music-bingo-gators-apopka-2/2028-10-19/
LOCATION:Gators Apopka\, 3030 E Semoran Blvd\, Apopka\, FL\, 32703\, United States
GEO:28.6695653;-81.4540362
X-APPLE-STRUCTURED-LOCATION;VALUE=URI;X-ADDRESS=Gators Apopka 3030 E Semoran Blvd Apopka FL 32703 United States;X-APPLE-RADIUS=500;X-TITLE=3030 E Semoran Blvd:geo:-81.4540362,28.6695653
END:VEVENT
BEGIN:VEVENT
DTSTART;TZID=America/New_York:20281026T183000
DTEND;TZID=America/New_York:20281026T183000
DTSTAMP:20260420T043820
CREATED:20260105T003148Z
LAST-MODIFIED:20260105T054312Z
UID:10012629-1856197800-1856197800@epictriviafl.com
SUMMARY:Music Bingo
DESCRIPTION:
URL:https://epictriviafl.com/event/music-bingo-gators-apopka-2/2028-10-26/
LOCATION:Gators Apopka\, 3030 E Semoran Blvd\, Apopka\, FL\, 32703\, United States
GEO:28.6695653;-81.4540362
X-APPLE-STRUCTURED-LOCATION;VALUE=URI;X-ADDRESS=Gators Apopka 3030 E Semoran Blvd Apopka FL 32703 United States;X-APPLE-RADIUS=500;X-TITLE=3030 E Semoran Blvd:geo:-81.4540362,28.6695653
END:VEVENT
BEGIN:VEVENT
DTSTART;TZID=America/New_York:20281102T183000
DTEND;TZID=America/New_York:20281102T183000
DTSTAMP:20260420T043820
CREATED:20260105T003148Z
LAST-MODIFIED:20260105T054312Z
UID:10012630-1856802600-1856802600@epictriviafl.com
SUMMARY:Music Bingo
DESCRIPTION:
URL:https://epictriviafl.com/event/music-bingo-gators-apopka-2/2028-11-02/
LOCATION:Gators Apopka\, 3030 E Semoran Blvd\, Apopka\, FL\, 32703\, United States
GEO:28.6695653;-81.4540362
X-APPLE-STRUCTURED-LOCATION;VALUE=URI;X-ADDRESS=Gators Apopka 3030 E Semoran Blvd Apopka FL 32703 United States;X-APPLE-RADIUS=500;X-TITLE=3030 E Semoran Blvd:geo:-81.4540362,28.6695653
END:VEVENT
BEGIN:VEVENT
DTSTART;TZID=America/New_York:20281109T183000
DTEND;TZID=America/New_York:20281109T183000
DTSTAMP:20260420T043820
CREATED:20260105T003148Z
LAST-MODIFIED:20260105T054312Z
UID:10012631-1857407400-1857407400@epictriviafl.com
SUMMARY:Music Bingo
DESCRIPTION:
URL:https://epictriviafl.com/event/music-bingo-gators-apopka-2/2028-11-09/
LOCATION:Gators Apopka\, 3030 E Semoran Blvd\, Apopka\, FL\, 32703\, United States
GEO:28.6695653;-81.4540362
X-APPLE-STRUCTURED-LOCATION;VALUE=URI;X-ADDRESS=Gators Apopka 3030 E Semoran Blvd Apopka FL 32703 United States;X-APPLE-RADIUS=500;X-TITLE=3030 E Semoran Blvd:geo:-81.4540362,28.6695653
END:VEVENT
BEGIN:VEVENT
DTSTART;TZID=America/New_York:20281116T183000
DTEND;TZID=America/New_York:20281116T183000
DTSTAMP:20260420T043820
CREATED:20260105T003148Z
LAST-MODIFIED:20260105T054312Z
UID:10012632-1858012200-1858012200@epictriviafl.com
SUMMARY:Music Bingo
DESCRIPTION:
URL:https://epictriviafl.com/event/music-bingo-gators-apopka-2/2028-11-16/
LOCATION:Gators Apopka\, 3030 E Semoran Blvd\, Apopka\, FL\, 32703\, United States
GEO:28.6695653;-81.4540362
X-APPLE-STRUCTURED-LOCATION;VALUE=URI;X-ADDRESS=Gators Apopka 3030 E Semoran Blvd Apopka FL 32703 United States;X-APPLE-RADIUS=500;X-TITLE=3030 E Semoran Blvd:geo:-81.4540362,28.6695653
END:VEVENT
BEGIN:VEVENT
DTSTART;TZID=America/New_York:20281123T183000
DTEND;TZID=America/New_York:20281123T183000
DTSTAMP:20260420T043820
CREATED:20260105T003148Z
LAST-MODIFIED:20260105T054312Z
UID:10012633-1858617000-1858617000@epictriviafl.com
SUMMARY:Music Bingo
DESCRIPTION:
URL:https://epictriviafl.com/event/music-bingo-gators-apopka-2/2028-11-23/
LOCATION:Gators Apopka\, 3030 E Semoran Blvd\, Apopka\, FL\, 32703\, United States
GEO:28.6695653;-81.4540362
X-APPLE-STRUCTURED-LOCATION;VALUE=URI;X-ADDRESS=Gators Apopka 3030 E Semoran Blvd Apopka FL 32703 United States;X-APPLE-RADIUS=500;X-TITLE=3030 E Semoran Blvd:geo:-81.4540362,28.6695653
END:VEVENT
BEGIN:VEVENT
DTSTART;TZID=America/New_York:20281130T183000
DTEND;TZID=America/New_York:20281130T183000
DTSTAMP:20260420T043820
CREATED:20260105T003148Z
LAST-MODIFIED:20260105T054312Z
UID:10012634-1859221800-1859221800@epictriviafl.com
SUMMARY:Music Bingo
DESCRIPTION:
URL:https://epictriviafl.com/event/music-bingo-gators-apopka-2/2028-11-30/
LOCATION:Gators Apopka\, 3030 E Semoran Blvd\, Apopka\, FL\, 32703\, United States
GEO:28.6695653;-81.4540362
X-APPLE-STRUCTURED-LOCATION;VALUE=URI;X-ADDRESS=Gators Apopka 3030 E Semoran Blvd Apopka FL 32703 United States;X-APPLE-RADIUS=500;X-TITLE=3030 E Semoran Blvd:geo:-81.4540362,28.6695653
END:VEVENT
BEGIN:VEVENT
DTSTART;TZID=America/New_York:20281207T183000
DTEND;TZID=America/New_York:20281207T183000
DTSTAMP:20260420T043820
CREATED:20260105T003148Z
LAST-MODIFIED:20260105T054312Z
UID:10012635-1859826600-1859826600@epictriviafl.com
SUMMARY:Music Bingo
DESCRIPTION:
URL:https://epictriviafl.com/event/music-bingo-gators-apopka-2/2028-12-07/
LOCATION:Gators Apopka\, 3030 E Semoran Blvd\, Apopka\, FL\, 32703\, United States
GEO:28.6695653;-81.4540362
X-APPLE-STRUCTURED-LOCATION;VALUE=URI;X-ADDRESS=Gators Apopka 3030 E Semoran Blvd Apopka FL 32703 United States;X-APPLE-RADIUS=500;X-TITLE=3030 E Semoran Blvd:geo:-81.4540362,28.6695653
END:VEVENT
END:VCALENDAR