BEGIN:VCALENDAR
VERSION:2.0
PRODID:-//Epic Trivia - ECPv6.15.18//NONSGML v1.0//EN
CALSCALE:GREGORIAN
METHOD:PUBLISH
X-WR-CALNAME:Epic Trivia
X-ORIGINAL-URL:https://epictriviafl.com
X-WR-CALDESC:Events for Epic Trivia
REFRESH-INTERVAL;VALUE=DURATION:PT1H
X-Robots-Tag:noindex
X-PUBLISHED-TTL:PT1H
BEGIN:VTIMEZONE
TZID:America/New_York
BEGIN:DAYLIGHT
TZOFFSETFROM:-0500
TZOFFSETTO:-0400
TZNAME:EDT
DTSTART:20250309T070000
END:DAYLIGHT
BEGIN:STANDARD
TZOFFSETFROM:-0400
TZOFFSETTO:-0500
TZNAME:EST
DTSTART:20251102T060000
END:STANDARD
BEGIN:DAYLIGHT
TZOFFSETFROM:-0500
TZOFFSETTO:-0400
TZNAME:EDT
DTSTART:20260308T070000
END:DAYLIGHT
BEGIN:STANDARD
TZOFFSETFROM:-0400
TZOFFSETTO:-0500
TZNAME:EST
DTSTART:20261101T060000
END:STANDARD
BEGIN:DAYLIGHT
TZOFFSETFROM:-0500
TZOFFSETTO:-0400
TZNAME:EDT
DTSTART:20270314T070000
END:DAYLIGHT
BEGIN:STANDARD
TZOFFSETFROM:-0400
TZOFFSETTO:-0500
TZNAME:EST
DTSTART:20271107T060000
END:STANDARD
END:VTIMEZONE
BEGIN:VEVENT
DTSTART;TZID=America/New_York:20260416T183000
DTEND;TZID=America/New_York:20260416T183000
DTSTAMP:20260419T163013
CREATED:20260105T003148Z
LAST-MODIFIED:20260105T054312Z
UID:10012497-1776364200-1776364200@epictriviafl.com
SUMMARY:Music Bingo
DESCRIPTION:
URL:https://epictriviafl.com/event/music-bingo-gators-apopka-2/2026-04-16/
LOCATION:Gators Apopka\, 3030 E Semoran Blvd\, Apopka\, FL\, 32703\, United States
GEO:28.6695653;-81.4540362
X-APPLE-STRUCTURED-LOCATION;VALUE=URI;X-ADDRESS=Gators Apopka 3030 E Semoran Blvd Apopka FL 32703 United States;X-APPLE-RADIUS=500;X-TITLE=3030 E Semoran Blvd:geo:-81.4540362,28.6695653
END:VEVENT
BEGIN:VEVENT
DTSTART;TZID=America/New_York:20260409T183000
DTEND;TZID=America/New_York:20260409T183000
DTSTAMP:20260419T163013
CREATED:20260105T003148Z
LAST-MODIFIED:20260105T054312Z
UID:10012496-1775759400-1775759400@epictriviafl.com
SUMMARY:Music Bingo
DESCRIPTION:
URL:https://epictriviafl.com/event/music-bingo-gators-apopka-2/2026-04-09/
LOCATION:Gators Apopka\, 3030 E Semoran Blvd\, Apopka\, FL\, 32703\, United States
GEO:28.6695653;-81.4540362
X-APPLE-STRUCTURED-LOCATION;VALUE=URI;X-ADDRESS=Gators Apopka 3030 E Semoran Blvd Apopka FL 32703 United States;X-APPLE-RADIUS=500;X-TITLE=3030 E Semoran Blvd:geo:-81.4540362,28.6695653
END:VEVENT
BEGIN:VEVENT
DTSTART;TZID=America/New_York:20260402T183000
DTEND;TZID=America/New_York:20260402T183000
DTSTAMP:20260419T163013
CREATED:20260105T003148Z
LAST-MODIFIED:20260105T054312Z
UID:10012495-1775154600-1775154600@epictriviafl.com
SUMMARY:Music Bingo
DESCRIPTION:
URL:https://epictriviafl.com/event/music-bingo-gators-apopka-2/2026-04-02/
LOCATION:Gators Apopka\, 3030 E Semoran Blvd\, Apopka\, FL\, 32703\, United States
GEO:28.6695653;-81.4540362
X-APPLE-STRUCTURED-LOCATION;VALUE=URI;X-ADDRESS=Gators Apopka 3030 E Semoran Blvd Apopka FL 32703 United States;X-APPLE-RADIUS=500;X-TITLE=3030 E Semoran Blvd:geo:-81.4540362,28.6695653
END:VEVENT
BEGIN:VEVENT
DTSTART;TZID=America/New_York:20260326T183000
DTEND;TZID=America/New_York:20260326T183000
DTSTAMP:20260419T163013
CREATED:20260105T003148Z
LAST-MODIFIED:20260105T054312Z
UID:10012494-1774549800-1774549800@epictriviafl.com
SUMMARY:Music Bingo
DESCRIPTION:
URL:https://epictriviafl.com/event/music-bingo-gators-apopka-2/2026-03-26/
LOCATION:Gators Apopka\, 3030 E Semoran Blvd\, Apopka\, FL\, 32703\, United States
GEO:28.6695653;-81.4540362
X-APPLE-STRUCTURED-LOCATION;VALUE=URI;X-ADDRESS=Gators Apopka 3030 E Semoran Blvd Apopka FL 32703 United States;X-APPLE-RADIUS=500;X-TITLE=3030 E Semoran Blvd:geo:-81.4540362,28.6695653
END:VEVENT
BEGIN:VEVENT
DTSTART;TZID=America/New_York:20260319T183000
DTEND;TZID=America/New_York:20260319T183000
DTSTAMP:20260419T163013
CREATED:20260105T003148Z
LAST-MODIFIED:20260105T054312Z
UID:10012493-1773945000-1773945000@epictriviafl.com
SUMMARY:Music Bingo
DESCRIPTION:
URL:https://epictriviafl.com/event/music-bingo-gators-apopka-2/2026-03-19/
LOCATION:Gators Apopka\, 3030 E Semoran Blvd\, Apopka\, FL\, 32703\, United States
GEO:28.6695653;-81.4540362
X-APPLE-STRUCTURED-LOCATION;VALUE=URI;X-ADDRESS=Gators Apopka 3030 E Semoran Blvd Apopka FL 32703 United States;X-APPLE-RADIUS=500;X-TITLE=3030 E Semoran Blvd:geo:-81.4540362,28.6695653
END:VEVENT
BEGIN:VEVENT
DTSTART;TZID=America/New_York:20260312T183000
DTEND;TZID=America/New_York:20260312T183000
DTSTAMP:20260419T163013
CREATED:20260105T003148Z
LAST-MODIFIED:20260105T054312Z
UID:10012492-1773340200-1773340200@epictriviafl.com
SUMMARY:Music Bingo
DESCRIPTION:
URL:https://epictriviafl.com/event/music-bingo-gators-apopka-2/2026-03-12/
LOCATION:Gators Apopka\, 3030 E Semoran Blvd\, Apopka\, FL\, 32703\, United States
GEO:28.6695653;-81.4540362
X-APPLE-STRUCTURED-LOCATION;VALUE=URI;X-ADDRESS=Gators Apopka 3030 E Semoran Blvd Apopka FL 32703 United States;X-APPLE-RADIUS=500;X-TITLE=3030 E Semoran Blvd:geo:-81.4540362,28.6695653
END:VEVENT
BEGIN:VEVENT
DTSTART;TZID=America/New_York:20260305T183000
DTEND;TZID=America/New_York:20260305T183000
DTSTAMP:20260419T163013
CREATED:20260105T003148Z
LAST-MODIFIED:20260105T054312Z
UID:10012491-1772735400-1772735400@epictriviafl.com
SUMMARY:Music Bingo
DESCRIPTION:
URL:https://epictriviafl.com/event/music-bingo-gators-apopka-2/2026-03-05/
LOCATION:Gators Apopka\, 3030 E Semoran Blvd\, Apopka\, FL\, 32703\, United States
GEO:28.6695653;-81.4540362
X-APPLE-STRUCTURED-LOCATION;VALUE=URI;X-ADDRESS=Gators Apopka 3030 E Semoran Blvd Apopka FL 32703 United States;X-APPLE-RADIUS=500;X-TITLE=3030 E Semoran Blvd:geo:-81.4540362,28.6695653
END:VEVENT
BEGIN:VEVENT
DTSTART;TZID=America/New_York:20260226T183000
DTEND;TZID=America/New_York:20260226T183000
DTSTAMP:20260419T163013
CREATED:20260105T003148Z
LAST-MODIFIED:20260105T054312Z
UID:10012490-1772130600-1772130600@epictriviafl.com
SUMMARY:Music Bingo
DESCRIPTION:
URL:https://epictriviafl.com/event/music-bingo-gators-apopka-2/2026-02-26/
LOCATION:Gators Apopka\, 3030 E Semoran Blvd\, Apopka\, FL\, 32703\, United States
GEO:28.6695653;-81.4540362
X-APPLE-STRUCTURED-LOCATION;VALUE=URI;X-ADDRESS=Gators Apopka 3030 E Semoran Blvd Apopka FL 32703 United States;X-APPLE-RADIUS=500;X-TITLE=3030 E Semoran Blvd:geo:-81.4540362,28.6695653
END:VEVENT
BEGIN:VEVENT
DTSTART;TZID=America/New_York:20260219T183000
DTEND;TZID=America/New_York:20260219T183000
DTSTAMP:20260419T163013
CREATED:20260105T003148Z
LAST-MODIFIED:20260105T054312Z
UID:10012489-1771525800-1771525800@epictriviafl.com
SUMMARY:Music Bingo
DESCRIPTION:
URL:https://epictriviafl.com/event/music-bingo-gators-apopka-2/2026-02-19/
LOCATION:Gators Apopka\, 3030 E Semoran Blvd\, Apopka\, FL\, 32703\, United States
GEO:28.6695653;-81.4540362
X-APPLE-STRUCTURED-LOCATION;VALUE=URI;X-ADDRESS=Gators Apopka 3030 E Semoran Blvd Apopka FL 32703 United States;X-APPLE-RADIUS=500;X-TITLE=3030 E Semoran Blvd:geo:-81.4540362,28.6695653
END:VEVENT
BEGIN:VEVENT
DTSTART;TZID=America/New_York:20260212T183000
DTEND;TZID=America/New_York:20260212T183000
DTSTAMP:20260419T163013
CREATED:20260105T003148Z
LAST-MODIFIED:20260105T054312Z
UID:10012488-1770921000-1770921000@epictriviafl.com
SUMMARY:Music Bingo
DESCRIPTION:
URL:https://epictriviafl.com/event/music-bingo-gators-apopka-2/2026-02-12/
LOCATION:Gators Apopka\, 3030 E Semoran Blvd\, Apopka\, FL\, 32703\, United States
GEO:28.6695653;-81.4540362
X-APPLE-STRUCTURED-LOCATION;VALUE=URI;X-ADDRESS=Gators Apopka 3030 E Semoran Blvd Apopka FL 32703 United States;X-APPLE-RADIUS=500;X-TITLE=3030 E Semoran Blvd:geo:-81.4540362,28.6695653
END:VEVENT
BEGIN:VEVENT
DTSTART;TZID=America/New_York:20260205T183000
DTEND;TZID=America/New_York:20260205T183000
DTSTAMP:20260419T163013
CREATED:20260105T003148Z
LAST-MODIFIED:20260105T054312Z
UID:10012487-1770316200-1770316200@epictriviafl.com
SUMMARY:Music Bingo
DESCRIPTION:
URL:https://epictriviafl.com/event/music-bingo-gators-apopka-2/2026-02-05/
LOCATION:Gators Apopka\, 3030 E Semoran Blvd\, Apopka\, FL\, 32703\, United States
GEO:28.6695653;-81.4540362
X-APPLE-STRUCTURED-LOCATION;VALUE=URI;X-ADDRESS=Gators Apopka 3030 E Semoran Blvd Apopka FL 32703 United States;X-APPLE-RADIUS=500;X-TITLE=3030 E Semoran Blvd:geo:-81.4540362,28.6695653
END:VEVENT
BEGIN:VEVENT
DTSTART;TZID=America/New_York:20260129T183000
DTEND;TZID=America/New_York:20260129T183000
DTSTAMP:20260419T163013
CREATED:20260105T003148Z
LAST-MODIFIED:20260105T054312Z
UID:10012486-1769711400-1769711400@epictriviafl.com
SUMMARY:Music Bingo
DESCRIPTION:
URL:https://epictriviafl.com/event/music-bingo-gators-apopka-2/2026-01-29/
LOCATION:Gators Apopka\, 3030 E Semoran Blvd\, Apopka\, FL\, 32703\, United States
GEO:28.6695653;-81.4540362
X-APPLE-STRUCTURED-LOCATION;VALUE=URI;X-ADDRESS=Gators Apopka 3030 E Semoran Blvd Apopka FL 32703 United States;X-APPLE-RADIUS=500;X-TITLE=3030 E Semoran Blvd:geo:-81.4540362,28.6695653
END:VEVENT
BEGIN:VEVENT
DTSTART;TZID=America/New_York:20260122T183000
DTEND;TZID=America/New_York:20260122T183000
DTSTAMP:20260419T163013
CREATED:20260105T003148Z
LAST-MODIFIED:20260105T054312Z
UID:10012485-1769106600-1769106600@epictriviafl.com
SUMMARY:Music Bingo
DESCRIPTION:
URL:https://epictriviafl.com/event/music-bingo-gators-apopka-2/2026-01-22/
LOCATION:Gators Apopka\, 3030 E Semoran Blvd\, Apopka\, FL\, 32703\, United States
GEO:28.6695653;-81.4540362
X-APPLE-STRUCTURED-LOCATION;VALUE=URI;X-ADDRESS=Gators Apopka 3030 E Semoran Blvd Apopka FL 32703 United States;X-APPLE-RADIUS=500;X-TITLE=3030 E Semoran Blvd:geo:-81.4540362,28.6695653
END:VEVENT
BEGIN:VEVENT
DTSTART;TZID=America/New_York:20260115T183000
DTEND;TZID=America/New_York:20260115T183000
DTSTAMP:20260419T163013
CREATED:20260105T003148Z
LAST-MODIFIED:20260105T054312Z
UID:10012484-1768501800-1768501800@epictriviafl.com
SUMMARY:Music Bingo
DESCRIPTION:
URL:https://epictriviafl.com/event/music-bingo-gators-apopka-2/2026-01-15/
LOCATION:Gators Apopka\, 3030 E Semoran Blvd\, Apopka\, FL\, 32703\, United States
GEO:28.6695653;-81.4540362
X-APPLE-STRUCTURED-LOCATION;VALUE=URI;X-ADDRESS=Gators Apopka 3030 E Semoran Blvd Apopka FL 32703 United States;X-APPLE-RADIUS=500;X-TITLE=3030 E Semoran Blvd:geo:-81.4540362,28.6695653
END:VEVENT
BEGIN:VEVENT
DTSTART;TZID=America/New_York:20260108T183000
DTEND;TZID=America/New_York:20260108T183000
DTSTAMP:20260419T163013
CREATED:20260105T003148Z
LAST-MODIFIED:20260105T054312Z
UID:10008823-1767897000-1767897000@epictriviafl.com
SUMMARY:Music Bingo
DESCRIPTION:
URL:https://epictriviafl.com/event/music-bingo-gators-apopka-2/2026-01-08/
LOCATION:Gators Apopka\, 3030 E Semoran Blvd\, Apopka\, FL\, 32703\, United States
GEO:28.6695653;-81.4540362
X-APPLE-STRUCTURED-LOCATION;VALUE=URI;X-ADDRESS=Gators Apopka 3030 E Semoran Blvd Apopka FL 32703 United States;X-APPLE-RADIUS=500;X-TITLE=3030 E Semoran Blvd:geo:-81.4540362,28.6695653
END:VEVENT
END:VCALENDAR