BEGIN:VCALENDAR
VERSION:2.0
PRODID:-//Epic Trivia - ECPv6.15.18//NONSGML v1.0//EN
CALSCALE:GREGORIAN
METHOD:PUBLISH
X-ORIGINAL-URL:https://epictriviafl.com
X-WR-CALDESC:Events for Epic Trivia
REFRESH-INTERVAL;VALUE=DURATION:PT1H
X-Robots-Tag:noindex
X-PUBLISHED-TTL:PT1H
BEGIN:VTIMEZONE
TZID:America/New_York
BEGIN:DAYLIGHT
TZOFFSETFROM:-0500
TZOFFSETTO:-0400
TZNAME:EDT
DTSTART:20250309T070000
END:DAYLIGHT
BEGIN:STANDARD
TZOFFSETFROM:-0400
TZOFFSETTO:-0500
TZNAME:EST
DTSTART:20251102T060000
END:STANDARD
BEGIN:DAYLIGHT
TZOFFSETFROM:-0500
TZOFFSETTO:-0400
TZNAME:EDT
DTSTART:20260308T070000
END:DAYLIGHT
BEGIN:STANDARD
TZOFFSETFROM:-0400
TZOFFSETTO:-0500
TZNAME:EST
DTSTART:20261101T060000
END:STANDARD
BEGIN:DAYLIGHT
TZOFFSETFROM:-0500
TZOFFSETTO:-0400
TZNAME:EDT
DTSTART:20270314T070000
END:DAYLIGHT
BEGIN:STANDARD
TZOFFSETFROM:-0400
TZOFFSETTO:-0500
TZNAME:EST
DTSTART:20271107T060000
END:STANDARD
END:VTIMEZONE
BEGIN:VEVENT
DTSTART;TZID=America/New_York:20260827T190000
DTEND;TZID=America/New_York:20260827T190000
DTSTAMP:20260419T205218
CREATED:20260105T003203Z
LAST-MODIFIED:20260105T053946Z
UID:10010696-1787857200-1787857200@epictriviafl.com
SUMMARY:Trivia
DESCRIPTION:
URL:https://epictriviafl.com/event/trivia-dicks/2026-08-27/
LOCATION:Dick’s Last Resort\, 9101 International Dr\, Unit 1300 Orlando\, FL 32819 USA
GEO:28.432983;-81.4698175
X-APPLE-STRUCTURED-LOCATION;VALUE=URI;X-ADDRESS=Dick’s Last Resort 9101 International Dr Unit 1300 Orlando FL 32819 USA;X-APPLE-RADIUS=500;X-TITLE=9101 International Dr\, Unit 1300 Orlando\, FL 32819 USA:geo:-81.4698175,28.432983
END:VEVENT
BEGIN:VEVENT
DTSTART;TZID=America/New_York:20260830T130000
DTEND;TZID=America/New_York:20260830T130000
DTSTAMP:20260419T205218
CREATED:20260105T003248Z
LAST-MODIFIED:20260105T060144Z
UID:10020577-1788094800-1788094800@epictriviafl.com
SUMMARY:Music Bingo
DESCRIPTION:
URL:https://epictriviafl.com/event/music-bingo-dicks/2026-08-30/
LOCATION:Dick’s Last Resort\, 9101 International Dr\, Unit 1300 Orlando\, FL 32819 USA
GEO:28.432983;-81.4698175
X-APPLE-STRUCTURED-LOCATION;VALUE=URI;X-ADDRESS=Dick’s Last Resort 9101 International Dr Unit 1300 Orlando FL 32819 USA;X-APPLE-RADIUS=500;X-TITLE=9101 International Dr\, Unit 1300 Orlando\, FL 32819 USA:geo:-81.4698175,28.432983
END:VEVENT
BEGIN:VEVENT
DTSTART;TZID=America/New_York:20260903T190000
DTEND;TZID=America/New_York:20260903T190000
DTSTAMP:20260419T205219
CREATED:20260105T003203Z
LAST-MODIFIED:20260105T053946Z
UID:10010697-1788462000-1788462000@epictriviafl.com
SUMMARY:Trivia
DESCRIPTION:
URL:https://epictriviafl.com/event/trivia-dicks/2026-09-03/
LOCATION:Dick’s Last Resort\, 9101 International Dr\, Unit 1300 Orlando\, FL 32819 USA
GEO:28.432983;-81.4698175
X-APPLE-STRUCTURED-LOCATION;VALUE=URI;X-ADDRESS=Dick’s Last Resort 9101 International Dr Unit 1300 Orlando FL 32819 USA;X-APPLE-RADIUS=500;X-TITLE=9101 International Dr\, Unit 1300 Orlando\, FL 32819 USA:geo:-81.4698175,28.432983
END:VEVENT
BEGIN:VEVENT
DTSTART;TZID=America/New_York:20260906T130000
DTEND;TZID=America/New_York:20260906T130000
DTSTAMP:20260419T205219
CREATED:20260105T003248Z
LAST-MODIFIED:20260105T060144Z
UID:10020578-1788699600-1788699600@epictriviafl.com
SUMMARY:Music Bingo
DESCRIPTION:
URL:https://epictriviafl.com/event/music-bingo-dicks/2026-09-06/
LOCATION:Dick’s Last Resort\, 9101 International Dr\, Unit 1300 Orlando\, FL 32819 USA
GEO:28.432983;-81.4698175
X-APPLE-STRUCTURED-LOCATION;VALUE=URI;X-ADDRESS=Dick’s Last Resort 9101 International Dr Unit 1300 Orlando FL 32819 USA;X-APPLE-RADIUS=500;X-TITLE=9101 International Dr\, Unit 1300 Orlando\, FL 32819 USA:geo:-81.4698175,28.432983
END:VEVENT
BEGIN:VEVENT
DTSTART;TZID=America/New_York:20260910T190000
DTEND;TZID=America/New_York:20260910T190000
DTSTAMP:20260419T205219
CREATED:20260105T003203Z
LAST-MODIFIED:20260105T053946Z
UID:10010698-1789066800-1789066800@epictriviafl.com
SUMMARY:Trivia
DESCRIPTION:
URL:https://epictriviafl.com/event/trivia-dicks/2026-09-10/
LOCATION:Dick’s Last Resort\, 9101 International Dr\, Unit 1300 Orlando\, FL 32819 USA
GEO:28.432983;-81.4698175
X-APPLE-STRUCTURED-LOCATION;VALUE=URI;X-ADDRESS=Dick’s Last Resort 9101 International Dr Unit 1300 Orlando FL 32819 USA;X-APPLE-RADIUS=500;X-TITLE=9101 International Dr\, Unit 1300 Orlando\, FL 32819 USA:geo:-81.4698175,28.432983
END:VEVENT
BEGIN:VEVENT
DTSTART;TZID=America/New_York:20260913T130000
DTEND;TZID=America/New_York:20260913T130000
DTSTAMP:20260419T205219
CREATED:20260105T003248Z
LAST-MODIFIED:20260105T060144Z
UID:10020579-1789304400-1789304400@epictriviafl.com
SUMMARY:Music Bingo
DESCRIPTION:
URL:https://epictriviafl.com/event/music-bingo-dicks/2026-09-13/
LOCATION:Dick’s Last Resort\, 9101 International Dr\, Unit 1300 Orlando\, FL 32819 USA
GEO:28.432983;-81.4698175
X-APPLE-STRUCTURED-LOCATION;VALUE=URI;X-ADDRESS=Dick’s Last Resort 9101 International Dr Unit 1300 Orlando FL 32819 USA;X-APPLE-RADIUS=500;X-TITLE=9101 International Dr\, Unit 1300 Orlando\, FL 32819 USA:geo:-81.4698175,28.432983
END:VEVENT
BEGIN:VEVENT
DTSTART;TZID=America/New_York:20260917T190000
DTEND;TZID=America/New_York:20260917T190000
DTSTAMP:20260419T205219
CREATED:20260105T003203Z
LAST-MODIFIED:20260105T053946Z
UID:10010699-1789671600-1789671600@epictriviafl.com
SUMMARY:Trivia
DESCRIPTION:
URL:https://epictriviafl.com/event/trivia-dicks/2026-09-17/
LOCATION:Dick’s Last Resort\, 9101 International Dr\, Unit 1300 Orlando\, FL 32819 USA
GEO:28.432983;-81.4698175
X-APPLE-STRUCTURED-LOCATION;VALUE=URI;X-ADDRESS=Dick’s Last Resort 9101 International Dr Unit 1300 Orlando FL 32819 USA;X-APPLE-RADIUS=500;X-TITLE=9101 International Dr\, Unit 1300 Orlando\, FL 32819 USA:geo:-81.4698175,28.432983
END:VEVENT
BEGIN:VEVENT
DTSTART;TZID=America/New_York:20260920T130000
DTEND;TZID=America/New_York:20260920T130000
DTSTAMP:20260419T205219
CREATED:20260105T003248Z
LAST-MODIFIED:20260105T060144Z
UID:10020580-1789909200-1789909200@epictriviafl.com
SUMMARY:Music Bingo
DESCRIPTION:
URL:https://epictriviafl.com/event/music-bingo-dicks/2026-09-20/
LOCATION:Dick’s Last Resort\, 9101 International Dr\, Unit 1300 Orlando\, FL 32819 USA
GEO:28.432983;-81.4698175
X-APPLE-STRUCTURED-LOCATION;VALUE=URI;X-ADDRESS=Dick’s Last Resort 9101 International Dr Unit 1300 Orlando FL 32819 USA;X-APPLE-RADIUS=500;X-TITLE=9101 International Dr\, Unit 1300 Orlando\, FL 32819 USA:geo:-81.4698175,28.432983
END:VEVENT
BEGIN:VEVENT
DTSTART;TZID=America/New_York:20260924T190000
DTEND;TZID=America/New_York:20260924T190000
DTSTAMP:20260419T205219
CREATED:20260105T003203Z
LAST-MODIFIED:20260105T053946Z
UID:10010700-1790276400-1790276400@epictriviafl.com
SUMMARY:Trivia
DESCRIPTION:
URL:https://epictriviafl.com/event/trivia-dicks/2026-09-24/
LOCATION:Dick’s Last Resort\, 9101 International Dr\, Unit 1300 Orlando\, FL 32819 USA
GEO:28.432983;-81.4698175
X-APPLE-STRUCTURED-LOCATION;VALUE=URI;X-ADDRESS=Dick’s Last Resort 9101 International Dr Unit 1300 Orlando FL 32819 USA;X-APPLE-RADIUS=500;X-TITLE=9101 International Dr\, Unit 1300 Orlando\, FL 32819 USA:geo:-81.4698175,28.432983
END:VEVENT
BEGIN:VEVENT
DTSTART;TZID=America/New_York:20260927T130000
DTEND;TZID=America/New_York:20260927T130000
DTSTAMP:20260419T205219
CREATED:20260105T003248Z
LAST-MODIFIED:20260105T060144Z
UID:10020581-1790514000-1790514000@epictriviafl.com
SUMMARY:Music Bingo
DESCRIPTION:
URL:https://epictriviafl.com/event/music-bingo-dicks/2026-09-27/
LOCATION:Dick’s Last Resort\, 9101 International Dr\, Unit 1300 Orlando\, FL 32819 USA
GEO:28.432983;-81.4698175
X-APPLE-STRUCTURED-LOCATION;VALUE=URI;X-ADDRESS=Dick’s Last Resort 9101 International Dr Unit 1300 Orlando FL 32819 USA;X-APPLE-RADIUS=500;X-TITLE=9101 International Dr\, Unit 1300 Orlando\, FL 32819 USA:geo:-81.4698175,28.432983
END:VEVENT
BEGIN:VEVENT
DTSTART;TZID=America/New_York:20261001T190000
DTEND;TZID=America/New_York:20261001T190000
DTSTAMP:20260419T205219
CREATED:20260105T003203Z
LAST-MODIFIED:20260105T053946Z
UID:10010701-1790881200-1790881200@epictriviafl.com
SUMMARY:Trivia
DESCRIPTION:
URL:https://epictriviafl.com/event/trivia-dicks/2026-10-01/
LOCATION:Dick’s Last Resort\, 9101 International Dr\, Unit 1300 Orlando\, FL 32819 USA
GEO:28.432983;-81.4698175
X-APPLE-STRUCTURED-LOCATION;VALUE=URI;X-ADDRESS=Dick’s Last Resort 9101 International Dr Unit 1300 Orlando FL 32819 USA;X-APPLE-RADIUS=500;X-TITLE=9101 International Dr\, Unit 1300 Orlando\, FL 32819 USA:geo:-81.4698175,28.432983
END:VEVENT
BEGIN:VEVENT
DTSTART;TZID=America/New_York:20261004T130000
DTEND;TZID=America/New_York:20261004T130000
DTSTAMP:20260419T205219
CREATED:20260105T003248Z
LAST-MODIFIED:20260105T060144Z
UID:10020582-1791118800-1791118800@epictriviafl.com
SUMMARY:Music Bingo
DESCRIPTION:
URL:https://epictriviafl.com/event/music-bingo-dicks/2026-10-04/
LOCATION:Dick’s Last Resort\, 9101 International Dr\, Unit 1300 Orlando\, FL 32819 USA
GEO:28.432983;-81.4698175
X-APPLE-STRUCTURED-LOCATION;VALUE=URI;X-ADDRESS=Dick’s Last Resort 9101 International Dr Unit 1300 Orlando FL 32819 USA;X-APPLE-RADIUS=500;X-TITLE=9101 International Dr\, Unit 1300 Orlando\, FL 32819 USA:geo:-81.4698175,28.432983
END:VEVENT
BEGIN:VEVENT
DTSTART;TZID=America/New_York:20261008T190000
DTEND;TZID=America/New_York:20261008T190000
DTSTAMP:20260419T205219
CREATED:20260105T003203Z
LAST-MODIFIED:20260105T053946Z
UID:10010702-1791486000-1791486000@epictriviafl.com
SUMMARY:Trivia
DESCRIPTION:
URL:https://epictriviafl.com/event/trivia-dicks/2026-10-08/
LOCATION:Dick’s Last Resort\, 9101 International Dr\, Unit 1300 Orlando\, FL 32819 USA
GEO:28.432983;-81.4698175
X-APPLE-STRUCTURED-LOCATION;VALUE=URI;X-ADDRESS=Dick’s Last Resort 9101 International Dr Unit 1300 Orlando FL 32819 USA;X-APPLE-RADIUS=500;X-TITLE=9101 International Dr\, Unit 1300 Orlando\, FL 32819 USA:geo:-81.4698175,28.432983
END:VEVENT
BEGIN:VEVENT
DTSTART;TZID=America/New_York:20261011T130000
DTEND;TZID=America/New_York:20261011T130000
DTSTAMP:20260419T205219
CREATED:20260105T003248Z
LAST-MODIFIED:20260105T060144Z
UID:10020583-1791723600-1791723600@epictriviafl.com
SUMMARY:Music Bingo
DESCRIPTION:
URL:https://epictriviafl.com/event/music-bingo-dicks/2026-10-11/
LOCATION:Dick’s Last Resort\, 9101 International Dr\, Unit 1300 Orlando\, FL 32819 USA
GEO:28.432983;-81.4698175
X-APPLE-STRUCTURED-LOCATION;VALUE=URI;X-ADDRESS=Dick’s Last Resort 9101 International Dr Unit 1300 Orlando FL 32819 USA;X-APPLE-RADIUS=500;X-TITLE=9101 International Dr\, Unit 1300 Orlando\, FL 32819 USA:geo:-81.4698175,28.432983
END:VEVENT
BEGIN:VEVENT
DTSTART;TZID=America/New_York:20261015T190000
DTEND;TZID=America/New_York:20261015T190000
DTSTAMP:20260419T205219
CREATED:20260105T003203Z
LAST-MODIFIED:20260105T053946Z
UID:10010703-1792090800-1792090800@epictriviafl.com
SUMMARY:Trivia
DESCRIPTION:
URL:https://epictriviafl.com/event/trivia-dicks/2026-10-15/
LOCATION:Dick’s Last Resort\, 9101 International Dr\, Unit 1300 Orlando\, FL 32819 USA
GEO:28.432983;-81.4698175
X-APPLE-STRUCTURED-LOCATION;VALUE=URI;X-ADDRESS=Dick’s Last Resort 9101 International Dr Unit 1300 Orlando FL 32819 USA;X-APPLE-RADIUS=500;X-TITLE=9101 International Dr\, Unit 1300 Orlando\, FL 32819 USA:geo:-81.4698175,28.432983
END:VEVENT
BEGIN:VEVENT
DTSTART;TZID=America/New_York:20261018T130000
DTEND;TZID=America/New_York:20261018T130000
DTSTAMP:20260419T205219
CREATED:20260105T003248Z
LAST-MODIFIED:20260105T060144Z
UID:10020584-1792328400-1792328400@epictriviafl.com
SUMMARY:Music Bingo
DESCRIPTION:
URL:https://epictriviafl.com/event/music-bingo-dicks/2026-10-18/
LOCATION:Dick’s Last Resort\, 9101 International Dr\, Unit 1300 Orlando\, FL 32819 USA
GEO:28.432983;-81.4698175
X-APPLE-STRUCTURED-LOCATION;VALUE=URI;X-ADDRESS=Dick’s Last Resort 9101 International Dr Unit 1300 Orlando FL 32819 USA;X-APPLE-RADIUS=500;X-TITLE=9101 International Dr\, Unit 1300 Orlando\, FL 32819 USA:geo:-81.4698175,28.432983
END:VEVENT
BEGIN:VEVENT
DTSTART;TZID=America/New_York:20261022T190000
DTEND;TZID=America/New_York:20261022T190000
DTSTAMP:20260419T205219
CREATED:20260105T003203Z
LAST-MODIFIED:20260105T053946Z
UID:10010704-1792695600-1792695600@epictriviafl.com
SUMMARY:Trivia
DESCRIPTION:
URL:https://epictriviafl.com/event/trivia-dicks/2026-10-22/
LOCATION:Dick’s Last Resort\, 9101 International Dr\, Unit 1300 Orlando\, FL 32819 USA
GEO:28.432983;-81.4698175
X-APPLE-STRUCTURED-LOCATION;VALUE=URI;X-ADDRESS=Dick’s Last Resort 9101 International Dr Unit 1300 Orlando FL 32819 USA;X-APPLE-RADIUS=500;X-TITLE=9101 International Dr\, Unit 1300 Orlando\, FL 32819 USA:geo:-81.4698175,28.432983
END:VEVENT
BEGIN:VEVENT
DTSTART;TZID=America/New_York:20261025T130000
DTEND;TZID=America/New_York:20261025T130000
DTSTAMP:20260419T205219
CREATED:20260105T003248Z
LAST-MODIFIED:20260105T060144Z
UID:10020585-1792933200-1792933200@epictriviafl.com
SUMMARY:Music Bingo
DESCRIPTION:
URL:https://epictriviafl.com/event/music-bingo-dicks/2026-10-25/
LOCATION:Dick’s Last Resort\, 9101 International Dr\, Unit 1300 Orlando\, FL 32819 USA
GEO:28.432983;-81.4698175
X-APPLE-STRUCTURED-LOCATION;VALUE=URI;X-ADDRESS=Dick’s Last Resort 9101 International Dr Unit 1300 Orlando FL 32819 USA;X-APPLE-RADIUS=500;X-TITLE=9101 International Dr\, Unit 1300 Orlando\, FL 32819 USA:geo:-81.4698175,28.432983
END:VEVENT
BEGIN:VEVENT
DTSTART;TZID=America/New_York:20261029T190000
DTEND;TZID=America/New_York:20261029T190000
DTSTAMP:20260419T205219
CREATED:20260105T003203Z
LAST-MODIFIED:20260105T053946Z
UID:10010705-1793300400-1793300400@epictriviafl.com
SUMMARY:Trivia
DESCRIPTION:
URL:https://epictriviafl.com/event/trivia-dicks/2026-10-29/
LOCATION:Dick’s Last Resort\, 9101 International Dr\, Unit 1300 Orlando\, FL 32819 USA
GEO:28.432983;-81.4698175
X-APPLE-STRUCTURED-LOCATION;VALUE=URI;X-ADDRESS=Dick’s Last Resort 9101 International Dr Unit 1300 Orlando FL 32819 USA;X-APPLE-RADIUS=500;X-TITLE=9101 International Dr\, Unit 1300 Orlando\, FL 32819 USA:geo:-81.4698175,28.432983
END:VEVENT
BEGIN:VEVENT
DTSTART;TZID=America/New_York:20261101T130000
DTEND;TZID=America/New_York:20261101T130000
DTSTAMP:20260419T205219
CREATED:20260105T003248Z
LAST-MODIFIED:20260105T060144Z
UID:10020586-1793538000-1793538000@epictriviafl.com
SUMMARY:Music Bingo
DESCRIPTION:
URL:https://epictriviafl.com/event/music-bingo-dicks/2026-11-01/
LOCATION:Dick’s Last Resort\, 9101 International Dr\, Unit 1300 Orlando\, FL 32819 USA
GEO:28.432983;-81.4698175
X-APPLE-STRUCTURED-LOCATION;VALUE=URI;X-ADDRESS=Dick’s Last Resort 9101 International Dr Unit 1300 Orlando FL 32819 USA;X-APPLE-RADIUS=500;X-TITLE=9101 International Dr\, Unit 1300 Orlando\, FL 32819 USA:geo:-81.4698175,28.432983
END:VEVENT
BEGIN:VEVENT
DTSTART;TZID=America/New_York:20261105T190000
DTEND;TZID=America/New_York:20261105T190000
DTSTAMP:20260419T205219
CREATED:20260105T003203Z
LAST-MODIFIED:20260105T053946Z
UID:10010706-1793905200-1793905200@epictriviafl.com
SUMMARY:Trivia
DESCRIPTION:
URL:https://epictriviafl.com/event/trivia-dicks/2026-11-05/
LOCATION:Dick’s Last Resort\, 9101 International Dr\, Unit 1300 Orlando\, FL 32819 USA
GEO:28.432983;-81.4698175
X-APPLE-STRUCTURED-LOCATION;VALUE=URI;X-ADDRESS=Dick’s Last Resort 9101 International Dr Unit 1300 Orlando FL 32819 USA;X-APPLE-RADIUS=500;X-TITLE=9101 International Dr\, Unit 1300 Orlando\, FL 32819 USA:geo:-81.4698175,28.432983
END:VEVENT
BEGIN:VEVENT
DTSTART;TZID=America/New_York:20261108T130000
DTEND;TZID=America/New_York:20261108T130000
DTSTAMP:20260419T205219
CREATED:20260105T003248Z
LAST-MODIFIED:20260105T060144Z
UID:10020587-1794142800-1794142800@epictriviafl.com
SUMMARY:Music Bingo
DESCRIPTION:
URL:https://epictriviafl.com/event/music-bingo-dicks/2026-11-08/
LOCATION:Dick’s Last Resort\, 9101 International Dr\, Unit 1300 Orlando\, FL 32819 USA
GEO:28.432983;-81.4698175
X-APPLE-STRUCTURED-LOCATION;VALUE=URI;X-ADDRESS=Dick’s Last Resort 9101 International Dr Unit 1300 Orlando FL 32819 USA;X-APPLE-RADIUS=500;X-TITLE=9101 International Dr\, Unit 1300 Orlando\, FL 32819 USA:geo:-81.4698175,28.432983
END:VEVENT
BEGIN:VEVENT
DTSTART;TZID=America/New_York:20261112T190000
DTEND;TZID=America/New_York:20261112T190000
DTSTAMP:20260419T205219
CREATED:20260105T003203Z
LAST-MODIFIED:20260105T053946Z
UID:10010707-1794510000-1794510000@epictriviafl.com
SUMMARY:Trivia
DESCRIPTION:
URL:https://epictriviafl.com/event/trivia-dicks/2026-11-12/
LOCATION:Dick’s Last Resort\, 9101 International Dr\, Unit 1300 Orlando\, FL 32819 USA
GEO:28.432983;-81.4698175
X-APPLE-STRUCTURED-LOCATION;VALUE=URI;X-ADDRESS=Dick’s Last Resort 9101 International Dr Unit 1300 Orlando FL 32819 USA;X-APPLE-RADIUS=500;X-TITLE=9101 International Dr\, Unit 1300 Orlando\, FL 32819 USA:geo:-81.4698175,28.432983
END:VEVENT
BEGIN:VEVENT
DTSTART;TZID=America/New_York:20261115T130000
DTEND;TZID=America/New_York:20261115T130000
DTSTAMP:20260419T205219
CREATED:20260105T003248Z
LAST-MODIFIED:20260105T060144Z
UID:10020588-1794747600-1794747600@epictriviafl.com
SUMMARY:Music Bingo
DESCRIPTION:
URL:https://epictriviafl.com/event/music-bingo-dicks/2026-11-15/
LOCATION:Dick’s Last Resort\, 9101 International Dr\, Unit 1300 Orlando\, FL 32819 USA
GEO:28.432983;-81.4698175
X-APPLE-STRUCTURED-LOCATION;VALUE=URI;X-ADDRESS=Dick’s Last Resort 9101 International Dr Unit 1300 Orlando FL 32819 USA;X-APPLE-RADIUS=500;X-TITLE=9101 International Dr\, Unit 1300 Orlando\, FL 32819 USA:geo:-81.4698175,28.432983
END:VEVENT
BEGIN:VEVENT
DTSTART;TZID=America/New_York:20261119T190000
DTEND;TZID=America/New_York:20261119T190000
DTSTAMP:20260419T205219
CREATED:20260105T003203Z
LAST-MODIFIED:20260105T053946Z
UID:10010708-1795114800-1795114800@epictriviafl.com
SUMMARY:Trivia
DESCRIPTION:
URL:https://epictriviafl.com/event/trivia-dicks/2026-11-19/
LOCATION:Dick’s Last Resort\, 9101 International Dr\, Unit 1300 Orlando\, FL 32819 USA
GEO:28.432983;-81.4698175
X-APPLE-STRUCTURED-LOCATION;VALUE=URI;X-ADDRESS=Dick’s Last Resort 9101 International Dr Unit 1300 Orlando FL 32819 USA;X-APPLE-RADIUS=500;X-TITLE=9101 International Dr\, Unit 1300 Orlando\, FL 32819 USA:geo:-81.4698175,28.432983
END:VEVENT
BEGIN:VEVENT
DTSTART;TZID=America/New_York:20261122T130000
DTEND;TZID=America/New_York:20261122T130000
DTSTAMP:20260419T205219
CREATED:20260105T003248Z
LAST-MODIFIED:20260105T060144Z
UID:10020589-1795352400-1795352400@epictriviafl.com
SUMMARY:Music Bingo
DESCRIPTION:
URL:https://epictriviafl.com/event/music-bingo-dicks/2026-11-22/
LOCATION:Dick’s Last Resort\, 9101 International Dr\, Unit 1300 Orlando\, FL 32819 USA
GEO:28.432983;-81.4698175
X-APPLE-STRUCTURED-LOCATION;VALUE=URI;X-ADDRESS=Dick’s Last Resort 9101 International Dr Unit 1300 Orlando FL 32819 USA;X-APPLE-RADIUS=500;X-TITLE=9101 International Dr\, Unit 1300 Orlando\, FL 32819 USA:geo:-81.4698175,28.432983
END:VEVENT
BEGIN:VEVENT
DTSTART;TZID=America/New_York:20261126T190000
DTEND;TZID=America/New_York:20261126T190000
DTSTAMP:20260419T205219
CREATED:20260105T003203Z
LAST-MODIFIED:20260105T053946Z
UID:10010709-1795719600-1795719600@epictriviafl.com
SUMMARY:Trivia
DESCRIPTION:
URL:https://epictriviafl.com/event/trivia-dicks/2026-11-26/
LOCATION:Dick’s Last Resort\, 9101 International Dr\, Unit 1300 Orlando\, FL 32819 USA
GEO:28.432983;-81.4698175
X-APPLE-STRUCTURED-LOCATION;VALUE=URI;X-ADDRESS=Dick’s Last Resort 9101 International Dr Unit 1300 Orlando FL 32819 USA;X-APPLE-RADIUS=500;X-TITLE=9101 International Dr\, Unit 1300 Orlando\, FL 32819 USA:geo:-81.4698175,28.432983
END:VEVENT
BEGIN:VEVENT
DTSTART;TZID=America/New_York:20261129T130000
DTEND;TZID=America/New_York:20261129T130000
DTSTAMP:20260419T205219
CREATED:20260105T003248Z
LAST-MODIFIED:20260105T060144Z
UID:10020590-1795957200-1795957200@epictriviafl.com
SUMMARY:Music Bingo
DESCRIPTION:
URL:https://epictriviafl.com/event/music-bingo-dicks/2026-11-29/
LOCATION:Dick’s Last Resort\, 9101 International Dr\, Unit 1300 Orlando\, FL 32819 USA
GEO:28.432983;-81.4698175
X-APPLE-STRUCTURED-LOCATION;VALUE=URI;X-ADDRESS=Dick’s Last Resort 9101 International Dr Unit 1300 Orlando FL 32819 USA;X-APPLE-RADIUS=500;X-TITLE=9101 International Dr\, Unit 1300 Orlando\, FL 32819 USA:geo:-81.4698175,28.432983
END:VEVENT
BEGIN:VEVENT
DTSTART;TZID=America/New_York:20261203T190000
DTEND;TZID=America/New_York:20261203T190000
DTSTAMP:20260419T205219
CREATED:20260105T003203Z
LAST-MODIFIED:20260105T053946Z
UID:10010710-1796324400-1796324400@epictriviafl.com
SUMMARY:Trivia
DESCRIPTION:
URL:https://epictriviafl.com/event/trivia-dicks/2026-12-03/
LOCATION:Dick’s Last Resort\, 9101 International Dr\, Unit 1300 Orlando\, FL 32819 USA
GEO:28.432983;-81.4698175
X-APPLE-STRUCTURED-LOCATION;VALUE=URI;X-ADDRESS=Dick’s Last Resort 9101 International Dr Unit 1300 Orlando FL 32819 USA;X-APPLE-RADIUS=500;X-TITLE=9101 International Dr\, Unit 1300 Orlando\, FL 32819 USA:geo:-81.4698175,28.432983
END:VEVENT
BEGIN:VEVENT
DTSTART;TZID=America/New_York:20261206T130000
DTEND;TZID=America/New_York:20261206T130000
DTSTAMP:20260419T205219
CREATED:20260105T003248Z
LAST-MODIFIED:20260105T060144Z
UID:10020591-1796562000-1796562000@epictriviafl.com
SUMMARY:Music Bingo
DESCRIPTION:
URL:https://epictriviafl.com/event/music-bingo-dicks/2026-12-06/
LOCATION:Dick’s Last Resort\, 9101 International Dr\, Unit 1300 Orlando\, FL 32819 USA
GEO:28.432983;-81.4698175
X-APPLE-STRUCTURED-LOCATION;VALUE=URI;X-ADDRESS=Dick’s Last Resort 9101 International Dr Unit 1300 Orlando FL 32819 USA;X-APPLE-RADIUS=500;X-TITLE=9101 International Dr\, Unit 1300 Orlando\, FL 32819 USA:geo:-81.4698175,28.432983
END:VEVENT
END:VCALENDAR