BEGIN:VCALENDAR
VERSION:2.0
PRODID:-//Epic Trivia - ECPv6.15.18//NONSGML v1.0//EN
CALSCALE:GREGORIAN
METHOD:PUBLISH
X-ORIGINAL-URL:https://epictriviafl.com
X-WR-CALDESC:Events for Epic Trivia
REFRESH-INTERVAL;VALUE=DURATION:PT1H
X-Robots-Tag:noindex
X-PUBLISHED-TTL:PT1H
BEGIN:VTIMEZONE
TZID:America/New_York
BEGIN:DAYLIGHT
TZOFFSETFROM:-0500
TZOFFSETTO:-0400
TZNAME:EDT
DTSTART:20290311T070000
END:DAYLIGHT
BEGIN:STANDARD
TZOFFSETFROM:-0400
TZOFFSETTO:-0500
TZNAME:EST
DTSTART:20291104T060000
END:STANDARD
BEGIN:DAYLIGHT
TZOFFSETFROM:-0500
TZOFFSETTO:-0400
TZNAME:EDT
DTSTART:20300310T070000
END:DAYLIGHT
BEGIN:STANDARD
TZOFFSETFROM:-0400
TZOFFSETTO:-0500
TZNAME:EST
DTSTART:20301103T060000
END:STANDARD
BEGIN:DAYLIGHT
TZOFFSETFROM:-0500
TZOFFSETTO:-0400
TZNAME:EDT
DTSTART:20310309T070000
END:DAYLIGHT
BEGIN:STANDARD
TZOFFSETFROM:-0400
TZOFFSETTO:-0500
TZNAME:EST
DTSTART:20311102T060000
END:STANDARD
END:VTIMEZONE
BEGIN:VEVENT
DTSTART;TZID=America/New_York:20300321T190000
DTEND;TZID=America/New_York:20300321T190000
DTSTAMP:20260421T222338
CREATED:20260105T003203Z
LAST-MODIFIED:20260105T053946Z
UID:10010882-1900350000-1900350000@epictriviafl.com
SUMMARY:Trivia
DESCRIPTION:
URL:https://epictriviafl.com/event/trivia-dicks/2030-03-21/
LOCATION:Dick’s Last Resort\, 9101 International Dr\, Unit 1300 Orlando\, FL 32819 USA
GEO:28.432983;-81.4698175
X-APPLE-STRUCTURED-LOCATION;VALUE=URI;X-ADDRESS=Dick’s Last Resort 9101 International Dr Unit 1300 Orlando FL 32819 USA;X-APPLE-RADIUS=500;X-TITLE=9101 International Dr\, Unit 1300 Orlando\, FL 32819 USA:geo:-81.4698175,28.432983
END:VEVENT
BEGIN:VEVENT
DTSTART;TZID=America/New_York:20300324T130000
DTEND;TZID=America/New_York:20300324T130000
DTSTAMP:20260421T222338
CREATED:20260105T003248Z
LAST-MODIFIED:20260105T060144Z
UID:10020763-1900587600-1900587600@epictriviafl.com
SUMMARY:Music Bingo
DESCRIPTION:
URL:https://epictriviafl.com/event/music-bingo-dicks/2030-03-24/
LOCATION:Dick’s Last Resort\, 9101 International Dr\, Unit 1300 Orlando\, FL 32819 USA
GEO:28.432983;-81.4698175
X-APPLE-STRUCTURED-LOCATION;VALUE=URI;X-ADDRESS=Dick’s Last Resort 9101 International Dr Unit 1300 Orlando FL 32819 USA;X-APPLE-RADIUS=500;X-TITLE=9101 International Dr\, Unit 1300 Orlando\, FL 32819 USA:geo:-81.4698175,28.432983
END:VEVENT
BEGIN:VEVENT
DTSTART;TZID=America/New_York:20300328T190000
DTEND;TZID=America/New_York:20300328T190000
DTSTAMP:20260421T222338
CREATED:20260105T003203Z
LAST-MODIFIED:20260105T053946Z
UID:10010883-1900954800-1900954800@epictriviafl.com
SUMMARY:Trivia
DESCRIPTION:
URL:https://epictriviafl.com/event/trivia-dicks/2030-03-28/
LOCATION:Dick’s Last Resort\, 9101 International Dr\, Unit 1300 Orlando\, FL 32819 USA
GEO:28.432983;-81.4698175
X-APPLE-STRUCTURED-LOCATION;VALUE=URI;X-ADDRESS=Dick’s Last Resort 9101 International Dr Unit 1300 Orlando FL 32819 USA;X-APPLE-RADIUS=500;X-TITLE=9101 International Dr\, Unit 1300 Orlando\, FL 32819 USA:geo:-81.4698175,28.432983
END:VEVENT
BEGIN:VEVENT
DTSTART;TZID=America/New_York:20300331T130000
DTEND;TZID=America/New_York:20300331T130000
DTSTAMP:20260421T222338
CREATED:20260105T003248Z
LAST-MODIFIED:20260105T060144Z
UID:10020764-1901192400-1901192400@epictriviafl.com
SUMMARY:Music Bingo
DESCRIPTION:
URL:https://epictriviafl.com/event/music-bingo-dicks/2030-03-31/
LOCATION:Dick’s Last Resort\, 9101 International Dr\, Unit 1300 Orlando\, FL 32819 USA
GEO:28.432983;-81.4698175
X-APPLE-STRUCTURED-LOCATION;VALUE=URI;X-ADDRESS=Dick’s Last Resort 9101 International Dr Unit 1300 Orlando FL 32819 USA;X-APPLE-RADIUS=500;X-TITLE=9101 International Dr\, Unit 1300 Orlando\, FL 32819 USA:geo:-81.4698175,28.432983
END:VEVENT
BEGIN:VEVENT
DTSTART;TZID=America/New_York:20300404T190000
DTEND;TZID=America/New_York:20300404T190000
DTSTAMP:20260421T222338
CREATED:20260105T003203Z
LAST-MODIFIED:20260105T053946Z
UID:10010884-1901559600-1901559600@epictriviafl.com
SUMMARY:Trivia
DESCRIPTION:
URL:https://epictriviafl.com/event/trivia-dicks/2030-04-04/
LOCATION:Dick’s Last Resort\, 9101 International Dr\, Unit 1300 Orlando\, FL 32819 USA
GEO:28.432983;-81.4698175
X-APPLE-STRUCTURED-LOCATION;VALUE=URI;X-ADDRESS=Dick’s Last Resort 9101 International Dr Unit 1300 Orlando FL 32819 USA;X-APPLE-RADIUS=500;X-TITLE=9101 International Dr\, Unit 1300 Orlando\, FL 32819 USA:geo:-81.4698175,28.432983
END:VEVENT
BEGIN:VEVENT
DTSTART;TZID=America/New_York:20300407T130000
DTEND;TZID=America/New_York:20300407T130000
DTSTAMP:20260421T222338
CREATED:20260105T003248Z
LAST-MODIFIED:20260105T060144Z
UID:10020765-1901797200-1901797200@epictriviafl.com
SUMMARY:Music Bingo
DESCRIPTION:
URL:https://epictriviafl.com/event/music-bingo-dicks/2030-04-07/
LOCATION:Dick’s Last Resort\, 9101 International Dr\, Unit 1300 Orlando\, FL 32819 USA
GEO:28.432983;-81.4698175
X-APPLE-STRUCTURED-LOCATION;VALUE=URI;X-ADDRESS=Dick’s Last Resort 9101 International Dr Unit 1300 Orlando FL 32819 USA;X-APPLE-RADIUS=500;X-TITLE=9101 International Dr\, Unit 1300 Orlando\, FL 32819 USA:geo:-81.4698175,28.432983
END:VEVENT
BEGIN:VEVENT
DTSTART;TZID=America/New_York:20300411T190000
DTEND;TZID=America/New_York:20300411T190000
DTSTAMP:20260421T222338
CREATED:20260105T003203Z
LAST-MODIFIED:20260105T053946Z
UID:10010885-1902164400-1902164400@epictriviafl.com
SUMMARY:Trivia
DESCRIPTION:
URL:https://epictriviafl.com/event/trivia-dicks/2030-04-11/
LOCATION:Dick’s Last Resort\, 9101 International Dr\, Unit 1300 Orlando\, FL 32819 USA
GEO:28.432983;-81.4698175
X-APPLE-STRUCTURED-LOCATION;VALUE=URI;X-ADDRESS=Dick’s Last Resort 9101 International Dr Unit 1300 Orlando FL 32819 USA;X-APPLE-RADIUS=500;X-TITLE=9101 International Dr\, Unit 1300 Orlando\, FL 32819 USA:geo:-81.4698175,28.432983
END:VEVENT
BEGIN:VEVENT
DTSTART;TZID=America/New_York:20300414T130000
DTEND;TZID=America/New_York:20300414T130000
DTSTAMP:20260421T222338
CREATED:20260105T003248Z
LAST-MODIFIED:20260105T060144Z
UID:10020766-1902402000-1902402000@epictriviafl.com
SUMMARY:Music Bingo
DESCRIPTION:
URL:https://epictriviafl.com/event/music-bingo-dicks/2030-04-14/
LOCATION:Dick’s Last Resort\, 9101 International Dr\, Unit 1300 Orlando\, FL 32819 USA
GEO:28.432983;-81.4698175
X-APPLE-STRUCTURED-LOCATION;VALUE=URI;X-ADDRESS=Dick’s Last Resort 9101 International Dr Unit 1300 Orlando FL 32819 USA;X-APPLE-RADIUS=500;X-TITLE=9101 International Dr\, Unit 1300 Orlando\, FL 32819 USA:geo:-81.4698175,28.432983
END:VEVENT
BEGIN:VEVENT
DTSTART;TZID=America/New_York:20300418T190000
DTEND;TZID=America/New_York:20300418T190000
DTSTAMP:20260421T222338
CREATED:20260105T003203Z
LAST-MODIFIED:20260105T053946Z
UID:10010886-1902769200-1902769200@epictriviafl.com
SUMMARY:Trivia
DESCRIPTION:
URL:https://epictriviafl.com/event/trivia-dicks/2030-04-18/
LOCATION:Dick’s Last Resort\, 9101 International Dr\, Unit 1300 Orlando\, FL 32819 USA
GEO:28.432983;-81.4698175
X-APPLE-STRUCTURED-LOCATION;VALUE=URI;X-ADDRESS=Dick’s Last Resort 9101 International Dr Unit 1300 Orlando FL 32819 USA;X-APPLE-RADIUS=500;X-TITLE=9101 International Dr\, Unit 1300 Orlando\, FL 32819 USA:geo:-81.4698175,28.432983
END:VEVENT
BEGIN:VEVENT
DTSTART;TZID=America/New_York:20300421T130000
DTEND;TZID=America/New_York:20300421T130000
DTSTAMP:20260421T222338
CREATED:20260105T003248Z
LAST-MODIFIED:20260105T060144Z
UID:10020767-1903006800-1903006800@epictriviafl.com
SUMMARY:Music Bingo
DESCRIPTION:
URL:https://epictriviafl.com/event/music-bingo-dicks/2030-04-21/
LOCATION:Dick’s Last Resort\, 9101 International Dr\, Unit 1300 Orlando\, FL 32819 USA
GEO:28.432983;-81.4698175
X-APPLE-STRUCTURED-LOCATION;VALUE=URI;X-ADDRESS=Dick’s Last Resort 9101 International Dr Unit 1300 Orlando FL 32819 USA;X-APPLE-RADIUS=500;X-TITLE=9101 International Dr\, Unit 1300 Orlando\, FL 32819 USA:geo:-81.4698175,28.432983
END:VEVENT
BEGIN:VEVENT
DTSTART;TZID=America/New_York:20300425T190000
DTEND;TZID=America/New_York:20300425T190000
DTSTAMP:20260421T222338
CREATED:20260105T003203Z
LAST-MODIFIED:20260105T053946Z
UID:10010887-1903374000-1903374000@epictriviafl.com
SUMMARY:Trivia
DESCRIPTION:
URL:https://epictriviafl.com/event/trivia-dicks/2030-04-25/
LOCATION:Dick’s Last Resort\, 9101 International Dr\, Unit 1300 Orlando\, FL 32819 USA
GEO:28.432983;-81.4698175
X-APPLE-STRUCTURED-LOCATION;VALUE=URI;X-ADDRESS=Dick’s Last Resort 9101 International Dr Unit 1300 Orlando FL 32819 USA;X-APPLE-RADIUS=500;X-TITLE=9101 International Dr\, Unit 1300 Orlando\, FL 32819 USA:geo:-81.4698175,28.432983
END:VEVENT
BEGIN:VEVENT
DTSTART;TZID=America/New_York:20300428T130000
DTEND;TZID=America/New_York:20300428T130000
DTSTAMP:20260421T222338
CREATED:20260105T003248Z
LAST-MODIFIED:20260105T060144Z
UID:10020768-1903611600-1903611600@epictriviafl.com
SUMMARY:Music Bingo
DESCRIPTION:
URL:https://epictriviafl.com/event/music-bingo-dicks/2030-04-28/
LOCATION:Dick’s Last Resort\, 9101 International Dr\, Unit 1300 Orlando\, FL 32819 USA
GEO:28.432983;-81.4698175
X-APPLE-STRUCTURED-LOCATION;VALUE=URI;X-ADDRESS=Dick’s Last Resort 9101 International Dr Unit 1300 Orlando FL 32819 USA;X-APPLE-RADIUS=500;X-TITLE=9101 International Dr\, Unit 1300 Orlando\, FL 32819 USA:geo:-81.4698175,28.432983
END:VEVENT
BEGIN:VEVENT
DTSTART;TZID=America/New_York:20300502T190000
DTEND;TZID=America/New_York:20300502T190000
DTSTAMP:20260421T222338
CREATED:20260105T003203Z
LAST-MODIFIED:20260105T053946Z
UID:10010888-1903978800-1903978800@epictriviafl.com
SUMMARY:Trivia
DESCRIPTION:
URL:https://epictriviafl.com/event/trivia-dicks/2030-05-02/
LOCATION:Dick’s Last Resort\, 9101 International Dr\, Unit 1300 Orlando\, FL 32819 USA
GEO:28.432983;-81.4698175
X-APPLE-STRUCTURED-LOCATION;VALUE=URI;X-ADDRESS=Dick’s Last Resort 9101 International Dr Unit 1300 Orlando FL 32819 USA;X-APPLE-RADIUS=500;X-TITLE=9101 International Dr\, Unit 1300 Orlando\, FL 32819 USA:geo:-81.4698175,28.432983
END:VEVENT
BEGIN:VEVENT
DTSTART;TZID=America/New_York:20300505T130000
DTEND;TZID=America/New_York:20300505T130000
DTSTAMP:20260421T222338
CREATED:20260105T003248Z
LAST-MODIFIED:20260105T060144Z
UID:10020769-1904216400-1904216400@epictriviafl.com
SUMMARY:Music Bingo
DESCRIPTION:
URL:https://epictriviafl.com/event/music-bingo-dicks/2030-05-05/
LOCATION:Dick’s Last Resort\, 9101 International Dr\, Unit 1300 Orlando\, FL 32819 USA
GEO:28.432983;-81.4698175
X-APPLE-STRUCTURED-LOCATION;VALUE=URI;X-ADDRESS=Dick’s Last Resort 9101 International Dr Unit 1300 Orlando FL 32819 USA;X-APPLE-RADIUS=500;X-TITLE=9101 International Dr\, Unit 1300 Orlando\, FL 32819 USA:geo:-81.4698175,28.432983
END:VEVENT
BEGIN:VEVENT
DTSTART;TZID=America/New_York:20300509T190000
DTEND;TZID=America/New_York:20300509T190000
DTSTAMP:20260421T222338
CREATED:20260105T003203Z
LAST-MODIFIED:20260105T053946Z
UID:10010889-1904583600-1904583600@epictriviafl.com
SUMMARY:Trivia
DESCRIPTION:
URL:https://epictriviafl.com/event/trivia-dicks/2030-05-09/
LOCATION:Dick’s Last Resort\, 9101 International Dr\, Unit 1300 Orlando\, FL 32819 USA
GEO:28.432983;-81.4698175
X-APPLE-STRUCTURED-LOCATION;VALUE=URI;X-ADDRESS=Dick’s Last Resort 9101 International Dr Unit 1300 Orlando FL 32819 USA;X-APPLE-RADIUS=500;X-TITLE=9101 International Dr\, Unit 1300 Orlando\, FL 32819 USA:geo:-81.4698175,28.432983
END:VEVENT
BEGIN:VEVENT
DTSTART;TZID=America/New_York:20300512T130000
DTEND;TZID=America/New_York:20300512T130000
DTSTAMP:20260421T222338
CREATED:20260105T003248Z
LAST-MODIFIED:20260105T060144Z
UID:10020770-1904821200-1904821200@epictriviafl.com
SUMMARY:Music Bingo
DESCRIPTION:
URL:https://epictriviafl.com/event/music-bingo-dicks/2030-05-12/
LOCATION:Dick’s Last Resort\, 9101 International Dr\, Unit 1300 Orlando\, FL 32819 USA
GEO:28.432983;-81.4698175
X-APPLE-STRUCTURED-LOCATION;VALUE=URI;X-ADDRESS=Dick’s Last Resort 9101 International Dr Unit 1300 Orlando FL 32819 USA;X-APPLE-RADIUS=500;X-TITLE=9101 International Dr\, Unit 1300 Orlando\, FL 32819 USA:geo:-81.4698175,28.432983
END:VEVENT
BEGIN:VEVENT
DTSTART;TZID=America/New_York:20300516T190000
DTEND;TZID=America/New_York:20300516T190000
DTSTAMP:20260421T222338
CREATED:20260105T003203Z
LAST-MODIFIED:20260105T053946Z
UID:10010890-1905188400-1905188400@epictriviafl.com
SUMMARY:Trivia
DESCRIPTION:
URL:https://epictriviafl.com/event/trivia-dicks/2030-05-16/
LOCATION:Dick’s Last Resort\, 9101 International Dr\, Unit 1300 Orlando\, FL 32819 USA
GEO:28.432983;-81.4698175
X-APPLE-STRUCTURED-LOCATION;VALUE=URI;X-ADDRESS=Dick’s Last Resort 9101 International Dr Unit 1300 Orlando FL 32819 USA;X-APPLE-RADIUS=500;X-TITLE=9101 International Dr\, Unit 1300 Orlando\, FL 32819 USA:geo:-81.4698175,28.432983
END:VEVENT
BEGIN:VEVENT
DTSTART;TZID=America/New_York:20300519T130000
DTEND;TZID=America/New_York:20300519T130000
DTSTAMP:20260421T222338
CREATED:20260105T003248Z
LAST-MODIFIED:20260105T060144Z
UID:10020771-1905426000-1905426000@epictriviafl.com
SUMMARY:Music Bingo
DESCRIPTION:
URL:https://epictriviafl.com/event/music-bingo-dicks/2030-05-19/
LOCATION:Dick’s Last Resort\, 9101 International Dr\, Unit 1300 Orlando\, FL 32819 USA
GEO:28.432983;-81.4698175
X-APPLE-STRUCTURED-LOCATION;VALUE=URI;X-ADDRESS=Dick’s Last Resort 9101 International Dr Unit 1300 Orlando FL 32819 USA;X-APPLE-RADIUS=500;X-TITLE=9101 International Dr\, Unit 1300 Orlando\, FL 32819 USA:geo:-81.4698175,28.432983
END:VEVENT
BEGIN:VEVENT
DTSTART;TZID=America/New_York:20300523T190000
DTEND;TZID=America/New_York:20300523T190000
DTSTAMP:20260421T222338
CREATED:20260105T003203Z
LAST-MODIFIED:20260105T053946Z
UID:10010891-1905793200-1905793200@epictriviafl.com
SUMMARY:Trivia
DESCRIPTION:
URL:https://epictriviafl.com/event/trivia-dicks/2030-05-23/
LOCATION:Dick’s Last Resort\, 9101 International Dr\, Unit 1300 Orlando\, FL 32819 USA
GEO:28.432983;-81.4698175
X-APPLE-STRUCTURED-LOCATION;VALUE=URI;X-ADDRESS=Dick’s Last Resort 9101 International Dr Unit 1300 Orlando FL 32819 USA;X-APPLE-RADIUS=500;X-TITLE=9101 International Dr\, Unit 1300 Orlando\, FL 32819 USA:geo:-81.4698175,28.432983
END:VEVENT
BEGIN:VEVENT
DTSTART;TZID=America/New_York:20300526T130000
DTEND;TZID=America/New_York:20300526T130000
DTSTAMP:20260421T222338
CREATED:20260105T003248Z
LAST-MODIFIED:20260105T060144Z
UID:10020772-1906030800-1906030800@epictriviafl.com
SUMMARY:Music Bingo
DESCRIPTION:
URL:https://epictriviafl.com/event/music-bingo-dicks/2030-05-26/
LOCATION:Dick’s Last Resort\, 9101 International Dr\, Unit 1300 Orlando\, FL 32819 USA
GEO:28.432983;-81.4698175
X-APPLE-STRUCTURED-LOCATION;VALUE=URI;X-ADDRESS=Dick’s Last Resort 9101 International Dr Unit 1300 Orlando FL 32819 USA;X-APPLE-RADIUS=500;X-TITLE=9101 International Dr\, Unit 1300 Orlando\, FL 32819 USA:geo:-81.4698175,28.432983
END:VEVENT
BEGIN:VEVENT
DTSTART;TZID=America/New_York:20300530T190000
DTEND;TZID=America/New_York:20300530T190000
DTSTAMP:20260421T222338
CREATED:20260105T003203Z
LAST-MODIFIED:20260105T053946Z
UID:10010892-1906398000-1906398000@epictriviafl.com
SUMMARY:Trivia
DESCRIPTION:
URL:https://epictriviafl.com/event/trivia-dicks/2030-05-30/
LOCATION:Dick’s Last Resort\, 9101 International Dr\, Unit 1300 Orlando\, FL 32819 USA
GEO:28.432983;-81.4698175
X-APPLE-STRUCTURED-LOCATION;VALUE=URI;X-ADDRESS=Dick’s Last Resort 9101 International Dr Unit 1300 Orlando FL 32819 USA;X-APPLE-RADIUS=500;X-TITLE=9101 International Dr\, Unit 1300 Orlando\, FL 32819 USA:geo:-81.4698175,28.432983
END:VEVENT
BEGIN:VEVENT
DTSTART;TZID=America/New_York:20300602T130000
DTEND;TZID=America/New_York:20300602T130000
DTSTAMP:20260421T222338
CREATED:20260105T003248Z
LAST-MODIFIED:20260105T060144Z
UID:10020773-1906635600-1906635600@epictriviafl.com
SUMMARY:Music Bingo
DESCRIPTION:
URL:https://epictriviafl.com/event/music-bingo-dicks/2030-06-02/
LOCATION:Dick’s Last Resort\, 9101 International Dr\, Unit 1300 Orlando\, FL 32819 USA
GEO:28.432983;-81.4698175
X-APPLE-STRUCTURED-LOCATION;VALUE=URI;X-ADDRESS=Dick’s Last Resort 9101 International Dr Unit 1300 Orlando FL 32819 USA;X-APPLE-RADIUS=500;X-TITLE=9101 International Dr\, Unit 1300 Orlando\, FL 32819 USA:geo:-81.4698175,28.432983
END:VEVENT
BEGIN:VEVENT
DTSTART;TZID=America/New_York:20300606T190000
DTEND;TZID=America/New_York:20300606T190000
DTSTAMP:20260421T222338
CREATED:20260105T003203Z
LAST-MODIFIED:20260105T053946Z
UID:10010893-1907002800-1907002800@epictriviafl.com
SUMMARY:Trivia
DESCRIPTION:
URL:https://epictriviafl.com/event/trivia-dicks/2030-06-06/
LOCATION:Dick’s Last Resort\, 9101 International Dr\, Unit 1300 Orlando\, FL 32819 USA
GEO:28.432983;-81.4698175
X-APPLE-STRUCTURED-LOCATION;VALUE=URI;X-ADDRESS=Dick’s Last Resort 9101 International Dr Unit 1300 Orlando FL 32819 USA;X-APPLE-RADIUS=500;X-TITLE=9101 International Dr\, Unit 1300 Orlando\, FL 32819 USA:geo:-81.4698175,28.432983
END:VEVENT
BEGIN:VEVENT
DTSTART;TZID=America/New_York:20300609T130000
DTEND;TZID=America/New_York:20300609T130000
DTSTAMP:20260421T222338
CREATED:20260105T003248Z
LAST-MODIFIED:20260105T060144Z
UID:10020774-1907240400-1907240400@epictriviafl.com
SUMMARY:Music Bingo
DESCRIPTION:
URL:https://epictriviafl.com/event/music-bingo-dicks/2030-06-09/
LOCATION:Dick’s Last Resort\, 9101 International Dr\, Unit 1300 Orlando\, FL 32819 USA
GEO:28.432983;-81.4698175
X-APPLE-STRUCTURED-LOCATION;VALUE=URI;X-ADDRESS=Dick’s Last Resort 9101 International Dr Unit 1300 Orlando FL 32819 USA;X-APPLE-RADIUS=500;X-TITLE=9101 International Dr\, Unit 1300 Orlando\, FL 32819 USA:geo:-81.4698175,28.432983
END:VEVENT
BEGIN:VEVENT
DTSTART;TZID=America/New_York:20300613T190000
DTEND;TZID=America/New_York:20300613T190000
DTSTAMP:20260421T222338
CREATED:20260105T003203Z
LAST-MODIFIED:20260105T053946Z
UID:10010894-1907607600-1907607600@epictriviafl.com
SUMMARY:Trivia
DESCRIPTION:
URL:https://epictriviafl.com/event/trivia-dicks/2030-06-13/
LOCATION:Dick’s Last Resort\, 9101 International Dr\, Unit 1300 Orlando\, FL 32819 USA
GEO:28.432983;-81.4698175
X-APPLE-STRUCTURED-LOCATION;VALUE=URI;X-ADDRESS=Dick’s Last Resort 9101 International Dr Unit 1300 Orlando FL 32819 USA;X-APPLE-RADIUS=500;X-TITLE=9101 International Dr\, Unit 1300 Orlando\, FL 32819 USA:geo:-81.4698175,28.432983
END:VEVENT
BEGIN:VEVENT
DTSTART;TZID=America/New_York:20300616T130000
DTEND;TZID=America/New_York:20300616T130000
DTSTAMP:20260421T222338
CREATED:20260105T003248Z
LAST-MODIFIED:20260105T060144Z
UID:10020775-1907845200-1907845200@epictriviafl.com
SUMMARY:Music Bingo
DESCRIPTION:
URL:https://epictriviafl.com/event/music-bingo-dicks/2030-06-16/
LOCATION:Dick’s Last Resort\, 9101 International Dr\, Unit 1300 Orlando\, FL 32819 USA
GEO:28.432983;-81.4698175
X-APPLE-STRUCTURED-LOCATION;VALUE=URI;X-ADDRESS=Dick’s Last Resort 9101 International Dr Unit 1300 Orlando FL 32819 USA;X-APPLE-RADIUS=500;X-TITLE=9101 International Dr\, Unit 1300 Orlando\, FL 32819 USA:geo:-81.4698175,28.432983
END:VEVENT
BEGIN:VEVENT
DTSTART;TZID=America/New_York:20300620T190000
DTEND;TZID=America/New_York:20300620T190000
DTSTAMP:20260421T222338
CREATED:20260105T003203Z
LAST-MODIFIED:20260105T053946Z
UID:10010895-1908212400-1908212400@epictriviafl.com
SUMMARY:Trivia
DESCRIPTION:
URL:https://epictriviafl.com/event/trivia-dicks/2030-06-20/
LOCATION:Dick’s Last Resort\, 9101 International Dr\, Unit 1300 Orlando\, FL 32819 USA
GEO:28.432983;-81.4698175
X-APPLE-STRUCTURED-LOCATION;VALUE=URI;X-ADDRESS=Dick’s Last Resort 9101 International Dr Unit 1300 Orlando FL 32819 USA;X-APPLE-RADIUS=500;X-TITLE=9101 International Dr\, Unit 1300 Orlando\, FL 32819 USA:geo:-81.4698175,28.432983
END:VEVENT
BEGIN:VEVENT
DTSTART;TZID=America/New_York:20300623T130000
DTEND;TZID=America/New_York:20300623T130000
DTSTAMP:20260421T222338
CREATED:20260105T003248Z
LAST-MODIFIED:20260105T060144Z
UID:10020776-1908450000-1908450000@epictriviafl.com
SUMMARY:Music Bingo
DESCRIPTION:
URL:https://epictriviafl.com/event/music-bingo-dicks/2030-06-23/
LOCATION:Dick’s Last Resort\, 9101 International Dr\, Unit 1300 Orlando\, FL 32819 USA
GEO:28.432983;-81.4698175
X-APPLE-STRUCTURED-LOCATION;VALUE=URI;X-ADDRESS=Dick’s Last Resort 9101 International Dr Unit 1300 Orlando FL 32819 USA;X-APPLE-RADIUS=500;X-TITLE=9101 International Dr\, Unit 1300 Orlando\, FL 32819 USA:geo:-81.4698175,28.432983
END:VEVENT
BEGIN:VEVENT
DTSTART;TZID=America/New_York:20300627T190000
DTEND;TZID=America/New_York:20300627T190000
DTSTAMP:20260421T222338
CREATED:20260105T003203Z
LAST-MODIFIED:20260105T053946Z
UID:10010896-1908817200-1908817200@epictriviafl.com
SUMMARY:Trivia
DESCRIPTION:
URL:https://epictriviafl.com/event/trivia-dicks/2030-06-27/
LOCATION:Dick’s Last Resort\, 9101 International Dr\, Unit 1300 Orlando\, FL 32819 USA
GEO:28.432983;-81.4698175
X-APPLE-STRUCTURED-LOCATION;VALUE=URI;X-ADDRESS=Dick’s Last Resort 9101 International Dr Unit 1300 Orlando FL 32819 USA;X-APPLE-RADIUS=500;X-TITLE=9101 International Dr\, Unit 1300 Orlando\, FL 32819 USA:geo:-81.4698175,28.432983
END:VEVENT
BEGIN:VEVENT
DTSTART;TZID=America/New_York:20300630T130000
DTEND;TZID=America/New_York:20300630T130000
DTSTAMP:20260421T222338
CREATED:20260105T003248Z
LAST-MODIFIED:20260105T060144Z
UID:10020777-1909054800-1909054800@epictriviafl.com
SUMMARY:Music Bingo
DESCRIPTION:
URL:https://epictriviafl.com/event/music-bingo-dicks/2030-06-30/
LOCATION:Dick’s Last Resort\, 9101 International Dr\, Unit 1300 Orlando\, FL 32819 USA
GEO:28.432983;-81.4698175
X-APPLE-STRUCTURED-LOCATION;VALUE=URI;X-ADDRESS=Dick’s Last Resort 9101 International Dr Unit 1300 Orlando FL 32819 USA;X-APPLE-RADIUS=500;X-TITLE=9101 International Dr\, Unit 1300 Orlando\, FL 32819 USA:geo:-81.4698175,28.432983
END:VEVENT
END:VCALENDAR