BEGIN:VCALENDAR
VERSION:2.0
PRODID:-//Epic Trivia - ECPv6.15.18//NONSGML v1.0//EN
CALSCALE:GREGORIAN
METHOD:PUBLISH
X-ORIGINAL-URL:https://epictriviafl.com
X-WR-CALDESC:Events for Epic Trivia
REFRESH-INTERVAL;VALUE=DURATION:PT1H
X-Robots-Tag:noindex
X-PUBLISHED-TTL:PT1H
BEGIN:VTIMEZONE
TZID:America/New_York
BEGIN:DAYLIGHT
TZOFFSETFROM:-0500
TZOFFSETTO:-0400
TZNAME:EDT
DTSTART:20280312T070000
END:DAYLIGHT
BEGIN:STANDARD
TZOFFSETFROM:-0400
TZOFFSETTO:-0500
TZNAME:EST
DTSTART:20281105T060000
END:STANDARD
BEGIN:DAYLIGHT
TZOFFSETFROM:-0500
TZOFFSETTO:-0400
TZNAME:EDT
DTSTART:20290311T070000
END:DAYLIGHT
BEGIN:STANDARD
TZOFFSETFROM:-0400
TZOFFSETTO:-0500
TZNAME:EST
DTSTART:20291104T060000
END:STANDARD
BEGIN:DAYLIGHT
TZOFFSETFROM:-0500
TZOFFSETTO:-0400
TZNAME:EDT
DTSTART:20300310T070000
END:DAYLIGHT
BEGIN:STANDARD
TZOFFSETFROM:-0400
TZOFFSETTO:-0500
TZNAME:EST
DTSTART:20301103T060000
END:STANDARD
BEGIN:DAYLIGHT
TZOFFSETFROM:-0500
TZOFFSETTO:-0400
TZNAME:EDT
DTSTART:20310309T070000
END:DAYLIGHT
BEGIN:STANDARD
TZOFFSETFROM:-0400
TZOFFSETTO:-0500
TZNAME:EST
DTSTART:20311102T060000
END:STANDARD
END:VTIMEZONE
BEGIN:VEVENT
DTSTART;TZID=America/New_York:20291227T190000
DTEND;TZID=America/New_York:20291227T190000
DTSTAMP:20260421T192655
CREATED:20260105T003203Z
LAST-MODIFIED:20260105T053946Z
UID:10010870-1893092400-1893092400@epictriviafl.com
SUMMARY:Trivia
DESCRIPTION:
URL:https://epictriviafl.com/event/trivia-dicks/2029-12-27/
LOCATION:Dick’s Last Resort\, 9101 International Dr\, Unit 1300 Orlando\, FL 32819 USA
GEO:28.432983;-81.4698175
X-APPLE-STRUCTURED-LOCATION;VALUE=URI;X-ADDRESS=Dick’s Last Resort 9101 International Dr Unit 1300 Orlando FL 32819 USA;X-APPLE-RADIUS=500;X-TITLE=9101 International Dr\, Unit 1300 Orlando\, FL 32819 USA:geo:-81.4698175,28.432983
END:VEVENT
BEGIN:VEVENT
DTSTART;TZID=America/New_York:20291230T130000
DTEND;TZID=America/New_York:20291230T130000
DTSTAMP:20260421T192655
CREATED:20260105T003248Z
LAST-MODIFIED:20260105T060144Z
UID:10020751-1893330000-1893330000@epictriviafl.com
SUMMARY:Music Bingo
DESCRIPTION:
URL:https://epictriviafl.com/event/music-bingo-dicks/2029-12-30/
LOCATION:Dick’s Last Resort\, 9101 International Dr\, Unit 1300 Orlando\, FL 32819 USA
GEO:28.432983;-81.4698175
X-APPLE-STRUCTURED-LOCATION;VALUE=URI;X-ADDRESS=Dick’s Last Resort 9101 International Dr Unit 1300 Orlando FL 32819 USA;X-APPLE-RADIUS=500;X-TITLE=9101 International Dr\, Unit 1300 Orlando\, FL 32819 USA:geo:-81.4698175,28.432983
END:VEVENT
BEGIN:VEVENT
DTSTART;TZID=America/New_York:20300103T190000
DTEND;TZID=America/New_York:20300103T190000
DTSTAMP:20260421T192655
CREATED:20260105T003203Z
LAST-MODIFIED:20260105T053946Z
UID:10010871-1893697200-1893697200@epictriviafl.com
SUMMARY:Trivia
DESCRIPTION:
URL:https://epictriviafl.com/event/trivia-dicks/2030-01-03/
LOCATION:Dick’s Last Resort\, 9101 International Dr\, Unit 1300 Orlando\, FL 32819 USA
GEO:28.432983;-81.4698175
X-APPLE-STRUCTURED-LOCATION;VALUE=URI;X-ADDRESS=Dick’s Last Resort 9101 International Dr Unit 1300 Orlando FL 32819 USA;X-APPLE-RADIUS=500;X-TITLE=9101 International Dr\, Unit 1300 Orlando\, FL 32819 USA:geo:-81.4698175,28.432983
END:VEVENT
BEGIN:VEVENT
DTSTART;TZID=America/New_York:20300106T130000
DTEND;TZID=America/New_York:20300106T130000
DTSTAMP:20260421T192655
CREATED:20260105T003248Z
LAST-MODIFIED:20260105T060144Z
UID:10020752-1893934800-1893934800@epictriviafl.com
SUMMARY:Music Bingo
DESCRIPTION:
URL:https://epictriviafl.com/event/music-bingo-dicks/2030-01-06/
LOCATION:Dick’s Last Resort\, 9101 International Dr\, Unit 1300 Orlando\, FL 32819 USA
GEO:28.432983;-81.4698175
X-APPLE-STRUCTURED-LOCATION;VALUE=URI;X-ADDRESS=Dick’s Last Resort 9101 International Dr Unit 1300 Orlando FL 32819 USA;X-APPLE-RADIUS=500;X-TITLE=9101 International Dr\, Unit 1300 Orlando\, FL 32819 USA:geo:-81.4698175,28.432983
END:VEVENT
BEGIN:VEVENT
DTSTART;TZID=America/New_York:20300110T190000
DTEND;TZID=America/New_York:20300110T190000
DTSTAMP:20260421T192655
CREATED:20260105T003203Z
LAST-MODIFIED:20260105T053946Z
UID:10010872-1894302000-1894302000@epictriviafl.com
SUMMARY:Trivia
DESCRIPTION:
URL:https://epictriviafl.com/event/trivia-dicks/2030-01-10/
LOCATION:Dick’s Last Resort\, 9101 International Dr\, Unit 1300 Orlando\, FL 32819 USA
GEO:28.432983;-81.4698175
X-APPLE-STRUCTURED-LOCATION;VALUE=URI;X-ADDRESS=Dick’s Last Resort 9101 International Dr Unit 1300 Orlando FL 32819 USA;X-APPLE-RADIUS=500;X-TITLE=9101 International Dr\, Unit 1300 Orlando\, FL 32819 USA:geo:-81.4698175,28.432983
END:VEVENT
BEGIN:VEVENT
DTSTART;TZID=America/New_York:20300113T130000
DTEND;TZID=America/New_York:20300113T130000
DTSTAMP:20260421T192655
CREATED:20260105T003248Z
LAST-MODIFIED:20260105T060144Z
UID:10020753-1894539600-1894539600@epictriviafl.com
SUMMARY:Music Bingo
DESCRIPTION:
URL:https://epictriviafl.com/event/music-bingo-dicks/2030-01-13/
LOCATION:Dick’s Last Resort\, 9101 International Dr\, Unit 1300 Orlando\, FL 32819 USA
GEO:28.432983;-81.4698175
X-APPLE-STRUCTURED-LOCATION;VALUE=URI;X-ADDRESS=Dick’s Last Resort 9101 International Dr Unit 1300 Orlando FL 32819 USA;X-APPLE-RADIUS=500;X-TITLE=9101 International Dr\, Unit 1300 Orlando\, FL 32819 USA:geo:-81.4698175,28.432983
END:VEVENT
BEGIN:VEVENT
DTSTART;TZID=America/New_York:20300117T190000
DTEND;TZID=America/New_York:20300117T190000
DTSTAMP:20260421T192655
CREATED:20260105T003203Z
LAST-MODIFIED:20260105T053946Z
UID:10010873-1894906800-1894906800@epictriviafl.com
SUMMARY:Trivia
DESCRIPTION:
URL:https://epictriviafl.com/event/trivia-dicks/2030-01-17/
LOCATION:Dick’s Last Resort\, 9101 International Dr\, Unit 1300 Orlando\, FL 32819 USA
GEO:28.432983;-81.4698175
X-APPLE-STRUCTURED-LOCATION;VALUE=URI;X-ADDRESS=Dick’s Last Resort 9101 International Dr Unit 1300 Orlando FL 32819 USA;X-APPLE-RADIUS=500;X-TITLE=9101 International Dr\, Unit 1300 Orlando\, FL 32819 USA:geo:-81.4698175,28.432983
END:VEVENT
BEGIN:VEVENT
DTSTART;TZID=America/New_York:20300120T130000
DTEND;TZID=America/New_York:20300120T130000
DTSTAMP:20260421T192655
CREATED:20260105T003248Z
LAST-MODIFIED:20260105T060144Z
UID:10020754-1895144400-1895144400@epictriviafl.com
SUMMARY:Music Bingo
DESCRIPTION:
URL:https://epictriviafl.com/event/music-bingo-dicks/2030-01-20/
LOCATION:Dick’s Last Resort\, 9101 International Dr\, Unit 1300 Orlando\, FL 32819 USA
GEO:28.432983;-81.4698175
X-APPLE-STRUCTURED-LOCATION;VALUE=URI;X-ADDRESS=Dick’s Last Resort 9101 International Dr Unit 1300 Orlando FL 32819 USA;X-APPLE-RADIUS=500;X-TITLE=9101 International Dr\, Unit 1300 Orlando\, FL 32819 USA:geo:-81.4698175,28.432983
END:VEVENT
BEGIN:VEVENT
DTSTART;TZID=America/New_York:20300124T190000
DTEND;TZID=America/New_York:20300124T190000
DTSTAMP:20260421T192655
CREATED:20260105T003203Z
LAST-MODIFIED:20260105T053946Z
UID:10010874-1895511600-1895511600@epictriviafl.com
SUMMARY:Trivia
DESCRIPTION:
URL:https://epictriviafl.com/event/trivia-dicks/2030-01-24/
LOCATION:Dick’s Last Resort\, 9101 International Dr\, Unit 1300 Orlando\, FL 32819 USA
GEO:28.432983;-81.4698175
X-APPLE-STRUCTURED-LOCATION;VALUE=URI;X-ADDRESS=Dick’s Last Resort 9101 International Dr Unit 1300 Orlando FL 32819 USA;X-APPLE-RADIUS=500;X-TITLE=9101 International Dr\, Unit 1300 Orlando\, FL 32819 USA:geo:-81.4698175,28.432983
END:VEVENT
BEGIN:VEVENT
DTSTART;TZID=America/New_York:20300127T130000
DTEND;TZID=America/New_York:20300127T130000
DTSTAMP:20260421T192655
CREATED:20260105T003248Z
LAST-MODIFIED:20260105T060144Z
UID:10020755-1895749200-1895749200@epictriviafl.com
SUMMARY:Music Bingo
DESCRIPTION:
URL:https://epictriviafl.com/event/music-bingo-dicks/2030-01-27/
LOCATION:Dick’s Last Resort\, 9101 International Dr\, Unit 1300 Orlando\, FL 32819 USA
GEO:28.432983;-81.4698175
X-APPLE-STRUCTURED-LOCATION;VALUE=URI;X-ADDRESS=Dick’s Last Resort 9101 International Dr Unit 1300 Orlando FL 32819 USA;X-APPLE-RADIUS=500;X-TITLE=9101 International Dr\, Unit 1300 Orlando\, FL 32819 USA:geo:-81.4698175,28.432983
END:VEVENT
BEGIN:VEVENT
DTSTART;TZID=America/New_York:20300131T190000
DTEND;TZID=America/New_York:20300131T190000
DTSTAMP:20260421T192655
CREATED:20260105T003203Z
LAST-MODIFIED:20260105T053946Z
UID:10010875-1896116400-1896116400@epictriviafl.com
SUMMARY:Trivia
DESCRIPTION:
URL:https://epictriviafl.com/event/trivia-dicks/2030-01-31/
LOCATION:Dick’s Last Resort\, 9101 International Dr\, Unit 1300 Orlando\, FL 32819 USA
GEO:28.432983;-81.4698175
X-APPLE-STRUCTURED-LOCATION;VALUE=URI;X-ADDRESS=Dick’s Last Resort 9101 International Dr Unit 1300 Orlando FL 32819 USA;X-APPLE-RADIUS=500;X-TITLE=9101 International Dr\, Unit 1300 Orlando\, FL 32819 USA:geo:-81.4698175,28.432983
END:VEVENT
BEGIN:VEVENT
DTSTART;TZID=America/New_York:20300203T130000
DTEND;TZID=America/New_York:20300203T130000
DTSTAMP:20260421T192655
CREATED:20260105T003248Z
LAST-MODIFIED:20260105T060144Z
UID:10020756-1896354000-1896354000@epictriviafl.com
SUMMARY:Music Bingo
DESCRIPTION:
URL:https://epictriviafl.com/event/music-bingo-dicks/2030-02-03/
LOCATION:Dick’s Last Resort\, 9101 International Dr\, Unit 1300 Orlando\, FL 32819 USA
GEO:28.432983;-81.4698175
X-APPLE-STRUCTURED-LOCATION;VALUE=URI;X-ADDRESS=Dick’s Last Resort 9101 International Dr Unit 1300 Orlando FL 32819 USA;X-APPLE-RADIUS=500;X-TITLE=9101 International Dr\, Unit 1300 Orlando\, FL 32819 USA:geo:-81.4698175,28.432983
END:VEVENT
BEGIN:VEVENT
DTSTART;TZID=America/New_York:20300207T190000
DTEND;TZID=America/New_York:20300207T190000
DTSTAMP:20260421T192655
CREATED:20260105T003203Z
LAST-MODIFIED:20260105T053946Z
UID:10010876-1896721200-1896721200@epictriviafl.com
SUMMARY:Trivia
DESCRIPTION:
URL:https://epictriviafl.com/event/trivia-dicks/2030-02-07/
LOCATION:Dick’s Last Resort\, 9101 International Dr\, Unit 1300 Orlando\, FL 32819 USA
GEO:28.432983;-81.4698175
X-APPLE-STRUCTURED-LOCATION;VALUE=URI;X-ADDRESS=Dick’s Last Resort 9101 International Dr Unit 1300 Orlando FL 32819 USA;X-APPLE-RADIUS=500;X-TITLE=9101 International Dr\, Unit 1300 Orlando\, FL 32819 USA:geo:-81.4698175,28.432983
END:VEVENT
BEGIN:VEVENT
DTSTART;TZID=America/New_York:20300210T130000
DTEND;TZID=America/New_York:20300210T130000
DTSTAMP:20260421T192655
CREATED:20260105T003248Z
LAST-MODIFIED:20260105T060144Z
UID:10020757-1896958800-1896958800@epictriviafl.com
SUMMARY:Music Bingo
DESCRIPTION:
URL:https://epictriviafl.com/event/music-bingo-dicks/2030-02-10/
LOCATION:Dick’s Last Resort\, 9101 International Dr\, Unit 1300 Orlando\, FL 32819 USA
GEO:28.432983;-81.4698175
X-APPLE-STRUCTURED-LOCATION;VALUE=URI;X-ADDRESS=Dick’s Last Resort 9101 International Dr Unit 1300 Orlando FL 32819 USA;X-APPLE-RADIUS=500;X-TITLE=9101 International Dr\, Unit 1300 Orlando\, FL 32819 USA:geo:-81.4698175,28.432983
END:VEVENT
BEGIN:VEVENT
DTSTART;TZID=America/New_York:20300214T190000
DTEND;TZID=America/New_York:20300214T190000
DTSTAMP:20260421T192655
CREATED:20260105T003203Z
LAST-MODIFIED:20260105T053946Z
UID:10010877-1897326000-1897326000@epictriviafl.com
SUMMARY:Trivia
DESCRIPTION:
URL:https://epictriviafl.com/event/trivia-dicks/2030-02-14/
LOCATION:Dick’s Last Resort\, 9101 International Dr\, Unit 1300 Orlando\, FL 32819 USA
GEO:28.432983;-81.4698175
X-APPLE-STRUCTURED-LOCATION;VALUE=URI;X-ADDRESS=Dick’s Last Resort 9101 International Dr Unit 1300 Orlando FL 32819 USA;X-APPLE-RADIUS=500;X-TITLE=9101 International Dr\, Unit 1300 Orlando\, FL 32819 USA:geo:-81.4698175,28.432983
END:VEVENT
BEGIN:VEVENT
DTSTART;TZID=America/New_York:20300217T130000
DTEND;TZID=America/New_York:20300217T130000
DTSTAMP:20260421T192655
CREATED:20260105T003248Z
LAST-MODIFIED:20260105T060144Z
UID:10020758-1897563600-1897563600@epictriviafl.com
SUMMARY:Music Bingo
DESCRIPTION:
URL:https://epictriviafl.com/event/music-bingo-dicks/2030-02-17/
LOCATION:Dick’s Last Resort\, 9101 International Dr\, Unit 1300 Orlando\, FL 32819 USA
GEO:28.432983;-81.4698175
X-APPLE-STRUCTURED-LOCATION;VALUE=URI;X-ADDRESS=Dick’s Last Resort 9101 International Dr Unit 1300 Orlando FL 32819 USA;X-APPLE-RADIUS=500;X-TITLE=9101 International Dr\, Unit 1300 Orlando\, FL 32819 USA:geo:-81.4698175,28.432983
END:VEVENT
BEGIN:VEVENT
DTSTART;TZID=America/New_York:20300221T190000
DTEND;TZID=America/New_York:20300221T190000
DTSTAMP:20260421T192655
CREATED:20260105T003203Z
LAST-MODIFIED:20260105T053946Z
UID:10010878-1897930800-1897930800@epictriviafl.com
SUMMARY:Trivia
DESCRIPTION:
URL:https://epictriviafl.com/event/trivia-dicks/2030-02-21/
LOCATION:Dick’s Last Resort\, 9101 International Dr\, Unit 1300 Orlando\, FL 32819 USA
GEO:28.432983;-81.4698175
X-APPLE-STRUCTURED-LOCATION;VALUE=URI;X-ADDRESS=Dick’s Last Resort 9101 International Dr Unit 1300 Orlando FL 32819 USA;X-APPLE-RADIUS=500;X-TITLE=9101 International Dr\, Unit 1300 Orlando\, FL 32819 USA:geo:-81.4698175,28.432983
END:VEVENT
BEGIN:VEVENT
DTSTART;TZID=America/New_York:20300224T130000
DTEND;TZID=America/New_York:20300224T130000
DTSTAMP:20260421T192655
CREATED:20260105T003248Z
LAST-MODIFIED:20260105T060144Z
UID:10020759-1898168400-1898168400@epictriviafl.com
SUMMARY:Music Bingo
DESCRIPTION:
URL:https://epictriviafl.com/event/music-bingo-dicks/2030-02-24/
LOCATION:Dick’s Last Resort\, 9101 International Dr\, Unit 1300 Orlando\, FL 32819 USA
GEO:28.432983;-81.4698175
X-APPLE-STRUCTURED-LOCATION;VALUE=URI;X-ADDRESS=Dick’s Last Resort 9101 International Dr Unit 1300 Orlando FL 32819 USA;X-APPLE-RADIUS=500;X-TITLE=9101 International Dr\, Unit 1300 Orlando\, FL 32819 USA:geo:-81.4698175,28.432983
END:VEVENT
BEGIN:VEVENT
DTSTART;TZID=America/New_York:20300228T190000
DTEND;TZID=America/New_York:20300228T190000
DTSTAMP:20260421T192655
CREATED:20260105T003203Z
LAST-MODIFIED:20260105T053946Z
UID:10010879-1898535600-1898535600@epictriviafl.com
SUMMARY:Trivia
DESCRIPTION:
URL:https://epictriviafl.com/event/trivia-dicks/2030-02-28/
LOCATION:Dick’s Last Resort\, 9101 International Dr\, Unit 1300 Orlando\, FL 32819 USA
GEO:28.432983;-81.4698175
X-APPLE-STRUCTURED-LOCATION;VALUE=URI;X-ADDRESS=Dick’s Last Resort 9101 International Dr Unit 1300 Orlando FL 32819 USA;X-APPLE-RADIUS=500;X-TITLE=9101 International Dr\, Unit 1300 Orlando\, FL 32819 USA:geo:-81.4698175,28.432983
END:VEVENT
BEGIN:VEVENT
DTSTART;TZID=America/New_York:20300303T130000
DTEND;TZID=America/New_York:20300303T130000
DTSTAMP:20260421T192655
CREATED:20260105T003248Z
LAST-MODIFIED:20260105T060144Z
UID:10020760-1898773200-1898773200@epictriviafl.com
SUMMARY:Music Bingo
DESCRIPTION:
URL:https://epictriviafl.com/event/music-bingo-dicks/2030-03-03/
LOCATION:Dick’s Last Resort\, 9101 International Dr\, Unit 1300 Orlando\, FL 32819 USA
GEO:28.432983;-81.4698175
X-APPLE-STRUCTURED-LOCATION;VALUE=URI;X-ADDRESS=Dick’s Last Resort 9101 International Dr Unit 1300 Orlando FL 32819 USA;X-APPLE-RADIUS=500;X-TITLE=9101 International Dr\, Unit 1300 Orlando\, FL 32819 USA:geo:-81.4698175,28.432983
END:VEVENT
BEGIN:VEVENT
DTSTART;TZID=America/New_York:20300307T190000
DTEND;TZID=America/New_York:20300307T190000
DTSTAMP:20260421T192655
CREATED:20260105T003203Z
LAST-MODIFIED:20260105T053946Z
UID:10010880-1899140400-1899140400@epictriviafl.com
SUMMARY:Trivia
DESCRIPTION:
URL:https://epictriviafl.com/event/trivia-dicks/2030-03-07/
LOCATION:Dick’s Last Resort\, 9101 International Dr\, Unit 1300 Orlando\, FL 32819 USA
GEO:28.432983;-81.4698175
X-APPLE-STRUCTURED-LOCATION;VALUE=URI;X-ADDRESS=Dick’s Last Resort 9101 International Dr Unit 1300 Orlando FL 32819 USA;X-APPLE-RADIUS=500;X-TITLE=9101 International Dr\, Unit 1300 Orlando\, FL 32819 USA:geo:-81.4698175,28.432983
END:VEVENT
BEGIN:VEVENT
DTSTART;TZID=America/New_York:20300310T130000
DTEND;TZID=America/New_York:20300310T130000
DTSTAMP:20260421T192655
CREATED:20260105T003248Z
LAST-MODIFIED:20260105T060144Z
UID:10020761-1899378000-1899378000@epictriviafl.com
SUMMARY:Music Bingo
DESCRIPTION:
URL:https://epictriviafl.com/event/music-bingo-dicks/2030-03-10/
LOCATION:Dick’s Last Resort\, 9101 International Dr\, Unit 1300 Orlando\, FL 32819 USA
GEO:28.432983;-81.4698175
X-APPLE-STRUCTURED-LOCATION;VALUE=URI;X-ADDRESS=Dick’s Last Resort 9101 International Dr Unit 1300 Orlando FL 32819 USA;X-APPLE-RADIUS=500;X-TITLE=9101 International Dr\, Unit 1300 Orlando\, FL 32819 USA:geo:-81.4698175,28.432983
END:VEVENT
BEGIN:VEVENT
DTSTART;TZID=America/New_York:20300314T190000
DTEND;TZID=America/New_York:20300314T190000
DTSTAMP:20260421T192655
CREATED:20260105T003203Z
LAST-MODIFIED:20260105T053946Z
UID:10010881-1899745200-1899745200@epictriviafl.com
SUMMARY:Trivia
DESCRIPTION:
URL:https://epictriviafl.com/event/trivia-dicks/2030-03-14/
LOCATION:Dick’s Last Resort\, 9101 International Dr\, Unit 1300 Orlando\, FL 32819 USA
GEO:28.432983;-81.4698175
X-APPLE-STRUCTURED-LOCATION;VALUE=URI;X-ADDRESS=Dick’s Last Resort 9101 International Dr Unit 1300 Orlando FL 32819 USA;X-APPLE-RADIUS=500;X-TITLE=9101 International Dr\, Unit 1300 Orlando\, FL 32819 USA:geo:-81.4698175,28.432983
END:VEVENT
BEGIN:VEVENT
DTSTART;TZID=America/New_York:20300317T130000
DTEND;TZID=America/New_York:20300317T130000
DTSTAMP:20260421T192655
CREATED:20260105T003248Z
LAST-MODIFIED:20260105T060144Z
UID:10020762-1899982800-1899982800@epictriviafl.com
SUMMARY:Music Bingo
DESCRIPTION:
URL:https://epictriviafl.com/event/music-bingo-dicks/2030-03-17/
LOCATION:Dick’s Last Resort\, 9101 International Dr\, Unit 1300 Orlando\, FL 32819 USA
GEO:28.432983;-81.4698175
X-APPLE-STRUCTURED-LOCATION;VALUE=URI;X-ADDRESS=Dick’s Last Resort 9101 International Dr Unit 1300 Orlando FL 32819 USA;X-APPLE-RADIUS=500;X-TITLE=9101 International Dr\, Unit 1300 Orlando\, FL 32819 USA:geo:-81.4698175,28.432983
END:VEVENT
BEGIN:VEVENT
DTSTART;TZID=America/New_York:20300321T190000
DTEND;TZID=America/New_York:20300321T190000
DTSTAMP:20260421T192655
CREATED:20260105T003203Z
LAST-MODIFIED:20260105T053946Z
UID:10010882-1900350000-1900350000@epictriviafl.com
SUMMARY:Trivia
DESCRIPTION:
URL:https://epictriviafl.com/event/trivia-dicks/2030-03-21/
LOCATION:Dick’s Last Resort\, 9101 International Dr\, Unit 1300 Orlando\, FL 32819 USA
GEO:28.432983;-81.4698175
X-APPLE-STRUCTURED-LOCATION;VALUE=URI;X-ADDRESS=Dick’s Last Resort 9101 International Dr Unit 1300 Orlando FL 32819 USA;X-APPLE-RADIUS=500;X-TITLE=9101 International Dr\, Unit 1300 Orlando\, FL 32819 USA:geo:-81.4698175,28.432983
END:VEVENT
BEGIN:VEVENT
DTSTART;TZID=America/New_York:20300324T130000
DTEND;TZID=America/New_York:20300324T130000
DTSTAMP:20260421T192655
CREATED:20260105T003248Z
LAST-MODIFIED:20260105T060144Z
UID:10020763-1900587600-1900587600@epictriviafl.com
SUMMARY:Music Bingo
DESCRIPTION:
URL:https://epictriviafl.com/event/music-bingo-dicks/2030-03-24/
LOCATION:Dick’s Last Resort\, 9101 International Dr\, Unit 1300 Orlando\, FL 32819 USA
GEO:28.432983;-81.4698175
X-APPLE-STRUCTURED-LOCATION;VALUE=URI;X-ADDRESS=Dick’s Last Resort 9101 International Dr Unit 1300 Orlando FL 32819 USA;X-APPLE-RADIUS=500;X-TITLE=9101 International Dr\, Unit 1300 Orlando\, FL 32819 USA:geo:-81.4698175,28.432983
END:VEVENT
BEGIN:VEVENT
DTSTART;TZID=America/New_York:20300328T190000
DTEND;TZID=America/New_York:20300328T190000
DTSTAMP:20260421T192655
CREATED:20260105T003203Z
LAST-MODIFIED:20260105T053946Z
UID:10010883-1900954800-1900954800@epictriviafl.com
SUMMARY:Trivia
DESCRIPTION:
URL:https://epictriviafl.com/event/trivia-dicks/2030-03-28/
LOCATION:Dick’s Last Resort\, 9101 International Dr\, Unit 1300 Orlando\, FL 32819 USA
GEO:28.432983;-81.4698175
X-APPLE-STRUCTURED-LOCATION;VALUE=URI;X-ADDRESS=Dick’s Last Resort 9101 International Dr Unit 1300 Orlando FL 32819 USA;X-APPLE-RADIUS=500;X-TITLE=9101 International Dr\, Unit 1300 Orlando\, FL 32819 USA:geo:-81.4698175,28.432983
END:VEVENT
BEGIN:VEVENT
DTSTART;TZID=America/New_York:20300331T130000
DTEND;TZID=America/New_York:20300331T130000
DTSTAMP:20260421T192655
CREATED:20260105T003248Z
LAST-MODIFIED:20260105T060144Z
UID:10020764-1901192400-1901192400@epictriviafl.com
SUMMARY:Music Bingo
DESCRIPTION:
URL:https://epictriviafl.com/event/music-bingo-dicks/2030-03-31/
LOCATION:Dick’s Last Resort\, 9101 International Dr\, Unit 1300 Orlando\, FL 32819 USA
GEO:28.432983;-81.4698175
X-APPLE-STRUCTURED-LOCATION;VALUE=URI;X-ADDRESS=Dick’s Last Resort 9101 International Dr Unit 1300 Orlando FL 32819 USA;X-APPLE-RADIUS=500;X-TITLE=9101 International Dr\, Unit 1300 Orlando\, FL 32819 USA:geo:-81.4698175,28.432983
END:VEVENT
BEGIN:VEVENT
DTSTART;TZID=America/New_York:20300404T190000
DTEND;TZID=America/New_York:20300404T190000
DTSTAMP:20260421T192655
CREATED:20260105T003203Z
LAST-MODIFIED:20260105T053946Z
UID:10010884-1901559600-1901559600@epictriviafl.com
SUMMARY:Trivia
DESCRIPTION:
URL:https://epictriviafl.com/event/trivia-dicks/2030-04-04/
LOCATION:Dick’s Last Resort\, 9101 International Dr\, Unit 1300 Orlando\, FL 32819 USA
GEO:28.432983;-81.4698175
X-APPLE-STRUCTURED-LOCATION;VALUE=URI;X-ADDRESS=Dick’s Last Resort 9101 International Dr Unit 1300 Orlando FL 32819 USA;X-APPLE-RADIUS=500;X-TITLE=9101 International Dr\, Unit 1300 Orlando\, FL 32819 USA:geo:-81.4698175,28.432983
END:VEVENT
BEGIN:VEVENT
DTSTART;TZID=America/New_York:20300407T130000
DTEND;TZID=America/New_York:20300407T130000
DTSTAMP:20260421T192655
CREATED:20260105T003248Z
LAST-MODIFIED:20260105T060144Z
UID:10020765-1901797200-1901797200@epictriviafl.com
SUMMARY:Music Bingo
DESCRIPTION:
URL:https://epictriviafl.com/event/music-bingo-dicks/2030-04-07/
LOCATION:Dick’s Last Resort\, 9101 International Dr\, Unit 1300 Orlando\, FL 32819 USA
GEO:28.432983;-81.4698175
X-APPLE-STRUCTURED-LOCATION;VALUE=URI;X-ADDRESS=Dick’s Last Resort 9101 International Dr Unit 1300 Orlando FL 32819 USA;X-APPLE-RADIUS=500;X-TITLE=9101 International Dr\, Unit 1300 Orlando\, FL 32819 USA:geo:-81.4698175,28.432983
END:VEVENT
END:VCALENDAR