BEGIN:VCALENDAR
VERSION:2.0
PRODID:-//Epic Trivia - ECPv6.15.18//NONSGML v1.0//EN
CALSCALE:GREGORIAN
METHOD:PUBLISH
X-WR-CALNAME:Epic Trivia
X-ORIGINAL-URL:https://epictriviafl.com
X-WR-CALDESC:Events for Epic Trivia
REFRESH-INTERVAL;VALUE=DURATION:PT1H
X-Robots-Tag:noindex
X-PUBLISHED-TTL:PT1H
BEGIN:VTIMEZONE
TZID:America/New_York
BEGIN:DAYLIGHT
TZOFFSETFROM:-0500
TZOFFSETTO:-0400
TZNAME:EDT
DTSTART:20280312T070000
END:DAYLIGHT
BEGIN:STANDARD
TZOFFSETFROM:-0400
TZOFFSETTO:-0500
TZNAME:EST
DTSTART:20281105T060000
END:STANDARD
BEGIN:DAYLIGHT
TZOFFSETFROM:-0500
TZOFFSETTO:-0400
TZNAME:EDT
DTSTART:20290311T070000
END:DAYLIGHT
BEGIN:STANDARD
TZOFFSETFROM:-0400
TZOFFSETTO:-0500
TZNAME:EST
DTSTART:20291104T060000
END:STANDARD
BEGIN:DAYLIGHT
TZOFFSETFROM:-0500
TZOFFSETTO:-0400
TZNAME:EDT
DTSTART:20300310T070000
END:DAYLIGHT
BEGIN:STANDARD
TZOFFSETFROM:-0400
TZOFFSETTO:-0500
TZNAME:EST
DTSTART:20301103T060000
END:STANDARD
END:VTIMEZONE
BEGIN:VEVENT
DTSTART;TZID=America/New_York:20290125T190000
DTEND;TZID=America/New_York:20290125T190000
DTSTAMP:20260421T063825
CREATED:20260105T003203Z
LAST-MODIFIED:20260105T053946Z
UID:10010822-1864062000-1864062000@epictriviafl.com
SUMMARY:Trivia
DESCRIPTION:
URL:https://epictriviafl.com/event/trivia-dicks/2029-01-25/
LOCATION:Dick’s Last Resort\, 9101 International Dr\, Unit 1300 Orlando\, FL 32819 USA
GEO:28.432983;-81.4698175
X-APPLE-STRUCTURED-LOCATION;VALUE=URI;X-ADDRESS=Dick’s Last Resort 9101 International Dr Unit 1300 Orlando FL 32819 USA;X-APPLE-RADIUS=500;X-TITLE=9101 International Dr\, Unit 1300 Orlando\, FL 32819 USA:geo:-81.4698175,28.432983
END:VEVENT
BEGIN:VEVENT
DTSTART;TZID=America/New_York:20290128T130000
DTEND;TZID=America/New_York:20290128T130000
DTSTAMP:20260421T063825
CREATED:20260105T003248Z
LAST-MODIFIED:20260105T060144Z
UID:10020703-1864299600-1864299600@epictriviafl.com
SUMMARY:Music Bingo
DESCRIPTION:
URL:https://epictriviafl.com/event/music-bingo-dicks/2029-01-28/
LOCATION:Dick’s Last Resort\, 9101 International Dr\, Unit 1300 Orlando\, FL 32819 USA
GEO:28.432983;-81.4698175
X-APPLE-STRUCTURED-LOCATION;VALUE=URI;X-ADDRESS=Dick’s Last Resort 9101 International Dr Unit 1300 Orlando FL 32819 USA;X-APPLE-RADIUS=500;X-TITLE=9101 International Dr\, Unit 1300 Orlando\, FL 32819 USA:geo:-81.4698175,28.432983
END:VEVENT
BEGIN:VEVENT
DTSTART;TZID=America/New_York:20290201T190000
DTEND;TZID=America/New_York:20290201T190000
DTSTAMP:20260421T063825
CREATED:20260105T003203Z
LAST-MODIFIED:20260105T053946Z
UID:10010823-1864666800-1864666800@epictriviafl.com
SUMMARY:Trivia
DESCRIPTION:
URL:https://epictriviafl.com/event/trivia-dicks/2029-02-01/
LOCATION:Dick’s Last Resort\, 9101 International Dr\, Unit 1300 Orlando\, FL 32819 USA
GEO:28.432983;-81.4698175
X-APPLE-STRUCTURED-LOCATION;VALUE=URI;X-ADDRESS=Dick’s Last Resort 9101 International Dr Unit 1300 Orlando FL 32819 USA;X-APPLE-RADIUS=500;X-TITLE=9101 International Dr\, Unit 1300 Orlando\, FL 32819 USA:geo:-81.4698175,28.432983
END:VEVENT
BEGIN:VEVENT
DTSTART;TZID=America/New_York:20290204T130000
DTEND;TZID=America/New_York:20290204T130000
DTSTAMP:20260421T063825
CREATED:20260105T003248Z
LAST-MODIFIED:20260105T060144Z
UID:10020704-1864904400-1864904400@epictriviafl.com
SUMMARY:Music Bingo
DESCRIPTION:
URL:https://epictriviafl.com/event/music-bingo-dicks/2029-02-04/
LOCATION:Dick’s Last Resort\, 9101 International Dr\, Unit 1300 Orlando\, FL 32819 USA
GEO:28.432983;-81.4698175
X-APPLE-STRUCTURED-LOCATION;VALUE=URI;X-ADDRESS=Dick’s Last Resort 9101 International Dr Unit 1300 Orlando FL 32819 USA;X-APPLE-RADIUS=500;X-TITLE=9101 International Dr\, Unit 1300 Orlando\, FL 32819 USA:geo:-81.4698175,28.432983
END:VEVENT
BEGIN:VEVENT
DTSTART;TZID=America/New_York:20290208T190000
DTEND;TZID=America/New_York:20290208T190000
DTSTAMP:20260421T063825
CREATED:20260105T003203Z
LAST-MODIFIED:20260105T053946Z
UID:10010824-1865271600-1865271600@epictriviafl.com
SUMMARY:Trivia
DESCRIPTION:
URL:https://epictriviafl.com/event/trivia-dicks/2029-02-08/
LOCATION:Dick’s Last Resort\, 9101 International Dr\, Unit 1300 Orlando\, FL 32819 USA
GEO:28.432983;-81.4698175
X-APPLE-STRUCTURED-LOCATION;VALUE=URI;X-ADDRESS=Dick’s Last Resort 9101 International Dr Unit 1300 Orlando FL 32819 USA;X-APPLE-RADIUS=500;X-TITLE=9101 International Dr\, Unit 1300 Orlando\, FL 32819 USA:geo:-81.4698175,28.432983
END:VEVENT
BEGIN:VEVENT
DTSTART;TZID=America/New_York:20290211T130000
DTEND;TZID=America/New_York:20290211T130000
DTSTAMP:20260421T063825
CREATED:20260105T003248Z
LAST-MODIFIED:20260105T060144Z
UID:10020705-1865509200-1865509200@epictriviafl.com
SUMMARY:Music Bingo
DESCRIPTION:
URL:https://epictriviafl.com/event/music-bingo-dicks/2029-02-11/
LOCATION:Dick’s Last Resort\, 9101 International Dr\, Unit 1300 Orlando\, FL 32819 USA
GEO:28.432983;-81.4698175
X-APPLE-STRUCTURED-LOCATION;VALUE=URI;X-ADDRESS=Dick’s Last Resort 9101 International Dr Unit 1300 Orlando FL 32819 USA;X-APPLE-RADIUS=500;X-TITLE=9101 International Dr\, Unit 1300 Orlando\, FL 32819 USA:geo:-81.4698175,28.432983
END:VEVENT
BEGIN:VEVENT
DTSTART;TZID=America/New_York:20290215T190000
DTEND;TZID=America/New_York:20290215T190000
DTSTAMP:20260421T063825
CREATED:20260105T003203Z
LAST-MODIFIED:20260105T053946Z
UID:10010825-1865876400-1865876400@epictriviafl.com
SUMMARY:Trivia
DESCRIPTION:
URL:https://epictriviafl.com/event/trivia-dicks/2029-02-15/
LOCATION:Dick’s Last Resort\, 9101 International Dr\, Unit 1300 Orlando\, FL 32819 USA
GEO:28.432983;-81.4698175
X-APPLE-STRUCTURED-LOCATION;VALUE=URI;X-ADDRESS=Dick’s Last Resort 9101 International Dr Unit 1300 Orlando FL 32819 USA;X-APPLE-RADIUS=500;X-TITLE=9101 International Dr\, Unit 1300 Orlando\, FL 32819 USA:geo:-81.4698175,28.432983
END:VEVENT
BEGIN:VEVENT
DTSTART;TZID=America/New_York:20290218T130000
DTEND;TZID=America/New_York:20290218T130000
DTSTAMP:20260421T063825
CREATED:20260105T003248Z
LAST-MODIFIED:20260105T060144Z
UID:10020706-1866114000-1866114000@epictriviafl.com
SUMMARY:Music Bingo
DESCRIPTION:
URL:https://epictriviafl.com/event/music-bingo-dicks/2029-02-18/
LOCATION:Dick’s Last Resort\, 9101 International Dr\, Unit 1300 Orlando\, FL 32819 USA
GEO:28.432983;-81.4698175
X-APPLE-STRUCTURED-LOCATION;VALUE=URI;X-ADDRESS=Dick’s Last Resort 9101 International Dr Unit 1300 Orlando FL 32819 USA;X-APPLE-RADIUS=500;X-TITLE=9101 International Dr\, Unit 1300 Orlando\, FL 32819 USA:geo:-81.4698175,28.432983
END:VEVENT
BEGIN:VEVENT
DTSTART;TZID=America/New_York:20290222T190000
DTEND;TZID=America/New_York:20290222T190000
DTSTAMP:20260421T063825
CREATED:20260105T003203Z
LAST-MODIFIED:20260105T053946Z
UID:10010826-1866481200-1866481200@epictriviafl.com
SUMMARY:Trivia
DESCRIPTION:
URL:https://epictriviafl.com/event/trivia-dicks/2029-02-22/
LOCATION:Dick’s Last Resort\, 9101 International Dr\, Unit 1300 Orlando\, FL 32819 USA
GEO:28.432983;-81.4698175
X-APPLE-STRUCTURED-LOCATION;VALUE=URI;X-ADDRESS=Dick’s Last Resort 9101 International Dr Unit 1300 Orlando FL 32819 USA;X-APPLE-RADIUS=500;X-TITLE=9101 International Dr\, Unit 1300 Orlando\, FL 32819 USA:geo:-81.4698175,28.432983
END:VEVENT
BEGIN:VEVENT
DTSTART;TZID=America/New_York:20290225T130000
DTEND;TZID=America/New_York:20290225T130000
DTSTAMP:20260421T063825
CREATED:20260105T003248Z
LAST-MODIFIED:20260105T060144Z
UID:10020707-1866718800-1866718800@epictriviafl.com
SUMMARY:Music Bingo
DESCRIPTION:
URL:https://epictriviafl.com/event/music-bingo-dicks/2029-02-25/
LOCATION:Dick’s Last Resort\, 9101 International Dr\, Unit 1300 Orlando\, FL 32819 USA
GEO:28.432983;-81.4698175
X-APPLE-STRUCTURED-LOCATION;VALUE=URI;X-ADDRESS=Dick’s Last Resort 9101 International Dr Unit 1300 Orlando FL 32819 USA;X-APPLE-RADIUS=500;X-TITLE=9101 International Dr\, Unit 1300 Orlando\, FL 32819 USA:geo:-81.4698175,28.432983
END:VEVENT
BEGIN:VEVENT
DTSTART;TZID=America/New_York:20290301T190000
DTEND;TZID=America/New_York:20290301T190000
DTSTAMP:20260421T063825
CREATED:20260105T003203Z
LAST-MODIFIED:20260105T053946Z
UID:10010827-1867086000-1867086000@epictriviafl.com
SUMMARY:Trivia
DESCRIPTION:
URL:https://epictriviafl.com/event/trivia-dicks/2029-03-01/
LOCATION:Dick’s Last Resort\, 9101 International Dr\, Unit 1300 Orlando\, FL 32819 USA
GEO:28.432983;-81.4698175
X-APPLE-STRUCTURED-LOCATION;VALUE=URI;X-ADDRESS=Dick’s Last Resort 9101 International Dr Unit 1300 Orlando FL 32819 USA;X-APPLE-RADIUS=500;X-TITLE=9101 International Dr\, Unit 1300 Orlando\, FL 32819 USA:geo:-81.4698175,28.432983
END:VEVENT
BEGIN:VEVENT
DTSTART;TZID=America/New_York:20290304T130000
DTEND;TZID=America/New_York:20290304T130000
DTSTAMP:20260421T063825
CREATED:20260105T003248Z
LAST-MODIFIED:20260105T060144Z
UID:10020708-1867323600-1867323600@epictriviafl.com
SUMMARY:Music Bingo
DESCRIPTION:
URL:https://epictriviafl.com/event/music-bingo-dicks/2029-03-04/
LOCATION:Dick’s Last Resort\, 9101 International Dr\, Unit 1300 Orlando\, FL 32819 USA
GEO:28.432983;-81.4698175
X-APPLE-STRUCTURED-LOCATION;VALUE=URI;X-ADDRESS=Dick’s Last Resort 9101 International Dr Unit 1300 Orlando FL 32819 USA;X-APPLE-RADIUS=500;X-TITLE=9101 International Dr\, Unit 1300 Orlando\, FL 32819 USA:geo:-81.4698175,28.432983
END:VEVENT
BEGIN:VEVENT
DTSTART;TZID=America/New_York:20290308T190000
DTEND;TZID=America/New_York:20290308T190000
DTSTAMP:20260421T063825
CREATED:20260105T003203Z
LAST-MODIFIED:20260105T053946Z
UID:10010828-1867690800-1867690800@epictriviafl.com
SUMMARY:Trivia
DESCRIPTION:
URL:https://epictriviafl.com/event/trivia-dicks/2029-03-08/
LOCATION:Dick’s Last Resort\, 9101 International Dr\, Unit 1300 Orlando\, FL 32819 USA
GEO:28.432983;-81.4698175
X-APPLE-STRUCTURED-LOCATION;VALUE=URI;X-ADDRESS=Dick’s Last Resort 9101 International Dr Unit 1300 Orlando FL 32819 USA;X-APPLE-RADIUS=500;X-TITLE=9101 International Dr\, Unit 1300 Orlando\, FL 32819 USA:geo:-81.4698175,28.432983
END:VEVENT
BEGIN:VEVENT
DTSTART;TZID=America/New_York:20290311T130000
DTEND;TZID=America/New_York:20290311T130000
DTSTAMP:20260421T063825
CREATED:20260105T003248Z
LAST-MODIFIED:20260105T060144Z
UID:10020709-1867928400-1867928400@epictriviafl.com
SUMMARY:Music Bingo
DESCRIPTION:
URL:https://epictriviafl.com/event/music-bingo-dicks/2029-03-11/
LOCATION:Dick’s Last Resort\, 9101 International Dr\, Unit 1300 Orlando\, FL 32819 USA
GEO:28.432983;-81.4698175
X-APPLE-STRUCTURED-LOCATION;VALUE=URI;X-ADDRESS=Dick’s Last Resort 9101 International Dr Unit 1300 Orlando FL 32819 USA;X-APPLE-RADIUS=500;X-TITLE=9101 International Dr\, Unit 1300 Orlando\, FL 32819 USA:geo:-81.4698175,28.432983
END:VEVENT
BEGIN:VEVENT
DTSTART;TZID=America/New_York:20290315T190000
DTEND;TZID=America/New_York:20290315T190000
DTSTAMP:20260421T063825
CREATED:20260105T003203Z
LAST-MODIFIED:20260105T053946Z
UID:10010829-1868295600-1868295600@epictriviafl.com
SUMMARY:Trivia
DESCRIPTION:
URL:https://epictriviafl.com/event/trivia-dicks/2029-03-15/
LOCATION:Dick’s Last Resort\, 9101 International Dr\, Unit 1300 Orlando\, FL 32819 USA
GEO:28.432983;-81.4698175
X-APPLE-STRUCTURED-LOCATION;VALUE=URI;X-ADDRESS=Dick’s Last Resort 9101 International Dr Unit 1300 Orlando FL 32819 USA;X-APPLE-RADIUS=500;X-TITLE=9101 International Dr\, Unit 1300 Orlando\, FL 32819 USA:geo:-81.4698175,28.432983
END:VEVENT
BEGIN:VEVENT
DTSTART;TZID=America/New_York:20290318T130000
DTEND;TZID=America/New_York:20290318T130000
DTSTAMP:20260421T063825
CREATED:20260105T003248Z
LAST-MODIFIED:20260105T060144Z
UID:10020710-1868533200-1868533200@epictriviafl.com
SUMMARY:Music Bingo
DESCRIPTION:
URL:https://epictriviafl.com/event/music-bingo-dicks/2029-03-18/
LOCATION:Dick’s Last Resort\, 9101 International Dr\, Unit 1300 Orlando\, FL 32819 USA
GEO:28.432983;-81.4698175
X-APPLE-STRUCTURED-LOCATION;VALUE=URI;X-ADDRESS=Dick’s Last Resort 9101 International Dr Unit 1300 Orlando FL 32819 USA;X-APPLE-RADIUS=500;X-TITLE=9101 International Dr\, Unit 1300 Orlando\, FL 32819 USA:geo:-81.4698175,28.432983
END:VEVENT
BEGIN:VEVENT
DTSTART;TZID=America/New_York:20290322T190000
DTEND;TZID=America/New_York:20290322T190000
DTSTAMP:20260421T063825
CREATED:20260105T003203Z
LAST-MODIFIED:20260105T053946Z
UID:10010830-1868900400-1868900400@epictriviafl.com
SUMMARY:Trivia
DESCRIPTION:
URL:https://epictriviafl.com/event/trivia-dicks/2029-03-22/
LOCATION:Dick’s Last Resort\, 9101 International Dr\, Unit 1300 Orlando\, FL 32819 USA
GEO:28.432983;-81.4698175
X-APPLE-STRUCTURED-LOCATION;VALUE=URI;X-ADDRESS=Dick’s Last Resort 9101 International Dr Unit 1300 Orlando FL 32819 USA;X-APPLE-RADIUS=500;X-TITLE=9101 International Dr\, Unit 1300 Orlando\, FL 32819 USA:geo:-81.4698175,28.432983
END:VEVENT
BEGIN:VEVENT
DTSTART;TZID=America/New_York:20290325T130000
DTEND;TZID=America/New_York:20290325T130000
DTSTAMP:20260421T063825
CREATED:20260105T003248Z
LAST-MODIFIED:20260105T060144Z
UID:10020711-1869138000-1869138000@epictriviafl.com
SUMMARY:Music Bingo
DESCRIPTION:
URL:https://epictriviafl.com/event/music-bingo-dicks/2029-03-25/
LOCATION:Dick’s Last Resort\, 9101 International Dr\, Unit 1300 Orlando\, FL 32819 USA
GEO:28.432983;-81.4698175
X-APPLE-STRUCTURED-LOCATION;VALUE=URI;X-ADDRESS=Dick’s Last Resort 9101 International Dr Unit 1300 Orlando FL 32819 USA;X-APPLE-RADIUS=500;X-TITLE=9101 International Dr\, Unit 1300 Orlando\, FL 32819 USA:geo:-81.4698175,28.432983
END:VEVENT
BEGIN:VEVENT
DTSTART;TZID=America/New_York:20290329T190000
DTEND;TZID=America/New_York:20290329T190000
DTSTAMP:20260421T063825
CREATED:20260105T003203Z
LAST-MODIFIED:20260105T053946Z
UID:10010831-1869505200-1869505200@epictriviafl.com
SUMMARY:Trivia
DESCRIPTION:
URL:https://epictriviafl.com/event/trivia-dicks/2029-03-29/
LOCATION:Dick’s Last Resort\, 9101 International Dr\, Unit 1300 Orlando\, FL 32819 USA
GEO:28.432983;-81.4698175
X-APPLE-STRUCTURED-LOCATION;VALUE=URI;X-ADDRESS=Dick’s Last Resort 9101 International Dr Unit 1300 Orlando FL 32819 USA;X-APPLE-RADIUS=500;X-TITLE=9101 International Dr\, Unit 1300 Orlando\, FL 32819 USA:geo:-81.4698175,28.432983
END:VEVENT
BEGIN:VEVENT
DTSTART;TZID=America/New_York:20290401T130000
DTEND;TZID=America/New_York:20290401T130000
DTSTAMP:20260421T063825
CREATED:20260105T003248Z
LAST-MODIFIED:20260105T060144Z
UID:10020712-1869742800-1869742800@epictriviafl.com
SUMMARY:Music Bingo
DESCRIPTION:
URL:https://epictriviafl.com/event/music-bingo-dicks/2029-04-01/
LOCATION:Dick’s Last Resort\, 9101 International Dr\, Unit 1300 Orlando\, FL 32819 USA
GEO:28.432983;-81.4698175
X-APPLE-STRUCTURED-LOCATION;VALUE=URI;X-ADDRESS=Dick’s Last Resort 9101 International Dr Unit 1300 Orlando FL 32819 USA;X-APPLE-RADIUS=500;X-TITLE=9101 International Dr\, Unit 1300 Orlando\, FL 32819 USA:geo:-81.4698175,28.432983
END:VEVENT
BEGIN:VEVENT
DTSTART;TZID=America/New_York:20290405T190000
DTEND;TZID=America/New_York:20290405T190000
DTSTAMP:20260421T063825
CREATED:20260105T003203Z
LAST-MODIFIED:20260105T053946Z
UID:10010832-1870110000-1870110000@epictriviafl.com
SUMMARY:Trivia
DESCRIPTION:
URL:https://epictriviafl.com/event/trivia-dicks/2029-04-05/
LOCATION:Dick’s Last Resort\, 9101 International Dr\, Unit 1300 Orlando\, FL 32819 USA
GEO:28.432983;-81.4698175
X-APPLE-STRUCTURED-LOCATION;VALUE=URI;X-ADDRESS=Dick’s Last Resort 9101 International Dr Unit 1300 Orlando FL 32819 USA;X-APPLE-RADIUS=500;X-TITLE=9101 International Dr\, Unit 1300 Orlando\, FL 32819 USA:geo:-81.4698175,28.432983
END:VEVENT
BEGIN:VEVENT
DTSTART;TZID=America/New_York:20290408T130000
DTEND;TZID=America/New_York:20290408T130000
DTSTAMP:20260421T063825
CREATED:20260105T003248Z
LAST-MODIFIED:20260105T060144Z
UID:10020713-1870347600-1870347600@epictriviafl.com
SUMMARY:Music Bingo
DESCRIPTION:
URL:https://epictriviafl.com/event/music-bingo-dicks/2029-04-08/
LOCATION:Dick’s Last Resort\, 9101 International Dr\, Unit 1300 Orlando\, FL 32819 USA
GEO:28.432983;-81.4698175
X-APPLE-STRUCTURED-LOCATION;VALUE=URI;X-ADDRESS=Dick’s Last Resort 9101 International Dr Unit 1300 Orlando FL 32819 USA;X-APPLE-RADIUS=500;X-TITLE=9101 International Dr\, Unit 1300 Orlando\, FL 32819 USA:geo:-81.4698175,28.432983
END:VEVENT
BEGIN:VEVENT
DTSTART;TZID=America/New_York:20290412T190000
DTEND;TZID=America/New_York:20290412T190000
DTSTAMP:20260421T063825
CREATED:20260105T003203Z
LAST-MODIFIED:20260105T053946Z
UID:10010833-1870714800-1870714800@epictriviafl.com
SUMMARY:Trivia
DESCRIPTION:
URL:https://epictriviafl.com/event/trivia-dicks/2029-04-12/
LOCATION:Dick’s Last Resort\, 9101 International Dr\, Unit 1300 Orlando\, FL 32819 USA
GEO:28.432983;-81.4698175
X-APPLE-STRUCTURED-LOCATION;VALUE=URI;X-ADDRESS=Dick’s Last Resort 9101 International Dr Unit 1300 Orlando FL 32819 USA;X-APPLE-RADIUS=500;X-TITLE=9101 International Dr\, Unit 1300 Orlando\, FL 32819 USA:geo:-81.4698175,28.432983
END:VEVENT
BEGIN:VEVENT
DTSTART;TZID=America/New_York:20290415T130000
DTEND;TZID=America/New_York:20290415T130000
DTSTAMP:20260421T063826
CREATED:20260105T003248Z
LAST-MODIFIED:20260105T060144Z
UID:10020714-1870952400-1870952400@epictriviafl.com
SUMMARY:Music Bingo
DESCRIPTION:
URL:https://epictriviafl.com/event/music-bingo-dicks/2029-04-15/
LOCATION:Dick’s Last Resort\, 9101 International Dr\, Unit 1300 Orlando\, FL 32819 USA
GEO:28.432983;-81.4698175
X-APPLE-STRUCTURED-LOCATION;VALUE=URI;X-ADDRESS=Dick’s Last Resort 9101 International Dr Unit 1300 Orlando FL 32819 USA;X-APPLE-RADIUS=500;X-TITLE=9101 International Dr\, Unit 1300 Orlando\, FL 32819 USA:geo:-81.4698175,28.432983
END:VEVENT
BEGIN:VEVENT
DTSTART;TZID=America/New_York:20290419T190000
DTEND;TZID=America/New_York:20290419T190000
DTSTAMP:20260421T063826
CREATED:20260105T003203Z
LAST-MODIFIED:20260105T053946Z
UID:10010834-1871319600-1871319600@epictriviafl.com
SUMMARY:Trivia
DESCRIPTION:
URL:https://epictriviafl.com/event/trivia-dicks/2029-04-19/
LOCATION:Dick’s Last Resort\, 9101 International Dr\, Unit 1300 Orlando\, FL 32819 USA
GEO:28.432983;-81.4698175
X-APPLE-STRUCTURED-LOCATION;VALUE=URI;X-ADDRESS=Dick’s Last Resort 9101 International Dr Unit 1300 Orlando FL 32819 USA;X-APPLE-RADIUS=500;X-TITLE=9101 International Dr\, Unit 1300 Orlando\, FL 32819 USA:geo:-81.4698175,28.432983
END:VEVENT
BEGIN:VEVENT
DTSTART;TZID=America/New_York:20290422T130000
DTEND;TZID=America/New_York:20290422T130000
DTSTAMP:20260421T063826
CREATED:20260105T003248Z
LAST-MODIFIED:20260105T060144Z
UID:10020715-1871557200-1871557200@epictriviafl.com
SUMMARY:Music Bingo
DESCRIPTION:
URL:https://epictriviafl.com/event/music-bingo-dicks/2029-04-22/
LOCATION:Dick’s Last Resort\, 9101 International Dr\, Unit 1300 Orlando\, FL 32819 USA
GEO:28.432983;-81.4698175
X-APPLE-STRUCTURED-LOCATION;VALUE=URI;X-ADDRESS=Dick’s Last Resort 9101 International Dr Unit 1300 Orlando FL 32819 USA;X-APPLE-RADIUS=500;X-TITLE=9101 International Dr\, Unit 1300 Orlando\, FL 32819 USA:geo:-81.4698175,28.432983
END:VEVENT
BEGIN:VEVENT
DTSTART;TZID=America/New_York:20290426T190000
DTEND;TZID=America/New_York:20290426T190000
DTSTAMP:20260421T063826
CREATED:20260105T003203Z
LAST-MODIFIED:20260105T053946Z
UID:10010835-1871924400-1871924400@epictriviafl.com
SUMMARY:Trivia
DESCRIPTION:
URL:https://epictriviafl.com/event/trivia-dicks/2029-04-26/
LOCATION:Dick’s Last Resort\, 9101 International Dr\, Unit 1300 Orlando\, FL 32819 USA
GEO:28.432983;-81.4698175
X-APPLE-STRUCTURED-LOCATION;VALUE=URI;X-ADDRESS=Dick’s Last Resort 9101 International Dr Unit 1300 Orlando FL 32819 USA;X-APPLE-RADIUS=500;X-TITLE=9101 International Dr\, Unit 1300 Orlando\, FL 32819 USA:geo:-81.4698175,28.432983
END:VEVENT
BEGIN:VEVENT
DTSTART;TZID=America/New_York:20290429T130000
DTEND;TZID=America/New_York:20290429T130000
DTSTAMP:20260421T063826
CREATED:20260105T003248Z
LAST-MODIFIED:20260105T060144Z
UID:10020716-1872162000-1872162000@epictriviafl.com
SUMMARY:Music Bingo
DESCRIPTION:
URL:https://epictriviafl.com/event/music-bingo-dicks/2029-04-29/
LOCATION:Dick’s Last Resort\, 9101 International Dr\, Unit 1300 Orlando\, FL 32819 USA
GEO:28.432983;-81.4698175
X-APPLE-STRUCTURED-LOCATION;VALUE=URI;X-ADDRESS=Dick’s Last Resort 9101 International Dr Unit 1300 Orlando FL 32819 USA;X-APPLE-RADIUS=500;X-TITLE=9101 International Dr\, Unit 1300 Orlando\, FL 32819 USA:geo:-81.4698175,28.432983
END:VEVENT
BEGIN:VEVENT
DTSTART;TZID=America/New_York:20290503T190000
DTEND;TZID=America/New_York:20290503T190000
DTSTAMP:20260421T063826
CREATED:20260105T003203Z
LAST-MODIFIED:20260105T053946Z
UID:10010836-1872529200-1872529200@epictriviafl.com
SUMMARY:Trivia
DESCRIPTION:
URL:https://epictriviafl.com/event/trivia-dicks/2029-05-03/
LOCATION:Dick’s Last Resort\, 9101 International Dr\, Unit 1300 Orlando\, FL 32819 USA
GEO:28.432983;-81.4698175
X-APPLE-STRUCTURED-LOCATION;VALUE=URI;X-ADDRESS=Dick’s Last Resort 9101 International Dr Unit 1300 Orlando FL 32819 USA;X-APPLE-RADIUS=500;X-TITLE=9101 International Dr\, Unit 1300 Orlando\, FL 32819 USA:geo:-81.4698175,28.432983
END:VEVENT
BEGIN:VEVENT
DTSTART;TZID=America/New_York:20290506T130000
DTEND;TZID=America/New_York:20290506T130000
DTSTAMP:20260421T063826
CREATED:20260105T003248Z
LAST-MODIFIED:20260105T060144Z
UID:10020717-1872766800-1872766800@epictriviafl.com
SUMMARY:Music Bingo
DESCRIPTION:
URL:https://epictriviafl.com/event/music-bingo-dicks/2029-05-06/
LOCATION:Dick’s Last Resort\, 9101 International Dr\, Unit 1300 Orlando\, FL 32819 USA
GEO:28.432983;-81.4698175
X-APPLE-STRUCTURED-LOCATION;VALUE=URI;X-ADDRESS=Dick’s Last Resort 9101 International Dr Unit 1300 Orlando FL 32819 USA;X-APPLE-RADIUS=500;X-TITLE=9101 International Dr\, Unit 1300 Orlando\, FL 32819 USA:geo:-81.4698175,28.432983
END:VEVENT
END:VCALENDAR