BEGIN:VCALENDAR
VERSION:2.0
PRODID:-//Epic Trivia - ECPv6.15.18//NONSGML v1.0//EN
CALSCALE:GREGORIAN
METHOD:PUBLISH
X-ORIGINAL-URL:https://epictriviafl.com
X-WR-CALDESC:Events for Epic Trivia
REFRESH-INTERVAL;VALUE=DURATION:PT1H
X-Robots-Tag:noindex
X-PUBLISHED-TTL:PT1H
BEGIN:VTIMEZONE
TZID:America/New_York
BEGIN:DAYLIGHT
TZOFFSETFROM:-0500
TZOFFSETTO:-0400
TZNAME:EDT
DTSTART:20260308T070000
END:DAYLIGHT
BEGIN:STANDARD
TZOFFSETFROM:-0400
TZOFFSETTO:-0500
TZNAME:EST
DTSTART:20261101T060000
END:STANDARD
BEGIN:DAYLIGHT
TZOFFSETFROM:-0500
TZOFFSETTO:-0400
TZNAME:EDT
DTSTART:20270314T070000
END:DAYLIGHT
BEGIN:STANDARD
TZOFFSETFROM:-0400
TZOFFSETTO:-0500
TZNAME:EST
DTSTART:20271107T060000
END:STANDARD
BEGIN:DAYLIGHT
TZOFFSETFROM:-0500
TZOFFSETTO:-0400
TZNAME:EDT
DTSTART:20280312T070000
END:DAYLIGHT
BEGIN:STANDARD
TZOFFSETFROM:-0400
TZOFFSETTO:-0500
TZNAME:EST
DTSTART:20281105T060000
END:STANDARD
END:VTIMEZONE
BEGIN:VEVENT
DTSTART;TZID=America/New_York:20270506T190000
DTEND;TZID=America/New_York:20270506T190000
DTSTAMP:20260420T062829
CREATED:20260105T003203Z
LAST-MODIFIED:20260105T053946Z
UID:10010732-1809630000-1809630000@epictriviafl.com
SUMMARY:Trivia
DESCRIPTION:
URL:https://epictriviafl.com/event/trivia-dicks/2027-05-06/
LOCATION:Dick’s Last Resort\, 9101 International Dr\, Unit 1300 Orlando\, FL 32819 USA
GEO:28.432983;-81.4698175
X-APPLE-STRUCTURED-LOCATION;VALUE=URI;X-ADDRESS=Dick’s Last Resort 9101 International Dr Unit 1300 Orlando FL 32819 USA;X-APPLE-RADIUS=500;X-TITLE=9101 International Dr\, Unit 1300 Orlando\, FL 32819 USA:geo:-81.4698175,28.432983
END:VEVENT
BEGIN:VEVENT
DTSTART;TZID=America/New_York:20270509T130000
DTEND;TZID=America/New_York:20270509T130000
DTSTAMP:20260420T062829
CREATED:20260105T003248Z
LAST-MODIFIED:20260105T060144Z
UID:10020613-1809867600-1809867600@epictriviafl.com
SUMMARY:Music Bingo
DESCRIPTION:
URL:https://epictriviafl.com/event/music-bingo-dicks/2027-05-09/
LOCATION:Dick’s Last Resort\, 9101 International Dr\, Unit 1300 Orlando\, FL 32819 USA
GEO:28.432983;-81.4698175
X-APPLE-STRUCTURED-LOCATION;VALUE=URI;X-ADDRESS=Dick’s Last Resort 9101 International Dr Unit 1300 Orlando FL 32819 USA;X-APPLE-RADIUS=500;X-TITLE=9101 International Dr\, Unit 1300 Orlando\, FL 32819 USA:geo:-81.4698175,28.432983
END:VEVENT
BEGIN:VEVENT
DTSTART;TZID=America/New_York:20270513T190000
DTEND;TZID=America/New_York:20270513T190000
DTSTAMP:20260420T062829
CREATED:20260105T003203Z
LAST-MODIFIED:20260105T053946Z
UID:10010733-1810234800-1810234800@epictriviafl.com
SUMMARY:Trivia
DESCRIPTION:
URL:https://epictriviafl.com/event/trivia-dicks/2027-05-13/
LOCATION:Dick’s Last Resort\, 9101 International Dr\, Unit 1300 Orlando\, FL 32819 USA
GEO:28.432983;-81.4698175
X-APPLE-STRUCTURED-LOCATION;VALUE=URI;X-ADDRESS=Dick’s Last Resort 9101 International Dr Unit 1300 Orlando FL 32819 USA;X-APPLE-RADIUS=500;X-TITLE=9101 International Dr\, Unit 1300 Orlando\, FL 32819 USA:geo:-81.4698175,28.432983
END:VEVENT
BEGIN:VEVENT
DTSTART;TZID=America/New_York:20270516T130000
DTEND;TZID=America/New_York:20270516T130000
DTSTAMP:20260420T062829
CREATED:20260105T003248Z
LAST-MODIFIED:20260105T060144Z
UID:10020614-1810472400-1810472400@epictriviafl.com
SUMMARY:Music Bingo
DESCRIPTION:
URL:https://epictriviafl.com/event/music-bingo-dicks/2027-05-16/
LOCATION:Dick’s Last Resort\, 9101 International Dr\, Unit 1300 Orlando\, FL 32819 USA
GEO:28.432983;-81.4698175
X-APPLE-STRUCTURED-LOCATION;VALUE=URI;X-ADDRESS=Dick’s Last Resort 9101 International Dr Unit 1300 Orlando FL 32819 USA;X-APPLE-RADIUS=500;X-TITLE=9101 International Dr\, Unit 1300 Orlando\, FL 32819 USA:geo:-81.4698175,28.432983
END:VEVENT
BEGIN:VEVENT
DTSTART;TZID=America/New_York:20270520T190000
DTEND;TZID=America/New_York:20270520T190000
DTSTAMP:20260420T062829
CREATED:20260105T003203Z
LAST-MODIFIED:20260105T053946Z
UID:10010734-1810839600-1810839600@epictriviafl.com
SUMMARY:Trivia
DESCRIPTION:
URL:https://epictriviafl.com/event/trivia-dicks/2027-05-20/
LOCATION:Dick’s Last Resort\, 9101 International Dr\, Unit 1300 Orlando\, FL 32819 USA
GEO:28.432983;-81.4698175
X-APPLE-STRUCTURED-LOCATION;VALUE=URI;X-ADDRESS=Dick’s Last Resort 9101 International Dr Unit 1300 Orlando FL 32819 USA;X-APPLE-RADIUS=500;X-TITLE=9101 International Dr\, Unit 1300 Orlando\, FL 32819 USA:geo:-81.4698175,28.432983
END:VEVENT
BEGIN:VEVENT
DTSTART;TZID=America/New_York:20270523T130000
DTEND;TZID=America/New_York:20270523T130000
DTSTAMP:20260420T062829
CREATED:20260105T003248Z
LAST-MODIFIED:20260105T060144Z
UID:10020615-1811077200-1811077200@epictriviafl.com
SUMMARY:Music Bingo
DESCRIPTION:
URL:https://epictriviafl.com/event/music-bingo-dicks/2027-05-23/
LOCATION:Dick’s Last Resort\, 9101 International Dr\, Unit 1300 Orlando\, FL 32819 USA
GEO:28.432983;-81.4698175
X-APPLE-STRUCTURED-LOCATION;VALUE=URI;X-ADDRESS=Dick’s Last Resort 9101 International Dr Unit 1300 Orlando FL 32819 USA;X-APPLE-RADIUS=500;X-TITLE=9101 International Dr\, Unit 1300 Orlando\, FL 32819 USA:geo:-81.4698175,28.432983
END:VEVENT
BEGIN:VEVENT
DTSTART;TZID=America/New_York:20270527T190000
DTEND;TZID=America/New_York:20270527T190000
DTSTAMP:20260420T062829
CREATED:20260105T003203Z
LAST-MODIFIED:20260105T053946Z
UID:10010735-1811444400-1811444400@epictriviafl.com
SUMMARY:Trivia
DESCRIPTION:
URL:https://epictriviafl.com/event/trivia-dicks/2027-05-27/
LOCATION:Dick’s Last Resort\, 9101 International Dr\, Unit 1300 Orlando\, FL 32819 USA
GEO:28.432983;-81.4698175
X-APPLE-STRUCTURED-LOCATION;VALUE=URI;X-ADDRESS=Dick’s Last Resort 9101 International Dr Unit 1300 Orlando FL 32819 USA;X-APPLE-RADIUS=500;X-TITLE=9101 International Dr\, Unit 1300 Orlando\, FL 32819 USA:geo:-81.4698175,28.432983
END:VEVENT
BEGIN:VEVENT
DTSTART;TZID=America/New_York:20270530T130000
DTEND;TZID=America/New_York:20270530T130000
DTSTAMP:20260420T062829
CREATED:20260105T003248Z
LAST-MODIFIED:20260105T060144Z
UID:10020616-1811682000-1811682000@epictriviafl.com
SUMMARY:Music Bingo
DESCRIPTION:
URL:https://epictriviafl.com/event/music-bingo-dicks/2027-05-30/
LOCATION:Dick’s Last Resort\, 9101 International Dr\, Unit 1300 Orlando\, FL 32819 USA
GEO:28.432983;-81.4698175
X-APPLE-STRUCTURED-LOCATION;VALUE=URI;X-ADDRESS=Dick’s Last Resort 9101 International Dr Unit 1300 Orlando FL 32819 USA;X-APPLE-RADIUS=500;X-TITLE=9101 International Dr\, Unit 1300 Orlando\, FL 32819 USA:geo:-81.4698175,28.432983
END:VEVENT
BEGIN:VEVENT
DTSTART;TZID=America/New_York:20270603T190000
DTEND;TZID=America/New_York:20270603T190000
DTSTAMP:20260420T062829
CREATED:20260105T003203Z
LAST-MODIFIED:20260105T053946Z
UID:10010736-1812049200-1812049200@epictriviafl.com
SUMMARY:Trivia
DESCRIPTION:
URL:https://epictriviafl.com/event/trivia-dicks/2027-06-03/
LOCATION:Dick’s Last Resort\, 9101 International Dr\, Unit 1300 Orlando\, FL 32819 USA
GEO:28.432983;-81.4698175
X-APPLE-STRUCTURED-LOCATION;VALUE=URI;X-ADDRESS=Dick’s Last Resort 9101 International Dr Unit 1300 Orlando FL 32819 USA;X-APPLE-RADIUS=500;X-TITLE=9101 International Dr\, Unit 1300 Orlando\, FL 32819 USA:geo:-81.4698175,28.432983
END:VEVENT
BEGIN:VEVENT
DTSTART;TZID=America/New_York:20270606T130000
DTEND;TZID=America/New_York:20270606T130000
DTSTAMP:20260420T062829
CREATED:20260105T003248Z
LAST-MODIFIED:20260105T060144Z
UID:10020617-1812286800-1812286800@epictriviafl.com
SUMMARY:Music Bingo
DESCRIPTION:
URL:https://epictriviafl.com/event/music-bingo-dicks/2027-06-06/
LOCATION:Dick’s Last Resort\, 9101 International Dr\, Unit 1300 Orlando\, FL 32819 USA
GEO:28.432983;-81.4698175
X-APPLE-STRUCTURED-LOCATION;VALUE=URI;X-ADDRESS=Dick’s Last Resort 9101 International Dr Unit 1300 Orlando FL 32819 USA;X-APPLE-RADIUS=500;X-TITLE=9101 International Dr\, Unit 1300 Orlando\, FL 32819 USA:geo:-81.4698175,28.432983
END:VEVENT
BEGIN:VEVENT
DTSTART;TZID=America/New_York:20270610T190000
DTEND;TZID=America/New_York:20270610T190000
DTSTAMP:20260420T062829
CREATED:20260105T003203Z
LAST-MODIFIED:20260105T053946Z
UID:10010737-1812654000-1812654000@epictriviafl.com
SUMMARY:Trivia
DESCRIPTION:
URL:https://epictriviafl.com/event/trivia-dicks/2027-06-10/
LOCATION:Dick’s Last Resort\, 9101 International Dr\, Unit 1300 Orlando\, FL 32819 USA
GEO:28.432983;-81.4698175
X-APPLE-STRUCTURED-LOCATION;VALUE=URI;X-ADDRESS=Dick’s Last Resort 9101 International Dr Unit 1300 Orlando FL 32819 USA;X-APPLE-RADIUS=500;X-TITLE=9101 International Dr\, Unit 1300 Orlando\, FL 32819 USA:geo:-81.4698175,28.432983
END:VEVENT
BEGIN:VEVENT
DTSTART;TZID=America/New_York:20270613T130000
DTEND;TZID=America/New_York:20270613T130000
DTSTAMP:20260420T062829
CREATED:20260105T003248Z
LAST-MODIFIED:20260105T060144Z
UID:10020618-1812891600-1812891600@epictriviafl.com
SUMMARY:Music Bingo
DESCRIPTION:
URL:https://epictriviafl.com/event/music-bingo-dicks/2027-06-13/
LOCATION:Dick’s Last Resort\, 9101 International Dr\, Unit 1300 Orlando\, FL 32819 USA
GEO:28.432983;-81.4698175
X-APPLE-STRUCTURED-LOCATION;VALUE=URI;X-ADDRESS=Dick’s Last Resort 9101 International Dr Unit 1300 Orlando FL 32819 USA;X-APPLE-RADIUS=500;X-TITLE=9101 International Dr\, Unit 1300 Orlando\, FL 32819 USA:geo:-81.4698175,28.432983
END:VEVENT
BEGIN:VEVENT
DTSTART;TZID=America/New_York:20270617T190000
DTEND;TZID=America/New_York:20270617T190000
DTSTAMP:20260420T062829
CREATED:20260105T003203Z
LAST-MODIFIED:20260105T053946Z
UID:10010738-1813258800-1813258800@epictriviafl.com
SUMMARY:Trivia
DESCRIPTION:
URL:https://epictriviafl.com/event/trivia-dicks/2027-06-17/
LOCATION:Dick’s Last Resort\, 9101 International Dr\, Unit 1300 Orlando\, FL 32819 USA
GEO:28.432983;-81.4698175
X-APPLE-STRUCTURED-LOCATION;VALUE=URI;X-ADDRESS=Dick’s Last Resort 9101 International Dr Unit 1300 Orlando FL 32819 USA;X-APPLE-RADIUS=500;X-TITLE=9101 International Dr\, Unit 1300 Orlando\, FL 32819 USA:geo:-81.4698175,28.432983
END:VEVENT
BEGIN:VEVENT
DTSTART;TZID=America/New_York:20270620T130000
DTEND;TZID=America/New_York:20270620T130000
DTSTAMP:20260420T062829
CREATED:20260105T003248Z
LAST-MODIFIED:20260105T060144Z
UID:10020619-1813496400-1813496400@epictriviafl.com
SUMMARY:Music Bingo
DESCRIPTION:
URL:https://epictriviafl.com/event/music-bingo-dicks/2027-06-20/
LOCATION:Dick’s Last Resort\, 9101 International Dr\, Unit 1300 Orlando\, FL 32819 USA
GEO:28.432983;-81.4698175
X-APPLE-STRUCTURED-LOCATION;VALUE=URI;X-ADDRESS=Dick’s Last Resort 9101 International Dr Unit 1300 Orlando FL 32819 USA;X-APPLE-RADIUS=500;X-TITLE=9101 International Dr\, Unit 1300 Orlando\, FL 32819 USA:geo:-81.4698175,28.432983
END:VEVENT
BEGIN:VEVENT
DTSTART;TZID=America/New_York:20270624T190000
DTEND;TZID=America/New_York:20270624T190000
DTSTAMP:20260420T062829
CREATED:20260105T003203Z
LAST-MODIFIED:20260105T053946Z
UID:10010739-1813863600-1813863600@epictriviafl.com
SUMMARY:Trivia
DESCRIPTION:
URL:https://epictriviafl.com/event/trivia-dicks/2027-06-24/
LOCATION:Dick’s Last Resort\, 9101 International Dr\, Unit 1300 Orlando\, FL 32819 USA
GEO:28.432983;-81.4698175
X-APPLE-STRUCTURED-LOCATION;VALUE=URI;X-ADDRESS=Dick’s Last Resort 9101 International Dr Unit 1300 Orlando FL 32819 USA;X-APPLE-RADIUS=500;X-TITLE=9101 International Dr\, Unit 1300 Orlando\, FL 32819 USA:geo:-81.4698175,28.432983
END:VEVENT
BEGIN:VEVENT
DTSTART;TZID=America/New_York:20270627T130000
DTEND;TZID=America/New_York:20270627T130000
DTSTAMP:20260420T062829
CREATED:20260105T003248Z
LAST-MODIFIED:20260105T060144Z
UID:10020620-1814101200-1814101200@epictriviafl.com
SUMMARY:Music Bingo
DESCRIPTION:
URL:https://epictriviafl.com/event/music-bingo-dicks/2027-06-27/
LOCATION:Dick’s Last Resort\, 9101 International Dr\, Unit 1300 Orlando\, FL 32819 USA
GEO:28.432983;-81.4698175
X-APPLE-STRUCTURED-LOCATION;VALUE=URI;X-ADDRESS=Dick’s Last Resort 9101 International Dr Unit 1300 Orlando FL 32819 USA;X-APPLE-RADIUS=500;X-TITLE=9101 International Dr\, Unit 1300 Orlando\, FL 32819 USA:geo:-81.4698175,28.432983
END:VEVENT
BEGIN:VEVENT
DTSTART;TZID=America/New_York:20270701T190000
DTEND;TZID=America/New_York:20270701T190000
DTSTAMP:20260420T062829
CREATED:20260105T003203Z
LAST-MODIFIED:20260105T053946Z
UID:10010740-1814468400-1814468400@epictriviafl.com
SUMMARY:Trivia
DESCRIPTION:
URL:https://epictriviafl.com/event/trivia-dicks/2027-07-01/
LOCATION:Dick’s Last Resort\, 9101 International Dr\, Unit 1300 Orlando\, FL 32819 USA
GEO:28.432983;-81.4698175
X-APPLE-STRUCTURED-LOCATION;VALUE=URI;X-ADDRESS=Dick’s Last Resort 9101 International Dr Unit 1300 Orlando FL 32819 USA;X-APPLE-RADIUS=500;X-TITLE=9101 International Dr\, Unit 1300 Orlando\, FL 32819 USA:geo:-81.4698175,28.432983
END:VEVENT
BEGIN:VEVENT
DTSTART;TZID=America/New_York:20270704T130000
DTEND;TZID=America/New_York:20270704T130000
DTSTAMP:20260420T062829
CREATED:20260105T003248Z
LAST-MODIFIED:20260105T060144Z
UID:10020621-1814706000-1814706000@epictriviafl.com
SUMMARY:Music Bingo
DESCRIPTION:
URL:https://epictriviafl.com/event/music-bingo-dicks/2027-07-04/
LOCATION:Dick’s Last Resort\, 9101 International Dr\, Unit 1300 Orlando\, FL 32819 USA
GEO:28.432983;-81.4698175
X-APPLE-STRUCTURED-LOCATION;VALUE=URI;X-ADDRESS=Dick’s Last Resort 9101 International Dr Unit 1300 Orlando FL 32819 USA;X-APPLE-RADIUS=500;X-TITLE=9101 International Dr\, Unit 1300 Orlando\, FL 32819 USA:geo:-81.4698175,28.432983
END:VEVENT
BEGIN:VEVENT
DTSTART;TZID=America/New_York:20270708T190000
DTEND;TZID=America/New_York:20270708T190000
DTSTAMP:20260420T062829
CREATED:20260105T003203Z
LAST-MODIFIED:20260105T053946Z
UID:10010741-1815073200-1815073200@epictriviafl.com
SUMMARY:Trivia
DESCRIPTION:
URL:https://epictriviafl.com/event/trivia-dicks/2027-07-08/
LOCATION:Dick’s Last Resort\, 9101 International Dr\, Unit 1300 Orlando\, FL 32819 USA
GEO:28.432983;-81.4698175
X-APPLE-STRUCTURED-LOCATION;VALUE=URI;X-ADDRESS=Dick’s Last Resort 9101 International Dr Unit 1300 Orlando FL 32819 USA;X-APPLE-RADIUS=500;X-TITLE=9101 International Dr\, Unit 1300 Orlando\, FL 32819 USA:geo:-81.4698175,28.432983
END:VEVENT
BEGIN:VEVENT
DTSTART;TZID=America/New_York:20270711T130000
DTEND;TZID=America/New_York:20270711T130000
DTSTAMP:20260420T062829
CREATED:20260105T003248Z
LAST-MODIFIED:20260105T060144Z
UID:10020622-1815310800-1815310800@epictriviafl.com
SUMMARY:Music Bingo
DESCRIPTION:
URL:https://epictriviafl.com/event/music-bingo-dicks/2027-07-11/
LOCATION:Dick’s Last Resort\, 9101 International Dr\, Unit 1300 Orlando\, FL 32819 USA
GEO:28.432983;-81.4698175
X-APPLE-STRUCTURED-LOCATION;VALUE=URI;X-ADDRESS=Dick’s Last Resort 9101 International Dr Unit 1300 Orlando FL 32819 USA;X-APPLE-RADIUS=500;X-TITLE=9101 International Dr\, Unit 1300 Orlando\, FL 32819 USA:geo:-81.4698175,28.432983
END:VEVENT
BEGIN:VEVENT
DTSTART;TZID=America/New_York:20270715T190000
DTEND;TZID=America/New_York:20270715T190000
DTSTAMP:20260420T062829
CREATED:20260105T003203Z
LAST-MODIFIED:20260105T053946Z
UID:10010742-1815678000-1815678000@epictriviafl.com
SUMMARY:Trivia
DESCRIPTION:
URL:https://epictriviafl.com/event/trivia-dicks/2027-07-15/
LOCATION:Dick’s Last Resort\, 9101 International Dr\, Unit 1300 Orlando\, FL 32819 USA
GEO:28.432983;-81.4698175
X-APPLE-STRUCTURED-LOCATION;VALUE=URI;X-ADDRESS=Dick’s Last Resort 9101 International Dr Unit 1300 Orlando FL 32819 USA;X-APPLE-RADIUS=500;X-TITLE=9101 International Dr\, Unit 1300 Orlando\, FL 32819 USA:geo:-81.4698175,28.432983
END:VEVENT
BEGIN:VEVENT
DTSTART;TZID=America/New_York:20270718T130000
DTEND;TZID=America/New_York:20270718T130000
DTSTAMP:20260420T062829
CREATED:20260105T003248Z
LAST-MODIFIED:20260105T060144Z
UID:10020623-1815915600-1815915600@epictriviafl.com
SUMMARY:Music Bingo
DESCRIPTION:
URL:https://epictriviafl.com/event/music-bingo-dicks/2027-07-18/
LOCATION:Dick’s Last Resort\, 9101 International Dr\, Unit 1300 Orlando\, FL 32819 USA
GEO:28.432983;-81.4698175
X-APPLE-STRUCTURED-LOCATION;VALUE=URI;X-ADDRESS=Dick’s Last Resort 9101 International Dr Unit 1300 Orlando FL 32819 USA;X-APPLE-RADIUS=500;X-TITLE=9101 International Dr\, Unit 1300 Orlando\, FL 32819 USA:geo:-81.4698175,28.432983
END:VEVENT
BEGIN:VEVENT
DTSTART;TZID=America/New_York:20270722T190000
DTEND;TZID=America/New_York:20270722T190000
DTSTAMP:20260420T062829
CREATED:20260105T003203Z
LAST-MODIFIED:20260105T053946Z
UID:10010743-1816282800-1816282800@epictriviafl.com
SUMMARY:Trivia
DESCRIPTION:
URL:https://epictriviafl.com/event/trivia-dicks/2027-07-22/
LOCATION:Dick’s Last Resort\, 9101 International Dr\, Unit 1300 Orlando\, FL 32819 USA
GEO:28.432983;-81.4698175
X-APPLE-STRUCTURED-LOCATION;VALUE=URI;X-ADDRESS=Dick’s Last Resort 9101 International Dr Unit 1300 Orlando FL 32819 USA;X-APPLE-RADIUS=500;X-TITLE=9101 International Dr\, Unit 1300 Orlando\, FL 32819 USA:geo:-81.4698175,28.432983
END:VEVENT
BEGIN:VEVENT
DTSTART;TZID=America/New_York:20270725T130000
DTEND;TZID=America/New_York:20270725T130000
DTSTAMP:20260420T062829
CREATED:20260105T003248Z
LAST-MODIFIED:20260105T060144Z
UID:10020624-1816520400-1816520400@epictriviafl.com
SUMMARY:Music Bingo
DESCRIPTION:
URL:https://epictriviafl.com/event/music-bingo-dicks/2027-07-25/
LOCATION:Dick’s Last Resort\, 9101 International Dr\, Unit 1300 Orlando\, FL 32819 USA
GEO:28.432983;-81.4698175
X-APPLE-STRUCTURED-LOCATION;VALUE=URI;X-ADDRESS=Dick’s Last Resort 9101 International Dr Unit 1300 Orlando FL 32819 USA;X-APPLE-RADIUS=500;X-TITLE=9101 International Dr\, Unit 1300 Orlando\, FL 32819 USA:geo:-81.4698175,28.432983
END:VEVENT
BEGIN:VEVENT
DTSTART;TZID=America/New_York:20270729T190000
DTEND;TZID=America/New_York:20270729T190000
DTSTAMP:20260420T062829
CREATED:20260105T003203Z
LAST-MODIFIED:20260105T053946Z
UID:10010744-1816887600-1816887600@epictriviafl.com
SUMMARY:Trivia
DESCRIPTION:
URL:https://epictriviafl.com/event/trivia-dicks/2027-07-29/
LOCATION:Dick’s Last Resort\, 9101 International Dr\, Unit 1300 Orlando\, FL 32819 USA
GEO:28.432983;-81.4698175
X-APPLE-STRUCTURED-LOCATION;VALUE=URI;X-ADDRESS=Dick’s Last Resort 9101 International Dr Unit 1300 Orlando FL 32819 USA;X-APPLE-RADIUS=500;X-TITLE=9101 International Dr\, Unit 1300 Orlando\, FL 32819 USA:geo:-81.4698175,28.432983
END:VEVENT
BEGIN:VEVENT
DTSTART;TZID=America/New_York:20270801T130000
DTEND;TZID=America/New_York:20270801T130000
DTSTAMP:20260420T062829
CREATED:20260105T003248Z
LAST-MODIFIED:20260105T060144Z
UID:10020625-1817125200-1817125200@epictriviafl.com
SUMMARY:Music Bingo
DESCRIPTION:
URL:https://epictriviafl.com/event/music-bingo-dicks/2027-08-01/
LOCATION:Dick’s Last Resort\, 9101 International Dr\, Unit 1300 Orlando\, FL 32819 USA
GEO:28.432983;-81.4698175
X-APPLE-STRUCTURED-LOCATION;VALUE=URI;X-ADDRESS=Dick’s Last Resort 9101 International Dr Unit 1300 Orlando FL 32819 USA;X-APPLE-RADIUS=500;X-TITLE=9101 International Dr\, Unit 1300 Orlando\, FL 32819 USA:geo:-81.4698175,28.432983
END:VEVENT
BEGIN:VEVENT
DTSTART;TZID=America/New_York:20270805T190000
DTEND;TZID=America/New_York:20270805T190000
DTSTAMP:20260420T062829
CREATED:20260105T003203Z
LAST-MODIFIED:20260105T053946Z
UID:10010745-1817492400-1817492400@epictriviafl.com
SUMMARY:Trivia
DESCRIPTION:
URL:https://epictriviafl.com/event/trivia-dicks/2027-08-05/
LOCATION:Dick’s Last Resort\, 9101 International Dr\, Unit 1300 Orlando\, FL 32819 USA
GEO:28.432983;-81.4698175
X-APPLE-STRUCTURED-LOCATION;VALUE=URI;X-ADDRESS=Dick’s Last Resort 9101 International Dr Unit 1300 Orlando FL 32819 USA;X-APPLE-RADIUS=500;X-TITLE=9101 International Dr\, Unit 1300 Orlando\, FL 32819 USA:geo:-81.4698175,28.432983
END:VEVENT
BEGIN:VEVENT
DTSTART;TZID=America/New_York:20270808T130000
DTEND;TZID=America/New_York:20270808T130000
DTSTAMP:20260420T062829
CREATED:20260105T003248Z
LAST-MODIFIED:20260105T060144Z
UID:10020626-1817730000-1817730000@epictriviafl.com
SUMMARY:Music Bingo
DESCRIPTION:
URL:https://epictriviafl.com/event/music-bingo-dicks/2027-08-08/
LOCATION:Dick’s Last Resort\, 9101 International Dr\, Unit 1300 Orlando\, FL 32819 USA
GEO:28.432983;-81.4698175
X-APPLE-STRUCTURED-LOCATION;VALUE=URI;X-ADDRESS=Dick’s Last Resort 9101 International Dr Unit 1300 Orlando FL 32819 USA;X-APPLE-RADIUS=500;X-TITLE=9101 International Dr\, Unit 1300 Orlando\, FL 32819 USA:geo:-81.4698175,28.432983
END:VEVENT
BEGIN:VEVENT
DTSTART;TZID=America/New_York:20270812T190000
DTEND;TZID=America/New_York:20270812T190000
DTSTAMP:20260420T062829
CREATED:20260105T003203Z
LAST-MODIFIED:20260105T053946Z
UID:10010746-1818097200-1818097200@epictriviafl.com
SUMMARY:Trivia
DESCRIPTION:
URL:https://epictriviafl.com/event/trivia-dicks/2027-08-12/
LOCATION:Dick’s Last Resort\, 9101 International Dr\, Unit 1300 Orlando\, FL 32819 USA
GEO:28.432983;-81.4698175
X-APPLE-STRUCTURED-LOCATION;VALUE=URI;X-ADDRESS=Dick’s Last Resort 9101 International Dr Unit 1300 Orlando FL 32819 USA;X-APPLE-RADIUS=500;X-TITLE=9101 International Dr\, Unit 1300 Orlando\, FL 32819 USA:geo:-81.4698175,28.432983
END:VEVENT
BEGIN:VEVENT
DTSTART;TZID=America/New_York:20270815T130000
DTEND;TZID=America/New_York:20270815T130000
DTSTAMP:20260420T062829
CREATED:20260105T003248Z
LAST-MODIFIED:20260105T060144Z
UID:10020627-1818334800-1818334800@epictriviafl.com
SUMMARY:Music Bingo
DESCRIPTION:
URL:https://epictriviafl.com/event/music-bingo-dicks/2027-08-15/
LOCATION:Dick’s Last Resort\, 9101 International Dr\, Unit 1300 Orlando\, FL 32819 USA
GEO:28.432983;-81.4698175
X-APPLE-STRUCTURED-LOCATION;VALUE=URI;X-ADDRESS=Dick’s Last Resort 9101 International Dr Unit 1300 Orlando FL 32819 USA;X-APPLE-RADIUS=500;X-TITLE=9101 International Dr\, Unit 1300 Orlando\, FL 32819 USA:geo:-81.4698175,28.432983
END:VEVENT
END:VCALENDAR