BEGIN:VCALENDAR
VERSION:2.0
PRODID:-//Epic Trivia - ECPv6.15.18//NONSGML v1.0//EN
CALSCALE:GREGORIAN
METHOD:PUBLISH
X-WR-CALNAME:Epic Trivia
X-ORIGINAL-URL:https://epictriviafl.com
X-WR-CALDESC:Events for Epic Trivia
REFRESH-INTERVAL;VALUE=DURATION:PT1H
X-Robots-Tag:noindex
X-PUBLISHED-TTL:PT1H
BEGIN:VTIMEZONE
TZID:America/New_York
BEGIN:DAYLIGHT
TZOFFSETFROM:-0500
TZOFFSETTO:-0400
TZNAME:EDT
DTSTART:20260308T070000
END:DAYLIGHT
BEGIN:STANDARD
TZOFFSETFROM:-0400
TZOFFSETTO:-0500
TZNAME:EST
DTSTART:20261101T060000
END:STANDARD
BEGIN:DAYLIGHT
TZOFFSETFROM:-0500
TZOFFSETTO:-0400
TZNAME:EDT
DTSTART:20270314T070000
END:DAYLIGHT
BEGIN:STANDARD
TZOFFSETFROM:-0400
TZOFFSETTO:-0500
TZNAME:EST
DTSTART:20271107T060000
END:STANDARD
BEGIN:DAYLIGHT
TZOFFSETFROM:-0500
TZOFFSETTO:-0400
TZNAME:EDT
DTSTART:20280312T070000
END:DAYLIGHT
BEGIN:STANDARD
TZOFFSETFROM:-0400
TZOFFSETTO:-0500
TZNAME:EST
DTSTART:20281105T060000
END:STANDARD
BEGIN:DAYLIGHT
TZOFFSETFROM:-0500
TZOFFSETTO:-0400
TZNAME:EDT
DTSTART:20290311T070000
END:DAYLIGHT
BEGIN:STANDARD
TZOFFSETFROM:-0400
TZOFFSETTO:-0500
TZNAME:EST
DTSTART:20291104T060000
END:STANDARD
END:VTIMEZONE
BEGIN:VEVENT
DTSTART;TZID=America/New_York:20271129T190000
DTEND;TZID=America/New_York:20271129T190000
DTSTAMP:20260420T053734
CREATED:20260105T003042Z
LAST-MODIFIED:20260105T055657Z
UID:10018562-1827514800-1827514800@epictriviafl.com
SUMMARY:Dirty Bingo
DESCRIPTION:
URL:https://epictriviafl.com/event/dirty-bingo-chronic-orlando/2027-11-29/
LOCATION:Chronic Guru Orlando\, 16 W Pine St\, Orlando\, FL\, 32812\, United States
GEO:28.5410679;-81.3794444
X-APPLE-STRUCTURED-LOCATION;VALUE=URI;X-ADDRESS=Chronic Guru Orlando 16 W Pine St Orlando FL 32812 United States;X-APPLE-RADIUS=500;X-TITLE=16 W Pine St:geo:-81.3794444,28.5410679
END:VEVENT
BEGIN:VEVENT
DTSTART;TZID=America/New_York:20271206T190000
DTEND;TZID=America/New_York:20271206T190000
DTSTAMP:20260420T053734
CREATED:20260105T003042Z
LAST-MODIFIED:20260105T055657Z
UID:10018563-1828119600-1828119600@epictriviafl.com
SUMMARY:Dirty Bingo
DESCRIPTION:
URL:https://epictriviafl.com/event/dirty-bingo-chronic-orlando/2027-12-06/
LOCATION:Chronic Guru Orlando\, 16 W Pine St\, Orlando\, FL\, 32812\, United States
GEO:28.5410679;-81.3794444
X-APPLE-STRUCTURED-LOCATION;VALUE=URI;X-ADDRESS=Chronic Guru Orlando 16 W Pine St Orlando FL 32812 United States;X-APPLE-RADIUS=500;X-TITLE=16 W Pine St:geo:-81.3794444,28.5410679
END:VEVENT
BEGIN:VEVENT
DTSTART;TZID=America/New_York:20271213T190000
DTEND;TZID=America/New_York:20271213T190000
DTSTAMP:20260420T053734
CREATED:20260105T003042Z
LAST-MODIFIED:20260105T055657Z
UID:10018564-1828724400-1828724400@epictriviafl.com
SUMMARY:Dirty Bingo
DESCRIPTION:
URL:https://epictriviafl.com/event/dirty-bingo-chronic-orlando/2027-12-13/
LOCATION:Chronic Guru Orlando\, 16 W Pine St\, Orlando\, FL\, 32812\, United States
GEO:28.5410679;-81.3794444
X-APPLE-STRUCTURED-LOCATION;VALUE=URI;X-ADDRESS=Chronic Guru Orlando 16 W Pine St Orlando FL 32812 United States;X-APPLE-RADIUS=500;X-TITLE=16 W Pine St:geo:-81.3794444,28.5410679
END:VEVENT
BEGIN:VEVENT
DTSTART;TZID=America/New_York:20271220T190000
DTEND;TZID=America/New_York:20271220T190000
DTSTAMP:20260420T053734
CREATED:20260105T003042Z
LAST-MODIFIED:20260105T055657Z
UID:10018565-1829329200-1829329200@epictriviafl.com
SUMMARY:Dirty Bingo
DESCRIPTION:
URL:https://epictriviafl.com/event/dirty-bingo-chronic-orlando/2027-12-20/
LOCATION:Chronic Guru Orlando\, 16 W Pine St\, Orlando\, FL\, 32812\, United States
GEO:28.5410679;-81.3794444
X-APPLE-STRUCTURED-LOCATION;VALUE=URI;X-ADDRESS=Chronic Guru Orlando 16 W Pine St Orlando FL 32812 United States;X-APPLE-RADIUS=500;X-TITLE=16 W Pine St:geo:-81.3794444,28.5410679
END:VEVENT
BEGIN:VEVENT
DTSTART;TZID=America/New_York:20271227T190000
DTEND;TZID=America/New_York:20271227T190000
DTSTAMP:20260420T053734
CREATED:20260105T003042Z
LAST-MODIFIED:20260105T055657Z
UID:10018566-1829934000-1829934000@epictriviafl.com
SUMMARY:Dirty Bingo
DESCRIPTION:
URL:https://epictriviafl.com/event/dirty-bingo-chronic-orlando/2027-12-27/
LOCATION:Chronic Guru Orlando\, 16 W Pine St\, Orlando\, FL\, 32812\, United States
GEO:28.5410679;-81.3794444
X-APPLE-STRUCTURED-LOCATION;VALUE=URI;X-ADDRESS=Chronic Guru Orlando 16 W Pine St Orlando FL 32812 United States;X-APPLE-RADIUS=500;X-TITLE=16 W Pine St:geo:-81.3794444,28.5410679
END:VEVENT
BEGIN:VEVENT
DTSTART;TZID=America/New_York:20280103T190000
DTEND;TZID=America/New_York:20280103T190000
DTSTAMP:20260420T053734
CREATED:20260105T003042Z
LAST-MODIFIED:20260105T055657Z
UID:10018567-1830538800-1830538800@epictriviafl.com
SUMMARY:Dirty Bingo
DESCRIPTION:
URL:https://epictriviafl.com/event/dirty-bingo-chronic-orlando/2028-01-03/
LOCATION:Chronic Guru Orlando\, 16 W Pine St\, Orlando\, FL\, 32812\, United States
GEO:28.5410679;-81.3794444
X-APPLE-STRUCTURED-LOCATION;VALUE=URI;X-ADDRESS=Chronic Guru Orlando 16 W Pine St Orlando FL 32812 United States;X-APPLE-RADIUS=500;X-TITLE=16 W Pine St:geo:-81.3794444,28.5410679
END:VEVENT
BEGIN:VEVENT
DTSTART;TZID=America/New_York:20280110T190000
DTEND;TZID=America/New_York:20280110T190000
DTSTAMP:20260420T053734
CREATED:20260105T003042Z
LAST-MODIFIED:20260105T055657Z
UID:10018568-1831143600-1831143600@epictriviafl.com
SUMMARY:Dirty Bingo
DESCRIPTION:
URL:https://epictriviafl.com/event/dirty-bingo-chronic-orlando/2028-01-10/
LOCATION:Chronic Guru Orlando\, 16 W Pine St\, Orlando\, FL\, 32812\, United States
GEO:28.5410679;-81.3794444
X-APPLE-STRUCTURED-LOCATION;VALUE=URI;X-ADDRESS=Chronic Guru Orlando 16 W Pine St Orlando FL 32812 United States;X-APPLE-RADIUS=500;X-TITLE=16 W Pine St:geo:-81.3794444,28.5410679
END:VEVENT
BEGIN:VEVENT
DTSTART;TZID=America/New_York:20280117T190000
DTEND;TZID=America/New_York:20280117T190000
DTSTAMP:20260420T053734
CREATED:20260105T003042Z
LAST-MODIFIED:20260105T055657Z
UID:10018569-1831748400-1831748400@epictriviafl.com
SUMMARY:Dirty Bingo
DESCRIPTION:
URL:https://epictriviafl.com/event/dirty-bingo-chronic-orlando/2028-01-17/
LOCATION:Chronic Guru Orlando\, 16 W Pine St\, Orlando\, FL\, 32812\, United States
GEO:28.5410679;-81.3794444
X-APPLE-STRUCTURED-LOCATION;VALUE=URI;X-ADDRESS=Chronic Guru Orlando 16 W Pine St Orlando FL 32812 United States;X-APPLE-RADIUS=500;X-TITLE=16 W Pine St:geo:-81.3794444,28.5410679
END:VEVENT
BEGIN:VEVENT
DTSTART;TZID=America/New_York:20280124T190000
DTEND;TZID=America/New_York:20280124T190000
DTSTAMP:20260420T053734
CREATED:20260105T003042Z
LAST-MODIFIED:20260105T055657Z
UID:10018570-1832353200-1832353200@epictriviafl.com
SUMMARY:Dirty Bingo
DESCRIPTION:
URL:https://epictriviafl.com/event/dirty-bingo-chronic-orlando/2028-01-24/
LOCATION:Chronic Guru Orlando\, 16 W Pine St\, Orlando\, FL\, 32812\, United States
GEO:28.5410679;-81.3794444
X-APPLE-STRUCTURED-LOCATION;VALUE=URI;X-ADDRESS=Chronic Guru Orlando 16 W Pine St Orlando FL 32812 United States;X-APPLE-RADIUS=500;X-TITLE=16 W Pine St:geo:-81.3794444,28.5410679
END:VEVENT
BEGIN:VEVENT
DTSTART;TZID=America/New_York:20280131T190000
DTEND;TZID=America/New_York:20280131T190000
DTSTAMP:20260420T053734
CREATED:20260105T003042Z
LAST-MODIFIED:20260105T055657Z
UID:10018571-1832958000-1832958000@epictriviafl.com
SUMMARY:Dirty Bingo
DESCRIPTION:
URL:https://epictriviafl.com/event/dirty-bingo-chronic-orlando/2028-01-31/
LOCATION:Chronic Guru Orlando\, 16 W Pine St\, Orlando\, FL\, 32812\, United States
GEO:28.5410679;-81.3794444
X-APPLE-STRUCTURED-LOCATION;VALUE=URI;X-ADDRESS=Chronic Guru Orlando 16 W Pine St Orlando FL 32812 United States;X-APPLE-RADIUS=500;X-TITLE=16 W Pine St:geo:-81.3794444,28.5410679
END:VEVENT
BEGIN:VEVENT
DTSTART;TZID=America/New_York:20280207T190000
DTEND;TZID=America/New_York:20280207T190000
DTSTAMP:20260420T053734
CREATED:20260105T003042Z
LAST-MODIFIED:20260105T055657Z
UID:10018572-1833562800-1833562800@epictriviafl.com
SUMMARY:Dirty Bingo
DESCRIPTION:
URL:https://epictriviafl.com/event/dirty-bingo-chronic-orlando/2028-02-07/
LOCATION:Chronic Guru Orlando\, 16 W Pine St\, Orlando\, FL\, 32812\, United States
GEO:28.5410679;-81.3794444
X-APPLE-STRUCTURED-LOCATION;VALUE=URI;X-ADDRESS=Chronic Guru Orlando 16 W Pine St Orlando FL 32812 United States;X-APPLE-RADIUS=500;X-TITLE=16 W Pine St:geo:-81.3794444,28.5410679
END:VEVENT
BEGIN:VEVENT
DTSTART;TZID=America/New_York:20280214T190000
DTEND;TZID=America/New_York:20280214T190000
DTSTAMP:20260420T053734
CREATED:20260105T003042Z
LAST-MODIFIED:20260105T055657Z
UID:10018573-1834167600-1834167600@epictriviafl.com
SUMMARY:Dirty Bingo
DESCRIPTION:
URL:https://epictriviafl.com/event/dirty-bingo-chronic-orlando/2028-02-14/
LOCATION:Chronic Guru Orlando\, 16 W Pine St\, Orlando\, FL\, 32812\, United States
GEO:28.5410679;-81.3794444
X-APPLE-STRUCTURED-LOCATION;VALUE=URI;X-ADDRESS=Chronic Guru Orlando 16 W Pine St Orlando FL 32812 United States;X-APPLE-RADIUS=500;X-TITLE=16 W Pine St:geo:-81.3794444,28.5410679
END:VEVENT
BEGIN:VEVENT
DTSTART;TZID=America/New_York:20280221T190000
DTEND;TZID=America/New_York:20280221T190000
DTSTAMP:20260420T053734
CREATED:20260105T003042Z
LAST-MODIFIED:20260105T055657Z
UID:10018574-1834772400-1834772400@epictriviafl.com
SUMMARY:Dirty Bingo
DESCRIPTION:
URL:https://epictriviafl.com/event/dirty-bingo-chronic-orlando/2028-02-21/
LOCATION:Chronic Guru Orlando\, 16 W Pine St\, Orlando\, FL\, 32812\, United States
GEO:28.5410679;-81.3794444
X-APPLE-STRUCTURED-LOCATION;VALUE=URI;X-ADDRESS=Chronic Guru Orlando 16 W Pine St Orlando FL 32812 United States;X-APPLE-RADIUS=500;X-TITLE=16 W Pine St:geo:-81.3794444,28.5410679
END:VEVENT
BEGIN:VEVENT
DTSTART;TZID=America/New_York:20280228T190000
DTEND;TZID=America/New_York:20280228T190000
DTSTAMP:20260420T053734
CREATED:20260105T003042Z
LAST-MODIFIED:20260105T055657Z
UID:10018575-1835377200-1835377200@epictriviafl.com
SUMMARY:Dirty Bingo
DESCRIPTION:
URL:https://epictriviafl.com/event/dirty-bingo-chronic-orlando/2028-02-28/
LOCATION:Chronic Guru Orlando\, 16 W Pine St\, Orlando\, FL\, 32812\, United States
GEO:28.5410679;-81.3794444
X-APPLE-STRUCTURED-LOCATION;VALUE=URI;X-ADDRESS=Chronic Guru Orlando 16 W Pine St Orlando FL 32812 United States;X-APPLE-RADIUS=500;X-TITLE=16 W Pine St:geo:-81.3794444,28.5410679
END:VEVENT
BEGIN:VEVENT
DTSTART;TZID=America/New_York:20280306T190000
DTEND;TZID=America/New_York:20280306T190000
DTSTAMP:20260420T053734
CREATED:20260105T003042Z
LAST-MODIFIED:20260105T055657Z
UID:10018576-1835982000-1835982000@epictriviafl.com
SUMMARY:Dirty Bingo
DESCRIPTION:
URL:https://epictriviafl.com/event/dirty-bingo-chronic-orlando/2028-03-06/
LOCATION:Chronic Guru Orlando\, 16 W Pine St\, Orlando\, FL\, 32812\, United States
GEO:28.5410679;-81.3794444
X-APPLE-STRUCTURED-LOCATION;VALUE=URI;X-ADDRESS=Chronic Guru Orlando 16 W Pine St Orlando FL 32812 United States;X-APPLE-RADIUS=500;X-TITLE=16 W Pine St:geo:-81.3794444,28.5410679
END:VEVENT
BEGIN:VEVENT
DTSTART;TZID=America/New_York:20280313T190000
DTEND;TZID=America/New_York:20280313T190000
DTSTAMP:20260420T053734
CREATED:20260105T003042Z
LAST-MODIFIED:20260105T055657Z
UID:10018577-1836586800-1836586800@epictriviafl.com
SUMMARY:Dirty Bingo
DESCRIPTION:
URL:https://epictriviafl.com/event/dirty-bingo-chronic-orlando/2028-03-13/
LOCATION:Chronic Guru Orlando\, 16 W Pine St\, Orlando\, FL\, 32812\, United States
GEO:28.5410679;-81.3794444
X-APPLE-STRUCTURED-LOCATION;VALUE=URI;X-ADDRESS=Chronic Guru Orlando 16 W Pine St Orlando FL 32812 United States;X-APPLE-RADIUS=500;X-TITLE=16 W Pine St:geo:-81.3794444,28.5410679
END:VEVENT
BEGIN:VEVENT
DTSTART;TZID=America/New_York:20280320T190000
DTEND;TZID=America/New_York:20280320T190000
DTSTAMP:20260420T053734
CREATED:20260105T003042Z
LAST-MODIFIED:20260105T055657Z
UID:10018578-1837191600-1837191600@epictriviafl.com
SUMMARY:Dirty Bingo
DESCRIPTION:
URL:https://epictriviafl.com/event/dirty-bingo-chronic-orlando/2028-03-20/
LOCATION:Chronic Guru Orlando\, 16 W Pine St\, Orlando\, FL\, 32812\, United States
GEO:28.5410679;-81.3794444
X-APPLE-STRUCTURED-LOCATION;VALUE=URI;X-ADDRESS=Chronic Guru Orlando 16 W Pine St Orlando FL 32812 United States;X-APPLE-RADIUS=500;X-TITLE=16 W Pine St:geo:-81.3794444,28.5410679
END:VEVENT
BEGIN:VEVENT
DTSTART;TZID=America/New_York:20280327T190000
DTEND;TZID=America/New_York:20280327T190000
DTSTAMP:20260420T053734
CREATED:20260105T003042Z
LAST-MODIFIED:20260105T055657Z
UID:10018579-1837796400-1837796400@epictriviafl.com
SUMMARY:Dirty Bingo
DESCRIPTION:
URL:https://epictriviafl.com/event/dirty-bingo-chronic-orlando/2028-03-27/
LOCATION:Chronic Guru Orlando\, 16 W Pine St\, Orlando\, FL\, 32812\, United States
GEO:28.5410679;-81.3794444
X-APPLE-STRUCTURED-LOCATION;VALUE=URI;X-ADDRESS=Chronic Guru Orlando 16 W Pine St Orlando FL 32812 United States;X-APPLE-RADIUS=500;X-TITLE=16 W Pine St:geo:-81.3794444,28.5410679
END:VEVENT
BEGIN:VEVENT
DTSTART;TZID=America/New_York:20280403T190000
DTEND;TZID=America/New_York:20280403T190000
DTSTAMP:20260420T053734
CREATED:20260105T003042Z
LAST-MODIFIED:20260105T055657Z
UID:10018580-1838401200-1838401200@epictriviafl.com
SUMMARY:Dirty Bingo
DESCRIPTION:
URL:https://epictriviafl.com/event/dirty-bingo-chronic-orlando/2028-04-03/
LOCATION:Chronic Guru Orlando\, 16 W Pine St\, Orlando\, FL\, 32812\, United States
GEO:28.5410679;-81.3794444
X-APPLE-STRUCTURED-LOCATION;VALUE=URI;X-ADDRESS=Chronic Guru Orlando 16 W Pine St Orlando FL 32812 United States;X-APPLE-RADIUS=500;X-TITLE=16 W Pine St:geo:-81.3794444,28.5410679
END:VEVENT
BEGIN:VEVENT
DTSTART;TZID=America/New_York:20280410T190000
DTEND;TZID=America/New_York:20280410T190000
DTSTAMP:20260420T053734
CREATED:20260105T003042Z
LAST-MODIFIED:20260105T055657Z
UID:10018581-1839006000-1839006000@epictriviafl.com
SUMMARY:Dirty Bingo
DESCRIPTION:
URL:https://epictriviafl.com/event/dirty-bingo-chronic-orlando/2028-04-10/
LOCATION:Chronic Guru Orlando\, 16 W Pine St\, Orlando\, FL\, 32812\, United States
GEO:28.5410679;-81.3794444
X-APPLE-STRUCTURED-LOCATION;VALUE=URI;X-ADDRESS=Chronic Guru Orlando 16 W Pine St Orlando FL 32812 United States;X-APPLE-RADIUS=500;X-TITLE=16 W Pine St:geo:-81.3794444,28.5410679
END:VEVENT
BEGIN:VEVENT
DTSTART;TZID=America/New_York:20280417T190000
DTEND;TZID=America/New_York:20280417T190000
DTSTAMP:20260420T053734
CREATED:20260105T003042Z
LAST-MODIFIED:20260105T055657Z
UID:10018582-1839610800-1839610800@epictriviafl.com
SUMMARY:Dirty Bingo
DESCRIPTION:
URL:https://epictriviafl.com/event/dirty-bingo-chronic-orlando/2028-04-17/
LOCATION:Chronic Guru Orlando\, 16 W Pine St\, Orlando\, FL\, 32812\, United States
GEO:28.5410679;-81.3794444
X-APPLE-STRUCTURED-LOCATION;VALUE=URI;X-ADDRESS=Chronic Guru Orlando 16 W Pine St Orlando FL 32812 United States;X-APPLE-RADIUS=500;X-TITLE=16 W Pine St:geo:-81.3794444,28.5410679
END:VEVENT
BEGIN:VEVENT
DTSTART;TZID=America/New_York:20280424T190000
DTEND;TZID=America/New_York:20280424T190000
DTSTAMP:20260420T053734
CREATED:20260105T003042Z
LAST-MODIFIED:20260105T055657Z
UID:10018583-1840215600-1840215600@epictriviafl.com
SUMMARY:Dirty Bingo
DESCRIPTION:
URL:https://epictriviafl.com/event/dirty-bingo-chronic-orlando/2028-04-24/
LOCATION:Chronic Guru Orlando\, 16 W Pine St\, Orlando\, FL\, 32812\, United States
GEO:28.5410679;-81.3794444
X-APPLE-STRUCTURED-LOCATION;VALUE=URI;X-ADDRESS=Chronic Guru Orlando 16 W Pine St Orlando FL 32812 United States;X-APPLE-RADIUS=500;X-TITLE=16 W Pine St:geo:-81.3794444,28.5410679
END:VEVENT
BEGIN:VEVENT
DTSTART;TZID=America/New_York:20280501T190000
DTEND;TZID=America/New_York:20280501T190000
DTSTAMP:20260420T053734
CREATED:20260105T003042Z
LAST-MODIFIED:20260105T055657Z
UID:10018584-1840820400-1840820400@epictriviafl.com
SUMMARY:Dirty Bingo
DESCRIPTION:
URL:https://epictriviafl.com/event/dirty-bingo-chronic-orlando/2028-05-01/
LOCATION:Chronic Guru Orlando\, 16 W Pine St\, Orlando\, FL\, 32812\, United States
GEO:28.5410679;-81.3794444
X-APPLE-STRUCTURED-LOCATION;VALUE=URI;X-ADDRESS=Chronic Guru Orlando 16 W Pine St Orlando FL 32812 United States;X-APPLE-RADIUS=500;X-TITLE=16 W Pine St:geo:-81.3794444,28.5410679
END:VEVENT
BEGIN:VEVENT
DTSTART;TZID=America/New_York:20280508T190000
DTEND;TZID=America/New_York:20280508T190000
DTSTAMP:20260420T053734
CREATED:20260105T003042Z
LAST-MODIFIED:20260105T055657Z
UID:10018585-1841425200-1841425200@epictriviafl.com
SUMMARY:Dirty Bingo
DESCRIPTION:
URL:https://epictriviafl.com/event/dirty-bingo-chronic-orlando/2028-05-08/
LOCATION:Chronic Guru Orlando\, 16 W Pine St\, Orlando\, FL\, 32812\, United States
GEO:28.5410679;-81.3794444
X-APPLE-STRUCTURED-LOCATION;VALUE=URI;X-ADDRESS=Chronic Guru Orlando 16 W Pine St Orlando FL 32812 United States;X-APPLE-RADIUS=500;X-TITLE=16 W Pine St:geo:-81.3794444,28.5410679
END:VEVENT
BEGIN:VEVENT
DTSTART;TZID=America/New_York:20280515T190000
DTEND;TZID=America/New_York:20280515T190000
DTSTAMP:20260420T053734
CREATED:20260105T003042Z
LAST-MODIFIED:20260105T055657Z
UID:10018586-1842030000-1842030000@epictriviafl.com
SUMMARY:Dirty Bingo
DESCRIPTION:
URL:https://epictriviafl.com/event/dirty-bingo-chronic-orlando/2028-05-15/
LOCATION:Chronic Guru Orlando\, 16 W Pine St\, Orlando\, FL\, 32812\, United States
GEO:28.5410679;-81.3794444
X-APPLE-STRUCTURED-LOCATION;VALUE=URI;X-ADDRESS=Chronic Guru Orlando 16 W Pine St Orlando FL 32812 United States;X-APPLE-RADIUS=500;X-TITLE=16 W Pine St:geo:-81.3794444,28.5410679
END:VEVENT
BEGIN:VEVENT
DTSTART;TZID=America/New_York:20280522T190000
DTEND;TZID=America/New_York:20280522T190000
DTSTAMP:20260420T053734
CREATED:20260105T003042Z
LAST-MODIFIED:20260105T055657Z
UID:10018587-1842634800-1842634800@epictriviafl.com
SUMMARY:Dirty Bingo
DESCRIPTION:
URL:https://epictriviafl.com/event/dirty-bingo-chronic-orlando/2028-05-22/
LOCATION:Chronic Guru Orlando\, 16 W Pine St\, Orlando\, FL\, 32812\, United States
GEO:28.5410679;-81.3794444
X-APPLE-STRUCTURED-LOCATION;VALUE=URI;X-ADDRESS=Chronic Guru Orlando 16 W Pine St Orlando FL 32812 United States;X-APPLE-RADIUS=500;X-TITLE=16 W Pine St:geo:-81.3794444,28.5410679
END:VEVENT
BEGIN:VEVENT
DTSTART;TZID=America/New_York:20280529T190000
DTEND;TZID=America/New_York:20280529T190000
DTSTAMP:20260420T053734
CREATED:20260105T003042Z
LAST-MODIFIED:20260105T055657Z
UID:10018588-1843239600-1843239600@epictriviafl.com
SUMMARY:Dirty Bingo
DESCRIPTION:
URL:https://epictriviafl.com/event/dirty-bingo-chronic-orlando/2028-05-29/
LOCATION:Chronic Guru Orlando\, 16 W Pine St\, Orlando\, FL\, 32812\, United States
GEO:28.5410679;-81.3794444
X-APPLE-STRUCTURED-LOCATION;VALUE=URI;X-ADDRESS=Chronic Guru Orlando 16 W Pine St Orlando FL 32812 United States;X-APPLE-RADIUS=500;X-TITLE=16 W Pine St:geo:-81.3794444,28.5410679
END:VEVENT
BEGIN:VEVENT
DTSTART;TZID=America/New_York:20280605T190000
DTEND;TZID=America/New_York:20280605T190000
DTSTAMP:20260420T053734
CREATED:20260105T003042Z
LAST-MODIFIED:20260105T055657Z
UID:10018589-1843844400-1843844400@epictriviafl.com
SUMMARY:Dirty Bingo
DESCRIPTION:
URL:https://epictriviafl.com/event/dirty-bingo-chronic-orlando/2028-06-05/
LOCATION:Chronic Guru Orlando\, 16 W Pine St\, Orlando\, FL\, 32812\, United States
GEO:28.5410679;-81.3794444
X-APPLE-STRUCTURED-LOCATION;VALUE=URI;X-ADDRESS=Chronic Guru Orlando 16 W Pine St Orlando FL 32812 United States;X-APPLE-RADIUS=500;X-TITLE=16 W Pine St:geo:-81.3794444,28.5410679
END:VEVENT
BEGIN:VEVENT
DTSTART;TZID=America/New_York:20280612T190000
DTEND;TZID=America/New_York:20280612T190000
DTSTAMP:20260420T053734
CREATED:20260105T003042Z
LAST-MODIFIED:20260105T055657Z
UID:10018590-1844449200-1844449200@epictriviafl.com
SUMMARY:Dirty Bingo
DESCRIPTION:
URL:https://epictriviafl.com/event/dirty-bingo-chronic-orlando/2028-06-12/
LOCATION:Chronic Guru Orlando\, 16 W Pine St\, Orlando\, FL\, 32812\, United States
GEO:28.5410679;-81.3794444
X-APPLE-STRUCTURED-LOCATION;VALUE=URI;X-ADDRESS=Chronic Guru Orlando 16 W Pine St Orlando FL 32812 United States;X-APPLE-RADIUS=500;X-TITLE=16 W Pine St:geo:-81.3794444,28.5410679
END:VEVENT
BEGIN:VEVENT
DTSTART;TZID=America/New_York:20280619T190000
DTEND;TZID=America/New_York:20280619T190000
DTSTAMP:20260420T053734
CREATED:20260105T003042Z
LAST-MODIFIED:20260105T055657Z
UID:10018591-1845054000-1845054000@epictriviafl.com
SUMMARY:Dirty Bingo
DESCRIPTION:
URL:https://epictriviafl.com/event/dirty-bingo-chronic-orlando/2028-06-19/
LOCATION:Chronic Guru Orlando\, 16 W Pine St\, Orlando\, FL\, 32812\, United States
GEO:28.5410679;-81.3794444
X-APPLE-STRUCTURED-LOCATION;VALUE=URI;X-ADDRESS=Chronic Guru Orlando 16 W Pine St Orlando FL 32812 United States;X-APPLE-RADIUS=500;X-TITLE=16 W Pine St:geo:-81.3794444,28.5410679
END:VEVENT
END:VCALENDAR