BEGIN:VCALENDAR
VERSION:2.0
PRODID:-//Epic Trivia - ECPv6.15.18//NONSGML v1.0//EN
CALSCALE:GREGORIAN
METHOD:PUBLISH
X-WR-CALNAME:Epic Trivia
X-ORIGINAL-URL:https://epictriviafl.com
X-WR-CALDESC:Events for Epic Trivia
REFRESH-INTERVAL;VALUE=DURATION:PT1H
X-Robots-Tag:noindex
X-PUBLISHED-TTL:PT1H
BEGIN:VTIMEZONE
TZID:America/New_York
BEGIN:DAYLIGHT
TZOFFSETFROM:-0500
TZOFFSETTO:-0400
TZNAME:EDT
DTSTART:20250309T070000
END:DAYLIGHT
BEGIN:STANDARD
TZOFFSETFROM:-0400
TZOFFSETTO:-0500
TZNAME:EST
DTSTART:20251102T060000
END:STANDARD
BEGIN:DAYLIGHT
TZOFFSETFROM:-0500
TZOFFSETTO:-0400
TZNAME:EDT
DTSTART:20260308T070000
END:DAYLIGHT
BEGIN:STANDARD
TZOFFSETFROM:-0400
TZOFFSETTO:-0500
TZNAME:EST
DTSTART:20261101T060000
END:STANDARD
BEGIN:DAYLIGHT
TZOFFSETFROM:-0500
TZOFFSETTO:-0400
TZNAME:EDT
DTSTART:20270314T070000
END:DAYLIGHT
BEGIN:STANDARD
TZOFFSETFROM:-0400
TZOFFSETTO:-0500
TZNAME:EST
DTSTART:20271107T060000
END:STANDARD
BEGIN:DAYLIGHT
TZOFFSETFROM:-0500
TZOFFSETTO:-0400
TZNAME:EDT
DTSTART:20280312T070000
END:DAYLIGHT
BEGIN:STANDARD
TZOFFSETFROM:-0400
TZOFFSETTO:-0500
TZNAME:EST
DTSTART:20281105T060000
END:STANDARD
END:VTIMEZONE
BEGIN:VEVENT
DTSTART;TZID=America/New_York:20261228T190000
DTEND;TZID=America/New_York:20261228T190000
DTSTAMP:20260419T224313
CREATED:20260105T003042Z
LAST-MODIFIED:20260105T055657Z
UID:10018514-1798484400-1798484400@epictriviafl.com
SUMMARY:Dirty Bingo
DESCRIPTION:
URL:https://epictriviafl.com/event/dirty-bingo-chronic-orlando/2026-12-28/
LOCATION:Chronic Guru Orlando\, 16 W Pine St\, Orlando\, FL\, 32812\, United States
GEO:28.5410679;-81.3794444
X-APPLE-STRUCTURED-LOCATION;VALUE=URI;X-ADDRESS=Chronic Guru Orlando 16 W Pine St Orlando FL 32812 United States;X-APPLE-RADIUS=500;X-TITLE=16 W Pine St:geo:-81.3794444,28.5410679
END:VEVENT
BEGIN:VEVENT
DTSTART;TZID=America/New_York:20270104T190000
DTEND;TZID=America/New_York:20270104T190000
DTSTAMP:20260419T224313
CREATED:20260105T003042Z
LAST-MODIFIED:20260105T055657Z
UID:10018515-1799089200-1799089200@epictriviafl.com
SUMMARY:Dirty Bingo
DESCRIPTION:
URL:https://epictriviafl.com/event/dirty-bingo-chronic-orlando/2027-01-04/
LOCATION:Chronic Guru Orlando\, 16 W Pine St\, Orlando\, FL\, 32812\, United States
GEO:28.5410679;-81.3794444
X-APPLE-STRUCTURED-LOCATION;VALUE=URI;X-ADDRESS=Chronic Guru Orlando 16 W Pine St Orlando FL 32812 United States;X-APPLE-RADIUS=500;X-TITLE=16 W Pine St:geo:-81.3794444,28.5410679
END:VEVENT
BEGIN:VEVENT
DTSTART;TZID=America/New_York:20270111T190000
DTEND;TZID=America/New_York:20270111T190000
DTSTAMP:20260419T224313
CREATED:20260105T003042Z
LAST-MODIFIED:20260105T055657Z
UID:10018516-1799694000-1799694000@epictriviafl.com
SUMMARY:Dirty Bingo
DESCRIPTION:
URL:https://epictriviafl.com/event/dirty-bingo-chronic-orlando/2027-01-11/
LOCATION:Chronic Guru Orlando\, 16 W Pine St\, Orlando\, FL\, 32812\, United States
GEO:28.5410679;-81.3794444
X-APPLE-STRUCTURED-LOCATION;VALUE=URI;X-ADDRESS=Chronic Guru Orlando 16 W Pine St Orlando FL 32812 United States;X-APPLE-RADIUS=500;X-TITLE=16 W Pine St:geo:-81.3794444,28.5410679
END:VEVENT
BEGIN:VEVENT
DTSTART;TZID=America/New_York:20270118T190000
DTEND;TZID=America/New_York:20270118T190000
DTSTAMP:20260419T224313
CREATED:20260105T003042Z
LAST-MODIFIED:20260105T055657Z
UID:10018517-1800298800-1800298800@epictriviafl.com
SUMMARY:Dirty Bingo
DESCRIPTION:
URL:https://epictriviafl.com/event/dirty-bingo-chronic-orlando/2027-01-18/
LOCATION:Chronic Guru Orlando\, 16 W Pine St\, Orlando\, FL\, 32812\, United States
GEO:28.5410679;-81.3794444
X-APPLE-STRUCTURED-LOCATION;VALUE=URI;X-ADDRESS=Chronic Guru Orlando 16 W Pine St Orlando FL 32812 United States;X-APPLE-RADIUS=500;X-TITLE=16 W Pine St:geo:-81.3794444,28.5410679
END:VEVENT
BEGIN:VEVENT
DTSTART;TZID=America/New_York:20270125T190000
DTEND;TZID=America/New_York:20270125T190000
DTSTAMP:20260419T224313
CREATED:20260105T003042Z
LAST-MODIFIED:20260105T055657Z
UID:10018518-1800903600-1800903600@epictriviafl.com
SUMMARY:Dirty Bingo
DESCRIPTION:
URL:https://epictriviafl.com/event/dirty-bingo-chronic-orlando/2027-01-25/
LOCATION:Chronic Guru Orlando\, 16 W Pine St\, Orlando\, FL\, 32812\, United States
GEO:28.5410679;-81.3794444
X-APPLE-STRUCTURED-LOCATION;VALUE=URI;X-ADDRESS=Chronic Guru Orlando 16 W Pine St Orlando FL 32812 United States;X-APPLE-RADIUS=500;X-TITLE=16 W Pine St:geo:-81.3794444,28.5410679
END:VEVENT
BEGIN:VEVENT
DTSTART;TZID=America/New_York:20270201T190000
DTEND;TZID=America/New_York:20270201T190000
DTSTAMP:20260419T224313
CREATED:20260105T003042Z
LAST-MODIFIED:20260105T055657Z
UID:10018519-1801508400-1801508400@epictriviafl.com
SUMMARY:Dirty Bingo
DESCRIPTION:
URL:https://epictriviafl.com/event/dirty-bingo-chronic-orlando/2027-02-01/
LOCATION:Chronic Guru Orlando\, 16 W Pine St\, Orlando\, FL\, 32812\, United States
GEO:28.5410679;-81.3794444
X-APPLE-STRUCTURED-LOCATION;VALUE=URI;X-ADDRESS=Chronic Guru Orlando 16 W Pine St Orlando FL 32812 United States;X-APPLE-RADIUS=500;X-TITLE=16 W Pine St:geo:-81.3794444,28.5410679
END:VEVENT
BEGIN:VEVENT
DTSTART;TZID=America/New_York:20270208T190000
DTEND;TZID=America/New_York:20270208T190000
DTSTAMP:20260419T224313
CREATED:20260105T003042Z
LAST-MODIFIED:20260105T055657Z
UID:10018520-1802113200-1802113200@epictriviafl.com
SUMMARY:Dirty Bingo
DESCRIPTION:
URL:https://epictriviafl.com/event/dirty-bingo-chronic-orlando/2027-02-08/
LOCATION:Chronic Guru Orlando\, 16 W Pine St\, Orlando\, FL\, 32812\, United States
GEO:28.5410679;-81.3794444
X-APPLE-STRUCTURED-LOCATION;VALUE=URI;X-ADDRESS=Chronic Guru Orlando 16 W Pine St Orlando FL 32812 United States;X-APPLE-RADIUS=500;X-TITLE=16 W Pine St:geo:-81.3794444,28.5410679
END:VEVENT
BEGIN:VEVENT
DTSTART;TZID=America/New_York:20270215T190000
DTEND;TZID=America/New_York:20270215T190000
DTSTAMP:20260419T224313
CREATED:20260105T003042Z
LAST-MODIFIED:20260105T055657Z
UID:10018521-1802718000-1802718000@epictriviafl.com
SUMMARY:Dirty Bingo
DESCRIPTION:
URL:https://epictriviafl.com/event/dirty-bingo-chronic-orlando/2027-02-15/
LOCATION:Chronic Guru Orlando\, 16 W Pine St\, Orlando\, FL\, 32812\, United States
GEO:28.5410679;-81.3794444
X-APPLE-STRUCTURED-LOCATION;VALUE=URI;X-ADDRESS=Chronic Guru Orlando 16 W Pine St Orlando FL 32812 United States;X-APPLE-RADIUS=500;X-TITLE=16 W Pine St:geo:-81.3794444,28.5410679
END:VEVENT
BEGIN:VEVENT
DTSTART;TZID=America/New_York:20270222T190000
DTEND;TZID=America/New_York:20270222T190000
DTSTAMP:20260419T224313
CREATED:20260105T003042Z
LAST-MODIFIED:20260105T055657Z
UID:10018522-1803322800-1803322800@epictriviafl.com
SUMMARY:Dirty Bingo
DESCRIPTION:
URL:https://epictriviafl.com/event/dirty-bingo-chronic-orlando/2027-02-22/
LOCATION:Chronic Guru Orlando\, 16 W Pine St\, Orlando\, FL\, 32812\, United States
GEO:28.5410679;-81.3794444
X-APPLE-STRUCTURED-LOCATION;VALUE=URI;X-ADDRESS=Chronic Guru Orlando 16 W Pine St Orlando FL 32812 United States;X-APPLE-RADIUS=500;X-TITLE=16 W Pine St:geo:-81.3794444,28.5410679
END:VEVENT
BEGIN:VEVENT
DTSTART;TZID=America/New_York:20270301T190000
DTEND;TZID=America/New_York:20270301T190000
DTSTAMP:20260419T224313
CREATED:20260105T003042Z
LAST-MODIFIED:20260105T055657Z
UID:10018523-1803927600-1803927600@epictriviafl.com
SUMMARY:Dirty Bingo
DESCRIPTION:
URL:https://epictriviafl.com/event/dirty-bingo-chronic-orlando/2027-03-01/
LOCATION:Chronic Guru Orlando\, 16 W Pine St\, Orlando\, FL\, 32812\, United States
GEO:28.5410679;-81.3794444
X-APPLE-STRUCTURED-LOCATION;VALUE=URI;X-ADDRESS=Chronic Guru Orlando 16 W Pine St Orlando FL 32812 United States;X-APPLE-RADIUS=500;X-TITLE=16 W Pine St:geo:-81.3794444,28.5410679
END:VEVENT
BEGIN:VEVENT
DTSTART;TZID=America/New_York:20270308T190000
DTEND;TZID=America/New_York:20270308T190000
DTSTAMP:20260419T224313
CREATED:20260105T003042Z
LAST-MODIFIED:20260105T055657Z
UID:10018524-1804532400-1804532400@epictriviafl.com
SUMMARY:Dirty Bingo
DESCRIPTION:
URL:https://epictriviafl.com/event/dirty-bingo-chronic-orlando/2027-03-08/
LOCATION:Chronic Guru Orlando\, 16 W Pine St\, Orlando\, FL\, 32812\, United States
GEO:28.5410679;-81.3794444
X-APPLE-STRUCTURED-LOCATION;VALUE=URI;X-ADDRESS=Chronic Guru Orlando 16 W Pine St Orlando FL 32812 United States;X-APPLE-RADIUS=500;X-TITLE=16 W Pine St:geo:-81.3794444,28.5410679
END:VEVENT
BEGIN:VEVENT
DTSTART;TZID=America/New_York:20270315T190000
DTEND;TZID=America/New_York:20270315T190000
DTSTAMP:20260419T224313
CREATED:20260105T003042Z
LAST-MODIFIED:20260105T055657Z
UID:10018525-1805137200-1805137200@epictriviafl.com
SUMMARY:Dirty Bingo
DESCRIPTION:
URL:https://epictriviafl.com/event/dirty-bingo-chronic-orlando/2027-03-15/
LOCATION:Chronic Guru Orlando\, 16 W Pine St\, Orlando\, FL\, 32812\, United States
GEO:28.5410679;-81.3794444
X-APPLE-STRUCTURED-LOCATION;VALUE=URI;X-ADDRESS=Chronic Guru Orlando 16 W Pine St Orlando FL 32812 United States;X-APPLE-RADIUS=500;X-TITLE=16 W Pine St:geo:-81.3794444,28.5410679
END:VEVENT
BEGIN:VEVENT
DTSTART;TZID=America/New_York:20270322T190000
DTEND;TZID=America/New_York:20270322T190000
DTSTAMP:20260419T224313
CREATED:20260105T003042Z
LAST-MODIFIED:20260105T055657Z
UID:10018526-1805742000-1805742000@epictriviafl.com
SUMMARY:Dirty Bingo
DESCRIPTION:
URL:https://epictriviafl.com/event/dirty-bingo-chronic-orlando/2027-03-22/
LOCATION:Chronic Guru Orlando\, 16 W Pine St\, Orlando\, FL\, 32812\, United States
GEO:28.5410679;-81.3794444
X-APPLE-STRUCTURED-LOCATION;VALUE=URI;X-ADDRESS=Chronic Guru Orlando 16 W Pine St Orlando FL 32812 United States;X-APPLE-RADIUS=500;X-TITLE=16 W Pine St:geo:-81.3794444,28.5410679
END:VEVENT
BEGIN:VEVENT
DTSTART;TZID=America/New_York:20270329T190000
DTEND;TZID=America/New_York:20270329T190000
DTSTAMP:20260419T224313
CREATED:20260105T003042Z
LAST-MODIFIED:20260105T055657Z
UID:10018527-1806346800-1806346800@epictriviafl.com
SUMMARY:Dirty Bingo
DESCRIPTION:
URL:https://epictriviafl.com/event/dirty-bingo-chronic-orlando/2027-03-29/
LOCATION:Chronic Guru Orlando\, 16 W Pine St\, Orlando\, FL\, 32812\, United States
GEO:28.5410679;-81.3794444
X-APPLE-STRUCTURED-LOCATION;VALUE=URI;X-ADDRESS=Chronic Guru Orlando 16 W Pine St Orlando FL 32812 United States;X-APPLE-RADIUS=500;X-TITLE=16 W Pine St:geo:-81.3794444,28.5410679
END:VEVENT
BEGIN:VEVENT
DTSTART;TZID=America/New_York:20270405T190000
DTEND;TZID=America/New_York:20270405T190000
DTSTAMP:20260419T224313
CREATED:20260105T003042Z
LAST-MODIFIED:20260105T055657Z
UID:10018528-1806951600-1806951600@epictriviafl.com
SUMMARY:Dirty Bingo
DESCRIPTION:
URL:https://epictriviafl.com/event/dirty-bingo-chronic-orlando/2027-04-05/
LOCATION:Chronic Guru Orlando\, 16 W Pine St\, Orlando\, FL\, 32812\, United States
GEO:28.5410679;-81.3794444
X-APPLE-STRUCTURED-LOCATION;VALUE=URI;X-ADDRESS=Chronic Guru Orlando 16 W Pine St Orlando FL 32812 United States;X-APPLE-RADIUS=500;X-TITLE=16 W Pine St:geo:-81.3794444,28.5410679
END:VEVENT
BEGIN:VEVENT
DTSTART;TZID=America/New_York:20270412T190000
DTEND;TZID=America/New_York:20270412T190000
DTSTAMP:20260419T224313
CREATED:20260105T003042Z
LAST-MODIFIED:20260105T055657Z
UID:10018529-1807556400-1807556400@epictriviafl.com
SUMMARY:Dirty Bingo
DESCRIPTION:
URL:https://epictriviafl.com/event/dirty-bingo-chronic-orlando/2027-04-12/
LOCATION:Chronic Guru Orlando\, 16 W Pine St\, Orlando\, FL\, 32812\, United States
GEO:28.5410679;-81.3794444
X-APPLE-STRUCTURED-LOCATION;VALUE=URI;X-ADDRESS=Chronic Guru Orlando 16 W Pine St Orlando FL 32812 United States;X-APPLE-RADIUS=500;X-TITLE=16 W Pine St:geo:-81.3794444,28.5410679
END:VEVENT
BEGIN:VEVENT
DTSTART;TZID=America/New_York:20270419T190000
DTEND;TZID=America/New_York:20270419T190000
DTSTAMP:20260419T224313
CREATED:20260105T003042Z
LAST-MODIFIED:20260105T055657Z
UID:10018530-1808161200-1808161200@epictriviafl.com
SUMMARY:Dirty Bingo
DESCRIPTION:
URL:https://epictriviafl.com/event/dirty-bingo-chronic-orlando/2027-04-19/
LOCATION:Chronic Guru Orlando\, 16 W Pine St\, Orlando\, FL\, 32812\, United States
GEO:28.5410679;-81.3794444
X-APPLE-STRUCTURED-LOCATION;VALUE=URI;X-ADDRESS=Chronic Guru Orlando 16 W Pine St Orlando FL 32812 United States;X-APPLE-RADIUS=500;X-TITLE=16 W Pine St:geo:-81.3794444,28.5410679
END:VEVENT
BEGIN:VEVENT
DTSTART;TZID=America/New_York:20270426T190000
DTEND;TZID=America/New_York:20270426T190000
DTSTAMP:20260419T224313
CREATED:20260105T003042Z
LAST-MODIFIED:20260105T055657Z
UID:10018531-1808766000-1808766000@epictriviafl.com
SUMMARY:Dirty Bingo
DESCRIPTION:
URL:https://epictriviafl.com/event/dirty-bingo-chronic-orlando/2027-04-26/
LOCATION:Chronic Guru Orlando\, 16 W Pine St\, Orlando\, FL\, 32812\, United States
GEO:28.5410679;-81.3794444
X-APPLE-STRUCTURED-LOCATION;VALUE=URI;X-ADDRESS=Chronic Guru Orlando 16 W Pine St Orlando FL 32812 United States;X-APPLE-RADIUS=500;X-TITLE=16 W Pine St:geo:-81.3794444,28.5410679
END:VEVENT
BEGIN:VEVENT
DTSTART;TZID=America/New_York:20270503T190000
DTEND;TZID=America/New_York:20270503T190000
DTSTAMP:20260419T224313
CREATED:20260105T003042Z
LAST-MODIFIED:20260105T055657Z
UID:10018532-1809370800-1809370800@epictriviafl.com
SUMMARY:Dirty Bingo
DESCRIPTION:
URL:https://epictriviafl.com/event/dirty-bingo-chronic-orlando/2027-05-03/
LOCATION:Chronic Guru Orlando\, 16 W Pine St\, Orlando\, FL\, 32812\, United States
GEO:28.5410679;-81.3794444
X-APPLE-STRUCTURED-LOCATION;VALUE=URI;X-ADDRESS=Chronic Guru Orlando 16 W Pine St Orlando FL 32812 United States;X-APPLE-RADIUS=500;X-TITLE=16 W Pine St:geo:-81.3794444,28.5410679
END:VEVENT
BEGIN:VEVENT
DTSTART;TZID=America/New_York:20270510T190000
DTEND;TZID=America/New_York:20270510T190000
DTSTAMP:20260419T224313
CREATED:20260105T003042Z
LAST-MODIFIED:20260105T055657Z
UID:10018533-1809975600-1809975600@epictriviafl.com
SUMMARY:Dirty Bingo
DESCRIPTION:
URL:https://epictriviafl.com/event/dirty-bingo-chronic-orlando/2027-05-10/
LOCATION:Chronic Guru Orlando\, 16 W Pine St\, Orlando\, FL\, 32812\, United States
GEO:28.5410679;-81.3794444
X-APPLE-STRUCTURED-LOCATION;VALUE=URI;X-ADDRESS=Chronic Guru Orlando 16 W Pine St Orlando FL 32812 United States;X-APPLE-RADIUS=500;X-TITLE=16 W Pine St:geo:-81.3794444,28.5410679
END:VEVENT
BEGIN:VEVENT
DTSTART;TZID=America/New_York:20270517T190000
DTEND;TZID=America/New_York:20270517T190000
DTSTAMP:20260419T224313
CREATED:20260105T003042Z
LAST-MODIFIED:20260105T055657Z
UID:10018534-1810580400-1810580400@epictriviafl.com
SUMMARY:Dirty Bingo
DESCRIPTION:
URL:https://epictriviafl.com/event/dirty-bingo-chronic-orlando/2027-05-17/
LOCATION:Chronic Guru Orlando\, 16 W Pine St\, Orlando\, FL\, 32812\, United States
GEO:28.5410679;-81.3794444
X-APPLE-STRUCTURED-LOCATION;VALUE=URI;X-ADDRESS=Chronic Guru Orlando 16 W Pine St Orlando FL 32812 United States;X-APPLE-RADIUS=500;X-TITLE=16 W Pine St:geo:-81.3794444,28.5410679
END:VEVENT
BEGIN:VEVENT
DTSTART;TZID=America/New_York:20270524T190000
DTEND;TZID=America/New_York:20270524T190000
DTSTAMP:20260419T224313
CREATED:20260105T003042Z
LAST-MODIFIED:20260105T055657Z
UID:10018535-1811185200-1811185200@epictriviafl.com
SUMMARY:Dirty Bingo
DESCRIPTION:
URL:https://epictriviafl.com/event/dirty-bingo-chronic-orlando/2027-05-24/
LOCATION:Chronic Guru Orlando\, 16 W Pine St\, Orlando\, FL\, 32812\, United States
GEO:28.5410679;-81.3794444
X-APPLE-STRUCTURED-LOCATION;VALUE=URI;X-ADDRESS=Chronic Guru Orlando 16 W Pine St Orlando FL 32812 United States;X-APPLE-RADIUS=500;X-TITLE=16 W Pine St:geo:-81.3794444,28.5410679
END:VEVENT
BEGIN:VEVENT
DTSTART;TZID=America/New_York:20270531T190000
DTEND;TZID=America/New_York:20270531T190000
DTSTAMP:20260419T224313
CREATED:20260105T003042Z
LAST-MODIFIED:20260105T055657Z
UID:10018536-1811790000-1811790000@epictriviafl.com
SUMMARY:Dirty Bingo
DESCRIPTION:
URL:https://epictriviafl.com/event/dirty-bingo-chronic-orlando/2027-05-31/
LOCATION:Chronic Guru Orlando\, 16 W Pine St\, Orlando\, FL\, 32812\, United States
GEO:28.5410679;-81.3794444
X-APPLE-STRUCTURED-LOCATION;VALUE=URI;X-ADDRESS=Chronic Guru Orlando 16 W Pine St Orlando FL 32812 United States;X-APPLE-RADIUS=500;X-TITLE=16 W Pine St:geo:-81.3794444,28.5410679
END:VEVENT
BEGIN:VEVENT
DTSTART;TZID=America/New_York:20270607T190000
DTEND;TZID=America/New_York:20270607T190000
DTSTAMP:20260419T224313
CREATED:20260105T003042Z
LAST-MODIFIED:20260105T055657Z
UID:10018537-1812394800-1812394800@epictriviafl.com
SUMMARY:Dirty Bingo
DESCRIPTION:
URL:https://epictriviafl.com/event/dirty-bingo-chronic-orlando/2027-06-07/
LOCATION:Chronic Guru Orlando\, 16 W Pine St\, Orlando\, FL\, 32812\, United States
GEO:28.5410679;-81.3794444
X-APPLE-STRUCTURED-LOCATION;VALUE=URI;X-ADDRESS=Chronic Guru Orlando 16 W Pine St Orlando FL 32812 United States;X-APPLE-RADIUS=500;X-TITLE=16 W Pine St:geo:-81.3794444,28.5410679
END:VEVENT
BEGIN:VEVENT
DTSTART;TZID=America/New_York:20270614T190000
DTEND;TZID=America/New_York:20270614T190000
DTSTAMP:20260419T224313
CREATED:20260105T003042Z
LAST-MODIFIED:20260105T055657Z
UID:10018538-1812999600-1812999600@epictriviafl.com
SUMMARY:Dirty Bingo
DESCRIPTION:
URL:https://epictriviafl.com/event/dirty-bingo-chronic-orlando/2027-06-14/
LOCATION:Chronic Guru Orlando\, 16 W Pine St\, Orlando\, FL\, 32812\, United States
GEO:28.5410679;-81.3794444
X-APPLE-STRUCTURED-LOCATION;VALUE=URI;X-ADDRESS=Chronic Guru Orlando 16 W Pine St Orlando FL 32812 United States;X-APPLE-RADIUS=500;X-TITLE=16 W Pine St:geo:-81.3794444,28.5410679
END:VEVENT
BEGIN:VEVENT
DTSTART;TZID=America/New_York:20270621T190000
DTEND;TZID=America/New_York:20270621T190000
DTSTAMP:20260419T224313
CREATED:20260105T003042Z
LAST-MODIFIED:20260105T055657Z
UID:10018539-1813604400-1813604400@epictriviafl.com
SUMMARY:Dirty Bingo
DESCRIPTION:
URL:https://epictriviafl.com/event/dirty-bingo-chronic-orlando/2027-06-21/
LOCATION:Chronic Guru Orlando\, 16 W Pine St\, Orlando\, FL\, 32812\, United States
GEO:28.5410679;-81.3794444
X-APPLE-STRUCTURED-LOCATION;VALUE=URI;X-ADDRESS=Chronic Guru Orlando 16 W Pine St Orlando FL 32812 United States;X-APPLE-RADIUS=500;X-TITLE=16 W Pine St:geo:-81.3794444,28.5410679
END:VEVENT
BEGIN:VEVENT
DTSTART;TZID=America/New_York:20270628T190000
DTEND;TZID=America/New_York:20270628T190000
DTSTAMP:20260419T224313
CREATED:20260105T003042Z
LAST-MODIFIED:20260105T055657Z
UID:10018540-1814209200-1814209200@epictriviafl.com
SUMMARY:Dirty Bingo
DESCRIPTION:
URL:https://epictriviafl.com/event/dirty-bingo-chronic-orlando/2027-06-28/
LOCATION:Chronic Guru Orlando\, 16 W Pine St\, Orlando\, FL\, 32812\, United States
GEO:28.5410679;-81.3794444
X-APPLE-STRUCTURED-LOCATION;VALUE=URI;X-ADDRESS=Chronic Guru Orlando 16 W Pine St Orlando FL 32812 United States;X-APPLE-RADIUS=500;X-TITLE=16 W Pine St:geo:-81.3794444,28.5410679
END:VEVENT
BEGIN:VEVENT
DTSTART;TZID=America/New_York:20270705T190000
DTEND;TZID=America/New_York:20270705T190000
DTSTAMP:20260419T224313
CREATED:20260105T003042Z
LAST-MODIFIED:20260105T055657Z
UID:10018541-1814814000-1814814000@epictriviafl.com
SUMMARY:Dirty Bingo
DESCRIPTION:
URL:https://epictriviafl.com/event/dirty-bingo-chronic-orlando/2027-07-05/
LOCATION:Chronic Guru Orlando\, 16 W Pine St\, Orlando\, FL\, 32812\, United States
GEO:28.5410679;-81.3794444
X-APPLE-STRUCTURED-LOCATION;VALUE=URI;X-ADDRESS=Chronic Guru Orlando 16 W Pine St Orlando FL 32812 United States;X-APPLE-RADIUS=500;X-TITLE=16 W Pine St:geo:-81.3794444,28.5410679
END:VEVENT
BEGIN:VEVENT
DTSTART;TZID=America/New_York:20270712T190000
DTEND;TZID=America/New_York:20270712T190000
DTSTAMP:20260419T224313
CREATED:20260105T003042Z
LAST-MODIFIED:20260105T055657Z
UID:10018542-1815418800-1815418800@epictriviafl.com
SUMMARY:Dirty Bingo
DESCRIPTION:
URL:https://epictriviafl.com/event/dirty-bingo-chronic-orlando/2027-07-12/
LOCATION:Chronic Guru Orlando\, 16 W Pine St\, Orlando\, FL\, 32812\, United States
GEO:28.5410679;-81.3794444
X-APPLE-STRUCTURED-LOCATION;VALUE=URI;X-ADDRESS=Chronic Guru Orlando 16 W Pine St Orlando FL 32812 United States;X-APPLE-RADIUS=500;X-TITLE=16 W Pine St:geo:-81.3794444,28.5410679
END:VEVENT
BEGIN:VEVENT
DTSTART;TZID=America/New_York:20270719T190000
DTEND;TZID=America/New_York:20270719T190000
DTSTAMP:20260419T224313
CREATED:20260105T003042Z
LAST-MODIFIED:20260105T055657Z
UID:10018543-1816023600-1816023600@epictriviafl.com
SUMMARY:Dirty Bingo
DESCRIPTION:
URL:https://epictriviafl.com/event/dirty-bingo-chronic-orlando/2027-07-19/
LOCATION:Chronic Guru Orlando\, 16 W Pine St\, Orlando\, FL\, 32812\, United States
GEO:28.5410679;-81.3794444
X-APPLE-STRUCTURED-LOCATION;VALUE=URI;X-ADDRESS=Chronic Guru Orlando 16 W Pine St Orlando FL 32812 United States;X-APPLE-RADIUS=500;X-TITLE=16 W Pine St:geo:-81.3794444,28.5410679
END:VEVENT
END:VCALENDAR