BEGIN:VCALENDAR
VERSION:2.0
PRODID:-//Epic Trivia - ECPv6.15.18//NONSGML v1.0//EN
CALSCALE:GREGORIAN
METHOD:PUBLISH
X-WR-CALNAME:Epic Trivia
X-ORIGINAL-URL:https://epictriviafl.com
X-WR-CALDESC:Events for Epic Trivia
REFRESH-INTERVAL;VALUE=DURATION:PT1H
X-Robots-Tag:noindex
X-PUBLISHED-TTL:PT1H
BEGIN:VTIMEZONE
TZID:America/New_York
BEGIN:DAYLIGHT
TZOFFSETFROM:-0500
TZOFFSETTO:-0400
TZNAME:EDT
DTSTART:20280312T070000
END:DAYLIGHT
BEGIN:STANDARD
TZOFFSETFROM:-0400
TZOFFSETTO:-0500
TZNAME:EST
DTSTART:20281105T060000
END:STANDARD
BEGIN:DAYLIGHT
TZOFFSETFROM:-0500
TZOFFSETTO:-0400
TZNAME:EDT
DTSTART:20290311T070000
END:DAYLIGHT
BEGIN:STANDARD
TZOFFSETFROM:-0400
TZOFFSETTO:-0500
TZNAME:EST
DTSTART:20291104T060000
END:STANDARD
BEGIN:DAYLIGHT
TZOFFSETFROM:-0500
TZOFFSETTO:-0400
TZNAME:EDT
DTSTART:20300310T070000
END:DAYLIGHT
BEGIN:STANDARD
TZOFFSETFROM:-0400
TZOFFSETTO:-0500
TZNAME:EST
DTSTART:20301103T060000
END:STANDARD
BEGIN:DAYLIGHT
TZOFFSETFROM:-0500
TZOFFSETTO:-0400
TZNAME:EDT
DTSTART:20310309T070000
END:DAYLIGHT
BEGIN:STANDARD
TZOFFSETFROM:-0400
TZOFFSETTO:-0500
TZNAME:EST
DTSTART:20311102T060000
END:STANDARD
END:VTIMEZONE
BEGIN:VEVENT
DTSTART;TZID=America/New_York:20291231T190000
DTEND;TZID=America/New_York:20291231T190000
DTSTAMP:20260420T200358
CREATED:20260105T003042Z
LAST-MODIFIED:20260105T055657Z
UID:10018671-1893438000-1893438000@epictriviafl.com
SUMMARY:Dirty Bingo
DESCRIPTION:
URL:https://epictriviafl.com/event/dirty-bingo-chronic-orlando/2029-12-31/
LOCATION:Chronic Guru Orlando\, 16 W Pine St\, Orlando\, FL\, 32812\, United States
GEO:28.5410679;-81.3794444
X-APPLE-STRUCTURED-LOCATION;VALUE=URI;X-ADDRESS=Chronic Guru Orlando 16 W Pine St Orlando FL 32812 United States;X-APPLE-RADIUS=500;X-TITLE=16 W Pine St:geo:-81.3794444,28.5410679
END:VEVENT
BEGIN:VEVENT
DTSTART;TZID=America/New_York:20300107T190000
DTEND;TZID=America/New_York:20300107T190000
DTSTAMP:20260420T200358
CREATED:20260105T003042Z
LAST-MODIFIED:20260105T055657Z
UID:10018672-1894042800-1894042800@epictriviafl.com
SUMMARY:Dirty Bingo
DESCRIPTION:
URL:https://epictriviafl.com/event/dirty-bingo-chronic-orlando/2030-01-07/
LOCATION:Chronic Guru Orlando\, 16 W Pine St\, Orlando\, FL\, 32812\, United States
GEO:28.5410679;-81.3794444
X-APPLE-STRUCTURED-LOCATION;VALUE=URI;X-ADDRESS=Chronic Guru Orlando 16 W Pine St Orlando FL 32812 United States;X-APPLE-RADIUS=500;X-TITLE=16 W Pine St:geo:-81.3794444,28.5410679
END:VEVENT
BEGIN:VEVENT
DTSTART;TZID=America/New_York:20300114T190000
DTEND;TZID=America/New_York:20300114T190000
DTSTAMP:20260420T200358
CREATED:20260105T003042Z
LAST-MODIFIED:20260105T055657Z
UID:10018673-1894647600-1894647600@epictriviafl.com
SUMMARY:Dirty Bingo
DESCRIPTION:
URL:https://epictriviafl.com/event/dirty-bingo-chronic-orlando/2030-01-14/
LOCATION:Chronic Guru Orlando\, 16 W Pine St\, Orlando\, FL\, 32812\, United States
GEO:28.5410679;-81.3794444
X-APPLE-STRUCTURED-LOCATION;VALUE=URI;X-ADDRESS=Chronic Guru Orlando 16 W Pine St Orlando FL 32812 United States;X-APPLE-RADIUS=500;X-TITLE=16 W Pine St:geo:-81.3794444,28.5410679
END:VEVENT
BEGIN:VEVENT
DTSTART;TZID=America/New_York:20300121T190000
DTEND;TZID=America/New_York:20300121T190000
DTSTAMP:20260420T200358
CREATED:20260105T003042Z
LAST-MODIFIED:20260105T055657Z
UID:10018674-1895252400-1895252400@epictriviafl.com
SUMMARY:Dirty Bingo
DESCRIPTION:
URL:https://epictriviafl.com/event/dirty-bingo-chronic-orlando/2030-01-21/
LOCATION:Chronic Guru Orlando\, 16 W Pine St\, Orlando\, FL\, 32812\, United States
GEO:28.5410679;-81.3794444
X-APPLE-STRUCTURED-LOCATION;VALUE=URI;X-ADDRESS=Chronic Guru Orlando 16 W Pine St Orlando FL 32812 United States;X-APPLE-RADIUS=500;X-TITLE=16 W Pine St:geo:-81.3794444,28.5410679
END:VEVENT
BEGIN:VEVENT
DTSTART;TZID=America/New_York:20300128T190000
DTEND;TZID=America/New_York:20300128T190000
DTSTAMP:20260420T200358
CREATED:20260105T003042Z
LAST-MODIFIED:20260105T055657Z
UID:10018675-1895857200-1895857200@epictriviafl.com
SUMMARY:Dirty Bingo
DESCRIPTION:
URL:https://epictriviafl.com/event/dirty-bingo-chronic-orlando/2030-01-28/
LOCATION:Chronic Guru Orlando\, 16 W Pine St\, Orlando\, FL\, 32812\, United States
GEO:28.5410679;-81.3794444
X-APPLE-STRUCTURED-LOCATION;VALUE=URI;X-ADDRESS=Chronic Guru Orlando 16 W Pine St Orlando FL 32812 United States;X-APPLE-RADIUS=500;X-TITLE=16 W Pine St:geo:-81.3794444,28.5410679
END:VEVENT
BEGIN:VEVENT
DTSTART;TZID=America/New_York:20300204T190000
DTEND;TZID=America/New_York:20300204T190000
DTSTAMP:20260420T200358
CREATED:20260105T003042Z
LAST-MODIFIED:20260105T055657Z
UID:10018676-1896462000-1896462000@epictriviafl.com
SUMMARY:Dirty Bingo
DESCRIPTION:
URL:https://epictriviafl.com/event/dirty-bingo-chronic-orlando/2030-02-04/
LOCATION:Chronic Guru Orlando\, 16 W Pine St\, Orlando\, FL\, 32812\, United States
GEO:28.5410679;-81.3794444
X-APPLE-STRUCTURED-LOCATION;VALUE=URI;X-ADDRESS=Chronic Guru Orlando 16 W Pine St Orlando FL 32812 United States;X-APPLE-RADIUS=500;X-TITLE=16 W Pine St:geo:-81.3794444,28.5410679
END:VEVENT
BEGIN:VEVENT
DTSTART;TZID=America/New_York:20300211T190000
DTEND;TZID=America/New_York:20300211T190000
DTSTAMP:20260420T200358
CREATED:20260105T003042Z
LAST-MODIFIED:20260105T055657Z
UID:10018677-1897066800-1897066800@epictriviafl.com
SUMMARY:Dirty Bingo
DESCRIPTION:
URL:https://epictriviafl.com/event/dirty-bingo-chronic-orlando/2030-02-11/
LOCATION:Chronic Guru Orlando\, 16 W Pine St\, Orlando\, FL\, 32812\, United States
GEO:28.5410679;-81.3794444
X-APPLE-STRUCTURED-LOCATION;VALUE=URI;X-ADDRESS=Chronic Guru Orlando 16 W Pine St Orlando FL 32812 United States;X-APPLE-RADIUS=500;X-TITLE=16 W Pine St:geo:-81.3794444,28.5410679
END:VEVENT
BEGIN:VEVENT
DTSTART;TZID=America/New_York:20300218T190000
DTEND;TZID=America/New_York:20300218T190000
DTSTAMP:20260420T200358
CREATED:20260105T003042Z
LAST-MODIFIED:20260105T055657Z
UID:10018678-1897671600-1897671600@epictriviafl.com
SUMMARY:Dirty Bingo
DESCRIPTION:
URL:https://epictriviafl.com/event/dirty-bingo-chronic-orlando/2030-02-18/
LOCATION:Chronic Guru Orlando\, 16 W Pine St\, Orlando\, FL\, 32812\, United States
GEO:28.5410679;-81.3794444
X-APPLE-STRUCTURED-LOCATION;VALUE=URI;X-ADDRESS=Chronic Guru Orlando 16 W Pine St Orlando FL 32812 United States;X-APPLE-RADIUS=500;X-TITLE=16 W Pine St:geo:-81.3794444,28.5410679
END:VEVENT
BEGIN:VEVENT
DTSTART;TZID=America/New_York:20300225T190000
DTEND;TZID=America/New_York:20300225T190000
DTSTAMP:20260420T200358
CREATED:20260105T003042Z
LAST-MODIFIED:20260105T055657Z
UID:10018679-1898276400-1898276400@epictriviafl.com
SUMMARY:Dirty Bingo
DESCRIPTION:
URL:https://epictriviafl.com/event/dirty-bingo-chronic-orlando/2030-02-25/
LOCATION:Chronic Guru Orlando\, 16 W Pine St\, Orlando\, FL\, 32812\, United States
GEO:28.5410679;-81.3794444
X-APPLE-STRUCTURED-LOCATION;VALUE=URI;X-ADDRESS=Chronic Guru Orlando 16 W Pine St Orlando FL 32812 United States;X-APPLE-RADIUS=500;X-TITLE=16 W Pine St:geo:-81.3794444,28.5410679
END:VEVENT
BEGIN:VEVENT
DTSTART;TZID=America/New_York:20300304T190000
DTEND;TZID=America/New_York:20300304T190000
DTSTAMP:20260420T200358
CREATED:20260105T003042Z
LAST-MODIFIED:20260105T055657Z
UID:10018680-1898881200-1898881200@epictriviafl.com
SUMMARY:Dirty Bingo
DESCRIPTION:
URL:https://epictriviafl.com/event/dirty-bingo-chronic-orlando/2030-03-04/
LOCATION:Chronic Guru Orlando\, 16 W Pine St\, Orlando\, FL\, 32812\, United States
GEO:28.5410679;-81.3794444
X-APPLE-STRUCTURED-LOCATION;VALUE=URI;X-ADDRESS=Chronic Guru Orlando 16 W Pine St Orlando FL 32812 United States;X-APPLE-RADIUS=500;X-TITLE=16 W Pine St:geo:-81.3794444,28.5410679
END:VEVENT
BEGIN:VEVENT
DTSTART;TZID=America/New_York:20300311T190000
DTEND;TZID=America/New_York:20300311T190000
DTSTAMP:20260420T200358
CREATED:20260105T003042Z
LAST-MODIFIED:20260105T055657Z
UID:10018681-1899486000-1899486000@epictriviafl.com
SUMMARY:Dirty Bingo
DESCRIPTION:
URL:https://epictriviafl.com/event/dirty-bingo-chronic-orlando/2030-03-11/
LOCATION:Chronic Guru Orlando\, 16 W Pine St\, Orlando\, FL\, 32812\, United States
GEO:28.5410679;-81.3794444
X-APPLE-STRUCTURED-LOCATION;VALUE=URI;X-ADDRESS=Chronic Guru Orlando 16 W Pine St Orlando FL 32812 United States;X-APPLE-RADIUS=500;X-TITLE=16 W Pine St:geo:-81.3794444,28.5410679
END:VEVENT
BEGIN:VEVENT
DTSTART;TZID=America/New_York:20300318T190000
DTEND;TZID=America/New_York:20300318T190000
DTSTAMP:20260420T200358
CREATED:20260105T003042Z
LAST-MODIFIED:20260105T055657Z
UID:10018682-1900090800-1900090800@epictriviafl.com
SUMMARY:Dirty Bingo
DESCRIPTION:
URL:https://epictriviafl.com/event/dirty-bingo-chronic-orlando/2030-03-18/
LOCATION:Chronic Guru Orlando\, 16 W Pine St\, Orlando\, FL\, 32812\, United States
GEO:28.5410679;-81.3794444
X-APPLE-STRUCTURED-LOCATION;VALUE=URI;X-ADDRESS=Chronic Guru Orlando 16 W Pine St Orlando FL 32812 United States;X-APPLE-RADIUS=500;X-TITLE=16 W Pine St:geo:-81.3794444,28.5410679
END:VEVENT
BEGIN:VEVENT
DTSTART;TZID=America/New_York:20300325T190000
DTEND;TZID=America/New_York:20300325T190000
DTSTAMP:20260420T200358
CREATED:20260105T003042Z
LAST-MODIFIED:20260105T055657Z
UID:10018683-1900695600-1900695600@epictriviafl.com
SUMMARY:Dirty Bingo
DESCRIPTION:
URL:https://epictriviafl.com/event/dirty-bingo-chronic-orlando/2030-03-25/
LOCATION:Chronic Guru Orlando\, 16 W Pine St\, Orlando\, FL\, 32812\, United States
GEO:28.5410679;-81.3794444
X-APPLE-STRUCTURED-LOCATION;VALUE=URI;X-ADDRESS=Chronic Guru Orlando 16 W Pine St Orlando FL 32812 United States;X-APPLE-RADIUS=500;X-TITLE=16 W Pine St:geo:-81.3794444,28.5410679
END:VEVENT
BEGIN:VEVENT
DTSTART;TZID=America/New_York:20300401T190000
DTEND;TZID=America/New_York:20300401T190000
DTSTAMP:20260420T200358
CREATED:20260105T003042Z
LAST-MODIFIED:20260105T055657Z
UID:10018684-1901300400-1901300400@epictriviafl.com
SUMMARY:Dirty Bingo
DESCRIPTION:
URL:https://epictriviafl.com/event/dirty-bingo-chronic-orlando/2030-04-01/
LOCATION:Chronic Guru Orlando\, 16 W Pine St\, Orlando\, FL\, 32812\, United States
GEO:28.5410679;-81.3794444
X-APPLE-STRUCTURED-LOCATION;VALUE=URI;X-ADDRESS=Chronic Guru Orlando 16 W Pine St Orlando FL 32812 United States;X-APPLE-RADIUS=500;X-TITLE=16 W Pine St:geo:-81.3794444,28.5410679
END:VEVENT
BEGIN:VEVENT
DTSTART;TZID=America/New_York:20300408T190000
DTEND;TZID=America/New_York:20300408T190000
DTSTAMP:20260420T200358
CREATED:20260105T003042Z
LAST-MODIFIED:20260105T055657Z
UID:10018685-1901905200-1901905200@epictriviafl.com
SUMMARY:Dirty Bingo
DESCRIPTION:
URL:https://epictriviafl.com/event/dirty-bingo-chronic-orlando/2030-04-08/
LOCATION:Chronic Guru Orlando\, 16 W Pine St\, Orlando\, FL\, 32812\, United States
GEO:28.5410679;-81.3794444
X-APPLE-STRUCTURED-LOCATION;VALUE=URI;X-ADDRESS=Chronic Guru Orlando 16 W Pine St Orlando FL 32812 United States;X-APPLE-RADIUS=500;X-TITLE=16 W Pine St:geo:-81.3794444,28.5410679
END:VEVENT
BEGIN:VEVENT
DTSTART;TZID=America/New_York:20300415T190000
DTEND;TZID=America/New_York:20300415T190000
DTSTAMP:20260420T200358
CREATED:20260105T003042Z
LAST-MODIFIED:20260105T055657Z
UID:10018686-1902510000-1902510000@epictriviafl.com
SUMMARY:Dirty Bingo
DESCRIPTION:
URL:https://epictriviafl.com/event/dirty-bingo-chronic-orlando/2030-04-15/
LOCATION:Chronic Guru Orlando\, 16 W Pine St\, Orlando\, FL\, 32812\, United States
GEO:28.5410679;-81.3794444
X-APPLE-STRUCTURED-LOCATION;VALUE=URI;X-ADDRESS=Chronic Guru Orlando 16 W Pine St Orlando FL 32812 United States;X-APPLE-RADIUS=500;X-TITLE=16 W Pine St:geo:-81.3794444,28.5410679
END:VEVENT
BEGIN:VEVENT
DTSTART;TZID=America/New_York:20300422T190000
DTEND;TZID=America/New_York:20300422T190000
DTSTAMP:20260420T200358
CREATED:20260105T003042Z
LAST-MODIFIED:20260105T055657Z
UID:10018687-1903114800-1903114800@epictriviafl.com
SUMMARY:Dirty Bingo
DESCRIPTION:
URL:https://epictriviafl.com/event/dirty-bingo-chronic-orlando/2030-04-22/
LOCATION:Chronic Guru Orlando\, 16 W Pine St\, Orlando\, FL\, 32812\, United States
GEO:28.5410679;-81.3794444
X-APPLE-STRUCTURED-LOCATION;VALUE=URI;X-ADDRESS=Chronic Guru Orlando 16 W Pine St Orlando FL 32812 United States;X-APPLE-RADIUS=500;X-TITLE=16 W Pine St:geo:-81.3794444,28.5410679
END:VEVENT
BEGIN:VEVENT
DTSTART;TZID=America/New_York:20300429T190000
DTEND;TZID=America/New_York:20300429T190000
DTSTAMP:20260420T200358
CREATED:20260105T003042Z
LAST-MODIFIED:20260105T055657Z
UID:10018688-1903719600-1903719600@epictriviafl.com
SUMMARY:Dirty Bingo
DESCRIPTION:
URL:https://epictriviafl.com/event/dirty-bingo-chronic-orlando/2030-04-29/
LOCATION:Chronic Guru Orlando\, 16 W Pine St\, Orlando\, FL\, 32812\, United States
GEO:28.5410679;-81.3794444
X-APPLE-STRUCTURED-LOCATION;VALUE=URI;X-ADDRESS=Chronic Guru Orlando 16 W Pine St Orlando FL 32812 United States;X-APPLE-RADIUS=500;X-TITLE=16 W Pine St:geo:-81.3794444,28.5410679
END:VEVENT
BEGIN:VEVENT
DTSTART;TZID=America/New_York:20300506T190000
DTEND;TZID=America/New_York:20300506T190000
DTSTAMP:20260420T200358
CREATED:20260105T003042Z
LAST-MODIFIED:20260105T055657Z
UID:10018689-1904324400-1904324400@epictriviafl.com
SUMMARY:Dirty Bingo
DESCRIPTION:
URL:https://epictriviafl.com/event/dirty-bingo-chronic-orlando/2030-05-06/
LOCATION:Chronic Guru Orlando\, 16 W Pine St\, Orlando\, FL\, 32812\, United States
GEO:28.5410679;-81.3794444
X-APPLE-STRUCTURED-LOCATION;VALUE=URI;X-ADDRESS=Chronic Guru Orlando 16 W Pine St Orlando FL 32812 United States;X-APPLE-RADIUS=500;X-TITLE=16 W Pine St:geo:-81.3794444,28.5410679
END:VEVENT
BEGIN:VEVENT
DTSTART;TZID=America/New_York:20300513T190000
DTEND;TZID=America/New_York:20300513T190000
DTSTAMP:20260420T200358
CREATED:20260105T003042Z
LAST-MODIFIED:20260105T055657Z
UID:10018690-1904929200-1904929200@epictriviafl.com
SUMMARY:Dirty Bingo
DESCRIPTION:
URL:https://epictriviafl.com/event/dirty-bingo-chronic-orlando/2030-05-13/
LOCATION:Chronic Guru Orlando\, 16 W Pine St\, Orlando\, FL\, 32812\, United States
GEO:28.5410679;-81.3794444
X-APPLE-STRUCTURED-LOCATION;VALUE=URI;X-ADDRESS=Chronic Guru Orlando 16 W Pine St Orlando FL 32812 United States;X-APPLE-RADIUS=500;X-TITLE=16 W Pine St:geo:-81.3794444,28.5410679
END:VEVENT
BEGIN:VEVENT
DTSTART;TZID=America/New_York:20300520T190000
DTEND;TZID=America/New_York:20300520T190000
DTSTAMP:20260420T200358
CREATED:20260105T003042Z
LAST-MODIFIED:20260105T055657Z
UID:10018691-1905534000-1905534000@epictriviafl.com
SUMMARY:Dirty Bingo
DESCRIPTION:
URL:https://epictriviafl.com/event/dirty-bingo-chronic-orlando/2030-05-20/
LOCATION:Chronic Guru Orlando\, 16 W Pine St\, Orlando\, FL\, 32812\, United States
GEO:28.5410679;-81.3794444
X-APPLE-STRUCTURED-LOCATION;VALUE=URI;X-ADDRESS=Chronic Guru Orlando 16 W Pine St Orlando FL 32812 United States;X-APPLE-RADIUS=500;X-TITLE=16 W Pine St:geo:-81.3794444,28.5410679
END:VEVENT
BEGIN:VEVENT
DTSTART;TZID=America/New_York:20300527T190000
DTEND;TZID=America/New_York:20300527T190000
DTSTAMP:20260420T200358
CREATED:20260105T003042Z
LAST-MODIFIED:20260105T055657Z
UID:10018692-1906138800-1906138800@epictriviafl.com
SUMMARY:Dirty Bingo
DESCRIPTION:
URL:https://epictriviafl.com/event/dirty-bingo-chronic-orlando/2030-05-27/
LOCATION:Chronic Guru Orlando\, 16 W Pine St\, Orlando\, FL\, 32812\, United States
GEO:28.5410679;-81.3794444
X-APPLE-STRUCTURED-LOCATION;VALUE=URI;X-ADDRESS=Chronic Guru Orlando 16 W Pine St Orlando FL 32812 United States;X-APPLE-RADIUS=500;X-TITLE=16 W Pine St:geo:-81.3794444,28.5410679
END:VEVENT
BEGIN:VEVENT
DTSTART;TZID=America/New_York:20300603T190000
DTEND;TZID=America/New_York:20300603T190000
DTSTAMP:20260420T200358
CREATED:20260105T003042Z
LAST-MODIFIED:20260105T055657Z
UID:10018693-1906743600-1906743600@epictriviafl.com
SUMMARY:Dirty Bingo
DESCRIPTION:
URL:https://epictriviafl.com/event/dirty-bingo-chronic-orlando/2030-06-03/
LOCATION:Chronic Guru Orlando\, 16 W Pine St\, Orlando\, FL\, 32812\, United States
GEO:28.5410679;-81.3794444
X-APPLE-STRUCTURED-LOCATION;VALUE=URI;X-ADDRESS=Chronic Guru Orlando 16 W Pine St Orlando FL 32812 United States;X-APPLE-RADIUS=500;X-TITLE=16 W Pine St:geo:-81.3794444,28.5410679
END:VEVENT
BEGIN:VEVENT
DTSTART;TZID=America/New_York:20300610T190000
DTEND;TZID=America/New_York:20300610T190000
DTSTAMP:20260420T200358
CREATED:20260105T003042Z
LAST-MODIFIED:20260105T055657Z
UID:10018694-1907348400-1907348400@epictriviafl.com
SUMMARY:Dirty Bingo
DESCRIPTION:
URL:https://epictriviafl.com/event/dirty-bingo-chronic-orlando/2030-06-10/
LOCATION:Chronic Guru Orlando\, 16 W Pine St\, Orlando\, FL\, 32812\, United States
GEO:28.5410679;-81.3794444
X-APPLE-STRUCTURED-LOCATION;VALUE=URI;X-ADDRESS=Chronic Guru Orlando 16 W Pine St Orlando FL 32812 United States;X-APPLE-RADIUS=500;X-TITLE=16 W Pine St:geo:-81.3794444,28.5410679
END:VEVENT
BEGIN:VEVENT
DTSTART;TZID=America/New_York:20300617T190000
DTEND;TZID=America/New_York:20300617T190000
DTSTAMP:20260420T200358
CREATED:20260105T003042Z
LAST-MODIFIED:20260105T055657Z
UID:10018695-1907953200-1907953200@epictriviafl.com
SUMMARY:Dirty Bingo
DESCRIPTION:
URL:https://epictriviafl.com/event/dirty-bingo-chronic-orlando/2030-06-17/
LOCATION:Chronic Guru Orlando\, 16 W Pine St\, Orlando\, FL\, 32812\, United States
GEO:28.5410679;-81.3794444
X-APPLE-STRUCTURED-LOCATION;VALUE=URI;X-ADDRESS=Chronic Guru Orlando 16 W Pine St Orlando FL 32812 United States;X-APPLE-RADIUS=500;X-TITLE=16 W Pine St:geo:-81.3794444,28.5410679
END:VEVENT
BEGIN:VEVENT
DTSTART;TZID=America/New_York:20300624T190000
DTEND;TZID=America/New_York:20300624T190000
DTSTAMP:20260420T200358
CREATED:20260105T003042Z
LAST-MODIFIED:20260105T055657Z
UID:10018696-1908558000-1908558000@epictriviafl.com
SUMMARY:Dirty Bingo
DESCRIPTION:
URL:https://epictriviafl.com/event/dirty-bingo-chronic-orlando/2030-06-24/
LOCATION:Chronic Guru Orlando\, 16 W Pine St\, Orlando\, FL\, 32812\, United States
GEO:28.5410679;-81.3794444
X-APPLE-STRUCTURED-LOCATION;VALUE=URI;X-ADDRESS=Chronic Guru Orlando 16 W Pine St Orlando FL 32812 United States;X-APPLE-RADIUS=500;X-TITLE=16 W Pine St:geo:-81.3794444,28.5410679
END:VEVENT
BEGIN:VEVENT
DTSTART;TZID=America/New_York:20300701T190000
DTEND;TZID=America/New_York:20300701T190000
DTSTAMP:20260420T200358
CREATED:20260105T003042Z
LAST-MODIFIED:20260105T055657Z
UID:10018697-1909162800-1909162800@epictriviafl.com
SUMMARY:Dirty Bingo
DESCRIPTION:
URL:https://epictriviafl.com/event/dirty-bingo-chronic-orlando/2030-07-01/
LOCATION:Chronic Guru Orlando\, 16 W Pine St\, Orlando\, FL\, 32812\, United States
GEO:28.5410679;-81.3794444
X-APPLE-STRUCTURED-LOCATION;VALUE=URI;X-ADDRESS=Chronic Guru Orlando 16 W Pine St Orlando FL 32812 United States;X-APPLE-RADIUS=500;X-TITLE=16 W Pine St:geo:-81.3794444,28.5410679
END:VEVENT
BEGIN:VEVENT
DTSTART;TZID=America/New_York:20300708T190000
DTEND;TZID=America/New_York:20300708T190000
DTSTAMP:20260420T200358
CREATED:20260105T003042Z
LAST-MODIFIED:20260105T055657Z
UID:10018698-1909767600-1909767600@epictriviafl.com
SUMMARY:Dirty Bingo
DESCRIPTION:
URL:https://epictriviafl.com/event/dirty-bingo-chronic-orlando/2030-07-08/
LOCATION:Chronic Guru Orlando\, 16 W Pine St\, Orlando\, FL\, 32812\, United States
GEO:28.5410679;-81.3794444
X-APPLE-STRUCTURED-LOCATION;VALUE=URI;X-ADDRESS=Chronic Guru Orlando 16 W Pine St Orlando FL 32812 United States;X-APPLE-RADIUS=500;X-TITLE=16 W Pine St:geo:-81.3794444,28.5410679
END:VEVENT
BEGIN:VEVENT
DTSTART;TZID=America/New_York:20300715T190000
DTEND;TZID=America/New_York:20300715T190000
DTSTAMP:20260420T200358
CREATED:20260105T003042Z
LAST-MODIFIED:20260105T055657Z
UID:10018699-1910372400-1910372400@epictriviafl.com
SUMMARY:Dirty Bingo
DESCRIPTION:
URL:https://epictriviafl.com/event/dirty-bingo-chronic-orlando/2030-07-15/
LOCATION:Chronic Guru Orlando\, 16 W Pine St\, Orlando\, FL\, 32812\, United States
GEO:28.5410679;-81.3794444
X-APPLE-STRUCTURED-LOCATION;VALUE=URI;X-ADDRESS=Chronic Guru Orlando 16 W Pine St Orlando FL 32812 United States;X-APPLE-RADIUS=500;X-TITLE=16 W Pine St:geo:-81.3794444,28.5410679
END:VEVENT
BEGIN:VEVENT
DTSTART;TZID=America/New_York:20300722T190000
DTEND;TZID=America/New_York:20300722T190000
DTSTAMP:20260420T200358
CREATED:20260105T003042Z
LAST-MODIFIED:20260105T055657Z
UID:10018700-1910977200-1910977200@epictriviafl.com
SUMMARY:Dirty Bingo
DESCRIPTION:
URL:https://epictriviafl.com/event/dirty-bingo-chronic-orlando/2030-07-22/
LOCATION:Chronic Guru Orlando\, 16 W Pine St\, Orlando\, FL\, 32812\, United States
GEO:28.5410679;-81.3794444
X-APPLE-STRUCTURED-LOCATION;VALUE=URI;X-ADDRESS=Chronic Guru Orlando 16 W Pine St Orlando FL 32812 United States;X-APPLE-RADIUS=500;X-TITLE=16 W Pine St:geo:-81.3794444,28.5410679
END:VEVENT
END:VCALENDAR