BEGIN:VCALENDAR
VERSION:2.0
PRODID:-//Epic Trivia - ECPv6.15.18//NONSGML v1.0//EN
CALSCALE:GREGORIAN
METHOD:PUBLISH
X-WR-CALNAME:Epic Trivia
X-ORIGINAL-URL:https://epictriviafl.com
X-WR-CALDESC:Events for Epic Trivia
REFRESH-INTERVAL;VALUE=DURATION:PT1H
X-Robots-Tag:noindex
X-PUBLISHED-TTL:PT1H
BEGIN:VTIMEZONE
TZID:America/New_York
BEGIN:DAYLIGHT
TZOFFSETFROM:-0500
TZOFFSETTO:-0400
TZNAME:EDT
DTSTART:20270314T070000
END:DAYLIGHT
BEGIN:STANDARD
TZOFFSETFROM:-0400
TZOFFSETTO:-0500
TZNAME:EST
DTSTART:20271107T060000
END:STANDARD
BEGIN:DAYLIGHT
TZOFFSETFROM:-0500
TZOFFSETTO:-0400
TZNAME:EDT
DTSTART:20280312T070000
END:DAYLIGHT
BEGIN:STANDARD
TZOFFSETFROM:-0400
TZOFFSETTO:-0500
TZNAME:EST
DTSTART:20281105T060000
END:STANDARD
BEGIN:DAYLIGHT
TZOFFSETFROM:-0500
TZOFFSETTO:-0400
TZNAME:EDT
DTSTART:20290311T070000
END:DAYLIGHT
BEGIN:STANDARD
TZOFFSETFROM:-0400
TZOFFSETTO:-0500
TZNAME:EST
DTSTART:20291104T060000
END:STANDARD
BEGIN:DAYLIGHT
TZOFFSETFROM:-0500
TZOFFSETTO:-0400
TZNAME:EDT
DTSTART:20300310T070000
END:DAYLIGHT
BEGIN:STANDARD
TZOFFSETFROM:-0400
TZOFFSETTO:-0500
TZNAME:EST
DTSTART:20301103T060000
END:STANDARD
END:VTIMEZONE
BEGIN:VEVENT
DTSTART;TZID=America/New_York:20280807T190000
DTEND;TZID=America/New_York:20280807T190000
DTSTAMP:20260420T101209
CREATED:20260105T003042Z
LAST-MODIFIED:20260105T055657Z
UID:10018598-1849287600-1849287600@epictriviafl.com
SUMMARY:Dirty Bingo
DESCRIPTION:
URL:https://epictriviafl.com/event/dirty-bingo-chronic-orlando/2028-08-07/
LOCATION:Chronic Guru Orlando\, 16 W Pine St\, Orlando\, FL\, 32812\, United States
GEO:28.5410679;-81.3794444
X-APPLE-STRUCTURED-LOCATION;VALUE=URI;X-ADDRESS=Chronic Guru Orlando 16 W Pine St Orlando FL 32812 United States;X-APPLE-RADIUS=500;X-TITLE=16 W Pine St:geo:-81.3794444,28.5410679
END:VEVENT
BEGIN:VEVENT
DTSTART;TZID=America/New_York:20280814T190000
DTEND;TZID=America/New_York:20280814T190000
DTSTAMP:20260420T101209
CREATED:20260105T003042Z
LAST-MODIFIED:20260105T055657Z
UID:10018599-1849892400-1849892400@epictriviafl.com
SUMMARY:Dirty Bingo
DESCRIPTION:
URL:https://epictriviafl.com/event/dirty-bingo-chronic-orlando/2028-08-14/
LOCATION:Chronic Guru Orlando\, 16 W Pine St\, Orlando\, FL\, 32812\, United States
GEO:28.5410679;-81.3794444
X-APPLE-STRUCTURED-LOCATION;VALUE=URI;X-ADDRESS=Chronic Guru Orlando 16 W Pine St Orlando FL 32812 United States;X-APPLE-RADIUS=500;X-TITLE=16 W Pine St:geo:-81.3794444,28.5410679
END:VEVENT
BEGIN:VEVENT
DTSTART;TZID=America/New_York:20280821T190000
DTEND;TZID=America/New_York:20280821T190000
DTSTAMP:20260420T101209
CREATED:20260105T003042Z
LAST-MODIFIED:20260105T055657Z
UID:10018600-1850497200-1850497200@epictriviafl.com
SUMMARY:Dirty Bingo
DESCRIPTION:
URL:https://epictriviafl.com/event/dirty-bingo-chronic-orlando/2028-08-21/
LOCATION:Chronic Guru Orlando\, 16 W Pine St\, Orlando\, FL\, 32812\, United States
GEO:28.5410679;-81.3794444
X-APPLE-STRUCTURED-LOCATION;VALUE=URI;X-ADDRESS=Chronic Guru Orlando 16 W Pine St Orlando FL 32812 United States;X-APPLE-RADIUS=500;X-TITLE=16 W Pine St:geo:-81.3794444,28.5410679
END:VEVENT
BEGIN:VEVENT
DTSTART;TZID=America/New_York:20280828T190000
DTEND;TZID=America/New_York:20280828T190000
DTSTAMP:20260420T101209
CREATED:20260105T003042Z
LAST-MODIFIED:20260105T055657Z
UID:10018601-1851102000-1851102000@epictriviafl.com
SUMMARY:Dirty Bingo
DESCRIPTION:
URL:https://epictriviafl.com/event/dirty-bingo-chronic-orlando/2028-08-28/
LOCATION:Chronic Guru Orlando\, 16 W Pine St\, Orlando\, FL\, 32812\, United States
GEO:28.5410679;-81.3794444
X-APPLE-STRUCTURED-LOCATION;VALUE=URI;X-ADDRESS=Chronic Guru Orlando 16 W Pine St Orlando FL 32812 United States;X-APPLE-RADIUS=500;X-TITLE=16 W Pine St:geo:-81.3794444,28.5410679
END:VEVENT
BEGIN:VEVENT
DTSTART;TZID=America/New_York:20280904T190000
DTEND;TZID=America/New_York:20280904T190000
DTSTAMP:20260420T101209
CREATED:20260105T003042Z
LAST-MODIFIED:20260105T055657Z
UID:10018602-1851706800-1851706800@epictriviafl.com
SUMMARY:Dirty Bingo
DESCRIPTION:
URL:https://epictriviafl.com/event/dirty-bingo-chronic-orlando/2028-09-04/
LOCATION:Chronic Guru Orlando\, 16 W Pine St\, Orlando\, FL\, 32812\, United States
GEO:28.5410679;-81.3794444
X-APPLE-STRUCTURED-LOCATION;VALUE=URI;X-ADDRESS=Chronic Guru Orlando 16 W Pine St Orlando FL 32812 United States;X-APPLE-RADIUS=500;X-TITLE=16 W Pine St:geo:-81.3794444,28.5410679
END:VEVENT
BEGIN:VEVENT
DTSTART;TZID=America/New_York:20280911T190000
DTEND;TZID=America/New_York:20280911T190000
DTSTAMP:20260420T101209
CREATED:20260105T003042Z
LAST-MODIFIED:20260105T055657Z
UID:10018603-1852311600-1852311600@epictriviafl.com
SUMMARY:Dirty Bingo
DESCRIPTION:
URL:https://epictriviafl.com/event/dirty-bingo-chronic-orlando/2028-09-11/
LOCATION:Chronic Guru Orlando\, 16 W Pine St\, Orlando\, FL\, 32812\, United States
GEO:28.5410679;-81.3794444
X-APPLE-STRUCTURED-LOCATION;VALUE=URI;X-ADDRESS=Chronic Guru Orlando 16 W Pine St Orlando FL 32812 United States;X-APPLE-RADIUS=500;X-TITLE=16 W Pine St:geo:-81.3794444,28.5410679
END:VEVENT
BEGIN:VEVENT
DTSTART;TZID=America/New_York:20280918T190000
DTEND;TZID=America/New_York:20280918T190000
DTSTAMP:20260420T101209
CREATED:20260105T003042Z
LAST-MODIFIED:20260105T055657Z
UID:10018604-1852916400-1852916400@epictriviafl.com
SUMMARY:Dirty Bingo
DESCRIPTION:
URL:https://epictriviafl.com/event/dirty-bingo-chronic-orlando/2028-09-18/
LOCATION:Chronic Guru Orlando\, 16 W Pine St\, Orlando\, FL\, 32812\, United States
GEO:28.5410679;-81.3794444
X-APPLE-STRUCTURED-LOCATION;VALUE=URI;X-ADDRESS=Chronic Guru Orlando 16 W Pine St Orlando FL 32812 United States;X-APPLE-RADIUS=500;X-TITLE=16 W Pine St:geo:-81.3794444,28.5410679
END:VEVENT
BEGIN:VEVENT
DTSTART;TZID=America/New_York:20280925T190000
DTEND;TZID=America/New_York:20280925T190000
DTSTAMP:20260420T101209
CREATED:20260105T003042Z
LAST-MODIFIED:20260105T055657Z
UID:10018605-1853521200-1853521200@epictriviafl.com
SUMMARY:Dirty Bingo
DESCRIPTION:
URL:https://epictriviafl.com/event/dirty-bingo-chronic-orlando/2028-09-25/
LOCATION:Chronic Guru Orlando\, 16 W Pine St\, Orlando\, FL\, 32812\, United States
GEO:28.5410679;-81.3794444
X-APPLE-STRUCTURED-LOCATION;VALUE=URI;X-ADDRESS=Chronic Guru Orlando 16 W Pine St Orlando FL 32812 United States;X-APPLE-RADIUS=500;X-TITLE=16 W Pine St:geo:-81.3794444,28.5410679
END:VEVENT
BEGIN:VEVENT
DTSTART;TZID=America/New_York:20281002T190000
DTEND;TZID=America/New_York:20281002T190000
DTSTAMP:20260420T101209
CREATED:20260105T003042Z
LAST-MODIFIED:20260105T055657Z
UID:10018606-1854126000-1854126000@epictriviafl.com
SUMMARY:Dirty Bingo
DESCRIPTION:
URL:https://epictriviafl.com/event/dirty-bingo-chronic-orlando/2028-10-02/
LOCATION:Chronic Guru Orlando\, 16 W Pine St\, Orlando\, FL\, 32812\, United States
GEO:28.5410679;-81.3794444
X-APPLE-STRUCTURED-LOCATION;VALUE=URI;X-ADDRESS=Chronic Guru Orlando 16 W Pine St Orlando FL 32812 United States;X-APPLE-RADIUS=500;X-TITLE=16 W Pine St:geo:-81.3794444,28.5410679
END:VEVENT
BEGIN:VEVENT
DTSTART;TZID=America/New_York:20281009T190000
DTEND;TZID=America/New_York:20281009T190000
DTSTAMP:20260420T101209
CREATED:20260105T003042Z
LAST-MODIFIED:20260105T055657Z
UID:10018607-1854730800-1854730800@epictriviafl.com
SUMMARY:Dirty Bingo
DESCRIPTION:
URL:https://epictriviafl.com/event/dirty-bingo-chronic-orlando/2028-10-09/
LOCATION:Chronic Guru Orlando\, 16 W Pine St\, Orlando\, FL\, 32812\, United States
GEO:28.5410679;-81.3794444
X-APPLE-STRUCTURED-LOCATION;VALUE=URI;X-ADDRESS=Chronic Guru Orlando 16 W Pine St Orlando FL 32812 United States;X-APPLE-RADIUS=500;X-TITLE=16 W Pine St:geo:-81.3794444,28.5410679
END:VEVENT
BEGIN:VEVENT
DTSTART;TZID=America/New_York:20281016T190000
DTEND;TZID=America/New_York:20281016T190000
DTSTAMP:20260420T101209
CREATED:20260105T003042Z
LAST-MODIFIED:20260105T055657Z
UID:10018608-1855335600-1855335600@epictriviafl.com
SUMMARY:Dirty Bingo
DESCRIPTION:
URL:https://epictriviafl.com/event/dirty-bingo-chronic-orlando/2028-10-16/
LOCATION:Chronic Guru Orlando\, 16 W Pine St\, Orlando\, FL\, 32812\, United States
GEO:28.5410679;-81.3794444
X-APPLE-STRUCTURED-LOCATION;VALUE=URI;X-ADDRESS=Chronic Guru Orlando 16 W Pine St Orlando FL 32812 United States;X-APPLE-RADIUS=500;X-TITLE=16 W Pine St:geo:-81.3794444,28.5410679
END:VEVENT
BEGIN:VEVENT
DTSTART;TZID=America/New_York:20281023T190000
DTEND;TZID=America/New_York:20281023T190000
DTSTAMP:20260420T101209
CREATED:20260105T003042Z
LAST-MODIFIED:20260105T055657Z
UID:10018609-1855940400-1855940400@epictriviafl.com
SUMMARY:Dirty Bingo
DESCRIPTION:
URL:https://epictriviafl.com/event/dirty-bingo-chronic-orlando/2028-10-23/
LOCATION:Chronic Guru Orlando\, 16 W Pine St\, Orlando\, FL\, 32812\, United States
GEO:28.5410679;-81.3794444
X-APPLE-STRUCTURED-LOCATION;VALUE=URI;X-ADDRESS=Chronic Guru Orlando 16 W Pine St Orlando FL 32812 United States;X-APPLE-RADIUS=500;X-TITLE=16 W Pine St:geo:-81.3794444,28.5410679
END:VEVENT
BEGIN:VEVENT
DTSTART;TZID=America/New_York:20281030T190000
DTEND;TZID=America/New_York:20281030T190000
DTSTAMP:20260420T101209
CREATED:20260105T003042Z
LAST-MODIFIED:20260105T055657Z
UID:10018610-1856545200-1856545200@epictriviafl.com
SUMMARY:Dirty Bingo
DESCRIPTION:
URL:https://epictriviafl.com/event/dirty-bingo-chronic-orlando/2028-10-30/
LOCATION:Chronic Guru Orlando\, 16 W Pine St\, Orlando\, FL\, 32812\, United States
GEO:28.5410679;-81.3794444
X-APPLE-STRUCTURED-LOCATION;VALUE=URI;X-ADDRESS=Chronic Guru Orlando 16 W Pine St Orlando FL 32812 United States;X-APPLE-RADIUS=500;X-TITLE=16 W Pine St:geo:-81.3794444,28.5410679
END:VEVENT
BEGIN:VEVENT
DTSTART;TZID=America/New_York:20281106T190000
DTEND;TZID=America/New_York:20281106T190000
DTSTAMP:20260420T101209
CREATED:20260105T003042Z
LAST-MODIFIED:20260105T055657Z
UID:10018611-1857150000-1857150000@epictriviafl.com
SUMMARY:Dirty Bingo
DESCRIPTION:
URL:https://epictriviafl.com/event/dirty-bingo-chronic-orlando/2028-11-06/
LOCATION:Chronic Guru Orlando\, 16 W Pine St\, Orlando\, FL\, 32812\, United States
GEO:28.5410679;-81.3794444
X-APPLE-STRUCTURED-LOCATION;VALUE=URI;X-ADDRESS=Chronic Guru Orlando 16 W Pine St Orlando FL 32812 United States;X-APPLE-RADIUS=500;X-TITLE=16 W Pine St:geo:-81.3794444,28.5410679
END:VEVENT
BEGIN:VEVENT
DTSTART;TZID=America/New_York:20281113T190000
DTEND;TZID=America/New_York:20281113T190000
DTSTAMP:20260420T101209
CREATED:20260105T003042Z
LAST-MODIFIED:20260105T055657Z
UID:10018612-1857754800-1857754800@epictriviafl.com
SUMMARY:Dirty Bingo
DESCRIPTION:
URL:https://epictriviafl.com/event/dirty-bingo-chronic-orlando/2028-11-13/
LOCATION:Chronic Guru Orlando\, 16 W Pine St\, Orlando\, FL\, 32812\, United States
GEO:28.5410679;-81.3794444
X-APPLE-STRUCTURED-LOCATION;VALUE=URI;X-ADDRESS=Chronic Guru Orlando 16 W Pine St Orlando FL 32812 United States;X-APPLE-RADIUS=500;X-TITLE=16 W Pine St:geo:-81.3794444,28.5410679
END:VEVENT
BEGIN:VEVENT
DTSTART;TZID=America/New_York:20281120T190000
DTEND;TZID=America/New_York:20281120T190000
DTSTAMP:20260420T101209
CREATED:20260105T003042Z
LAST-MODIFIED:20260105T055657Z
UID:10018613-1858359600-1858359600@epictriviafl.com
SUMMARY:Dirty Bingo
DESCRIPTION:
URL:https://epictriviafl.com/event/dirty-bingo-chronic-orlando/2028-11-20/
LOCATION:Chronic Guru Orlando\, 16 W Pine St\, Orlando\, FL\, 32812\, United States
GEO:28.5410679;-81.3794444
X-APPLE-STRUCTURED-LOCATION;VALUE=URI;X-ADDRESS=Chronic Guru Orlando 16 W Pine St Orlando FL 32812 United States;X-APPLE-RADIUS=500;X-TITLE=16 W Pine St:geo:-81.3794444,28.5410679
END:VEVENT
BEGIN:VEVENT
DTSTART;TZID=America/New_York:20281127T190000
DTEND;TZID=America/New_York:20281127T190000
DTSTAMP:20260420T101209
CREATED:20260105T003042Z
LAST-MODIFIED:20260105T055657Z
UID:10018614-1858964400-1858964400@epictriviafl.com
SUMMARY:Dirty Bingo
DESCRIPTION:
URL:https://epictriviafl.com/event/dirty-bingo-chronic-orlando/2028-11-27/
LOCATION:Chronic Guru Orlando\, 16 W Pine St\, Orlando\, FL\, 32812\, United States
GEO:28.5410679;-81.3794444
X-APPLE-STRUCTURED-LOCATION;VALUE=URI;X-ADDRESS=Chronic Guru Orlando 16 W Pine St Orlando FL 32812 United States;X-APPLE-RADIUS=500;X-TITLE=16 W Pine St:geo:-81.3794444,28.5410679
END:VEVENT
BEGIN:VEVENT
DTSTART;TZID=America/New_York:20281204T190000
DTEND;TZID=America/New_York:20281204T190000
DTSTAMP:20260420T101209
CREATED:20260105T003042Z
LAST-MODIFIED:20260105T055657Z
UID:10018615-1859569200-1859569200@epictriviafl.com
SUMMARY:Dirty Bingo
DESCRIPTION:
URL:https://epictriviafl.com/event/dirty-bingo-chronic-orlando/2028-12-04/
LOCATION:Chronic Guru Orlando\, 16 W Pine St\, Orlando\, FL\, 32812\, United States
GEO:28.5410679;-81.3794444
X-APPLE-STRUCTURED-LOCATION;VALUE=URI;X-ADDRESS=Chronic Guru Orlando 16 W Pine St Orlando FL 32812 United States;X-APPLE-RADIUS=500;X-TITLE=16 W Pine St:geo:-81.3794444,28.5410679
END:VEVENT
BEGIN:VEVENT
DTSTART;TZID=America/New_York:20281211T190000
DTEND;TZID=America/New_York:20281211T190000
DTSTAMP:20260420T101209
CREATED:20260105T003042Z
LAST-MODIFIED:20260105T055657Z
UID:10018616-1860174000-1860174000@epictriviafl.com
SUMMARY:Dirty Bingo
DESCRIPTION:
URL:https://epictriviafl.com/event/dirty-bingo-chronic-orlando/2028-12-11/
LOCATION:Chronic Guru Orlando\, 16 W Pine St\, Orlando\, FL\, 32812\, United States
GEO:28.5410679;-81.3794444
X-APPLE-STRUCTURED-LOCATION;VALUE=URI;X-ADDRESS=Chronic Guru Orlando 16 W Pine St Orlando FL 32812 United States;X-APPLE-RADIUS=500;X-TITLE=16 W Pine St:geo:-81.3794444,28.5410679
END:VEVENT
BEGIN:VEVENT
DTSTART;TZID=America/New_York:20281218T190000
DTEND;TZID=America/New_York:20281218T190000
DTSTAMP:20260420T101209
CREATED:20260105T003042Z
LAST-MODIFIED:20260105T055657Z
UID:10018617-1860778800-1860778800@epictriviafl.com
SUMMARY:Dirty Bingo
DESCRIPTION:
URL:https://epictriviafl.com/event/dirty-bingo-chronic-orlando/2028-12-18/
LOCATION:Chronic Guru Orlando\, 16 W Pine St\, Orlando\, FL\, 32812\, United States
GEO:28.5410679;-81.3794444
X-APPLE-STRUCTURED-LOCATION;VALUE=URI;X-ADDRESS=Chronic Guru Orlando 16 W Pine St Orlando FL 32812 United States;X-APPLE-RADIUS=500;X-TITLE=16 W Pine St:geo:-81.3794444,28.5410679
END:VEVENT
BEGIN:VEVENT
DTSTART;TZID=America/New_York:20281225T190000
DTEND;TZID=America/New_York:20281225T190000
DTSTAMP:20260420T101209
CREATED:20260105T003042Z
LAST-MODIFIED:20260105T055657Z
UID:10018618-1861383600-1861383600@epictriviafl.com
SUMMARY:Dirty Bingo
DESCRIPTION:
URL:https://epictriviafl.com/event/dirty-bingo-chronic-orlando/2028-12-25/
LOCATION:Chronic Guru Orlando\, 16 W Pine St\, Orlando\, FL\, 32812\, United States
GEO:28.5410679;-81.3794444
X-APPLE-STRUCTURED-LOCATION;VALUE=URI;X-ADDRESS=Chronic Guru Orlando 16 W Pine St Orlando FL 32812 United States;X-APPLE-RADIUS=500;X-TITLE=16 W Pine St:geo:-81.3794444,28.5410679
END:VEVENT
BEGIN:VEVENT
DTSTART;TZID=America/New_York:20290101T190000
DTEND;TZID=America/New_York:20290101T190000
DTSTAMP:20260420T101209
CREATED:20260105T003042Z
LAST-MODIFIED:20260105T055657Z
UID:10018619-1861988400-1861988400@epictriviafl.com
SUMMARY:Dirty Bingo
DESCRIPTION:
URL:https://epictriviafl.com/event/dirty-bingo-chronic-orlando/2029-01-01/
LOCATION:Chronic Guru Orlando\, 16 W Pine St\, Orlando\, FL\, 32812\, United States
GEO:28.5410679;-81.3794444
X-APPLE-STRUCTURED-LOCATION;VALUE=URI;X-ADDRESS=Chronic Guru Orlando 16 W Pine St Orlando FL 32812 United States;X-APPLE-RADIUS=500;X-TITLE=16 W Pine St:geo:-81.3794444,28.5410679
END:VEVENT
BEGIN:VEVENT
DTSTART;TZID=America/New_York:20290108T190000
DTEND;TZID=America/New_York:20290108T190000
DTSTAMP:20260420T101209
CREATED:20260105T003042Z
LAST-MODIFIED:20260105T055657Z
UID:10018620-1862593200-1862593200@epictriviafl.com
SUMMARY:Dirty Bingo
DESCRIPTION:
URL:https://epictriviafl.com/event/dirty-bingo-chronic-orlando/2029-01-08/
LOCATION:Chronic Guru Orlando\, 16 W Pine St\, Orlando\, FL\, 32812\, United States
GEO:28.5410679;-81.3794444
X-APPLE-STRUCTURED-LOCATION;VALUE=URI;X-ADDRESS=Chronic Guru Orlando 16 W Pine St Orlando FL 32812 United States;X-APPLE-RADIUS=500;X-TITLE=16 W Pine St:geo:-81.3794444,28.5410679
END:VEVENT
BEGIN:VEVENT
DTSTART;TZID=America/New_York:20290115T190000
DTEND;TZID=America/New_York:20290115T190000
DTSTAMP:20260420T101209
CREATED:20260105T003042Z
LAST-MODIFIED:20260105T055657Z
UID:10018621-1863198000-1863198000@epictriviafl.com
SUMMARY:Dirty Bingo
DESCRIPTION:
URL:https://epictriviafl.com/event/dirty-bingo-chronic-orlando/2029-01-15/
LOCATION:Chronic Guru Orlando\, 16 W Pine St\, Orlando\, FL\, 32812\, United States
GEO:28.5410679;-81.3794444
X-APPLE-STRUCTURED-LOCATION;VALUE=URI;X-ADDRESS=Chronic Guru Orlando 16 W Pine St Orlando FL 32812 United States;X-APPLE-RADIUS=500;X-TITLE=16 W Pine St:geo:-81.3794444,28.5410679
END:VEVENT
BEGIN:VEVENT
DTSTART;TZID=America/New_York:20290122T190000
DTEND;TZID=America/New_York:20290122T190000
DTSTAMP:20260420T101209
CREATED:20260105T003042Z
LAST-MODIFIED:20260105T055657Z
UID:10018622-1863802800-1863802800@epictriviafl.com
SUMMARY:Dirty Bingo
DESCRIPTION:
URL:https://epictriviafl.com/event/dirty-bingo-chronic-orlando/2029-01-22/
LOCATION:Chronic Guru Orlando\, 16 W Pine St\, Orlando\, FL\, 32812\, United States
GEO:28.5410679;-81.3794444
X-APPLE-STRUCTURED-LOCATION;VALUE=URI;X-ADDRESS=Chronic Guru Orlando 16 W Pine St Orlando FL 32812 United States;X-APPLE-RADIUS=500;X-TITLE=16 W Pine St:geo:-81.3794444,28.5410679
END:VEVENT
BEGIN:VEVENT
DTSTART;TZID=America/New_York:20290129T190000
DTEND;TZID=America/New_York:20290129T190000
DTSTAMP:20260420T101209
CREATED:20260105T003042Z
LAST-MODIFIED:20260105T055657Z
UID:10018623-1864407600-1864407600@epictriviafl.com
SUMMARY:Dirty Bingo
DESCRIPTION:
URL:https://epictriviafl.com/event/dirty-bingo-chronic-orlando/2029-01-29/
LOCATION:Chronic Guru Orlando\, 16 W Pine St\, Orlando\, FL\, 32812\, United States
GEO:28.5410679;-81.3794444
X-APPLE-STRUCTURED-LOCATION;VALUE=URI;X-ADDRESS=Chronic Guru Orlando 16 W Pine St Orlando FL 32812 United States;X-APPLE-RADIUS=500;X-TITLE=16 W Pine St:geo:-81.3794444,28.5410679
END:VEVENT
BEGIN:VEVENT
DTSTART;TZID=America/New_York:20290205T190000
DTEND;TZID=America/New_York:20290205T190000
DTSTAMP:20260420T101209
CREATED:20260105T003042Z
LAST-MODIFIED:20260105T055657Z
UID:10018624-1865012400-1865012400@epictriviafl.com
SUMMARY:Dirty Bingo
DESCRIPTION:
URL:https://epictriviafl.com/event/dirty-bingo-chronic-orlando/2029-02-05/
LOCATION:Chronic Guru Orlando\, 16 W Pine St\, Orlando\, FL\, 32812\, United States
GEO:28.5410679;-81.3794444
X-APPLE-STRUCTURED-LOCATION;VALUE=URI;X-ADDRESS=Chronic Guru Orlando 16 W Pine St Orlando FL 32812 United States;X-APPLE-RADIUS=500;X-TITLE=16 W Pine St:geo:-81.3794444,28.5410679
END:VEVENT
BEGIN:VEVENT
DTSTART;TZID=America/New_York:20290212T190000
DTEND;TZID=America/New_York:20290212T190000
DTSTAMP:20260420T101209
CREATED:20260105T003042Z
LAST-MODIFIED:20260105T055657Z
UID:10018625-1865617200-1865617200@epictriviafl.com
SUMMARY:Dirty Bingo
DESCRIPTION:
URL:https://epictriviafl.com/event/dirty-bingo-chronic-orlando/2029-02-12/
LOCATION:Chronic Guru Orlando\, 16 W Pine St\, Orlando\, FL\, 32812\, United States
GEO:28.5410679;-81.3794444
X-APPLE-STRUCTURED-LOCATION;VALUE=URI;X-ADDRESS=Chronic Guru Orlando 16 W Pine St Orlando FL 32812 United States;X-APPLE-RADIUS=500;X-TITLE=16 W Pine St:geo:-81.3794444,28.5410679
END:VEVENT
BEGIN:VEVENT
DTSTART;TZID=America/New_York:20290219T190000
DTEND;TZID=America/New_York:20290219T190000
DTSTAMP:20260420T101209
CREATED:20260105T003042Z
LAST-MODIFIED:20260105T055657Z
UID:10018626-1866222000-1866222000@epictriviafl.com
SUMMARY:Dirty Bingo
DESCRIPTION:
URL:https://epictriviafl.com/event/dirty-bingo-chronic-orlando/2029-02-19/
LOCATION:Chronic Guru Orlando\, 16 W Pine St\, Orlando\, FL\, 32812\, United States
GEO:28.5410679;-81.3794444
X-APPLE-STRUCTURED-LOCATION;VALUE=URI;X-ADDRESS=Chronic Guru Orlando 16 W Pine St Orlando FL 32812 United States;X-APPLE-RADIUS=500;X-TITLE=16 W Pine St:geo:-81.3794444,28.5410679
END:VEVENT
BEGIN:VEVENT
DTSTART;TZID=America/New_York:20290226T190000
DTEND;TZID=America/New_York:20290226T190000
DTSTAMP:20260420T101209
CREATED:20260105T003042Z
LAST-MODIFIED:20260105T055657Z
UID:10018627-1866826800-1866826800@epictriviafl.com
SUMMARY:Dirty Bingo
DESCRIPTION:
URL:https://epictriviafl.com/event/dirty-bingo-chronic-orlando/2029-02-26/
LOCATION:Chronic Guru Orlando\, 16 W Pine St\, Orlando\, FL\, 32812\, United States
GEO:28.5410679;-81.3794444
X-APPLE-STRUCTURED-LOCATION;VALUE=URI;X-ADDRESS=Chronic Guru Orlando 16 W Pine St Orlando FL 32812 United States;X-APPLE-RADIUS=500;X-TITLE=16 W Pine St:geo:-81.3794444,28.5410679
END:VEVENT
END:VCALENDAR