BEGIN:VCALENDAR
VERSION:2.0
PRODID:-//Epic Trivia - ECPv6.15.18//NONSGML v1.0//EN
CALSCALE:GREGORIAN
METHOD:PUBLISH
X-WR-CALNAME:Epic Trivia
X-ORIGINAL-URL:https://epictriviafl.com
X-WR-CALDESC:Events for Epic Trivia
REFRESH-INTERVAL;VALUE=DURATION:PT1H
X-Robots-Tag:noindex
X-PUBLISHED-TTL:PT1H
BEGIN:VTIMEZONE
TZID:America/New_York
BEGIN:DAYLIGHT
TZOFFSETFROM:-0500
TZOFFSETTO:-0400
TZNAME:EDT
DTSTART:20250309T070000
END:DAYLIGHT
BEGIN:STANDARD
TZOFFSETFROM:-0400
TZOFFSETTO:-0500
TZNAME:EST
DTSTART:20251102T060000
END:STANDARD
BEGIN:DAYLIGHT
TZOFFSETFROM:-0500
TZOFFSETTO:-0400
TZNAME:EDT
DTSTART:20260308T070000
END:DAYLIGHT
BEGIN:STANDARD
TZOFFSETFROM:-0400
TZOFFSETTO:-0500
TZNAME:EST
DTSTART:20261101T060000
END:STANDARD
BEGIN:DAYLIGHT
TZOFFSETFROM:-0500
TZOFFSETTO:-0400
TZNAME:EDT
DTSTART:20270314T070000
END:DAYLIGHT
BEGIN:STANDARD
TZOFFSETFROM:-0400
TZOFFSETTO:-0500
TZNAME:EST
DTSTART:20271107T060000
END:STANDARD
END:VTIMEZONE
BEGIN:VEVENT
DTSTART;TZID=America/New_York:20260413T190000
DTEND;TZID=America/New_York:20260413T190000
DTSTAMP:20260419T193413
CREATED:20260105T003042Z
LAST-MODIFIED:20260105T055657Z
UID:10018477-1776106800-1776106800@epictriviafl.com
SUMMARY:Dirty Bingo
DESCRIPTION:
URL:https://epictriviafl.com/event/dirty-bingo-chronic-orlando/2026-04-13/
LOCATION:Chronic Guru Orlando\, 16 W Pine St\, Orlando\, FL\, 32812\, United States
GEO:28.5410679;-81.3794444
X-APPLE-STRUCTURED-LOCATION;VALUE=URI;X-ADDRESS=Chronic Guru Orlando 16 W Pine St Orlando FL 32812 United States;X-APPLE-RADIUS=500;X-TITLE=16 W Pine St:geo:-81.3794444,28.5410679
END:VEVENT
BEGIN:VEVENT
DTSTART;TZID=America/New_York:20260406T190000
DTEND;TZID=America/New_York:20260406T190000
DTSTAMP:20260419T193413
CREATED:20260105T003042Z
LAST-MODIFIED:20260105T055657Z
UID:10018476-1775502000-1775502000@epictriviafl.com
SUMMARY:Dirty Bingo
DESCRIPTION:
URL:https://epictriviafl.com/event/dirty-bingo-chronic-orlando/2026-04-06/
LOCATION:Chronic Guru Orlando\, 16 W Pine St\, Orlando\, FL\, 32812\, United States
GEO:28.5410679;-81.3794444
X-APPLE-STRUCTURED-LOCATION;VALUE=URI;X-ADDRESS=Chronic Guru Orlando 16 W Pine St Orlando FL 32812 United States;X-APPLE-RADIUS=500;X-TITLE=16 W Pine St:geo:-81.3794444,28.5410679
END:VEVENT
BEGIN:VEVENT
DTSTART;TZID=America/New_York:20260330T190000
DTEND;TZID=America/New_York:20260330T190000
DTSTAMP:20260419T193413
CREATED:20260105T003042Z
LAST-MODIFIED:20260105T055657Z
UID:10018475-1774897200-1774897200@epictriviafl.com
SUMMARY:Dirty Bingo
DESCRIPTION:
URL:https://epictriviafl.com/event/dirty-bingo-chronic-orlando/2026-03-30/
LOCATION:Chronic Guru Orlando\, 16 W Pine St\, Orlando\, FL\, 32812\, United States
GEO:28.5410679;-81.3794444
X-APPLE-STRUCTURED-LOCATION;VALUE=URI;X-ADDRESS=Chronic Guru Orlando 16 W Pine St Orlando FL 32812 United States;X-APPLE-RADIUS=500;X-TITLE=16 W Pine St:geo:-81.3794444,28.5410679
END:VEVENT
BEGIN:VEVENT
DTSTART;TZID=America/New_York:20260323T190000
DTEND;TZID=America/New_York:20260323T190000
DTSTAMP:20260419T193413
CREATED:20260105T003042Z
LAST-MODIFIED:20260105T055657Z
UID:10018474-1774292400-1774292400@epictriviafl.com
SUMMARY:Dirty Bingo
DESCRIPTION:
URL:https://epictriviafl.com/event/dirty-bingo-chronic-orlando/2026-03-23/
LOCATION:Chronic Guru Orlando\, 16 W Pine St\, Orlando\, FL\, 32812\, United States
GEO:28.5410679;-81.3794444
X-APPLE-STRUCTURED-LOCATION;VALUE=URI;X-ADDRESS=Chronic Guru Orlando 16 W Pine St Orlando FL 32812 United States;X-APPLE-RADIUS=500;X-TITLE=16 W Pine St:geo:-81.3794444,28.5410679
END:VEVENT
BEGIN:VEVENT
DTSTART;TZID=America/New_York:20260316T190000
DTEND;TZID=America/New_York:20260316T190000
DTSTAMP:20260419T193413
CREATED:20260105T003042Z
LAST-MODIFIED:20260105T055657Z
UID:10018473-1773687600-1773687600@epictriviafl.com
SUMMARY:Dirty Bingo
DESCRIPTION:
URL:https://epictriviafl.com/event/dirty-bingo-chronic-orlando/2026-03-16/
LOCATION:Chronic Guru Orlando\, 16 W Pine St\, Orlando\, FL\, 32812\, United States
GEO:28.5410679;-81.3794444
X-APPLE-STRUCTURED-LOCATION;VALUE=URI;X-ADDRESS=Chronic Guru Orlando 16 W Pine St Orlando FL 32812 United States;X-APPLE-RADIUS=500;X-TITLE=16 W Pine St:geo:-81.3794444,28.5410679
END:VEVENT
BEGIN:VEVENT
DTSTART;TZID=America/New_York:20260309T190000
DTEND;TZID=America/New_York:20260309T190000
DTSTAMP:20260419T193413
CREATED:20260105T003042Z
LAST-MODIFIED:20260105T055657Z
UID:10018472-1773082800-1773082800@epictriviafl.com
SUMMARY:Dirty Bingo
DESCRIPTION:
URL:https://epictriviafl.com/event/dirty-bingo-chronic-orlando/2026-03-09/
LOCATION:Chronic Guru Orlando\, 16 W Pine St\, Orlando\, FL\, 32812\, United States
GEO:28.5410679;-81.3794444
X-APPLE-STRUCTURED-LOCATION;VALUE=URI;X-ADDRESS=Chronic Guru Orlando 16 W Pine St Orlando FL 32812 United States;X-APPLE-RADIUS=500;X-TITLE=16 W Pine St:geo:-81.3794444,28.5410679
END:VEVENT
BEGIN:VEVENT
DTSTART;TZID=America/New_York:20260302T190000
DTEND;TZID=America/New_York:20260302T190000
DTSTAMP:20260419T193413
CREATED:20260105T003042Z
LAST-MODIFIED:20260105T055657Z
UID:10018471-1772478000-1772478000@epictriviafl.com
SUMMARY:Dirty Bingo
DESCRIPTION:
URL:https://epictriviafl.com/event/dirty-bingo-chronic-orlando/2026-03-02/
LOCATION:Chronic Guru Orlando\, 16 W Pine St\, Orlando\, FL\, 32812\, United States
GEO:28.5410679;-81.3794444
X-APPLE-STRUCTURED-LOCATION;VALUE=URI;X-ADDRESS=Chronic Guru Orlando 16 W Pine St Orlando FL 32812 United States;X-APPLE-RADIUS=500;X-TITLE=16 W Pine St:geo:-81.3794444,28.5410679
END:VEVENT
BEGIN:VEVENT
DTSTART;TZID=America/New_York:20260223T190000
DTEND;TZID=America/New_York:20260223T190000
DTSTAMP:20260419T193413
CREATED:20260105T003042Z
LAST-MODIFIED:20260105T055657Z
UID:10018470-1771873200-1771873200@epictriviafl.com
SUMMARY:Dirty Bingo
DESCRIPTION:
URL:https://epictriviafl.com/event/dirty-bingo-chronic-orlando/2026-02-23/
LOCATION:Chronic Guru Orlando\, 16 W Pine St\, Orlando\, FL\, 32812\, United States
GEO:28.5410679;-81.3794444
X-APPLE-STRUCTURED-LOCATION;VALUE=URI;X-ADDRESS=Chronic Guru Orlando 16 W Pine St Orlando FL 32812 United States;X-APPLE-RADIUS=500;X-TITLE=16 W Pine St:geo:-81.3794444,28.5410679
END:VEVENT
BEGIN:VEVENT
DTSTART;TZID=America/New_York:20260216T190000
DTEND;TZID=America/New_York:20260216T190000
DTSTAMP:20260419T193414
CREATED:20260105T003042Z
LAST-MODIFIED:20260105T055657Z
UID:10018469-1771268400-1771268400@epictriviafl.com
SUMMARY:Dirty Bingo
DESCRIPTION:
URL:https://epictriviafl.com/event/dirty-bingo-chronic-orlando/2026-02-16/
LOCATION:Chronic Guru Orlando\, 16 W Pine St\, Orlando\, FL\, 32812\, United States
GEO:28.5410679;-81.3794444
X-APPLE-STRUCTURED-LOCATION;VALUE=URI;X-ADDRESS=Chronic Guru Orlando 16 W Pine St Orlando FL 32812 United States;X-APPLE-RADIUS=500;X-TITLE=16 W Pine St:geo:-81.3794444,28.5410679
END:VEVENT
BEGIN:VEVENT
DTSTART;TZID=America/New_York:20260209T190000
DTEND;TZID=America/New_York:20260209T190000
DTSTAMP:20260419T193414
CREATED:20260105T003042Z
LAST-MODIFIED:20260105T055657Z
UID:10018468-1770663600-1770663600@epictriviafl.com
SUMMARY:Dirty Bingo
DESCRIPTION:
URL:https://epictriviafl.com/event/dirty-bingo-chronic-orlando/2026-02-09/
LOCATION:Chronic Guru Orlando\, 16 W Pine St\, Orlando\, FL\, 32812\, United States
GEO:28.5410679;-81.3794444
X-APPLE-STRUCTURED-LOCATION;VALUE=URI;X-ADDRESS=Chronic Guru Orlando 16 W Pine St Orlando FL 32812 United States;X-APPLE-RADIUS=500;X-TITLE=16 W Pine St:geo:-81.3794444,28.5410679
END:VEVENT
BEGIN:VEVENT
DTSTART;TZID=America/New_York:20260202T190000
DTEND;TZID=America/New_York:20260202T190000
DTSTAMP:20260419T193414
CREATED:20260105T003042Z
LAST-MODIFIED:20260105T055657Z
UID:10018467-1770058800-1770058800@epictriviafl.com
SUMMARY:Dirty Bingo
DESCRIPTION:
URL:https://epictriviafl.com/event/dirty-bingo-chronic-orlando/2026-02-02/
LOCATION:Chronic Guru Orlando\, 16 W Pine St\, Orlando\, FL\, 32812\, United States
GEO:28.5410679;-81.3794444
X-APPLE-STRUCTURED-LOCATION;VALUE=URI;X-ADDRESS=Chronic Guru Orlando 16 W Pine St Orlando FL 32812 United States;X-APPLE-RADIUS=500;X-TITLE=16 W Pine St:geo:-81.3794444,28.5410679
END:VEVENT
BEGIN:VEVENT
DTSTART;TZID=America/New_York:20260126T190000
DTEND;TZID=America/New_York:20260126T190000
DTSTAMP:20260419T193414
CREATED:20260105T003042Z
LAST-MODIFIED:20260105T055657Z
UID:10018466-1769454000-1769454000@epictriviafl.com
SUMMARY:Dirty Bingo
DESCRIPTION:
URL:https://epictriviafl.com/event/dirty-bingo-chronic-orlando/2026-01-26/
LOCATION:Chronic Guru Orlando\, 16 W Pine St\, Orlando\, FL\, 32812\, United States
GEO:28.5410679;-81.3794444
X-APPLE-STRUCTURED-LOCATION;VALUE=URI;X-ADDRESS=Chronic Guru Orlando 16 W Pine St Orlando FL 32812 United States;X-APPLE-RADIUS=500;X-TITLE=16 W Pine St:geo:-81.3794444,28.5410679
END:VEVENT
BEGIN:VEVENT
DTSTART;TZID=America/New_York:20260119T190000
DTEND;TZID=America/New_York:20260119T190000
DTSTAMP:20260419T193414
CREATED:20260105T003042Z
LAST-MODIFIED:20260105T055657Z
UID:10018465-1768849200-1768849200@epictriviafl.com
SUMMARY:Dirty Bingo
DESCRIPTION:
URL:https://epictriviafl.com/event/dirty-bingo-chronic-orlando/2026-01-19/
LOCATION:Chronic Guru Orlando\, 16 W Pine St\, Orlando\, FL\, 32812\, United States
GEO:28.5410679;-81.3794444
X-APPLE-STRUCTURED-LOCATION;VALUE=URI;X-ADDRESS=Chronic Guru Orlando 16 W Pine St Orlando FL 32812 United States;X-APPLE-RADIUS=500;X-TITLE=16 W Pine St:geo:-81.3794444,28.5410679
END:VEVENT
BEGIN:VEVENT
DTSTART;TZID=America/New_York:20260112T190000
DTEND;TZID=America/New_York:20260112T190000
DTSTAMP:20260419T193414
CREATED:20260105T003042Z
LAST-MODIFIED:20260105T055657Z
UID:10018464-1768244400-1768244400@epictriviafl.com
SUMMARY:Dirty Bingo
DESCRIPTION:
URL:https://epictriviafl.com/event/dirty-bingo-chronic-orlando/2026-01-12/
LOCATION:Chronic Guru Orlando\, 16 W Pine St\, Orlando\, FL\, 32812\, United States
GEO:28.5410679;-81.3794444
X-APPLE-STRUCTURED-LOCATION;VALUE=URI;X-ADDRESS=Chronic Guru Orlando 16 W Pine St Orlando FL 32812 United States;X-APPLE-RADIUS=500;X-TITLE=16 W Pine St:geo:-81.3794444,28.5410679
END:VEVENT
BEGIN:VEVENT
DTSTART;TZID=America/New_York:20260105T190000
DTEND;TZID=America/New_York:20260105T190000
DTSTAMP:20260419T193414
CREATED:20260105T003042Z
LAST-MODIFIED:20260105T055657Z
UID:10008797-1767639600-1767639600@epictriviafl.com
SUMMARY:Dirty Bingo
DESCRIPTION:
URL:https://epictriviafl.com/event/dirty-bingo-chronic-orlando/2026-01-05/
LOCATION:Chronic Guru Orlando\, 16 W Pine St\, Orlando\, FL\, 32812\, United States
GEO:28.5410679;-81.3794444
X-APPLE-STRUCTURED-LOCATION;VALUE=URI;X-ADDRESS=Chronic Guru Orlando 16 W Pine St Orlando FL 32812 United States;X-APPLE-RADIUS=500;X-TITLE=16 W Pine St:geo:-81.3794444,28.5410679
END:VEVENT
END:VCALENDAR