BEGIN:VCALENDAR
VERSION:2.0
PRODID:-//Epic Trivia - ECPv6.15.18//NONSGML v1.0//EN
CALSCALE:GREGORIAN
METHOD:PUBLISH
X-ORIGINAL-URL:https://epictriviafl.com
X-WR-CALDESC:Events for Epic Trivia
REFRESH-INTERVAL;VALUE=DURATION:PT1H
X-Robots-Tag:noindex
X-PUBLISHED-TTL:PT1H
BEGIN:VTIMEZONE
TZID:America/New_York
BEGIN:DAYLIGHT
TZOFFSETFROM:-0500
TZOFFSETTO:-0400
TZNAME:EDT
DTSTART:20290311T070000
END:DAYLIGHT
BEGIN:STANDARD
TZOFFSETFROM:-0400
TZOFFSETTO:-0500
TZNAME:EST
DTSTART:20291104T060000
END:STANDARD
BEGIN:DAYLIGHT
TZOFFSETFROM:-0500
TZOFFSETTO:-0400
TZNAME:EDT
DTSTART:20300310T070000
END:DAYLIGHT
BEGIN:STANDARD
TZOFFSETFROM:-0400
TZOFFSETTO:-0500
TZNAME:EST
DTSTART:20301103T060000
END:STANDARD
BEGIN:DAYLIGHT
TZOFFSETFROM:-0500
TZOFFSETTO:-0400
TZNAME:EDT
DTSTART:20310309T070000
END:DAYLIGHT
BEGIN:STANDARD
TZOFFSETFROM:-0400
TZOFFSETTO:-0500
TZNAME:EST
DTSTART:20311102T060000
END:STANDARD
BEGIN:DAYLIGHT
TZOFFSETFROM:-0500
TZOFFSETTO:-0400
TZNAME:EDT
DTSTART:20320314T070000
END:DAYLIGHT
BEGIN:STANDARD
TZOFFSETFROM:-0400
TZOFFSETTO:-0500
TZNAME:EST
DTSTART:20321107T060000
END:STANDARD
END:VTIMEZONE
BEGIN:VEVENT
DTSTART;TZID=America/New_York:20301128T190000
DTEND;TZID=America/New_York:20301128T190000
DTSTAMP:20260421T005136
CREATED:20260105T003147Z
LAST-MODIFIED:20260105T054236Z
UID:10012478-1922122800-1922122800@epictriviafl.com
SUMMARY:Dirty Bingo
DESCRIPTION:
URL:https://epictriviafl.com/event/dirty-bingo-chronic-deland/2030-11-28/
LOCATION:Chronic Guru Deland\, 146 N Woodland Blvd\, Deland\, FL\, 32720\, United States
GEO:29.0297711;-81.3036333
X-APPLE-STRUCTURED-LOCATION;VALUE=URI;X-ADDRESS=Chronic Guru Deland 146 N Woodland Blvd Deland FL 32720 United States;X-APPLE-RADIUS=500;X-TITLE=146 N Woodland Blvd:geo:-81.3036333,29.0297711
END:VEVENT
BEGIN:VEVENT
DTSTART;TZID=America/New_York:20301205T190000
DTEND;TZID=America/New_York:20301205T190000
DTSTAMP:20260421T005136
CREATED:20260105T003147Z
LAST-MODIFIED:20260105T054236Z
UID:10012479-1922727600-1922727600@epictriviafl.com
SUMMARY:Dirty Bingo
DESCRIPTION:
URL:https://epictriviafl.com/event/dirty-bingo-chronic-deland/2030-12-05/
LOCATION:Chronic Guru Deland\, 146 N Woodland Blvd\, Deland\, FL\, 32720\, United States
GEO:29.0297711;-81.3036333
X-APPLE-STRUCTURED-LOCATION;VALUE=URI;X-ADDRESS=Chronic Guru Deland 146 N Woodland Blvd Deland FL 32720 United States;X-APPLE-RADIUS=500;X-TITLE=146 N Woodland Blvd:geo:-81.3036333,29.0297711
END:VEVENT
BEGIN:VEVENT
DTSTART;TZID=America/New_York:20301212T190000
DTEND;TZID=America/New_York:20301212T190000
DTSTAMP:20260421T005136
CREATED:20260105T003147Z
LAST-MODIFIED:20260105T054236Z
UID:10012480-1923332400-1923332400@epictriviafl.com
SUMMARY:Dirty Bingo
DESCRIPTION:
URL:https://epictriviafl.com/event/dirty-bingo-chronic-deland/2030-12-12/
LOCATION:Chronic Guru Deland\, 146 N Woodland Blvd\, Deland\, FL\, 32720\, United States
GEO:29.0297711;-81.3036333
X-APPLE-STRUCTURED-LOCATION;VALUE=URI;X-ADDRESS=Chronic Guru Deland 146 N Woodland Blvd Deland FL 32720 United States;X-APPLE-RADIUS=500;X-TITLE=146 N Woodland Blvd:geo:-81.3036333,29.0297711
END:VEVENT
BEGIN:VEVENT
DTSTART;TZID=America/New_York:20301219T190000
DTEND;TZID=America/New_York:20301219T190000
DTSTAMP:20260421T005136
CREATED:20260105T003147Z
LAST-MODIFIED:20260105T054236Z
UID:10012481-1923937200-1923937200@epictriviafl.com
SUMMARY:Dirty Bingo
DESCRIPTION:
URL:https://epictriviafl.com/event/dirty-bingo-chronic-deland/2030-12-19/
LOCATION:Chronic Guru Deland\, 146 N Woodland Blvd\, Deland\, FL\, 32720\, United States
GEO:29.0297711;-81.3036333
X-APPLE-STRUCTURED-LOCATION;VALUE=URI;X-ADDRESS=Chronic Guru Deland 146 N Woodland Blvd Deland FL 32720 United States;X-APPLE-RADIUS=500;X-TITLE=146 N Woodland Blvd:geo:-81.3036333,29.0297711
END:VEVENT
BEGIN:VEVENT
DTSTART;TZID=America/New_York:20301226T190000
DTEND;TZID=America/New_York:20301226T190000
DTSTAMP:20260421T005136
CREATED:20260105T003147Z
LAST-MODIFIED:20260105T054236Z
UID:10012482-1924542000-1924542000@epictriviafl.com
SUMMARY:Dirty Bingo
DESCRIPTION:
URL:https://epictriviafl.com/event/dirty-bingo-chronic-deland/2030-12-26/
LOCATION:Chronic Guru Deland\, 146 N Woodland Blvd\, Deland\, FL\, 32720\, United States
GEO:29.0297711;-81.3036333
X-APPLE-STRUCTURED-LOCATION;VALUE=URI;X-ADDRESS=Chronic Guru Deland 146 N Woodland Blvd Deland FL 32720 United States;X-APPLE-RADIUS=500;X-TITLE=146 N Woodland Blvd:geo:-81.3036333,29.0297711
END:VEVENT
BEGIN:VEVENT
DTSTART;TZID=America/New_York:20310102T190000
DTEND;TZID=America/New_York:20310102T190000
DTSTAMP:20260421T005136
CREATED:20260105T003147Z
LAST-MODIFIED:20260105T054236Z
UID:10012483-1925146800-1925146800@epictriviafl.com
SUMMARY:Dirty Bingo
DESCRIPTION:
URL:https://epictriviafl.com/event/dirty-bingo-chronic-deland/2031-01-02/
LOCATION:Chronic Guru Deland\, 146 N Woodland Blvd\, Deland\, FL\, 32720\, United States
GEO:29.0297711;-81.3036333
X-APPLE-STRUCTURED-LOCATION;VALUE=URI;X-ADDRESS=Chronic Guru Deland 146 N Woodland Blvd Deland FL 32720 United States;X-APPLE-RADIUS=500;X-TITLE=146 N Woodland Blvd:geo:-81.3036333,29.0297711
END:VEVENT
END:VCALENDAR