BEGIN:VCALENDAR
VERSION:2.0
PRODID:-//Epic Trivia - ECPv6.15.18//NONSGML v1.0//EN
CALSCALE:GREGORIAN
METHOD:PUBLISH
X-WR-CALNAME:Epic Trivia
X-ORIGINAL-URL:https://epictriviafl.com
X-WR-CALDESC:Events for Epic Trivia
REFRESH-INTERVAL;VALUE=DURATION:PT1H
X-Robots-Tag:noindex
X-PUBLISHED-TTL:PT1H
BEGIN:VTIMEZONE
TZID:America/New_York
BEGIN:DAYLIGHT
TZOFFSETFROM:-0500
TZOFFSETTO:-0400
TZNAME:EDT
DTSTART:20280312T070000
END:DAYLIGHT
BEGIN:STANDARD
TZOFFSETFROM:-0400
TZOFFSETTO:-0500
TZNAME:EST
DTSTART:20281105T060000
END:STANDARD
BEGIN:DAYLIGHT
TZOFFSETFROM:-0500
TZOFFSETTO:-0400
TZNAME:EDT
DTSTART:20290311T070000
END:DAYLIGHT
BEGIN:STANDARD
TZOFFSETFROM:-0400
TZOFFSETTO:-0500
TZNAME:EST
DTSTART:20291104T060000
END:STANDARD
BEGIN:DAYLIGHT
TZOFFSETFROM:-0500
TZOFFSETTO:-0400
TZNAME:EDT
DTSTART:20300310T070000
END:DAYLIGHT
BEGIN:STANDARD
TZOFFSETFROM:-0400
TZOFFSETTO:-0500
TZNAME:EST
DTSTART:20301103T060000
END:STANDARD
BEGIN:DAYLIGHT
TZOFFSETFROM:-0500
TZOFFSETTO:-0400
TZNAME:EDT
DTSTART:20310309T070000
END:DAYLIGHT
BEGIN:STANDARD
TZOFFSETFROM:-0400
TZOFFSETTO:-0500
TZNAME:EST
DTSTART:20311102T060000
END:STANDARD
END:VTIMEZONE
BEGIN:VEVENT
DTSTART;TZID=America/New_York:20291004T190000
DTEND;TZID=America/New_York:20291004T190000
DTSTAMP:20260420T162534
CREATED:20260105T003147Z
LAST-MODIFIED:20260105T054236Z
UID:10012418-1885834800-1885834800@epictriviafl.com
SUMMARY:Dirty Bingo
DESCRIPTION:
URL:https://epictriviafl.com/event/dirty-bingo-chronic-deland/2029-10-04/
LOCATION:Chronic Guru Deland\, 146 N Woodland Blvd\, Deland\, FL\, 32720\, United States
GEO:29.0297711;-81.3036333
X-APPLE-STRUCTURED-LOCATION;VALUE=URI;X-ADDRESS=Chronic Guru Deland 146 N Woodland Blvd Deland FL 32720 United States;X-APPLE-RADIUS=500;X-TITLE=146 N Woodland Blvd:geo:-81.3036333,29.0297711
END:VEVENT
BEGIN:VEVENT
DTSTART;TZID=America/New_York:20291011T190000
DTEND;TZID=America/New_York:20291011T190000
DTSTAMP:20260420T162534
CREATED:20260105T003147Z
LAST-MODIFIED:20260105T054236Z
UID:10012419-1886439600-1886439600@epictriviafl.com
SUMMARY:Dirty Bingo
DESCRIPTION:
URL:https://epictriviafl.com/event/dirty-bingo-chronic-deland/2029-10-11/
LOCATION:Chronic Guru Deland\, 146 N Woodland Blvd\, Deland\, FL\, 32720\, United States
GEO:29.0297711;-81.3036333
X-APPLE-STRUCTURED-LOCATION;VALUE=URI;X-ADDRESS=Chronic Guru Deland 146 N Woodland Blvd Deland FL 32720 United States;X-APPLE-RADIUS=500;X-TITLE=146 N Woodland Blvd:geo:-81.3036333,29.0297711
END:VEVENT
BEGIN:VEVENT
DTSTART;TZID=America/New_York:20291018T190000
DTEND;TZID=America/New_York:20291018T190000
DTSTAMP:20260420T162534
CREATED:20260105T003147Z
LAST-MODIFIED:20260105T054236Z
UID:10012420-1887044400-1887044400@epictriviafl.com
SUMMARY:Dirty Bingo
DESCRIPTION:
URL:https://epictriviafl.com/event/dirty-bingo-chronic-deland/2029-10-18/
LOCATION:Chronic Guru Deland\, 146 N Woodland Blvd\, Deland\, FL\, 32720\, United States
GEO:29.0297711;-81.3036333
X-APPLE-STRUCTURED-LOCATION;VALUE=URI;X-ADDRESS=Chronic Guru Deland 146 N Woodland Blvd Deland FL 32720 United States;X-APPLE-RADIUS=500;X-TITLE=146 N Woodland Blvd:geo:-81.3036333,29.0297711
END:VEVENT
BEGIN:VEVENT
DTSTART;TZID=America/New_York:20291025T190000
DTEND;TZID=America/New_York:20291025T190000
DTSTAMP:20260420T162534
CREATED:20260105T003147Z
LAST-MODIFIED:20260105T054236Z
UID:10012421-1887649200-1887649200@epictriviafl.com
SUMMARY:Dirty Bingo
DESCRIPTION:
URL:https://epictriviafl.com/event/dirty-bingo-chronic-deland/2029-10-25/
LOCATION:Chronic Guru Deland\, 146 N Woodland Blvd\, Deland\, FL\, 32720\, United States
GEO:29.0297711;-81.3036333
X-APPLE-STRUCTURED-LOCATION;VALUE=URI;X-ADDRESS=Chronic Guru Deland 146 N Woodland Blvd Deland FL 32720 United States;X-APPLE-RADIUS=500;X-TITLE=146 N Woodland Blvd:geo:-81.3036333,29.0297711
END:VEVENT
BEGIN:VEVENT
DTSTART;TZID=America/New_York:20291101T190000
DTEND;TZID=America/New_York:20291101T190000
DTSTAMP:20260420T162534
CREATED:20260105T003147Z
LAST-MODIFIED:20260105T054236Z
UID:10012422-1888254000-1888254000@epictriviafl.com
SUMMARY:Dirty Bingo
DESCRIPTION:
URL:https://epictriviafl.com/event/dirty-bingo-chronic-deland/2029-11-01/
LOCATION:Chronic Guru Deland\, 146 N Woodland Blvd\, Deland\, FL\, 32720\, United States
GEO:29.0297711;-81.3036333
X-APPLE-STRUCTURED-LOCATION;VALUE=URI;X-ADDRESS=Chronic Guru Deland 146 N Woodland Blvd Deland FL 32720 United States;X-APPLE-RADIUS=500;X-TITLE=146 N Woodland Blvd:geo:-81.3036333,29.0297711
END:VEVENT
BEGIN:VEVENT
DTSTART;TZID=America/New_York:20291108T190000
DTEND;TZID=America/New_York:20291108T190000
DTSTAMP:20260420T162534
CREATED:20260105T003147Z
LAST-MODIFIED:20260105T054236Z
UID:10012423-1888858800-1888858800@epictriviafl.com
SUMMARY:Dirty Bingo
DESCRIPTION:
URL:https://epictriviafl.com/event/dirty-bingo-chronic-deland/2029-11-08/
LOCATION:Chronic Guru Deland\, 146 N Woodland Blvd\, Deland\, FL\, 32720\, United States
GEO:29.0297711;-81.3036333
X-APPLE-STRUCTURED-LOCATION;VALUE=URI;X-ADDRESS=Chronic Guru Deland 146 N Woodland Blvd Deland FL 32720 United States;X-APPLE-RADIUS=500;X-TITLE=146 N Woodland Blvd:geo:-81.3036333,29.0297711
END:VEVENT
BEGIN:VEVENT
DTSTART;TZID=America/New_York:20291115T190000
DTEND;TZID=America/New_York:20291115T190000
DTSTAMP:20260420T162534
CREATED:20260105T003147Z
LAST-MODIFIED:20260105T054236Z
UID:10012424-1889463600-1889463600@epictriviafl.com
SUMMARY:Dirty Bingo
DESCRIPTION:
URL:https://epictriviafl.com/event/dirty-bingo-chronic-deland/2029-11-15/
LOCATION:Chronic Guru Deland\, 146 N Woodland Blvd\, Deland\, FL\, 32720\, United States
GEO:29.0297711;-81.3036333
X-APPLE-STRUCTURED-LOCATION;VALUE=URI;X-ADDRESS=Chronic Guru Deland 146 N Woodland Blvd Deland FL 32720 United States;X-APPLE-RADIUS=500;X-TITLE=146 N Woodland Blvd:geo:-81.3036333,29.0297711
END:VEVENT
BEGIN:VEVENT
DTSTART;TZID=America/New_York:20291122T190000
DTEND;TZID=America/New_York:20291122T190000
DTSTAMP:20260420T162534
CREATED:20260105T003147Z
LAST-MODIFIED:20260105T054236Z
UID:10012425-1890068400-1890068400@epictriviafl.com
SUMMARY:Dirty Bingo
DESCRIPTION:
URL:https://epictriviafl.com/event/dirty-bingo-chronic-deland/2029-11-22/
LOCATION:Chronic Guru Deland\, 146 N Woodland Blvd\, Deland\, FL\, 32720\, United States
GEO:29.0297711;-81.3036333
X-APPLE-STRUCTURED-LOCATION;VALUE=URI;X-ADDRESS=Chronic Guru Deland 146 N Woodland Blvd Deland FL 32720 United States;X-APPLE-RADIUS=500;X-TITLE=146 N Woodland Blvd:geo:-81.3036333,29.0297711
END:VEVENT
BEGIN:VEVENT
DTSTART;TZID=America/New_York:20291129T190000
DTEND;TZID=America/New_York:20291129T190000
DTSTAMP:20260420T162534
CREATED:20260105T003147Z
LAST-MODIFIED:20260105T054236Z
UID:10012426-1890673200-1890673200@epictriviafl.com
SUMMARY:Dirty Bingo
DESCRIPTION:
URL:https://epictriviafl.com/event/dirty-bingo-chronic-deland/2029-11-29/
LOCATION:Chronic Guru Deland\, 146 N Woodland Blvd\, Deland\, FL\, 32720\, United States
GEO:29.0297711;-81.3036333
X-APPLE-STRUCTURED-LOCATION;VALUE=URI;X-ADDRESS=Chronic Guru Deland 146 N Woodland Blvd Deland FL 32720 United States;X-APPLE-RADIUS=500;X-TITLE=146 N Woodland Blvd:geo:-81.3036333,29.0297711
END:VEVENT
BEGIN:VEVENT
DTSTART;TZID=America/New_York:20291206T190000
DTEND;TZID=America/New_York:20291206T190000
DTSTAMP:20260420T162534
CREATED:20260105T003147Z
LAST-MODIFIED:20260105T054236Z
UID:10012427-1891278000-1891278000@epictriviafl.com
SUMMARY:Dirty Bingo
DESCRIPTION:
URL:https://epictriviafl.com/event/dirty-bingo-chronic-deland/2029-12-06/
LOCATION:Chronic Guru Deland\, 146 N Woodland Blvd\, Deland\, FL\, 32720\, United States
GEO:29.0297711;-81.3036333
X-APPLE-STRUCTURED-LOCATION;VALUE=URI;X-ADDRESS=Chronic Guru Deland 146 N Woodland Blvd Deland FL 32720 United States;X-APPLE-RADIUS=500;X-TITLE=146 N Woodland Blvd:geo:-81.3036333,29.0297711
END:VEVENT
BEGIN:VEVENT
DTSTART;TZID=America/New_York:20291213T190000
DTEND;TZID=America/New_York:20291213T190000
DTSTAMP:20260420T162534
CREATED:20260105T003147Z
LAST-MODIFIED:20260105T054236Z
UID:10012428-1891882800-1891882800@epictriviafl.com
SUMMARY:Dirty Bingo
DESCRIPTION:
URL:https://epictriviafl.com/event/dirty-bingo-chronic-deland/2029-12-13/
LOCATION:Chronic Guru Deland\, 146 N Woodland Blvd\, Deland\, FL\, 32720\, United States
GEO:29.0297711;-81.3036333
X-APPLE-STRUCTURED-LOCATION;VALUE=URI;X-ADDRESS=Chronic Guru Deland 146 N Woodland Blvd Deland FL 32720 United States;X-APPLE-RADIUS=500;X-TITLE=146 N Woodland Blvd:geo:-81.3036333,29.0297711
END:VEVENT
BEGIN:VEVENT
DTSTART;TZID=America/New_York:20291220T190000
DTEND;TZID=America/New_York:20291220T190000
DTSTAMP:20260420T162534
CREATED:20260105T003147Z
LAST-MODIFIED:20260105T054236Z
UID:10012429-1892487600-1892487600@epictriviafl.com
SUMMARY:Dirty Bingo
DESCRIPTION:
URL:https://epictriviafl.com/event/dirty-bingo-chronic-deland/2029-12-20/
LOCATION:Chronic Guru Deland\, 146 N Woodland Blvd\, Deland\, FL\, 32720\, United States
GEO:29.0297711;-81.3036333
X-APPLE-STRUCTURED-LOCATION;VALUE=URI;X-ADDRESS=Chronic Guru Deland 146 N Woodland Blvd Deland FL 32720 United States;X-APPLE-RADIUS=500;X-TITLE=146 N Woodland Blvd:geo:-81.3036333,29.0297711
END:VEVENT
BEGIN:VEVENT
DTSTART;TZID=America/New_York:20291227T190000
DTEND;TZID=America/New_York:20291227T190000
DTSTAMP:20260420T162534
CREATED:20260105T003147Z
LAST-MODIFIED:20260105T054236Z
UID:10012430-1893092400-1893092400@epictriviafl.com
SUMMARY:Dirty Bingo
DESCRIPTION:
URL:https://epictriviafl.com/event/dirty-bingo-chronic-deland/2029-12-27/
LOCATION:Chronic Guru Deland\, 146 N Woodland Blvd\, Deland\, FL\, 32720\, United States
GEO:29.0297711;-81.3036333
X-APPLE-STRUCTURED-LOCATION;VALUE=URI;X-ADDRESS=Chronic Guru Deland 146 N Woodland Blvd Deland FL 32720 United States;X-APPLE-RADIUS=500;X-TITLE=146 N Woodland Blvd:geo:-81.3036333,29.0297711
END:VEVENT
BEGIN:VEVENT
DTSTART;TZID=America/New_York:20300103T190000
DTEND;TZID=America/New_York:20300103T190000
DTSTAMP:20260420T162534
CREATED:20260105T003147Z
LAST-MODIFIED:20260105T054236Z
UID:10012431-1893697200-1893697200@epictriviafl.com
SUMMARY:Dirty Bingo
DESCRIPTION:
URL:https://epictriviafl.com/event/dirty-bingo-chronic-deland/2030-01-03/
LOCATION:Chronic Guru Deland\, 146 N Woodland Blvd\, Deland\, FL\, 32720\, United States
GEO:29.0297711;-81.3036333
X-APPLE-STRUCTURED-LOCATION;VALUE=URI;X-ADDRESS=Chronic Guru Deland 146 N Woodland Blvd Deland FL 32720 United States;X-APPLE-RADIUS=500;X-TITLE=146 N Woodland Blvd:geo:-81.3036333,29.0297711
END:VEVENT
BEGIN:VEVENT
DTSTART;TZID=America/New_York:20300110T190000
DTEND;TZID=America/New_York:20300110T190000
DTSTAMP:20260420T162534
CREATED:20260105T003147Z
LAST-MODIFIED:20260105T054236Z
UID:10012432-1894302000-1894302000@epictriviafl.com
SUMMARY:Dirty Bingo
DESCRIPTION:
URL:https://epictriviafl.com/event/dirty-bingo-chronic-deland/2030-01-10/
LOCATION:Chronic Guru Deland\, 146 N Woodland Blvd\, Deland\, FL\, 32720\, United States
GEO:29.0297711;-81.3036333
X-APPLE-STRUCTURED-LOCATION;VALUE=URI;X-ADDRESS=Chronic Guru Deland 146 N Woodland Blvd Deland FL 32720 United States;X-APPLE-RADIUS=500;X-TITLE=146 N Woodland Blvd:geo:-81.3036333,29.0297711
END:VEVENT
BEGIN:VEVENT
DTSTART;TZID=America/New_York:20300117T190000
DTEND;TZID=America/New_York:20300117T190000
DTSTAMP:20260420T162534
CREATED:20260105T003147Z
LAST-MODIFIED:20260105T054236Z
UID:10012433-1894906800-1894906800@epictriviafl.com
SUMMARY:Dirty Bingo
DESCRIPTION:
URL:https://epictriviafl.com/event/dirty-bingo-chronic-deland/2030-01-17/
LOCATION:Chronic Guru Deland\, 146 N Woodland Blvd\, Deland\, FL\, 32720\, United States
GEO:29.0297711;-81.3036333
X-APPLE-STRUCTURED-LOCATION;VALUE=URI;X-ADDRESS=Chronic Guru Deland 146 N Woodland Blvd Deland FL 32720 United States;X-APPLE-RADIUS=500;X-TITLE=146 N Woodland Blvd:geo:-81.3036333,29.0297711
END:VEVENT
BEGIN:VEVENT
DTSTART;TZID=America/New_York:20300124T190000
DTEND;TZID=America/New_York:20300124T190000
DTSTAMP:20260420T162534
CREATED:20260105T003147Z
LAST-MODIFIED:20260105T054236Z
UID:10012434-1895511600-1895511600@epictriviafl.com
SUMMARY:Dirty Bingo
DESCRIPTION:
URL:https://epictriviafl.com/event/dirty-bingo-chronic-deland/2030-01-24/
LOCATION:Chronic Guru Deland\, 146 N Woodland Blvd\, Deland\, FL\, 32720\, United States
GEO:29.0297711;-81.3036333
X-APPLE-STRUCTURED-LOCATION;VALUE=URI;X-ADDRESS=Chronic Guru Deland 146 N Woodland Blvd Deland FL 32720 United States;X-APPLE-RADIUS=500;X-TITLE=146 N Woodland Blvd:geo:-81.3036333,29.0297711
END:VEVENT
BEGIN:VEVENT
DTSTART;TZID=America/New_York:20300131T190000
DTEND;TZID=America/New_York:20300131T190000
DTSTAMP:20260420T162534
CREATED:20260105T003147Z
LAST-MODIFIED:20260105T054236Z
UID:10012435-1896116400-1896116400@epictriviafl.com
SUMMARY:Dirty Bingo
DESCRIPTION:
URL:https://epictriviafl.com/event/dirty-bingo-chronic-deland/2030-01-31/
LOCATION:Chronic Guru Deland\, 146 N Woodland Blvd\, Deland\, FL\, 32720\, United States
GEO:29.0297711;-81.3036333
X-APPLE-STRUCTURED-LOCATION;VALUE=URI;X-ADDRESS=Chronic Guru Deland 146 N Woodland Blvd Deland FL 32720 United States;X-APPLE-RADIUS=500;X-TITLE=146 N Woodland Blvd:geo:-81.3036333,29.0297711
END:VEVENT
BEGIN:VEVENT
DTSTART;TZID=America/New_York:20300207T190000
DTEND;TZID=America/New_York:20300207T190000
DTSTAMP:20260420T162534
CREATED:20260105T003147Z
LAST-MODIFIED:20260105T054236Z
UID:10012436-1896721200-1896721200@epictriviafl.com
SUMMARY:Dirty Bingo
DESCRIPTION:
URL:https://epictriviafl.com/event/dirty-bingo-chronic-deland/2030-02-07/
LOCATION:Chronic Guru Deland\, 146 N Woodland Blvd\, Deland\, FL\, 32720\, United States
GEO:29.0297711;-81.3036333
X-APPLE-STRUCTURED-LOCATION;VALUE=URI;X-ADDRESS=Chronic Guru Deland 146 N Woodland Blvd Deland FL 32720 United States;X-APPLE-RADIUS=500;X-TITLE=146 N Woodland Blvd:geo:-81.3036333,29.0297711
END:VEVENT
BEGIN:VEVENT
DTSTART;TZID=America/New_York:20300214T190000
DTEND;TZID=America/New_York:20300214T190000
DTSTAMP:20260420T162534
CREATED:20260105T003147Z
LAST-MODIFIED:20260105T054236Z
UID:10012437-1897326000-1897326000@epictriviafl.com
SUMMARY:Dirty Bingo
DESCRIPTION:
URL:https://epictriviafl.com/event/dirty-bingo-chronic-deland/2030-02-14/
LOCATION:Chronic Guru Deland\, 146 N Woodland Blvd\, Deland\, FL\, 32720\, United States
GEO:29.0297711;-81.3036333
X-APPLE-STRUCTURED-LOCATION;VALUE=URI;X-ADDRESS=Chronic Guru Deland 146 N Woodland Blvd Deland FL 32720 United States;X-APPLE-RADIUS=500;X-TITLE=146 N Woodland Blvd:geo:-81.3036333,29.0297711
END:VEVENT
BEGIN:VEVENT
DTSTART;TZID=America/New_York:20300221T190000
DTEND;TZID=America/New_York:20300221T190000
DTSTAMP:20260420T162534
CREATED:20260105T003147Z
LAST-MODIFIED:20260105T054236Z
UID:10012438-1897930800-1897930800@epictriviafl.com
SUMMARY:Dirty Bingo
DESCRIPTION:
URL:https://epictriviafl.com/event/dirty-bingo-chronic-deland/2030-02-21/
LOCATION:Chronic Guru Deland\, 146 N Woodland Blvd\, Deland\, FL\, 32720\, United States
GEO:29.0297711;-81.3036333
X-APPLE-STRUCTURED-LOCATION;VALUE=URI;X-ADDRESS=Chronic Guru Deland 146 N Woodland Blvd Deland FL 32720 United States;X-APPLE-RADIUS=500;X-TITLE=146 N Woodland Blvd:geo:-81.3036333,29.0297711
END:VEVENT
BEGIN:VEVENT
DTSTART;TZID=America/New_York:20300228T190000
DTEND;TZID=America/New_York:20300228T190000
DTSTAMP:20260420T162534
CREATED:20260105T003147Z
LAST-MODIFIED:20260105T054236Z
UID:10012439-1898535600-1898535600@epictriviafl.com
SUMMARY:Dirty Bingo
DESCRIPTION:
URL:https://epictriviafl.com/event/dirty-bingo-chronic-deland/2030-02-28/
LOCATION:Chronic Guru Deland\, 146 N Woodland Blvd\, Deland\, FL\, 32720\, United States
GEO:29.0297711;-81.3036333
X-APPLE-STRUCTURED-LOCATION;VALUE=URI;X-ADDRESS=Chronic Guru Deland 146 N Woodland Blvd Deland FL 32720 United States;X-APPLE-RADIUS=500;X-TITLE=146 N Woodland Blvd:geo:-81.3036333,29.0297711
END:VEVENT
BEGIN:VEVENT
DTSTART;TZID=America/New_York:20300307T190000
DTEND;TZID=America/New_York:20300307T190000
DTSTAMP:20260420T162534
CREATED:20260105T003147Z
LAST-MODIFIED:20260105T054236Z
UID:10012440-1899140400-1899140400@epictriviafl.com
SUMMARY:Dirty Bingo
DESCRIPTION:
URL:https://epictriviafl.com/event/dirty-bingo-chronic-deland/2030-03-07/
LOCATION:Chronic Guru Deland\, 146 N Woodland Blvd\, Deland\, FL\, 32720\, United States
GEO:29.0297711;-81.3036333
X-APPLE-STRUCTURED-LOCATION;VALUE=URI;X-ADDRESS=Chronic Guru Deland 146 N Woodland Blvd Deland FL 32720 United States;X-APPLE-RADIUS=500;X-TITLE=146 N Woodland Blvd:geo:-81.3036333,29.0297711
END:VEVENT
BEGIN:VEVENT
DTSTART;TZID=America/New_York:20300314T190000
DTEND;TZID=America/New_York:20300314T190000
DTSTAMP:20260420T162534
CREATED:20260105T003147Z
LAST-MODIFIED:20260105T054236Z
UID:10012441-1899745200-1899745200@epictriviafl.com
SUMMARY:Dirty Bingo
DESCRIPTION:
URL:https://epictriviafl.com/event/dirty-bingo-chronic-deland/2030-03-14/
LOCATION:Chronic Guru Deland\, 146 N Woodland Blvd\, Deland\, FL\, 32720\, United States
GEO:29.0297711;-81.3036333
X-APPLE-STRUCTURED-LOCATION;VALUE=URI;X-ADDRESS=Chronic Guru Deland 146 N Woodland Blvd Deland FL 32720 United States;X-APPLE-RADIUS=500;X-TITLE=146 N Woodland Blvd:geo:-81.3036333,29.0297711
END:VEVENT
BEGIN:VEVENT
DTSTART;TZID=America/New_York:20300321T190000
DTEND;TZID=America/New_York:20300321T190000
DTSTAMP:20260420T162534
CREATED:20260105T003147Z
LAST-MODIFIED:20260105T054236Z
UID:10012442-1900350000-1900350000@epictriviafl.com
SUMMARY:Dirty Bingo
DESCRIPTION:
URL:https://epictriviafl.com/event/dirty-bingo-chronic-deland/2030-03-21/
LOCATION:Chronic Guru Deland\, 146 N Woodland Blvd\, Deland\, FL\, 32720\, United States
GEO:29.0297711;-81.3036333
X-APPLE-STRUCTURED-LOCATION;VALUE=URI;X-ADDRESS=Chronic Guru Deland 146 N Woodland Blvd Deland FL 32720 United States;X-APPLE-RADIUS=500;X-TITLE=146 N Woodland Blvd:geo:-81.3036333,29.0297711
END:VEVENT
BEGIN:VEVENT
DTSTART;TZID=America/New_York:20300328T190000
DTEND;TZID=America/New_York:20300328T190000
DTSTAMP:20260420T162534
CREATED:20260105T003147Z
LAST-MODIFIED:20260105T054236Z
UID:10012443-1900954800-1900954800@epictriviafl.com
SUMMARY:Dirty Bingo
DESCRIPTION:
URL:https://epictriviafl.com/event/dirty-bingo-chronic-deland/2030-03-28/
LOCATION:Chronic Guru Deland\, 146 N Woodland Blvd\, Deland\, FL\, 32720\, United States
GEO:29.0297711;-81.3036333
X-APPLE-STRUCTURED-LOCATION;VALUE=URI;X-ADDRESS=Chronic Guru Deland 146 N Woodland Blvd Deland FL 32720 United States;X-APPLE-RADIUS=500;X-TITLE=146 N Woodland Blvd:geo:-81.3036333,29.0297711
END:VEVENT
BEGIN:VEVENT
DTSTART;TZID=America/New_York:20300404T190000
DTEND;TZID=America/New_York:20300404T190000
DTSTAMP:20260420T162534
CREATED:20260105T003147Z
LAST-MODIFIED:20260105T054236Z
UID:10012444-1901559600-1901559600@epictriviafl.com
SUMMARY:Dirty Bingo
DESCRIPTION:
URL:https://epictriviafl.com/event/dirty-bingo-chronic-deland/2030-04-04/
LOCATION:Chronic Guru Deland\, 146 N Woodland Blvd\, Deland\, FL\, 32720\, United States
GEO:29.0297711;-81.3036333
X-APPLE-STRUCTURED-LOCATION;VALUE=URI;X-ADDRESS=Chronic Guru Deland 146 N Woodland Blvd Deland FL 32720 United States;X-APPLE-RADIUS=500;X-TITLE=146 N Woodland Blvd:geo:-81.3036333,29.0297711
END:VEVENT
BEGIN:VEVENT
DTSTART;TZID=America/New_York:20300411T190000
DTEND;TZID=America/New_York:20300411T190000
DTSTAMP:20260420T162534
CREATED:20260105T003147Z
LAST-MODIFIED:20260105T054236Z
UID:10012445-1902164400-1902164400@epictriviafl.com
SUMMARY:Dirty Bingo
DESCRIPTION:
URL:https://epictriviafl.com/event/dirty-bingo-chronic-deland/2030-04-11/
LOCATION:Chronic Guru Deland\, 146 N Woodland Blvd\, Deland\, FL\, 32720\, United States
GEO:29.0297711;-81.3036333
X-APPLE-STRUCTURED-LOCATION;VALUE=URI;X-ADDRESS=Chronic Guru Deland 146 N Woodland Blvd Deland FL 32720 United States;X-APPLE-RADIUS=500;X-TITLE=146 N Woodland Blvd:geo:-81.3036333,29.0297711
END:VEVENT
BEGIN:VEVENT
DTSTART;TZID=America/New_York:20300418T190000
DTEND;TZID=America/New_York:20300418T190000
DTSTAMP:20260420T162534
CREATED:20260105T003147Z
LAST-MODIFIED:20260105T054236Z
UID:10012446-1902769200-1902769200@epictriviafl.com
SUMMARY:Dirty Bingo
DESCRIPTION:
URL:https://epictriviafl.com/event/dirty-bingo-chronic-deland/2030-04-18/
LOCATION:Chronic Guru Deland\, 146 N Woodland Blvd\, Deland\, FL\, 32720\, United States
GEO:29.0297711;-81.3036333
X-APPLE-STRUCTURED-LOCATION;VALUE=URI;X-ADDRESS=Chronic Guru Deland 146 N Woodland Blvd Deland FL 32720 United States;X-APPLE-RADIUS=500;X-TITLE=146 N Woodland Blvd:geo:-81.3036333,29.0297711
END:VEVENT
BEGIN:VEVENT
DTSTART;TZID=America/New_York:20300425T190000
DTEND;TZID=America/New_York:20300425T190000
DTSTAMP:20260420T162534
CREATED:20260105T003147Z
LAST-MODIFIED:20260105T054236Z
UID:10012447-1903374000-1903374000@epictriviafl.com
SUMMARY:Dirty Bingo
DESCRIPTION:
URL:https://epictriviafl.com/event/dirty-bingo-chronic-deland/2030-04-25/
LOCATION:Chronic Guru Deland\, 146 N Woodland Blvd\, Deland\, FL\, 32720\, United States
GEO:29.0297711;-81.3036333
X-APPLE-STRUCTURED-LOCATION;VALUE=URI;X-ADDRESS=Chronic Guru Deland 146 N Woodland Blvd Deland FL 32720 United States;X-APPLE-RADIUS=500;X-TITLE=146 N Woodland Blvd:geo:-81.3036333,29.0297711
END:VEVENT
END:VCALENDAR