BEGIN:VCALENDAR
VERSION:2.0
PRODID:-//Epic Trivia - ECPv6.15.18//NONSGML v1.0//EN
CALSCALE:GREGORIAN
METHOD:PUBLISH
X-WR-CALNAME:Epic Trivia
X-ORIGINAL-URL:https://epictriviafl.com
X-WR-CALDESC:Events for Epic Trivia
REFRESH-INTERVAL;VALUE=DURATION:PT1H
X-Robots-Tag:noindex
X-PUBLISHED-TTL:PT1H
BEGIN:VTIMEZONE
TZID:America/New_York
BEGIN:DAYLIGHT
TZOFFSETFROM:-0500
TZOFFSETTO:-0400
TZNAME:EDT
DTSTART:20280312T070000
END:DAYLIGHT
BEGIN:STANDARD
TZOFFSETFROM:-0400
TZOFFSETTO:-0500
TZNAME:EST
DTSTART:20281105T060000
END:STANDARD
BEGIN:DAYLIGHT
TZOFFSETFROM:-0500
TZOFFSETTO:-0400
TZNAME:EDT
DTSTART:20290311T070000
END:DAYLIGHT
BEGIN:STANDARD
TZOFFSETFROM:-0400
TZOFFSETTO:-0500
TZNAME:EST
DTSTART:20291104T060000
END:STANDARD
BEGIN:DAYLIGHT
TZOFFSETFROM:-0500
TZOFFSETTO:-0400
TZNAME:EDT
DTSTART:20300310T070000
END:DAYLIGHT
BEGIN:STANDARD
TZOFFSETFROM:-0400
TZOFFSETTO:-0500
TZNAME:EST
DTSTART:20301103T060000
END:STANDARD
END:VTIMEZONE
BEGIN:VEVENT
DTSTART;TZID=America/New_York:20290419T190000
DTEND;TZID=America/New_York:20290419T190000
DTSTAMP:20260420T125857
CREATED:20260105T003147Z
LAST-MODIFIED:20260105T054236Z
UID:10012394-1871319600-1871319600@epictriviafl.com
SUMMARY:Dirty Bingo
DESCRIPTION:
URL:https://epictriviafl.com/event/dirty-bingo-chronic-deland/2029-04-19/
LOCATION:Chronic Guru Deland\, 146 N Woodland Blvd\, Deland\, FL\, 32720\, United States
GEO:29.0297711;-81.3036333
X-APPLE-STRUCTURED-LOCATION;VALUE=URI;X-ADDRESS=Chronic Guru Deland 146 N Woodland Blvd Deland FL 32720 United States;X-APPLE-RADIUS=500;X-TITLE=146 N Woodland Blvd:geo:-81.3036333,29.0297711
END:VEVENT
BEGIN:VEVENT
DTSTART;TZID=America/New_York:20290426T190000
DTEND;TZID=America/New_York:20290426T190000
DTSTAMP:20260420T125857
CREATED:20260105T003147Z
LAST-MODIFIED:20260105T054236Z
UID:10012395-1871924400-1871924400@epictriviafl.com
SUMMARY:Dirty Bingo
DESCRIPTION:
URL:https://epictriviafl.com/event/dirty-bingo-chronic-deland/2029-04-26/
LOCATION:Chronic Guru Deland\, 146 N Woodland Blvd\, Deland\, FL\, 32720\, United States
GEO:29.0297711;-81.3036333
X-APPLE-STRUCTURED-LOCATION;VALUE=URI;X-ADDRESS=Chronic Guru Deland 146 N Woodland Blvd Deland FL 32720 United States;X-APPLE-RADIUS=500;X-TITLE=146 N Woodland Blvd:geo:-81.3036333,29.0297711
END:VEVENT
BEGIN:VEVENT
DTSTART;TZID=America/New_York:20290503T190000
DTEND;TZID=America/New_York:20290503T190000
DTSTAMP:20260420T125857
CREATED:20260105T003147Z
LAST-MODIFIED:20260105T054236Z
UID:10012396-1872529200-1872529200@epictriviafl.com
SUMMARY:Dirty Bingo
DESCRIPTION:
URL:https://epictriviafl.com/event/dirty-bingo-chronic-deland/2029-05-03/
LOCATION:Chronic Guru Deland\, 146 N Woodland Blvd\, Deland\, FL\, 32720\, United States
GEO:29.0297711;-81.3036333
X-APPLE-STRUCTURED-LOCATION;VALUE=URI;X-ADDRESS=Chronic Guru Deland 146 N Woodland Blvd Deland FL 32720 United States;X-APPLE-RADIUS=500;X-TITLE=146 N Woodland Blvd:geo:-81.3036333,29.0297711
END:VEVENT
BEGIN:VEVENT
DTSTART;TZID=America/New_York:20290510T190000
DTEND;TZID=America/New_York:20290510T190000
DTSTAMP:20260420T125857
CREATED:20260105T003147Z
LAST-MODIFIED:20260105T054236Z
UID:10012397-1873134000-1873134000@epictriviafl.com
SUMMARY:Dirty Bingo
DESCRIPTION:
URL:https://epictriviafl.com/event/dirty-bingo-chronic-deland/2029-05-10/
LOCATION:Chronic Guru Deland\, 146 N Woodland Blvd\, Deland\, FL\, 32720\, United States
GEO:29.0297711;-81.3036333
X-APPLE-STRUCTURED-LOCATION;VALUE=URI;X-ADDRESS=Chronic Guru Deland 146 N Woodland Blvd Deland FL 32720 United States;X-APPLE-RADIUS=500;X-TITLE=146 N Woodland Blvd:geo:-81.3036333,29.0297711
END:VEVENT
BEGIN:VEVENT
DTSTART;TZID=America/New_York:20290517T190000
DTEND;TZID=America/New_York:20290517T190000
DTSTAMP:20260420T125857
CREATED:20260105T003147Z
LAST-MODIFIED:20260105T054236Z
UID:10012398-1873738800-1873738800@epictriviafl.com
SUMMARY:Dirty Bingo
DESCRIPTION:
URL:https://epictriviafl.com/event/dirty-bingo-chronic-deland/2029-05-17/
LOCATION:Chronic Guru Deland\, 146 N Woodland Blvd\, Deland\, FL\, 32720\, United States
GEO:29.0297711;-81.3036333
X-APPLE-STRUCTURED-LOCATION;VALUE=URI;X-ADDRESS=Chronic Guru Deland 146 N Woodland Blvd Deland FL 32720 United States;X-APPLE-RADIUS=500;X-TITLE=146 N Woodland Blvd:geo:-81.3036333,29.0297711
END:VEVENT
BEGIN:VEVENT
DTSTART;TZID=America/New_York:20290524T190000
DTEND;TZID=America/New_York:20290524T190000
DTSTAMP:20260420T125857
CREATED:20260105T003147Z
LAST-MODIFIED:20260105T054236Z
UID:10012399-1874343600-1874343600@epictriviafl.com
SUMMARY:Dirty Bingo
DESCRIPTION:
URL:https://epictriviafl.com/event/dirty-bingo-chronic-deland/2029-05-24/
LOCATION:Chronic Guru Deland\, 146 N Woodland Blvd\, Deland\, FL\, 32720\, United States
GEO:29.0297711;-81.3036333
X-APPLE-STRUCTURED-LOCATION;VALUE=URI;X-ADDRESS=Chronic Guru Deland 146 N Woodland Blvd Deland FL 32720 United States;X-APPLE-RADIUS=500;X-TITLE=146 N Woodland Blvd:geo:-81.3036333,29.0297711
END:VEVENT
BEGIN:VEVENT
DTSTART;TZID=America/New_York:20290531T190000
DTEND;TZID=America/New_York:20290531T190000
DTSTAMP:20260420T125857
CREATED:20260105T003147Z
LAST-MODIFIED:20260105T054236Z
UID:10012400-1874948400-1874948400@epictriviafl.com
SUMMARY:Dirty Bingo
DESCRIPTION:
URL:https://epictriviafl.com/event/dirty-bingo-chronic-deland/2029-05-31/
LOCATION:Chronic Guru Deland\, 146 N Woodland Blvd\, Deland\, FL\, 32720\, United States
GEO:29.0297711;-81.3036333
X-APPLE-STRUCTURED-LOCATION;VALUE=URI;X-ADDRESS=Chronic Guru Deland 146 N Woodland Blvd Deland FL 32720 United States;X-APPLE-RADIUS=500;X-TITLE=146 N Woodland Blvd:geo:-81.3036333,29.0297711
END:VEVENT
BEGIN:VEVENT
DTSTART;TZID=America/New_York:20290607T190000
DTEND;TZID=America/New_York:20290607T190000
DTSTAMP:20260420T125857
CREATED:20260105T003147Z
LAST-MODIFIED:20260105T054236Z
UID:10012401-1875553200-1875553200@epictriviafl.com
SUMMARY:Dirty Bingo
DESCRIPTION:
URL:https://epictriviafl.com/event/dirty-bingo-chronic-deland/2029-06-07/
LOCATION:Chronic Guru Deland\, 146 N Woodland Blvd\, Deland\, FL\, 32720\, United States
GEO:29.0297711;-81.3036333
X-APPLE-STRUCTURED-LOCATION;VALUE=URI;X-ADDRESS=Chronic Guru Deland 146 N Woodland Blvd Deland FL 32720 United States;X-APPLE-RADIUS=500;X-TITLE=146 N Woodland Blvd:geo:-81.3036333,29.0297711
END:VEVENT
BEGIN:VEVENT
DTSTART;TZID=America/New_York:20290614T190000
DTEND;TZID=America/New_York:20290614T190000
DTSTAMP:20260420T125857
CREATED:20260105T003147Z
LAST-MODIFIED:20260105T054236Z
UID:10012402-1876158000-1876158000@epictriviafl.com
SUMMARY:Dirty Bingo
DESCRIPTION:
URL:https://epictriviafl.com/event/dirty-bingo-chronic-deland/2029-06-14/
LOCATION:Chronic Guru Deland\, 146 N Woodland Blvd\, Deland\, FL\, 32720\, United States
GEO:29.0297711;-81.3036333
X-APPLE-STRUCTURED-LOCATION;VALUE=URI;X-ADDRESS=Chronic Guru Deland 146 N Woodland Blvd Deland FL 32720 United States;X-APPLE-RADIUS=500;X-TITLE=146 N Woodland Blvd:geo:-81.3036333,29.0297711
END:VEVENT
BEGIN:VEVENT
DTSTART;TZID=America/New_York:20290621T190000
DTEND;TZID=America/New_York:20290621T190000
DTSTAMP:20260420T125857
CREATED:20260105T003147Z
LAST-MODIFIED:20260105T054236Z
UID:10012403-1876762800-1876762800@epictriviafl.com
SUMMARY:Dirty Bingo
DESCRIPTION:
URL:https://epictriviafl.com/event/dirty-bingo-chronic-deland/2029-06-21/
LOCATION:Chronic Guru Deland\, 146 N Woodland Blvd\, Deland\, FL\, 32720\, United States
GEO:29.0297711;-81.3036333
X-APPLE-STRUCTURED-LOCATION;VALUE=URI;X-ADDRESS=Chronic Guru Deland 146 N Woodland Blvd Deland FL 32720 United States;X-APPLE-RADIUS=500;X-TITLE=146 N Woodland Blvd:geo:-81.3036333,29.0297711
END:VEVENT
BEGIN:VEVENT
DTSTART;TZID=America/New_York:20290628T190000
DTEND;TZID=America/New_York:20290628T190000
DTSTAMP:20260420T125857
CREATED:20260105T003147Z
LAST-MODIFIED:20260105T054236Z
UID:10012404-1877367600-1877367600@epictriviafl.com
SUMMARY:Dirty Bingo
DESCRIPTION:
URL:https://epictriviafl.com/event/dirty-bingo-chronic-deland/2029-06-28/
LOCATION:Chronic Guru Deland\, 146 N Woodland Blvd\, Deland\, FL\, 32720\, United States
GEO:29.0297711;-81.3036333
X-APPLE-STRUCTURED-LOCATION;VALUE=URI;X-ADDRESS=Chronic Guru Deland 146 N Woodland Blvd Deland FL 32720 United States;X-APPLE-RADIUS=500;X-TITLE=146 N Woodland Blvd:geo:-81.3036333,29.0297711
END:VEVENT
BEGIN:VEVENT
DTSTART;TZID=America/New_York:20290705T190000
DTEND;TZID=America/New_York:20290705T190000
DTSTAMP:20260420T125857
CREATED:20260105T003147Z
LAST-MODIFIED:20260105T054236Z
UID:10012405-1877972400-1877972400@epictriviafl.com
SUMMARY:Dirty Bingo
DESCRIPTION:
URL:https://epictriviafl.com/event/dirty-bingo-chronic-deland/2029-07-05/
LOCATION:Chronic Guru Deland\, 146 N Woodland Blvd\, Deland\, FL\, 32720\, United States
GEO:29.0297711;-81.3036333
X-APPLE-STRUCTURED-LOCATION;VALUE=URI;X-ADDRESS=Chronic Guru Deland 146 N Woodland Blvd Deland FL 32720 United States;X-APPLE-RADIUS=500;X-TITLE=146 N Woodland Blvd:geo:-81.3036333,29.0297711
END:VEVENT
BEGIN:VEVENT
DTSTART;TZID=America/New_York:20290712T190000
DTEND;TZID=America/New_York:20290712T190000
DTSTAMP:20260420T125857
CREATED:20260105T003147Z
LAST-MODIFIED:20260105T054236Z
UID:10012406-1878577200-1878577200@epictriviafl.com
SUMMARY:Dirty Bingo
DESCRIPTION:
URL:https://epictriviafl.com/event/dirty-bingo-chronic-deland/2029-07-12/
LOCATION:Chronic Guru Deland\, 146 N Woodland Blvd\, Deland\, FL\, 32720\, United States
GEO:29.0297711;-81.3036333
X-APPLE-STRUCTURED-LOCATION;VALUE=URI;X-ADDRESS=Chronic Guru Deland 146 N Woodland Blvd Deland FL 32720 United States;X-APPLE-RADIUS=500;X-TITLE=146 N Woodland Blvd:geo:-81.3036333,29.0297711
END:VEVENT
BEGIN:VEVENT
DTSTART;TZID=America/New_York:20290719T190000
DTEND;TZID=America/New_York:20290719T190000
DTSTAMP:20260420T125857
CREATED:20260105T003147Z
LAST-MODIFIED:20260105T054236Z
UID:10012407-1879182000-1879182000@epictriviafl.com
SUMMARY:Dirty Bingo
DESCRIPTION:
URL:https://epictriviafl.com/event/dirty-bingo-chronic-deland/2029-07-19/
LOCATION:Chronic Guru Deland\, 146 N Woodland Blvd\, Deland\, FL\, 32720\, United States
GEO:29.0297711;-81.3036333
X-APPLE-STRUCTURED-LOCATION;VALUE=URI;X-ADDRESS=Chronic Guru Deland 146 N Woodland Blvd Deland FL 32720 United States;X-APPLE-RADIUS=500;X-TITLE=146 N Woodland Blvd:geo:-81.3036333,29.0297711
END:VEVENT
BEGIN:VEVENT
DTSTART;TZID=America/New_York:20290726T190000
DTEND;TZID=America/New_York:20290726T190000
DTSTAMP:20260420T125857
CREATED:20260105T003147Z
LAST-MODIFIED:20260105T054236Z
UID:10012408-1879786800-1879786800@epictriviafl.com
SUMMARY:Dirty Bingo
DESCRIPTION:
URL:https://epictriviafl.com/event/dirty-bingo-chronic-deland/2029-07-26/
LOCATION:Chronic Guru Deland\, 146 N Woodland Blvd\, Deland\, FL\, 32720\, United States
GEO:29.0297711;-81.3036333
X-APPLE-STRUCTURED-LOCATION;VALUE=URI;X-ADDRESS=Chronic Guru Deland 146 N Woodland Blvd Deland FL 32720 United States;X-APPLE-RADIUS=500;X-TITLE=146 N Woodland Blvd:geo:-81.3036333,29.0297711
END:VEVENT
BEGIN:VEVENT
DTSTART;TZID=America/New_York:20290802T190000
DTEND;TZID=America/New_York:20290802T190000
DTSTAMP:20260420T125857
CREATED:20260105T003147Z
LAST-MODIFIED:20260105T054236Z
UID:10012409-1880391600-1880391600@epictriviafl.com
SUMMARY:Dirty Bingo
DESCRIPTION:
URL:https://epictriviafl.com/event/dirty-bingo-chronic-deland/2029-08-02/
LOCATION:Chronic Guru Deland\, 146 N Woodland Blvd\, Deland\, FL\, 32720\, United States
GEO:29.0297711;-81.3036333
X-APPLE-STRUCTURED-LOCATION;VALUE=URI;X-ADDRESS=Chronic Guru Deland 146 N Woodland Blvd Deland FL 32720 United States;X-APPLE-RADIUS=500;X-TITLE=146 N Woodland Blvd:geo:-81.3036333,29.0297711
END:VEVENT
BEGIN:VEVENT
DTSTART;TZID=America/New_York:20290809T190000
DTEND;TZID=America/New_York:20290809T190000
DTSTAMP:20260420T125857
CREATED:20260105T003147Z
LAST-MODIFIED:20260105T054236Z
UID:10012410-1880996400-1880996400@epictriviafl.com
SUMMARY:Dirty Bingo
DESCRIPTION:
URL:https://epictriviafl.com/event/dirty-bingo-chronic-deland/2029-08-09/
LOCATION:Chronic Guru Deland\, 146 N Woodland Blvd\, Deland\, FL\, 32720\, United States
GEO:29.0297711;-81.3036333
X-APPLE-STRUCTURED-LOCATION;VALUE=URI;X-ADDRESS=Chronic Guru Deland 146 N Woodland Blvd Deland FL 32720 United States;X-APPLE-RADIUS=500;X-TITLE=146 N Woodland Blvd:geo:-81.3036333,29.0297711
END:VEVENT
BEGIN:VEVENT
DTSTART;TZID=America/New_York:20290816T190000
DTEND;TZID=America/New_York:20290816T190000
DTSTAMP:20260420T125857
CREATED:20260105T003147Z
LAST-MODIFIED:20260105T054236Z
UID:10012411-1881601200-1881601200@epictriviafl.com
SUMMARY:Dirty Bingo
DESCRIPTION:
URL:https://epictriviafl.com/event/dirty-bingo-chronic-deland/2029-08-16/
LOCATION:Chronic Guru Deland\, 146 N Woodland Blvd\, Deland\, FL\, 32720\, United States
GEO:29.0297711;-81.3036333
X-APPLE-STRUCTURED-LOCATION;VALUE=URI;X-ADDRESS=Chronic Guru Deland 146 N Woodland Blvd Deland FL 32720 United States;X-APPLE-RADIUS=500;X-TITLE=146 N Woodland Blvd:geo:-81.3036333,29.0297711
END:VEVENT
BEGIN:VEVENT
DTSTART;TZID=America/New_York:20290823T190000
DTEND;TZID=America/New_York:20290823T190000
DTSTAMP:20260420T125857
CREATED:20260105T003147Z
LAST-MODIFIED:20260105T054236Z
UID:10012412-1882206000-1882206000@epictriviafl.com
SUMMARY:Dirty Bingo
DESCRIPTION:
URL:https://epictriviafl.com/event/dirty-bingo-chronic-deland/2029-08-23/
LOCATION:Chronic Guru Deland\, 146 N Woodland Blvd\, Deland\, FL\, 32720\, United States
GEO:29.0297711;-81.3036333
X-APPLE-STRUCTURED-LOCATION;VALUE=URI;X-ADDRESS=Chronic Guru Deland 146 N Woodland Blvd Deland FL 32720 United States;X-APPLE-RADIUS=500;X-TITLE=146 N Woodland Blvd:geo:-81.3036333,29.0297711
END:VEVENT
BEGIN:VEVENT
DTSTART;TZID=America/New_York:20290830T190000
DTEND;TZID=America/New_York:20290830T190000
DTSTAMP:20260420T125857
CREATED:20260105T003147Z
LAST-MODIFIED:20260105T054236Z
UID:10012413-1882810800-1882810800@epictriviafl.com
SUMMARY:Dirty Bingo
DESCRIPTION:
URL:https://epictriviafl.com/event/dirty-bingo-chronic-deland/2029-08-30/
LOCATION:Chronic Guru Deland\, 146 N Woodland Blvd\, Deland\, FL\, 32720\, United States
GEO:29.0297711;-81.3036333
X-APPLE-STRUCTURED-LOCATION;VALUE=URI;X-ADDRESS=Chronic Guru Deland 146 N Woodland Blvd Deland FL 32720 United States;X-APPLE-RADIUS=500;X-TITLE=146 N Woodland Blvd:geo:-81.3036333,29.0297711
END:VEVENT
BEGIN:VEVENT
DTSTART;TZID=America/New_York:20290906T190000
DTEND;TZID=America/New_York:20290906T190000
DTSTAMP:20260420T125857
CREATED:20260105T003147Z
LAST-MODIFIED:20260105T054236Z
UID:10012414-1883415600-1883415600@epictriviafl.com
SUMMARY:Dirty Bingo
DESCRIPTION:
URL:https://epictriviafl.com/event/dirty-bingo-chronic-deland/2029-09-06/
LOCATION:Chronic Guru Deland\, 146 N Woodland Blvd\, Deland\, FL\, 32720\, United States
GEO:29.0297711;-81.3036333
X-APPLE-STRUCTURED-LOCATION;VALUE=URI;X-ADDRESS=Chronic Guru Deland 146 N Woodland Blvd Deland FL 32720 United States;X-APPLE-RADIUS=500;X-TITLE=146 N Woodland Blvd:geo:-81.3036333,29.0297711
END:VEVENT
BEGIN:VEVENT
DTSTART;TZID=America/New_York:20290913T190000
DTEND;TZID=America/New_York:20290913T190000
DTSTAMP:20260420T125857
CREATED:20260105T003147Z
LAST-MODIFIED:20260105T054236Z
UID:10012415-1884020400-1884020400@epictriviafl.com
SUMMARY:Dirty Bingo
DESCRIPTION:
URL:https://epictriviafl.com/event/dirty-bingo-chronic-deland/2029-09-13/
LOCATION:Chronic Guru Deland\, 146 N Woodland Blvd\, Deland\, FL\, 32720\, United States
GEO:29.0297711;-81.3036333
X-APPLE-STRUCTURED-LOCATION;VALUE=URI;X-ADDRESS=Chronic Guru Deland 146 N Woodland Blvd Deland FL 32720 United States;X-APPLE-RADIUS=500;X-TITLE=146 N Woodland Blvd:geo:-81.3036333,29.0297711
END:VEVENT
BEGIN:VEVENT
DTSTART;TZID=America/New_York:20290920T190000
DTEND;TZID=America/New_York:20290920T190000
DTSTAMP:20260420T125857
CREATED:20260105T003147Z
LAST-MODIFIED:20260105T054236Z
UID:10012416-1884625200-1884625200@epictriviafl.com
SUMMARY:Dirty Bingo
DESCRIPTION:
URL:https://epictriviafl.com/event/dirty-bingo-chronic-deland/2029-09-20/
LOCATION:Chronic Guru Deland\, 146 N Woodland Blvd\, Deland\, FL\, 32720\, United States
GEO:29.0297711;-81.3036333
X-APPLE-STRUCTURED-LOCATION;VALUE=URI;X-ADDRESS=Chronic Guru Deland 146 N Woodland Blvd Deland FL 32720 United States;X-APPLE-RADIUS=500;X-TITLE=146 N Woodland Blvd:geo:-81.3036333,29.0297711
END:VEVENT
BEGIN:VEVENT
DTSTART;TZID=America/New_York:20290927T190000
DTEND;TZID=America/New_York:20290927T190000
DTSTAMP:20260420T125857
CREATED:20260105T003147Z
LAST-MODIFIED:20260105T054236Z
UID:10012417-1885230000-1885230000@epictriviafl.com
SUMMARY:Dirty Bingo
DESCRIPTION:
URL:https://epictriviafl.com/event/dirty-bingo-chronic-deland/2029-09-27/
LOCATION:Chronic Guru Deland\, 146 N Woodland Blvd\, Deland\, FL\, 32720\, United States
GEO:29.0297711;-81.3036333
X-APPLE-STRUCTURED-LOCATION;VALUE=URI;X-ADDRESS=Chronic Guru Deland 146 N Woodland Blvd Deland FL 32720 United States;X-APPLE-RADIUS=500;X-TITLE=146 N Woodland Blvd:geo:-81.3036333,29.0297711
END:VEVENT
BEGIN:VEVENT
DTSTART;TZID=America/New_York:20291004T190000
DTEND;TZID=America/New_York:20291004T190000
DTSTAMP:20260420T125857
CREATED:20260105T003147Z
LAST-MODIFIED:20260105T054236Z
UID:10012418-1885834800-1885834800@epictriviafl.com
SUMMARY:Dirty Bingo
DESCRIPTION:
URL:https://epictriviafl.com/event/dirty-bingo-chronic-deland/2029-10-04/
LOCATION:Chronic Guru Deland\, 146 N Woodland Blvd\, Deland\, FL\, 32720\, United States
GEO:29.0297711;-81.3036333
X-APPLE-STRUCTURED-LOCATION;VALUE=URI;X-ADDRESS=Chronic Guru Deland 146 N Woodland Blvd Deland FL 32720 United States;X-APPLE-RADIUS=500;X-TITLE=146 N Woodland Blvd:geo:-81.3036333,29.0297711
END:VEVENT
BEGIN:VEVENT
DTSTART;TZID=America/New_York:20291011T190000
DTEND;TZID=America/New_York:20291011T190000
DTSTAMP:20260420T125857
CREATED:20260105T003147Z
LAST-MODIFIED:20260105T054236Z
UID:10012419-1886439600-1886439600@epictriviafl.com
SUMMARY:Dirty Bingo
DESCRIPTION:
URL:https://epictriviafl.com/event/dirty-bingo-chronic-deland/2029-10-11/
LOCATION:Chronic Guru Deland\, 146 N Woodland Blvd\, Deland\, FL\, 32720\, United States
GEO:29.0297711;-81.3036333
X-APPLE-STRUCTURED-LOCATION;VALUE=URI;X-ADDRESS=Chronic Guru Deland 146 N Woodland Blvd Deland FL 32720 United States;X-APPLE-RADIUS=500;X-TITLE=146 N Woodland Blvd:geo:-81.3036333,29.0297711
END:VEVENT
BEGIN:VEVENT
DTSTART;TZID=America/New_York:20291018T190000
DTEND;TZID=America/New_York:20291018T190000
DTSTAMP:20260420T125857
CREATED:20260105T003147Z
LAST-MODIFIED:20260105T054236Z
UID:10012420-1887044400-1887044400@epictriviafl.com
SUMMARY:Dirty Bingo
DESCRIPTION:
URL:https://epictriviafl.com/event/dirty-bingo-chronic-deland/2029-10-18/
LOCATION:Chronic Guru Deland\, 146 N Woodland Blvd\, Deland\, FL\, 32720\, United States
GEO:29.0297711;-81.3036333
X-APPLE-STRUCTURED-LOCATION;VALUE=URI;X-ADDRESS=Chronic Guru Deland 146 N Woodland Blvd Deland FL 32720 United States;X-APPLE-RADIUS=500;X-TITLE=146 N Woodland Blvd:geo:-81.3036333,29.0297711
END:VEVENT
BEGIN:VEVENT
DTSTART;TZID=America/New_York:20291025T190000
DTEND;TZID=America/New_York:20291025T190000
DTSTAMP:20260420T125857
CREATED:20260105T003147Z
LAST-MODIFIED:20260105T054236Z
UID:10012421-1887649200-1887649200@epictriviafl.com
SUMMARY:Dirty Bingo
DESCRIPTION:
URL:https://epictriviafl.com/event/dirty-bingo-chronic-deland/2029-10-25/
LOCATION:Chronic Guru Deland\, 146 N Woodland Blvd\, Deland\, FL\, 32720\, United States
GEO:29.0297711;-81.3036333
X-APPLE-STRUCTURED-LOCATION;VALUE=URI;X-ADDRESS=Chronic Guru Deland 146 N Woodland Blvd Deland FL 32720 United States;X-APPLE-RADIUS=500;X-TITLE=146 N Woodland Blvd:geo:-81.3036333,29.0297711
END:VEVENT
BEGIN:VEVENT
DTSTART;TZID=America/New_York:20291101T190000
DTEND;TZID=America/New_York:20291101T190000
DTSTAMP:20260420T125857
CREATED:20260105T003147Z
LAST-MODIFIED:20260105T054236Z
UID:10012422-1888254000-1888254000@epictriviafl.com
SUMMARY:Dirty Bingo
DESCRIPTION:
URL:https://epictriviafl.com/event/dirty-bingo-chronic-deland/2029-11-01/
LOCATION:Chronic Guru Deland\, 146 N Woodland Blvd\, Deland\, FL\, 32720\, United States
GEO:29.0297711;-81.3036333
X-APPLE-STRUCTURED-LOCATION;VALUE=URI;X-ADDRESS=Chronic Guru Deland 146 N Woodland Blvd Deland FL 32720 United States;X-APPLE-RADIUS=500;X-TITLE=146 N Woodland Blvd:geo:-81.3036333,29.0297711
END:VEVENT
BEGIN:VEVENT
DTSTART;TZID=America/New_York:20291108T190000
DTEND;TZID=America/New_York:20291108T190000
DTSTAMP:20260420T125857
CREATED:20260105T003147Z
LAST-MODIFIED:20260105T054236Z
UID:10012423-1888858800-1888858800@epictriviafl.com
SUMMARY:Dirty Bingo
DESCRIPTION:
URL:https://epictriviafl.com/event/dirty-bingo-chronic-deland/2029-11-08/
LOCATION:Chronic Guru Deland\, 146 N Woodland Blvd\, Deland\, FL\, 32720\, United States
GEO:29.0297711;-81.3036333
X-APPLE-STRUCTURED-LOCATION;VALUE=URI;X-ADDRESS=Chronic Guru Deland 146 N Woodland Blvd Deland FL 32720 United States;X-APPLE-RADIUS=500;X-TITLE=146 N Woodland Blvd:geo:-81.3036333,29.0297711
END:VEVENT
END:VCALENDAR