BEGIN:VCALENDAR
VERSION:2.0
PRODID:-//Epic Trivia - ECPv6.15.18//NONSGML v1.0//EN
CALSCALE:GREGORIAN
METHOD:PUBLISH
X-ORIGINAL-URL:https://epictriviafl.com
X-WR-CALDESC:Events for Epic Trivia
REFRESH-INTERVAL;VALUE=DURATION:PT1H
X-Robots-Tag:noindex
X-PUBLISHED-TTL:PT1H
BEGIN:VTIMEZONE
TZID:America/New_York
BEGIN:DAYLIGHT
TZOFFSETFROM:-0500
TZOFFSETTO:-0400
TZNAME:EDT
DTSTART:20270314T070000
END:DAYLIGHT
BEGIN:STANDARD
TZOFFSETFROM:-0400
TZOFFSETTO:-0500
TZNAME:EST
DTSTART:20271107T060000
END:STANDARD
BEGIN:DAYLIGHT
TZOFFSETFROM:-0500
TZOFFSETTO:-0400
TZNAME:EDT
DTSTART:20280312T070000
END:DAYLIGHT
BEGIN:STANDARD
TZOFFSETFROM:-0400
TZOFFSETTO:-0500
TZNAME:EST
DTSTART:20281105T060000
END:STANDARD
BEGIN:DAYLIGHT
TZOFFSETFROM:-0500
TZOFFSETTO:-0400
TZNAME:EDT
DTSTART:20290311T070000
END:DAYLIGHT
BEGIN:STANDARD
TZOFFSETFROM:-0400
TZOFFSETTO:-0500
TZNAME:EST
DTSTART:20291104T060000
END:STANDARD
BEGIN:DAYLIGHT
TZOFFSETFROM:-0500
TZOFFSETTO:-0400
TZNAME:EDT
DTSTART:20300310T070000
END:DAYLIGHT
BEGIN:STANDARD
TZOFFSETFROM:-0400
TZOFFSETTO:-0500
TZNAME:EST
DTSTART:20301103T060000
END:STANDARD
END:VTIMEZONE
BEGIN:VEVENT
DTSTART;TZID=America/New_York:20281102T190000
DTEND;TZID=America/New_York:20281102T190000
DTSTAMP:20260420T094813
CREATED:20260105T003147Z
LAST-MODIFIED:20260105T054236Z
UID:10012370-1856804400-1856804400@epictriviafl.com
SUMMARY:Dirty Bingo
DESCRIPTION:
URL:https://epictriviafl.com/event/dirty-bingo-chronic-deland/2028-11-02/
LOCATION:Chronic Guru Deland\, 146 N Woodland Blvd\, Deland\, FL\, 32720\, United States
GEO:29.0297711;-81.3036333
X-APPLE-STRUCTURED-LOCATION;VALUE=URI;X-ADDRESS=Chronic Guru Deland 146 N Woodland Blvd Deland FL 32720 United States;X-APPLE-RADIUS=500;X-TITLE=146 N Woodland Blvd:geo:-81.3036333,29.0297711
END:VEVENT
BEGIN:VEVENT
DTSTART;TZID=America/New_York:20281109T190000
DTEND;TZID=America/New_York:20281109T190000
DTSTAMP:20260420T094813
CREATED:20260105T003147Z
LAST-MODIFIED:20260105T054236Z
UID:10012371-1857409200-1857409200@epictriviafl.com
SUMMARY:Dirty Bingo
DESCRIPTION:
URL:https://epictriviafl.com/event/dirty-bingo-chronic-deland/2028-11-09/
LOCATION:Chronic Guru Deland\, 146 N Woodland Blvd\, Deland\, FL\, 32720\, United States
GEO:29.0297711;-81.3036333
X-APPLE-STRUCTURED-LOCATION;VALUE=URI;X-ADDRESS=Chronic Guru Deland 146 N Woodland Blvd Deland FL 32720 United States;X-APPLE-RADIUS=500;X-TITLE=146 N Woodland Blvd:geo:-81.3036333,29.0297711
END:VEVENT
BEGIN:VEVENT
DTSTART;TZID=America/New_York:20281116T190000
DTEND;TZID=America/New_York:20281116T190000
DTSTAMP:20260420T094813
CREATED:20260105T003147Z
LAST-MODIFIED:20260105T054236Z
UID:10012372-1858014000-1858014000@epictriviafl.com
SUMMARY:Dirty Bingo
DESCRIPTION:
URL:https://epictriviafl.com/event/dirty-bingo-chronic-deland/2028-11-16/
LOCATION:Chronic Guru Deland\, 146 N Woodland Blvd\, Deland\, FL\, 32720\, United States
GEO:29.0297711;-81.3036333
X-APPLE-STRUCTURED-LOCATION;VALUE=URI;X-ADDRESS=Chronic Guru Deland 146 N Woodland Blvd Deland FL 32720 United States;X-APPLE-RADIUS=500;X-TITLE=146 N Woodland Blvd:geo:-81.3036333,29.0297711
END:VEVENT
BEGIN:VEVENT
DTSTART;TZID=America/New_York:20281123T190000
DTEND;TZID=America/New_York:20281123T190000
DTSTAMP:20260420T094813
CREATED:20260105T003147Z
LAST-MODIFIED:20260105T054236Z
UID:10012373-1858618800-1858618800@epictriviafl.com
SUMMARY:Dirty Bingo
DESCRIPTION:
URL:https://epictriviafl.com/event/dirty-bingo-chronic-deland/2028-11-23/
LOCATION:Chronic Guru Deland\, 146 N Woodland Blvd\, Deland\, FL\, 32720\, United States
GEO:29.0297711;-81.3036333
X-APPLE-STRUCTURED-LOCATION;VALUE=URI;X-ADDRESS=Chronic Guru Deland 146 N Woodland Blvd Deland FL 32720 United States;X-APPLE-RADIUS=500;X-TITLE=146 N Woodland Blvd:geo:-81.3036333,29.0297711
END:VEVENT
BEGIN:VEVENT
DTSTART;TZID=America/New_York:20281130T190000
DTEND;TZID=America/New_York:20281130T190000
DTSTAMP:20260420T094813
CREATED:20260105T003147Z
LAST-MODIFIED:20260105T054236Z
UID:10012374-1859223600-1859223600@epictriviafl.com
SUMMARY:Dirty Bingo
DESCRIPTION:
URL:https://epictriviafl.com/event/dirty-bingo-chronic-deland/2028-11-30/
LOCATION:Chronic Guru Deland\, 146 N Woodland Blvd\, Deland\, FL\, 32720\, United States
GEO:29.0297711;-81.3036333
X-APPLE-STRUCTURED-LOCATION;VALUE=URI;X-ADDRESS=Chronic Guru Deland 146 N Woodland Blvd Deland FL 32720 United States;X-APPLE-RADIUS=500;X-TITLE=146 N Woodland Blvd:geo:-81.3036333,29.0297711
END:VEVENT
BEGIN:VEVENT
DTSTART;TZID=America/New_York:20281207T190000
DTEND;TZID=America/New_York:20281207T190000
DTSTAMP:20260420T094813
CREATED:20260105T003147Z
LAST-MODIFIED:20260105T054236Z
UID:10012375-1859828400-1859828400@epictriviafl.com
SUMMARY:Dirty Bingo
DESCRIPTION:
URL:https://epictriviafl.com/event/dirty-bingo-chronic-deland/2028-12-07/
LOCATION:Chronic Guru Deland\, 146 N Woodland Blvd\, Deland\, FL\, 32720\, United States
GEO:29.0297711;-81.3036333
X-APPLE-STRUCTURED-LOCATION;VALUE=URI;X-ADDRESS=Chronic Guru Deland 146 N Woodland Blvd Deland FL 32720 United States;X-APPLE-RADIUS=500;X-TITLE=146 N Woodland Blvd:geo:-81.3036333,29.0297711
END:VEVENT
BEGIN:VEVENT
DTSTART;TZID=America/New_York:20281214T190000
DTEND;TZID=America/New_York:20281214T190000
DTSTAMP:20260420T094813
CREATED:20260105T003147Z
LAST-MODIFIED:20260105T054236Z
UID:10012376-1860433200-1860433200@epictriviafl.com
SUMMARY:Dirty Bingo
DESCRIPTION:
URL:https://epictriviafl.com/event/dirty-bingo-chronic-deland/2028-12-14/
LOCATION:Chronic Guru Deland\, 146 N Woodland Blvd\, Deland\, FL\, 32720\, United States
GEO:29.0297711;-81.3036333
X-APPLE-STRUCTURED-LOCATION;VALUE=URI;X-ADDRESS=Chronic Guru Deland 146 N Woodland Blvd Deland FL 32720 United States;X-APPLE-RADIUS=500;X-TITLE=146 N Woodland Blvd:geo:-81.3036333,29.0297711
END:VEVENT
BEGIN:VEVENT
DTSTART;TZID=America/New_York:20281221T190000
DTEND;TZID=America/New_York:20281221T190000
DTSTAMP:20260420T094813
CREATED:20260105T003147Z
LAST-MODIFIED:20260105T054236Z
UID:10012377-1861038000-1861038000@epictriviafl.com
SUMMARY:Dirty Bingo
DESCRIPTION:
URL:https://epictriviafl.com/event/dirty-bingo-chronic-deland/2028-12-21/
LOCATION:Chronic Guru Deland\, 146 N Woodland Blvd\, Deland\, FL\, 32720\, United States
GEO:29.0297711;-81.3036333
X-APPLE-STRUCTURED-LOCATION;VALUE=URI;X-ADDRESS=Chronic Guru Deland 146 N Woodland Blvd Deland FL 32720 United States;X-APPLE-RADIUS=500;X-TITLE=146 N Woodland Blvd:geo:-81.3036333,29.0297711
END:VEVENT
BEGIN:VEVENT
DTSTART;TZID=America/New_York:20281228T190000
DTEND;TZID=America/New_York:20281228T190000
DTSTAMP:20260420T094813
CREATED:20260105T003147Z
LAST-MODIFIED:20260105T054236Z
UID:10012378-1861642800-1861642800@epictriviafl.com
SUMMARY:Dirty Bingo
DESCRIPTION:
URL:https://epictriviafl.com/event/dirty-bingo-chronic-deland/2028-12-28/
LOCATION:Chronic Guru Deland\, 146 N Woodland Blvd\, Deland\, FL\, 32720\, United States
GEO:29.0297711;-81.3036333
X-APPLE-STRUCTURED-LOCATION;VALUE=URI;X-ADDRESS=Chronic Guru Deland 146 N Woodland Blvd Deland FL 32720 United States;X-APPLE-RADIUS=500;X-TITLE=146 N Woodland Blvd:geo:-81.3036333,29.0297711
END:VEVENT
BEGIN:VEVENT
DTSTART;TZID=America/New_York:20290104T190000
DTEND;TZID=America/New_York:20290104T190000
DTSTAMP:20260420T094813
CREATED:20260105T003147Z
LAST-MODIFIED:20260105T054236Z
UID:10012379-1862247600-1862247600@epictriviafl.com
SUMMARY:Dirty Bingo
DESCRIPTION:
URL:https://epictriviafl.com/event/dirty-bingo-chronic-deland/2029-01-04/
LOCATION:Chronic Guru Deland\, 146 N Woodland Blvd\, Deland\, FL\, 32720\, United States
GEO:29.0297711;-81.3036333
X-APPLE-STRUCTURED-LOCATION;VALUE=URI;X-ADDRESS=Chronic Guru Deland 146 N Woodland Blvd Deland FL 32720 United States;X-APPLE-RADIUS=500;X-TITLE=146 N Woodland Blvd:geo:-81.3036333,29.0297711
END:VEVENT
BEGIN:VEVENT
DTSTART;TZID=America/New_York:20290111T190000
DTEND;TZID=America/New_York:20290111T190000
DTSTAMP:20260420T094813
CREATED:20260105T003147Z
LAST-MODIFIED:20260105T054236Z
UID:10012380-1862852400-1862852400@epictriviafl.com
SUMMARY:Dirty Bingo
DESCRIPTION:
URL:https://epictriviafl.com/event/dirty-bingo-chronic-deland/2029-01-11/
LOCATION:Chronic Guru Deland\, 146 N Woodland Blvd\, Deland\, FL\, 32720\, United States
GEO:29.0297711;-81.3036333
X-APPLE-STRUCTURED-LOCATION;VALUE=URI;X-ADDRESS=Chronic Guru Deland 146 N Woodland Blvd Deland FL 32720 United States;X-APPLE-RADIUS=500;X-TITLE=146 N Woodland Blvd:geo:-81.3036333,29.0297711
END:VEVENT
BEGIN:VEVENT
DTSTART;TZID=America/New_York:20290118T190000
DTEND;TZID=America/New_York:20290118T190000
DTSTAMP:20260420T094813
CREATED:20260105T003147Z
LAST-MODIFIED:20260105T054236Z
UID:10012381-1863457200-1863457200@epictriviafl.com
SUMMARY:Dirty Bingo
DESCRIPTION:
URL:https://epictriviafl.com/event/dirty-bingo-chronic-deland/2029-01-18/
LOCATION:Chronic Guru Deland\, 146 N Woodland Blvd\, Deland\, FL\, 32720\, United States
GEO:29.0297711;-81.3036333
X-APPLE-STRUCTURED-LOCATION;VALUE=URI;X-ADDRESS=Chronic Guru Deland 146 N Woodland Blvd Deland FL 32720 United States;X-APPLE-RADIUS=500;X-TITLE=146 N Woodland Blvd:geo:-81.3036333,29.0297711
END:VEVENT
BEGIN:VEVENT
DTSTART;TZID=America/New_York:20290125T190000
DTEND;TZID=America/New_York:20290125T190000
DTSTAMP:20260420T094813
CREATED:20260105T003147Z
LAST-MODIFIED:20260105T054236Z
UID:10012382-1864062000-1864062000@epictriviafl.com
SUMMARY:Dirty Bingo
DESCRIPTION:
URL:https://epictriviafl.com/event/dirty-bingo-chronic-deland/2029-01-25/
LOCATION:Chronic Guru Deland\, 146 N Woodland Blvd\, Deland\, FL\, 32720\, United States
GEO:29.0297711;-81.3036333
X-APPLE-STRUCTURED-LOCATION;VALUE=URI;X-ADDRESS=Chronic Guru Deland 146 N Woodland Blvd Deland FL 32720 United States;X-APPLE-RADIUS=500;X-TITLE=146 N Woodland Blvd:geo:-81.3036333,29.0297711
END:VEVENT
BEGIN:VEVENT
DTSTART;TZID=America/New_York:20290201T190000
DTEND;TZID=America/New_York:20290201T190000
DTSTAMP:20260420T094813
CREATED:20260105T003147Z
LAST-MODIFIED:20260105T054236Z
UID:10012383-1864666800-1864666800@epictriviafl.com
SUMMARY:Dirty Bingo
DESCRIPTION:
URL:https://epictriviafl.com/event/dirty-bingo-chronic-deland/2029-02-01/
LOCATION:Chronic Guru Deland\, 146 N Woodland Blvd\, Deland\, FL\, 32720\, United States
GEO:29.0297711;-81.3036333
X-APPLE-STRUCTURED-LOCATION;VALUE=URI;X-ADDRESS=Chronic Guru Deland 146 N Woodland Blvd Deland FL 32720 United States;X-APPLE-RADIUS=500;X-TITLE=146 N Woodland Blvd:geo:-81.3036333,29.0297711
END:VEVENT
BEGIN:VEVENT
DTSTART;TZID=America/New_York:20290208T190000
DTEND;TZID=America/New_York:20290208T190000
DTSTAMP:20260420T094813
CREATED:20260105T003147Z
LAST-MODIFIED:20260105T054236Z
UID:10012384-1865271600-1865271600@epictriviafl.com
SUMMARY:Dirty Bingo
DESCRIPTION:
URL:https://epictriviafl.com/event/dirty-bingo-chronic-deland/2029-02-08/
LOCATION:Chronic Guru Deland\, 146 N Woodland Blvd\, Deland\, FL\, 32720\, United States
GEO:29.0297711;-81.3036333
X-APPLE-STRUCTURED-LOCATION;VALUE=URI;X-ADDRESS=Chronic Guru Deland 146 N Woodland Blvd Deland FL 32720 United States;X-APPLE-RADIUS=500;X-TITLE=146 N Woodland Blvd:geo:-81.3036333,29.0297711
END:VEVENT
BEGIN:VEVENT
DTSTART;TZID=America/New_York:20290215T190000
DTEND;TZID=America/New_York:20290215T190000
DTSTAMP:20260420T094813
CREATED:20260105T003147Z
LAST-MODIFIED:20260105T054236Z
UID:10012385-1865876400-1865876400@epictriviafl.com
SUMMARY:Dirty Bingo
DESCRIPTION:
URL:https://epictriviafl.com/event/dirty-bingo-chronic-deland/2029-02-15/
LOCATION:Chronic Guru Deland\, 146 N Woodland Blvd\, Deland\, FL\, 32720\, United States
GEO:29.0297711;-81.3036333
X-APPLE-STRUCTURED-LOCATION;VALUE=URI;X-ADDRESS=Chronic Guru Deland 146 N Woodland Blvd Deland FL 32720 United States;X-APPLE-RADIUS=500;X-TITLE=146 N Woodland Blvd:geo:-81.3036333,29.0297711
END:VEVENT
BEGIN:VEVENT
DTSTART;TZID=America/New_York:20290222T190000
DTEND;TZID=America/New_York:20290222T190000
DTSTAMP:20260420T094813
CREATED:20260105T003147Z
LAST-MODIFIED:20260105T054236Z
UID:10012386-1866481200-1866481200@epictriviafl.com
SUMMARY:Dirty Bingo
DESCRIPTION:
URL:https://epictriviafl.com/event/dirty-bingo-chronic-deland/2029-02-22/
LOCATION:Chronic Guru Deland\, 146 N Woodland Blvd\, Deland\, FL\, 32720\, United States
GEO:29.0297711;-81.3036333
X-APPLE-STRUCTURED-LOCATION;VALUE=URI;X-ADDRESS=Chronic Guru Deland 146 N Woodland Blvd Deland FL 32720 United States;X-APPLE-RADIUS=500;X-TITLE=146 N Woodland Blvd:geo:-81.3036333,29.0297711
END:VEVENT
BEGIN:VEVENT
DTSTART;TZID=America/New_York:20290301T190000
DTEND;TZID=America/New_York:20290301T190000
DTSTAMP:20260420T094813
CREATED:20260105T003147Z
LAST-MODIFIED:20260105T054236Z
UID:10012387-1867086000-1867086000@epictriviafl.com
SUMMARY:Dirty Bingo
DESCRIPTION:
URL:https://epictriviafl.com/event/dirty-bingo-chronic-deland/2029-03-01/
LOCATION:Chronic Guru Deland\, 146 N Woodland Blvd\, Deland\, FL\, 32720\, United States
GEO:29.0297711;-81.3036333
X-APPLE-STRUCTURED-LOCATION;VALUE=URI;X-ADDRESS=Chronic Guru Deland 146 N Woodland Blvd Deland FL 32720 United States;X-APPLE-RADIUS=500;X-TITLE=146 N Woodland Blvd:geo:-81.3036333,29.0297711
END:VEVENT
BEGIN:VEVENT
DTSTART;TZID=America/New_York:20290308T190000
DTEND;TZID=America/New_York:20290308T190000
DTSTAMP:20260420T094813
CREATED:20260105T003147Z
LAST-MODIFIED:20260105T054236Z
UID:10012388-1867690800-1867690800@epictriviafl.com
SUMMARY:Dirty Bingo
DESCRIPTION:
URL:https://epictriviafl.com/event/dirty-bingo-chronic-deland/2029-03-08/
LOCATION:Chronic Guru Deland\, 146 N Woodland Blvd\, Deland\, FL\, 32720\, United States
GEO:29.0297711;-81.3036333
X-APPLE-STRUCTURED-LOCATION;VALUE=URI;X-ADDRESS=Chronic Guru Deland 146 N Woodland Blvd Deland FL 32720 United States;X-APPLE-RADIUS=500;X-TITLE=146 N Woodland Blvd:geo:-81.3036333,29.0297711
END:VEVENT
BEGIN:VEVENT
DTSTART;TZID=America/New_York:20290315T190000
DTEND;TZID=America/New_York:20290315T190000
DTSTAMP:20260420T094813
CREATED:20260105T003147Z
LAST-MODIFIED:20260105T054236Z
UID:10012389-1868295600-1868295600@epictriviafl.com
SUMMARY:Dirty Bingo
DESCRIPTION:
URL:https://epictriviafl.com/event/dirty-bingo-chronic-deland/2029-03-15/
LOCATION:Chronic Guru Deland\, 146 N Woodland Blvd\, Deland\, FL\, 32720\, United States
GEO:29.0297711;-81.3036333
X-APPLE-STRUCTURED-LOCATION;VALUE=URI;X-ADDRESS=Chronic Guru Deland 146 N Woodland Blvd Deland FL 32720 United States;X-APPLE-RADIUS=500;X-TITLE=146 N Woodland Blvd:geo:-81.3036333,29.0297711
END:VEVENT
BEGIN:VEVENT
DTSTART;TZID=America/New_York:20290322T190000
DTEND;TZID=America/New_York:20290322T190000
DTSTAMP:20260420T094813
CREATED:20260105T003147Z
LAST-MODIFIED:20260105T054236Z
UID:10012390-1868900400-1868900400@epictriviafl.com
SUMMARY:Dirty Bingo
DESCRIPTION:
URL:https://epictriviafl.com/event/dirty-bingo-chronic-deland/2029-03-22/
LOCATION:Chronic Guru Deland\, 146 N Woodland Blvd\, Deland\, FL\, 32720\, United States
GEO:29.0297711;-81.3036333
X-APPLE-STRUCTURED-LOCATION;VALUE=URI;X-ADDRESS=Chronic Guru Deland 146 N Woodland Blvd Deland FL 32720 United States;X-APPLE-RADIUS=500;X-TITLE=146 N Woodland Blvd:geo:-81.3036333,29.0297711
END:VEVENT
BEGIN:VEVENT
DTSTART;TZID=America/New_York:20290329T190000
DTEND;TZID=America/New_York:20290329T190000
DTSTAMP:20260420T094813
CREATED:20260105T003147Z
LAST-MODIFIED:20260105T054236Z
UID:10012391-1869505200-1869505200@epictriviafl.com
SUMMARY:Dirty Bingo
DESCRIPTION:
URL:https://epictriviafl.com/event/dirty-bingo-chronic-deland/2029-03-29/
LOCATION:Chronic Guru Deland\, 146 N Woodland Blvd\, Deland\, FL\, 32720\, United States
GEO:29.0297711;-81.3036333
X-APPLE-STRUCTURED-LOCATION;VALUE=URI;X-ADDRESS=Chronic Guru Deland 146 N Woodland Blvd Deland FL 32720 United States;X-APPLE-RADIUS=500;X-TITLE=146 N Woodland Blvd:geo:-81.3036333,29.0297711
END:VEVENT
BEGIN:VEVENT
DTSTART;TZID=America/New_York:20290405T190000
DTEND;TZID=America/New_York:20290405T190000
DTSTAMP:20260420T094813
CREATED:20260105T003147Z
LAST-MODIFIED:20260105T054236Z
UID:10012392-1870110000-1870110000@epictriviafl.com
SUMMARY:Dirty Bingo
DESCRIPTION:
URL:https://epictriviafl.com/event/dirty-bingo-chronic-deland/2029-04-05/
LOCATION:Chronic Guru Deland\, 146 N Woodland Blvd\, Deland\, FL\, 32720\, United States
GEO:29.0297711;-81.3036333
X-APPLE-STRUCTURED-LOCATION;VALUE=URI;X-ADDRESS=Chronic Guru Deland 146 N Woodland Blvd Deland FL 32720 United States;X-APPLE-RADIUS=500;X-TITLE=146 N Woodland Blvd:geo:-81.3036333,29.0297711
END:VEVENT
BEGIN:VEVENT
DTSTART;TZID=America/New_York:20290412T190000
DTEND;TZID=America/New_York:20290412T190000
DTSTAMP:20260420T094813
CREATED:20260105T003147Z
LAST-MODIFIED:20260105T054236Z
UID:10012393-1870714800-1870714800@epictriviafl.com
SUMMARY:Dirty Bingo
DESCRIPTION:
URL:https://epictriviafl.com/event/dirty-bingo-chronic-deland/2029-04-12/
LOCATION:Chronic Guru Deland\, 146 N Woodland Blvd\, Deland\, FL\, 32720\, United States
GEO:29.0297711;-81.3036333
X-APPLE-STRUCTURED-LOCATION;VALUE=URI;X-ADDRESS=Chronic Guru Deland 146 N Woodland Blvd Deland FL 32720 United States;X-APPLE-RADIUS=500;X-TITLE=146 N Woodland Blvd:geo:-81.3036333,29.0297711
END:VEVENT
BEGIN:VEVENT
DTSTART;TZID=America/New_York:20290419T190000
DTEND;TZID=America/New_York:20290419T190000
DTSTAMP:20260420T094813
CREATED:20260105T003147Z
LAST-MODIFIED:20260105T054236Z
UID:10012394-1871319600-1871319600@epictriviafl.com
SUMMARY:Dirty Bingo
DESCRIPTION:
URL:https://epictriviafl.com/event/dirty-bingo-chronic-deland/2029-04-19/
LOCATION:Chronic Guru Deland\, 146 N Woodland Blvd\, Deland\, FL\, 32720\, United States
GEO:29.0297711;-81.3036333
X-APPLE-STRUCTURED-LOCATION;VALUE=URI;X-ADDRESS=Chronic Guru Deland 146 N Woodland Blvd Deland FL 32720 United States;X-APPLE-RADIUS=500;X-TITLE=146 N Woodland Blvd:geo:-81.3036333,29.0297711
END:VEVENT
BEGIN:VEVENT
DTSTART;TZID=America/New_York:20290426T190000
DTEND;TZID=America/New_York:20290426T190000
DTSTAMP:20260420T094813
CREATED:20260105T003147Z
LAST-MODIFIED:20260105T054236Z
UID:10012395-1871924400-1871924400@epictriviafl.com
SUMMARY:Dirty Bingo
DESCRIPTION:
URL:https://epictriviafl.com/event/dirty-bingo-chronic-deland/2029-04-26/
LOCATION:Chronic Guru Deland\, 146 N Woodland Blvd\, Deland\, FL\, 32720\, United States
GEO:29.0297711;-81.3036333
X-APPLE-STRUCTURED-LOCATION;VALUE=URI;X-ADDRESS=Chronic Guru Deland 146 N Woodland Blvd Deland FL 32720 United States;X-APPLE-RADIUS=500;X-TITLE=146 N Woodland Blvd:geo:-81.3036333,29.0297711
END:VEVENT
BEGIN:VEVENT
DTSTART;TZID=America/New_York:20290503T190000
DTEND;TZID=America/New_York:20290503T190000
DTSTAMP:20260420T094813
CREATED:20260105T003147Z
LAST-MODIFIED:20260105T054236Z
UID:10012396-1872529200-1872529200@epictriviafl.com
SUMMARY:Dirty Bingo
DESCRIPTION:
URL:https://epictriviafl.com/event/dirty-bingo-chronic-deland/2029-05-03/
LOCATION:Chronic Guru Deland\, 146 N Woodland Blvd\, Deland\, FL\, 32720\, United States
GEO:29.0297711;-81.3036333
X-APPLE-STRUCTURED-LOCATION;VALUE=URI;X-ADDRESS=Chronic Guru Deland 146 N Woodland Blvd Deland FL 32720 United States;X-APPLE-RADIUS=500;X-TITLE=146 N Woodland Blvd:geo:-81.3036333,29.0297711
END:VEVENT
BEGIN:VEVENT
DTSTART;TZID=America/New_York:20290510T190000
DTEND;TZID=America/New_York:20290510T190000
DTSTAMP:20260420T094813
CREATED:20260105T003147Z
LAST-MODIFIED:20260105T054236Z
UID:10012397-1873134000-1873134000@epictriviafl.com
SUMMARY:Dirty Bingo
DESCRIPTION:
URL:https://epictriviafl.com/event/dirty-bingo-chronic-deland/2029-05-10/
LOCATION:Chronic Guru Deland\, 146 N Woodland Blvd\, Deland\, FL\, 32720\, United States
GEO:29.0297711;-81.3036333
X-APPLE-STRUCTURED-LOCATION;VALUE=URI;X-ADDRESS=Chronic Guru Deland 146 N Woodland Blvd Deland FL 32720 United States;X-APPLE-RADIUS=500;X-TITLE=146 N Woodland Blvd:geo:-81.3036333,29.0297711
END:VEVENT
BEGIN:VEVENT
DTSTART;TZID=America/New_York:20290517T190000
DTEND;TZID=America/New_York:20290517T190000
DTSTAMP:20260420T094813
CREATED:20260105T003147Z
LAST-MODIFIED:20260105T054236Z
UID:10012398-1873738800-1873738800@epictriviafl.com
SUMMARY:Dirty Bingo
DESCRIPTION:
URL:https://epictriviafl.com/event/dirty-bingo-chronic-deland/2029-05-17/
LOCATION:Chronic Guru Deland\, 146 N Woodland Blvd\, Deland\, FL\, 32720\, United States
GEO:29.0297711;-81.3036333
X-APPLE-STRUCTURED-LOCATION;VALUE=URI;X-ADDRESS=Chronic Guru Deland 146 N Woodland Blvd Deland FL 32720 United States;X-APPLE-RADIUS=500;X-TITLE=146 N Woodland Blvd:geo:-81.3036333,29.0297711
END:VEVENT
BEGIN:VEVENT
DTSTART;TZID=America/New_York:20290524T190000
DTEND;TZID=America/New_York:20290524T190000
DTSTAMP:20260420T094813
CREATED:20260105T003147Z
LAST-MODIFIED:20260105T054236Z
UID:10012399-1874343600-1874343600@epictriviafl.com
SUMMARY:Dirty Bingo
DESCRIPTION:
URL:https://epictriviafl.com/event/dirty-bingo-chronic-deland/2029-05-24/
LOCATION:Chronic Guru Deland\, 146 N Woodland Blvd\, Deland\, FL\, 32720\, United States
GEO:29.0297711;-81.3036333
X-APPLE-STRUCTURED-LOCATION;VALUE=URI;X-ADDRESS=Chronic Guru Deland 146 N Woodland Blvd Deland FL 32720 United States;X-APPLE-RADIUS=500;X-TITLE=146 N Woodland Blvd:geo:-81.3036333,29.0297711
END:VEVENT
END:VCALENDAR