BEGIN:VCALENDAR
VERSION:2.0
PRODID:-//Epic Trivia - ECPv6.15.18//NONSGML v1.0//EN
CALSCALE:GREGORIAN
METHOD:PUBLISH
X-WR-CALNAME:Epic Trivia
X-ORIGINAL-URL:https://epictriviafl.com
X-WR-CALDESC:Events for Epic Trivia
REFRESH-INTERVAL;VALUE=DURATION:PT1H
X-Robots-Tag:noindex
X-PUBLISHED-TTL:PT1H
BEGIN:VTIMEZONE
TZID:America/New_York
BEGIN:DAYLIGHT
TZOFFSETFROM:-0500
TZOFFSETTO:-0400
TZNAME:EDT
DTSTART:20270314T070000
END:DAYLIGHT
BEGIN:STANDARD
TZOFFSETFROM:-0400
TZOFFSETTO:-0500
TZNAME:EST
DTSTART:20271107T060000
END:STANDARD
BEGIN:DAYLIGHT
TZOFFSETFROM:-0500
TZOFFSETTO:-0400
TZNAME:EDT
DTSTART:20280312T070000
END:DAYLIGHT
BEGIN:STANDARD
TZOFFSETFROM:-0400
TZOFFSETTO:-0500
TZNAME:EST
DTSTART:20281105T060000
END:STANDARD
BEGIN:DAYLIGHT
TZOFFSETFROM:-0500
TZOFFSETTO:-0400
TZNAME:EDT
DTSTART:20290311T070000
END:DAYLIGHT
BEGIN:STANDARD
TZOFFSETFROM:-0400
TZOFFSETTO:-0500
TZNAME:EST
DTSTART:20291104T060000
END:STANDARD
END:VTIMEZONE
BEGIN:VEVENT
DTSTART;TZID=America/New_York:20280518T190000
DTEND;TZID=America/New_York:20280518T190000
DTSTAMP:20260420T070235
CREATED:20260105T003147Z
LAST-MODIFIED:20260105T054236Z
UID:10012346-1842289200-1842289200@epictriviafl.com
SUMMARY:Dirty Bingo
DESCRIPTION:
URL:https://epictriviafl.com/event/dirty-bingo-chronic-deland/2028-05-18/
LOCATION:Chronic Guru Deland\, 146 N Woodland Blvd\, Deland\, FL\, 32720\, United States
GEO:29.0297711;-81.3036333
X-APPLE-STRUCTURED-LOCATION;VALUE=URI;X-ADDRESS=Chronic Guru Deland 146 N Woodland Blvd Deland FL 32720 United States;X-APPLE-RADIUS=500;X-TITLE=146 N Woodland Blvd:geo:-81.3036333,29.0297711
END:VEVENT
BEGIN:VEVENT
DTSTART;TZID=America/New_York:20280525T190000
DTEND;TZID=America/New_York:20280525T190000
DTSTAMP:20260420T070235
CREATED:20260105T003147Z
LAST-MODIFIED:20260105T054236Z
UID:10012347-1842894000-1842894000@epictriviafl.com
SUMMARY:Dirty Bingo
DESCRIPTION:
URL:https://epictriviafl.com/event/dirty-bingo-chronic-deland/2028-05-25/
LOCATION:Chronic Guru Deland\, 146 N Woodland Blvd\, Deland\, FL\, 32720\, United States
GEO:29.0297711;-81.3036333
X-APPLE-STRUCTURED-LOCATION;VALUE=URI;X-ADDRESS=Chronic Guru Deland 146 N Woodland Blvd Deland FL 32720 United States;X-APPLE-RADIUS=500;X-TITLE=146 N Woodland Blvd:geo:-81.3036333,29.0297711
END:VEVENT
BEGIN:VEVENT
DTSTART;TZID=America/New_York:20280601T190000
DTEND;TZID=America/New_York:20280601T190000
DTSTAMP:20260420T070235
CREATED:20260105T003147Z
LAST-MODIFIED:20260105T054236Z
UID:10012348-1843498800-1843498800@epictriviafl.com
SUMMARY:Dirty Bingo
DESCRIPTION:
URL:https://epictriviafl.com/event/dirty-bingo-chronic-deland/2028-06-01/
LOCATION:Chronic Guru Deland\, 146 N Woodland Blvd\, Deland\, FL\, 32720\, United States
GEO:29.0297711;-81.3036333
X-APPLE-STRUCTURED-LOCATION;VALUE=URI;X-ADDRESS=Chronic Guru Deland 146 N Woodland Blvd Deland FL 32720 United States;X-APPLE-RADIUS=500;X-TITLE=146 N Woodland Blvd:geo:-81.3036333,29.0297711
END:VEVENT
BEGIN:VEVENT
DTSTART;TZID=America/New_York:20280608T190000
DTEND;TZID=America/New_York:20280608T190000
DTSTAMP:20260420T070235
CREATED:20260105T003147Z
LAST-MODIFIED:20260105T054236Z
UID:10012349-1844103600-1844103600@epictriviafl.com
SUMMARY:Dirty Bingo
DESCRIPTION:
URL:https://epictriviafl.com/event/dirty-bingo-chronic-deland/2028-06-08/
LOCATION:Chronic Guru Deland\, 146 N Woodland Blvd\, Deland\, FL\, 32720\, United States
GEO:29.0297711;-81.3036333
X-APPLE-STRUCTURED-LOCATION;VALUE=URI;X-ADDRESS=Chronic Guru Deland 146 N Woodland Blvd Deland FL 32720 United States;X-APPLE-RADIUS=500;X-TITLE=146 N Woodland Blvd:geo:-81.3036333,29.0297711
END:VEVENT
BEGIN:VEVENT
DTSTART;TZID=America/New_York:20280615T190000
DTEND;TZID=America/New_York:20280615T190000
DTSTAMP:20260420T070235
CREATED:20260105T003147Z
LAST-MODIFIED:20260105T054236Z
UID:10012350-1844708400-1844708400@epictriviafl.com
SUMMARY:Dirty Bingo
DESCRIPTION:
URL:https://epictriviafl.com/event/dirty-bingo-chronic-deland/2028-06-15/
LOCATION:Chronic Guru Deland\, 146 N Woodland Blvd\, Deland\, FL\, 32720\, United States
GEO:29.0297711;-81.3036333
X-APPLE-STRUCTURED-LOCATION;VALUE=URI;X-ADDRESS=Chronic Guru Deland 146 N Woodland Blvd Deland FL 32720 United States;X-APPLE-RADIUS=500;X-TITLE=146 N Woodland Blvd:geo:-81.3036333,29.0297711
END:VEVENT
BEGIN:VEVENT
DTSTART;TZID=America/New_York:20280622T190000
DTEND;TZID=America/New_York:20280622T190000
DTSTAMP:20260420T070235
CREATED:20260105T003147Z
LAST-MODIFIED:20260105T054236Z
UID:10012351-1845313200-1845313200@epictriviafl.com
SUMMARY:Dirty Bingo
DESCRIPTION:
URL:https://epictriviafl.com/event/dirty-bingo-chronic-deland/2028-06-22/
LOCATION:Chronic Guru Deland\, 146 N Woodland Blvd\, Deland\, FL\, 32720\, United States
GEO:29.0297711;-81.3036333
X-APPLE-STRUCTURED-LOCATION;VALUE=URI;X-ADDRESS=Chronic Guru Deland 146 N Woodland Blvd Deland FL 32720 United States;X-APPLE-RADIUS=500;X-TITLE=146 N Woodland Blvd:geo:-81.3036333,29.0297711
END:VEVENT
BEGIN:VEVENT
DTSTART;TZID=America/New_York:20280629T190000
DTEND;TZID=America/New_York:20280629T190000
DTSTAMP:20260420T070235
CREATED:20260105T003147Z
LAST-MODIFIED:20260105T054236Z
UID:10012352-1845918000-1845918000@epictriviafl.com
SUMMARY:Dirty Bingo
DESCRIPTION:
URL:https://epictriviafl.com/event/dirty-bingo-chronic-deland/2028-06-29/
LOCATION:Chronic Guru Deland\, 146 N Woodland Blvd\, Deland\, FL\, 32720\, United States
GEO:29.0297711;-81.3036333
X-APPLE-STRUCTURED-LOCATION;VALUE=URI;X-ADDRESS=Chronic Guru Deland 146 N Woodland Blvd Deland FL 32720 United States;X-APPLE-RADIUS=500;X-TITLE=146 N Woodland Blvd:geo:-81.3036333,29.0297711
END:VEVENT
BEGIN:VEVENT
DTSTART;TZID=America/New_York:20280706T190000
DTEND;TZID=America/New_York:20280706T190000
DTSTAMP:20260420T070235
CREATED:20260105T003147Z
LAST-MODIFIED:20260105T054236Z
UID:10012353-1846522800-1846522800@epictriviafl.com
SUMMARY:Dirty Bingo
DESCRIPTION:
URL:https://epictriviafl.com/event/dirty-bingo-chronic-deland/2028-07-06/
LOCATION:Chronic Guru Deland\, 146 N Woodland Blvd\, Deland\, FL\, 32720\, United States
GEO:29.0297711;-81.3036333
X-APPLE-STRUCTURED-LOCATION;VALUE=URI;X-ADDRESS=Chronic Guru Deland 146 N Woodland Blvd Deland FL 32720 United States;X-APPLE-RADIUS=500;X-TITLE=146 N Woodland Blvd:geo:-81.3036333,29.0297711
END:VEVENT
BEGIN:VEVENT
DTSTART;TZID=America/New_York:20280713T190000
DTEND;TZID=America/New_York:20280713T190000
DTSTAMP:20260420T070235
CREATED:20260105T003147Z
LAST-MODIFIED:20260105T054236Z
UID:10012354-1847127600-1847127600@epictriviafl.com
SUMMARY:Dirty Bingo
DESCRIPTION:
URL:https://epictriviafl.com/event/dirty-bingo-chronic-deland/2028-07-13/
LOCATION:Chronic Guru Deland\, 146 N Woodland Blvd\, Deland\, FL\, 32720\, United States
GEO:29.0297711;-81.3036333
X-APPLE-STRUCTURED-LOCATION;VALUE=URI;X-ADDRESS=Chronic Guru Deland 146 N Woodland Blvd Deland FL 32720 United States;X-APPLE-RADIUS=500;X-TITLE=146 N Woodland Blvd:geo:-81.3036333,29.0297711
END:VEVENT
BEGIN:VEVENT
DTSTART;TZID=America/New_York:20280720T190000
DTEND;TZID=America/New_York:20280720T190000
DTSTAMP:20260420T070235
CREATED:20260105T003147Z
LAST-MODIFIED:20260105T054236Z
UID:10012355-1847732400-1847732400@epictriviafl.com
SUMMARY:Dirty Bingo
DESCRIPTION:
URL:https://epictriviafl.com/event/dirty-bingo-chronic-deland/2028-07-20/
LOCATION:Chronic Guru Deland\, 146 N Woodland Blvd\, Deland\, FL\, 32720\, United States
GEO:29.0297711;-81.3036333
X-APPLE-STRUCTURED-LOCATION;VALUE=URI;X-ADDRESS=Chronic Guru Deland 146 N Woodland Blvd Deland FL 32720 United States;X-APPLE-RADIUS=500;X-TITLE=146 N Woodland Blvd:geo:-81.3036333,29.0297711
END:VEVENT
BEGIN:VEVENT
DTSTART;TZID=America/New_York:20280727T190000
DTEND;TZID=America/New_York:20280727T190000
DTSTAMP:20260420T070235
CREATED:20260105T003147Z
LAST-MODIFIED:20260105T054236Z
UID:10012356-1848337200-1848337200@epictriviafl.com
SUMMARY:Dirty Bingo
DESCRIPTION:
URL:https://epictriviafl.com/event/dirty-bingo-chronic-deland/2028-07-27/
LOCATION:Chronic Guru Deland\, 146 N Woodland Blvd\, Deland\, FL\, 32720\, United States
GEO:29.0297711;-81.3036333
X-APPLE-STRUCTURED-LOCATION;VALUE=URI;X-ADDRESS=Chronic Guru Deland 146 N Woodland Blvd Deland FL 32720 United States;X-APPLE-RADIUS=500;X-TITLE=146 N Woodland Blvd:geo:-81.3036333,29.0297711
END:VEVENT
BEGIN:VEVENT
DTSTART;TZID=America/New_York:20280803T190000
DTEND;TZID=America/New_York:20280803T190000
DTSTAMP:20260420T070235
CREATED:20260105T003147Z
LAST-MODIFIED:20260105T054236Z
UID:10012357-1848942000-1848942000@epictriviafl.com
SUMMARY:Dirty Bingo
DESCRIPTION:
URL:https://epictriviafl.com/event/dirty-bingo-chronic-deland/2028-08-03/
LOCATION:Chronic Guru Deland\, 146 N Woodland Blvd\, Deland\, FL\, 32720\, United States
GEO:29.0297711;-81.3036333
X-APPLE-STRUCTURED-LOCATION;VALUE=URI;X-ADDRESS=Chronic Guru Deland 146 N Woodland Blvd Deland FL 32720 United States;X-APPLE-RADIUS=500;X-TITLE=146 N Woodland Blvd:geo:-81.3036333,29.0297711
END:VEVENT
BEGIN:VEVENT
DTSTART;TZID=America/New_York:20280810T190000
DTEND;TZID=America/New_York:20280810T190000
DTSTAMP:20260420T070235
CREATED:20260105T003147Z
LAST-MODIFIED:20260105T054236Z
UID:10012358-1849546800-1849546800@epictriviafl.com
SUMMARY:Dirty Bingo
DESCRIPTION:
URL:https://epictriviafl.com/event/dirty-bingo-chronic-deland/2028-08-10/
LOCATION:Chronic Guru Deland\, 146 N Woodland Blvd\, Deland\, FL\, 32720\, United States
GEO:29.0297711;-81.3036333
X-APPLE-STRUCTURED-LOCATION;VALUE=URI;X-ADDRESS=Chronic Guru Deland 146 N Woodland Blvd Deland FL 32720 United States;X-APPLE-RADIUS=500;X-TITLE=146 N Woodland Blvd:geo:-81.3036333,29.0297711
END:VEVENT
BEGIN:VEVENT
DTSTART;TZID=America/New_York:20280817T190000
DTEND;TZID=America/New_York:20280817T190000
DTSTAMP:20260420T070235
CREATED:20260105T003147Z
LAST-MODIFIED:20260105T054236Z
UID:10012359-1850151600-1850151600@epictriviafl.com
SUMMARY:Dirty Bingo
DESCRIPTION:
URL:https://epictriviafl.com/event/dirty-bingo-chronic-deland/2028-08-17/
LOCATION:Chronic Guru Deland\, 146 N Woodland Blvd\, Deland\, FL\, 32720\, United States
GEO:29.0297711;-81.3036333
X-APPLE-STRUCTURED-LOCATION;VALUE=URI;X-ADDRESS=Chronic Guru Deland 146 N Woodland Blvd Deland FL 32720 United States;X-APPLE-RADIUS=500;X-TITLE=146 N Woodland Blvd:geo:-81.3036333,29.0297711
END:VEVENT
BEGIN:VEVENT
DTSTART;TZID=America/New_York:20280824T190000
DTEND;TZID=America/New_York:20280824T190000
DTSTAMP:20260420T070235
CREATED:20260105T003147Z
LAST-MODIFIED:20260105T054236Z
UID:10012360-1850756400-1850756400@epictriviafl.com
SUMMARY:Dirty Bingo
DESCRIPTION:
URL:https://epictriviafl.com/event/dirty-bingo-chronic-deland/2028-08-24/
LOCATION:Chronic Guru Deland\, 146 N Woodland Blvd\, Deland\, FL\, 32720\, United States
GEO:29.0297711;-81.3036333
X-APPLE-STRUCTURED-LOCATION;VALUE=URI;X-ADDRESS=Chronic Guru Deland 146 N Woodland Blvd Deland FL 32720 United States;X-APPLE-RADIUS=500;X-TITLE=146 N Woodland Blvd:geo:-81.3036333,29.0297711
END:VEVENT
BEGIN:VEVENT
DTSTART;TZID=America/New_York:20280831T190000
DTEND;TZID=America/New_York:20280831T190000
DTSTAMP:20260420T070235
CREATED:20260105T003147Z
LAST-MODIFIED:20260105T054236Z
UID:10012361-1851361200-1851361200@epictriviafl.com
SUMMARY:Dirty Bingo
DESCRIPTION:
URL:https://epictriviafl.com/event/dirty-bingo-chronic-deland/2028-08-31/
LOCATION:Chronic Guru Deland\, 146 N Woodland Blvd\, Deland\, FL\, 32720\, United States
GEO:29.0297711;-81.3036333
X-APPLE-STRUCTURED-LOCATION;VALUE=URI;X-ADDRESS=Chronic Guru Deland 146 N Woodland Blvd Deland FL 32720 United States;X-APPLE-RADIUS=500;X-TITLE=146 N Woodland Blvd:geo:-81.3036333,29.0297711
END:VEVENT
BEGIN:VEVENT
DTSTART;TZID=America/New_York:20280907T190000
DTEND;TZID=America/New_York:20280907T190000
DTSTAMP:20260420T070235
CREATED:20260105T003147Z
LAST-MODIFIED:20260105T054236Z
UID:10012362-1851966000-1851966000@epictriviafl.com
SUMMARY:Dirty Bingo
DESCRIPTION:
URL:https://epictriviafl.com/event/dirty-bingo-chronic-deland/2028-09-07/
LOCATION:Chronic Guru Deland\, 146 N Woodland Blvd\, Deland\, FL\, 32720\, United States
GEO:29.0297711;-81.3036333
X-APPLE-STRUCTURED-LOCATION;VALUE=URI;X-ADDRESS=Chronic Guru Deland 146 N Woodland Blvd Deland FL 32720 United States;X-APPLE-RADIUS=500;X-TITLE=146 N Woodland Blvd:geo:-81.3036333,29.0297711
END:VEVENT
BEGIN:VEVENT
DTSTART;TZID=America/New_York:20280914T190000
DTEND;TZID=America/New_York:20280914T190000
DTSTAMP:20260420T070235
CREATED:20260105T003147Z
LAST-MODIFIED:20260105T054236Z
UID:10012363-1852570800-1852570800@epictriviafl.com
SUMMARY:Dirty Bingo
DESCRIPTION:
URL:https://epictriviafl.com/event/dirty-bingo-chronic-deland/2028-09-14/
LOCATION:Chronic Guru Deland\, 146 N Woodland Blvd\, Deland\, FL\, 32720\, United States
GEO:29.0297711;-81.3036333
X-APPLE-STRUCTURED-LOCATION;VALUE=URI;X-ADDRESS=Chronic Guru Deland 146 N Woodland Blvd Deland FL 32720 United States;X-APPLE-RADIUS=500;X-TITLE=146 N Woodland Blvd:geo:-81.3036333,29.0297711
END:VEVENT
BEGIN:VEVENT
DTSTART;TZID=America/New_York:20280921T190000
DTEND;TZID=America/New_York:20280921T190000
DTSTAMP:20260420T070235
CREATED:20260105T003147Z
LAST-MODIFIED:20260105T054236Z
UID:10012364-1853175600-1853175600@epictriviafl.com
SUMMARY:Dirty Bingo
DESCRIPTION:
URL:https://epictriviafl.com/event/dirty-bingo-chronic-deland/2028-09-21/
LOCATION:Chronic Guru Deland\, 146 N Woodland Blvd\, Deland\, FL\, 32720\, United States
GEO:29.0297711;-81.3036333
X-APPLE-STRUCTURED-LOCATION;VALUE=URI;X-ADDRESS=Chronic Guru Deland 146 N Woodland Blvd Deland FL 32720 United States;X-APPLE-RADIUS=500;X-TITLE=146 N Woodland Blvd:geo:-81.3036333,29.0297711
END:VEVENT
BEGIN:VEVENT
DTSTART;TZID=America/New_York:20280928T190000
DTEND;TZID=America/New_York:20280928T190000
DTSTAMP:20260420T070235
CREATED:20260105T003147Z
LAST-MODIFIED:20260105T054236Z
UID:10012365-1853780400-1853780400@epictriviafl.com
SUMMARY:Dirty Bingo
DESCRIPTION:
URL:https://epictriviafl.com/event/dirty-bingo-chronic-deland/2028-09-28/
LOCATION:Chronic Guru Deland\, 146 N Woodland Blvd\, Deland\, FL\, 32720\, United States
GEO:29.0297711;-81.3036333
X-APPLE-STRUCTURED-LOCATION;VALUE=URI;X-ADDRESS=Chronic Guru Deland 146 N Woodland Blvd Deland FL 32720 United States;X-APPLE-RADIUS=500;X-TITLE=146 N Woodland Blvd:geo:-81.3036333,29.0297711
END:VEVENT
BEGIN:VEVENT
DTSTART;TZID=America/New_York:20281005T190000
DTEND;TZID=America/New_York:20281005T190000
DTSTAMP:20260420T070235
CREATED:20260105T003147Z
LAST-MODIFIED:20260105T054236Z
UID:10012366-1854385200-1854385200@epictriviafl.com
SUMMARY:Dirty Bingo
DESCRIPTION:
URL:https://epictriviafl.com/event/dirty-bingo-chronic-deland/2028-10-05/
LOCATION:Chronic Guru Deland\, 146 N Woodland Blvd\, Deland\, FL\, 32720\, United States
GEO:29.0297711;-81.3036333
X-APPLE-STRUCTURED-LOCATION;VALUE=URI;X-ADDRESS=Chronic Guru Deland 146 N Woodland Blvd Deland FL 32720 United States;X-APPLE-RADIUS=500;X-TITLE=146 N Woodland Blvd:geo:-81.3036333,29.0297711
END:VEVENT
BEGIN:VEVENT
DTSTART;TZID=America/New_York:20281012T190000
DTEND;TZID=America/New_York:20281012T190000
DTSTAMP:20260420T070235
CREATED:20260105T003147Z
LAST-MODIFIED:20260105T054236Z
UID:10012367-1854990000-1854990000@epictriviafl.com
SUMMARY:Dirty Bingo
DESCRIPTION:
URL:https://epictriviafl.com/event/dirty-bingo-chronic-deland/2028-10-12/
LOCATION:Chronic Guru Deland\, 146 N Woodland Blvd\, Deland\, FL\, 32720\, United States
GEO:29.0297711;-81.3036333
X-APPLE-STRUCTURED-LOCATION;VALUE=URI;X-ADDRESS=Chronic Guru Deland 146 N Woodland Blvd Deland FL 32720 United States;X-APPLE-RADIUS=500;X-TITLE=146 N Woodland Blvd:geo:-81.3036333,29.0297711
END:VEVENT
BEGIN:VEVENT
DTSTART;TZID=America/New_York:20281019T190000
DTEND;TZID=America/New_York:20281019T190000
DTSTAMP:20260420T070235
CREATED:20260105T003147Z
LAST-MODIFIED:20260105T054236Z
UID:10012368-1855594800-1855594800@epictriviafl.com
SUMMARY:Dirty Bingo
DESCRIPTION:
URL:https://epictriviafl.com/event/dirty-bingo-chronic-deland/2028-10-19/
LOCATION:Chronic Guru Deland\, 146 N Woodland Blvd\, Deland\, FL\, 32720\, United States
GEO:29.0297711;-81.3036333
X-APPLE-STRUCTURED-LOCATION;VALUE=URI;X-ADDRESS=Chronic Guru Deland 146 N Woodland Blvd Deland FL 32720 United States;X-APPLE-RADIUS=500;X-TITLE=146 N Woodland Blvd:geo:-81.3036333,29.0297711
END:VEVENT
BEGIN:VEVENT
DTSTART;TZID=America/New_York:20281026T190000
DTEND;TZID=America/New_York:20281026T190000
DTSTAMP:20260420T070235
CREATED:20260105T003147Z
LAST-MODIFIED:20260105T054236Z
UID:10012369-1856199600-1856199600@epictriviafl.com
SUMMARY:Dirty Bingo
DESCRIPTION:
URL:https://epictriviafl.com/event/dirty-bingo-chronic-deland/2028-10-26/
LOCATION:Chronic Guru Deland\, 146 N Woodland Blvd\, Deland\, FL\, 32720\, United States
GEO:29.0297711;-81.3036333
X-APPLE-STRUCTURED-LOCATION;VALUE=URI;X-ADDRESS=Chronic Guru Deland 146 N Woodland Blvd Deland FL 32720 United States;X-APPLE-RADIUS=500;X-TITLE=146 N Woodland Blvd:geo:-81.3036333,29.0297711
END:VEVENT
BEGIN:VEVENT
DTSTART;TZID=America/New_York:20281102T190000
DTEND;TZID=America/New_York:20281102T190000
DTSTAMP:20260420T070235
CREATED:20260105T003147Z
LAST-MODIFIED:20260105T054236Z
UID:10012370-1856804400-1856804400@epictriviafl.com
SUMMARY:Dirty Bingo
DESCRIPTION:
URL:https://epictriviafl.com/event/dirty-bingo-chronic-deland/2028-11-02/
LOCATION:Chronic Guru Deland\, 146 N Woodland Blvd\, Deland\, FL\, 32720\, United States
GEO:29.0297711;-81.3036333
X-APPLE-STRUCTURED-LOCATION;VALUE=URI;X-ADDRESS=Chronic Guru Deland 146 N Woodland Blvd Deland FL 32720 United States;X-APPLE-RADIUS=500;X-TITLE=146 N Woodland Blvd:geo:-81.3036333,29.0297711
END:VEVENT
BEGIN:VEVENT
DTSTART;TZID=America/New_York:20281109T190000
DTEND;TZID=America/New_York:20281109T190000
DTSTAMP:20260420T070235
CREATED:20260105T003147Z
LAST-MODIFIED:20260105T054236Z
UID:10012371-1857409200-1857409200@epictriviafl.com
SUMMARY:Dirty Bingo
DESCRIPTION:
URL:https://epictriviafl.com/event/dirty-bingo-chronic-deland/2028-11-09/
LOCATION:Chronic Guru Deland\, 146 N Woodland Blvd\, Deland\, FL\, 32720\, United States
GEO:29.0297711;-81.3036333
X-APPLE-STRUCTURED-LOCATION;VALUE=URI;X-ADDRESS=Chronic Guru Deland 146 N Woodland Blvd Deland FL 32720 United States;X-APPLE-RADIUS=500;X-TITLE=146 N Woodland Blvd:geo:-81.3036333,29.0297711
END:VEVENT
BEGIN:VEVENT
DTSTART;TZID=America/New_York:20281116T190000
DTEND;TZID=America/New_York:20281116T190000
DTSTAMP:20260420T070235
CREATED:20260105T003147Z
LAST-MODIFIED:20260105T054236Z
UID:10012372-1858014000-1858014000@epictriviafl.com
SUMMARY:Dirty Bingo
DESCRIPTION:
URL:https://epictriviafl.com/event/dirty-bingo-chronic-deland/2028-11-16/
LOCATION:Chronic Guru Deland\, 146 N Woodland Blvd\, Deland\, FL\, 32720\, United States
GEO:29.0297711;-81.3036333
X-APPLE-STRUCTURED-LOCATION;VALUE=URI;X-ADDRESS=Chronic Guru Deland 146 N Woodland Blvd Deland FL 32720 United States;X-APPLE-RADIUS=500;X-TITLE=146 N Woodland Blvd:geo:-81.3036333,29.0297711
END:VEVENT
BEGIN:VEVENT
DTSTART;TZID=America/New_York:20281123T190000
DTEND;TZID=America/New_York:20281123T190000
DTSTAMP:20260420T070235
CREATED:20260105T003147Z
LAST-MODIFIED:20260105T054236Z
UID:10012373-1858618800-1858618800@epictriviafl.com
SUMMARY:Dirty Bingo
DESCRIPTION:
URL:https://epictriviafl.com/event/dirty-bingo-chronic-deland/2028-11-23/
LOCATION:Chronic Guru Deland\, 146 N Woodland Blvd\, Deland\, FL\, 32720\, United States
GEO:29.0297711;-81.3036333
X-APPLE-STRUCTURED-LOCATION;VALUE=URI;X-ADDRESS=Chronic Guru Deland 146 N Woodland Blvd Deland FL 32720 United States;X-APPLE-RADIUS=500;X-TITLE=146 N Woodland Blvd:geo:-81.3036333,29.0297711
END:VEVENT
BEGIN:VEVENT
DTSTART;TZID=America/New_York:20281130T190000
DTEND;TZID=America/New_York:20281130T190000
DTSTAMP:20260420T070235
CREATED:20260105T003147Z
LAST-MODIFIED:20260105T054236Z
UID:10012374-1859223600-1859223600@epictriviafl.com
SUMMARY:Dirty Bingo
DESCRIPTION:
URL:https://epictriviafl.com/event/dirty-bingo-chronic-deland/2028-11-30/
LOCATION:Chronic Guru Deland\, 146 N Woodland Blvd\, Deland\, FL\, 32720\, United States
GEO:29.0297711;-81.3036333
X-APPLE-STRUCTURED-LOCATION;VALUE=URI;X-ADDRESS=Chronic Guru Deland 146 N Woodland Blvd Deland FL 32720 United States;X-APPLE-RADIUS=500;X-TITLE=146 N Woodland Blvd:geo:-81.3036333,29.0297711
END:VEVENT
BEGIN:VEVENT
DTSTART;TZID=America/New_York:20281207T190000
DTEND;TZID=America/New_York:20281207T190000
DTSTAMP:20260420T070235
CREATED:20260105T003147Z
LAST-MODIFIED:20260105T054236Z
UID:10012375-1859828400-1859828400@epictriviafl.com
SUMMARY:Dirty Bingo
DESCRIPTION:
URL:https://epictriviafl.com/event/dirty-bingo-chronic-deland/2028-12-07/
LOCATION:Chronic Guru Deland\, 146 N Woodland Blvd\, Deland\, FL\, 32720\, United States
GEO:29.0297711;-81.3036333
X-APPLE-STRUCTURED-LOCATION;VALUE=URI;X-ADDRESS=Chronic Guru Deland 146 N Woodland Blvd Deland FL 32720 United States;X-APPLE-RADIUS=500;X-TITLE=146 N Woodland Blvd:geo:-81.3036333,29.0297711
END:VEVENT
END:VCALENDAR