BEGIN:VCALENDAR
VERSION:2.0
PRODID:-//Epic Trivia - ECPv6.15.18//NONSGML v1.0//EN
CALSCALE:GREGORIAN
METHOD:PUBLISH
X-WR-CALNAME:Epic Trivia
X-ORIGINAL-URL:https://epictriviafl.com
X-WR-CALDESC:Events for Epic Trivia
REFRESH-INTERVAL;VALUE=DURATION:PT1H
X-Robots-Tag:noindex
X-PUBLISHED-TTL:PT1H
BEGIN:VTIMEZONE
TZID:America/New_York
BEGIN:DAYLIGHT
TZOFFSETFROM:-0500
TZOFFSETTO:-0400
TZNAME:EDT
DTSTART:20260308T070000
END:DAYLIGHT
BEGIN:STANDARD
TZOFFSETFROM:-0400
TZOFFSETTO:-0500
TZNAME:EST
DTSTART:20261101T060000
END:STANDARD
BEGIN:DAYLIGHT
TZOFFSETFROM:-0500
TZOFFSETTO:-0400
TZNAME:EDT
DTSTART:20270314T070000
END:DAYLIGHT
BEGIN:STANDARD
TZOFFSETFROM:-0400
TZOFFSETTO:-0500
TZNAME:EST
DTSTART:20271107T060000
END:STANDARD
BEGIN:DAYLIGHT
TZOFFSETFROM:-0500
TZOFFSETTO:-0400
TZNAME:EDT
DTSTART:20280312T070000
END:DAYLIGHT
BEGIN:STANDARD
TZOFFSETFROM:-0400
TZOFFSETTO:-0500
TZNAME:EST
DTSTART:20281105T060000
END:STANDARD
END:VTIMEZONE
BEGIN:VEVENT
DTSTART;TZID=America/New_York:20270327T110000
DTEND;TZID=America/New_York:20270327T110000
DTSTAMP:20260419T180045
CREATED:20260105T003232Z
LAST-MODIFIED:20260105T060317Z
UID:10021389-1806145200-1806145200@epictriviafl.com
SUMMARY:Music Bingo
DESCRIPTION:
URL:https://epictriviafl.com/event/music-bingo-cabanna/2027-03-27/
LOCATION:Cabanna Live\, 4380 Carraway Pl\, Sanford\, FL\, 32771\, United States
GEO:28.8347357;-81.3291546
X-APPLE-STRUCTURED-LOCATION;VALUE=URI;X-ADDRESS=Cabanna Live 4380 Carraway Pl Sanford FL 32771 United States;X-APPLE-RADIUS=500;X-TITLE=4380 Carraway Pl:geo:-81.3291546,28.8347357
END:VEVENT
BEGIN:VEVENT
DTSTART;TZID=America/New_York:20270403T110000
DTEND;TZID=America/New_York:20270403T110000
DTSTAMP:20260419T180045
CREATED:20260105T003232Z
LAST-MODIFIED:20260105T060317Z
UID:10021390-1806750000-1806750000@epictriviafl.com
SUMMARY:Music Bingo
DESCRIPTION:
URL:https://epictriviafl.com/event/music-bingo-cabanna/2027-04-03/
LOCATION:Cabanna Live\, 4380 Carraway Pl\, Sanford\, FL\, 32771\, United States
GEO:28.8347357;-81.3291546
X-APPLE-STRUCTURED-LOCATION;VALUE=URI;X-ADDRESS=Cabanna Live 4380 Carraway Pl Sanford FL 32771 United States;X-APPLE-RADIUS=500;X-TITLE=4380 Carraway Pl:geo:-81.3291546,28.8347357
END:VEVENT
BEGIN:VEVENT
DTSTART;TZID=America/New_York:20270410T110000
DTEND;TZID=America/New_York:20270410T110000
DTSTAMP:20260419T180045
CREATED:20260105T003232Z
LAST-MODIFIED:20260105T060317Z
UID:10021391-1807354800-1807354800@epictriviafl.com
SUMMARY:Music Bingo
DESCRIPTION:
URL:https://epictriviafl.com/event/music-bingo-cabanna/2027-04-10/
LOCATION:Cabanna Live\, 4380 Carraway Pl\, Sanford\, FL\, 32771\, United States
GEO:28.8347357;-81.3291546
X-APPLE-STRUCTURED-LOCATION;VALUE=URI;X-ADDRESS=Cabanna Live 4380 Carraway Pl Sanford FL 32771 United States;X-APPLE-RADIUS=500;X-TITLE=4380 Carraway Pl:geo:-81.3291546,28.8347357
END:VEVENT
BEGIN:VEVENT
DTSTART;TZID=America/New_York:20270417T110000
DTEND;TZID=America/New_York:20270417T110000
DTSTAMP:20260419T180045
CREATED:20260105T003232Z
LAST-MODIFIED:20260105T060317Z
UID:10021392-1807959600-1807959600@epictriviafl.com
SUMMARY:Music Bingo
DESCRIPTION:
URL:https://epictriviafl.com/event/music-bingo-cabanna/2027-04-17/
LOCATION:Cabanna Live\, 4380 Carraway Pl\, Sanford\, FL\, 32771\, United States
GEO:28.8347357;-81.3291546
X-APPLE-STRUCTURED-LOCATION;VALUE=URI;X-ADDRESS=Cabanna Live 4380 Carraway Pl Sanford FL 32771 United States;X-APPLE-RADIUS=500;X-TITLE=4380 Carraway Pl:geo:-81.3291546,28.8347357
END:VEVENT
BEGIN:VEVENT
DTSTART;TZID=America/New_York:20270424T110000
DTEND;TZID=America/New_York:20270424T110000
DTSTAMP:20260419T180045
CREATED:20260105T003232Z
LAST-MODIFIED:20260105T060317Z
UID:10021393-1808564400-1808564400@epictriviafl.com
SUMMARY:Music Bingo
DESCRIPTION:
URL:https://epictriviafl.com/event/music-bingo-cabanna/2027-04-24/
LOCATION:Cabanna Live\, 4380 Carraway Pl\, Sanford\, FL\, 32771\, United States
GEO:28.8347357;-81.3291546
X-APPLE-STRUCTURED-LOCATION;VALUE=URI;X-ADDRESS=Cabanna Live 4380 Carraway Pl Sanford FL 32771 United States;X-APPLE-RADIUS=500;X-TITLE=4380 Carraway Pl:geo:-81.3291546,28.8347357
END:VEVENT
BEGIN:VEVENT
DTSTART;TZID=America/New_York:20270501T110000
DTEND;TZID=America/New_York:20270501T110000
DTSTAMP:20260419T180045
CREATED:20260105T003232Z
LAST-MODIFIED:20260105T060317Z
UID:10021394-1809169200-1809169200@epictriviafl.com
SUMMARY:Music Bingo
DESCRIPTION:
URL:https://epictriviafl.com/event/music-bingo-cabanna/2027-05-01/
LOCATION:Cabanna Live\, 4380 Carraway Pl\, Sanford\, FL\, 32771\, United States
GEO:28.8347357;-81.3291546
X-APPLE-STRUCTURED-LOCATION;VALUE=URI;X-ADDRESS=Cabanna Live 4380 Carraway Pl Sanford FL 32771 United States;X-APPLE-RADIUS=500;X-TITLE=4380 Carraway Pl:geo:-81.3291546,28.8347357
END:VEVENT
BEGIN:VEVENT
DTSTART;TZID=America/New_York:20270508T110000
DTEND;TZID=America/New_York:20270508T110000
DTSTAMP:20260419T180045
CREATED:20260105T003232Z
LAST-MODIFIED:20260105T060317Z
UID:10021395-1809774000-1809774000@epictriviafl.com
SUMMARY:Music Bingo
DESCRIPTION:
URL:https://epictriviafl.com/event/music-bingo-cabanna/2027-05-08/
LOCATION:Cabanna Live\, 4380 Carraway Pl\, Sanford\, FL\, 32771\, United States
GEO:28.8347357;-81.3291546
X-APPLE-STRUCTURED-LOCATION;VALUE=URI;X-ADDRESS=Cabanna Live 4380 Carraway Pl Sanford FL 32771 United States;X-APPLE-RADIUS=500;X-TITLE=4380 Carraway Pl:geo:-81.3291546,28.8347357
END:VEVENT
BEGIN:VEVENT
DTSTART;TZID=America/New_York:20270515T110000
DTEND;TZID=America/New_York:20270515T110000
DTSTAMP:20260419T180045
CREATED:20260105T003232Z
LAST-MODIFIED:20260105T060317Z
UID:10021396-1810378800-1810378800@epictriviafl.com
SUMMARY:Music Bingo
DESCRIPTION:
URL:https://epictriviafl.com/event/music-bingo-cabanna/2027-05-15/
LOCATION:Cabanna Live\, 4380 Carraway Pl\, Sanford\, FL\, 32771\, United States
GEO:28.8347357;-81.3291546
X-APPLE-STRUCTURED-LOCATION;VALUE=URI;X-ADDRESS=Cabanna Live 4380 Carraway Pl Sanford FL 32771 United States;X-APPLE-RADIUS=500;X-TITLE=4380 Carraway Pl:geo:-81.3291546,28.8347357
END:VEVENT
BEGIN:VEVENT
DTSTART;TZID=America/New_York:20270522T110000
DTEND;TZID=America/New_York:20270522T110000
DTSTAMP:20260419T180045
CREATED:20260105T003232Z
LAST-MODIFIED:20260105T060317Z
UID:10021397-1810983600-1810983600@epictriviafl.com
SUMMARY:Music Bingo
DESCRIPTION:
URL:https://epictriviafl.com/event/music-bingo-cabanna/2027-05-22/
LOCATION:Cabanna Live\, 4380 Carraway Pl\, Sanford\, FL\, 32771\, United States
GEO:28.8347357;-81.3291546
X-APPLE-STRUCTURED-LOCATION;VALUE=URI;X-ADDRESS=Cabanna Live 4380 Carraway Pl Sanford FL 32771 United States;X-APPLE-RADIUS=500;X-TITLE=4380 Carraway Pl:geo:-81.3291546,28.8347357
END:VEVENT
BEGIN:VEVENT
DTSTART;TZID=America/New_York:20270529T110000
DTEND;TZID=America/New_York:20270529T110000
DTSTAMP:20260419T180045
CREATED:20260105T003232Z
LAST-MODIFIED:20260105T060317Z
UID:10021398-1811588400-1811588400@epictriviafl.com
SUMMARY:Music Bingo
DESCRIPTION:
URL:https://epictriviafl.com/event/music-bingo-cabanna/2027-05-29/
LOCATION:Cabanna Live\, 4380 Carraway Pl\, Sanford\, FL\, 32771\, United States
GEO:28.8347357;-81.3291546
X-APPLE-STRUCTURED-LOCATION;VALUE=URI;X-ADDRESS=Cabanna Live 4380 Carraway Pl Sanford FL 32771 United States;X-APPLE-RADIUS=500;X-TITLE=4380 Carraway Pl:geo:-81.3291546,28.8347357
END:VEVENT
BEGIN:VEVENT
DTSTART;TZID=America/New_York:20270605T110000
DTEND;TZID=America/New_York:20270605T110000
DTSTAMP:20260419T180045
CREATED:20260105T003232Z
LAST-MODIFIED:20260105T060317Z
UID:10021399-1812193200-1812193200@epictriviafl.com
SUMMARY:Music Bingo
DESCRIPTION:
URL:https://epictriviafl.com/event/music-bingo-cabanna/2027-06-05/
LOCATION:Cabanna Live\, 4380 Carraway Pl\, Sanford\, FL\, 32771\, United States
GEO:28.8347357;-81.3291546
X-APPLE-STRUCTURED-LOCATION;VALUE=URI;X-ADDRESS=Cabanna Live 4380 Carraway Pl Sanford FL 32771 United States;X-APPLE-RADIUS=500;X-TITLE=4380 Carraway Pl:geo:-81.3291546,28.8347357
END:VEVENT
BEGIN:VEVENT
DTSTART;TZID=America/New_York:20270612T110000
DTEND;TZID=America/New_York:20270612T110000
DTSTAMP:20260419T180045
CREATED:20260105T003232Z
LAST-MODIFIED:20260105T060317Z
UID:10021400-1812798000-1812798000@epictriviafl.com
SUMMARY:Music Bingo
DESCRIPTION:
URL:https://epictriviafl.com/event/music-bingo-cabanna/2027-06-12/
LOCATION:Cabanna Live\, 4380 Carraway Pl\, Sanford\, FL\, 32771\, United States
GEO:28.8347357;-81.3291546
X-APPLE-STRUCTURED-LOCATION;VALUE=URI;X-ADDRESS=Cabanna Live 4380 Carraway Pl Sanford FL 32771 United States;X-APPLE-RADIUS=500;X-TITLE=4380 Carraway Pl:geo:-81.3291546,28.8347357
END:VEVENT
BEGIN:VEVENT
DTSTART;TZID=America/New_York:20270619T110000
DTEND;TZID=America/New_York:20270619T110000
DTSTAMP:20260419T180045
CREATED:20260105T003232Z
LAST-MODIFIED:20260105T060317Z
UID:10021401-1813402800-1813402800@epictriviafl.com
SUMMARY:Music Bingo
DESCRIPTION:
URL:https://epictriviafl.com/event/music-bingo-cabanna/2027-06-19/
LOCATION:Cabanna Live\, 4380 Carraway Pl\, Sanford\, FL\, 32771\, United States
GEO:28.8347357;-81.3291546
X-APPLE-STRUCTURED-LOCATION;VALUE=URI;X-ADDRESS=Cabanna Live 4380 Carraway Pl Sanford FL 32771 United States;X-APPLE-RADIUS=500;X-TITLE=4380 Carraway Pl:geo:-81.3291546,28.8347357
END:VEVENT
BEGIN:VEVENT
DTSTART;TZID=America/New_York:20270626T110000
DTEND;TZID=America/New_York:20270626T110000
DTSTAMP:20260419T180045
CREATED:20260105T003232Z
LAST-MODIFIED:20260105T060317Z
UID:10021402-1814007600-1814007600@epictriviafl.com
SUMMARY:Music Bingo
DESCRIPTION:
URL:https://epictriviafl.com/event/music-bingo-cabanna/2027-06-26/
LOCATION:Cabanna Live\, 4380 Carraway Pl\, Sanford\, FL\, 32771\, United States
GEO:28.8347357;-81.3291546
X-APPLE-STRUCTURED-LOCATION;VALUE=URI;X-ADDRESS=Cabanna Live 4380 Carraway Pl Sanford FL 32771 United States;X-APPLE-RADIUS=500;X-TITLE=4380 Carraway Pl:geo:-81.3291546,28.8347357
END:VEVENT
BEGIN:VEVENT
DTSTART;TZID=America/New_York:20270703T110000
DTEND;TZID=America/New_York:20270703T110000
DTSTAMP:20260419T180045
CREATED:20260105T003232Z
LAST-MODIFIED:20260105T060317Z
UID:10021403-1814612400-1814612400@epictriviafl.com
SUMMARY:Music Bingo
DESCRIPTION:
URL:https://epictriviafl.com/event/music-bingo-cabanna/2027-07-03/
LOCATION:Cabanna Live\, 4380 Carraway Pl\, Sanford\, FL\, 32771\, United States
GEO:28.8347357;-81.3291546
X-APPLE-STRUCTURED-LOCATION;VALUE=URI;X-ADDRESS=Cabanna Live 4380 Carraway Pl Sanford FL 32771 United States;X-APPLE-RADIUS=500;X-TITLE=4380 Carraway Pl:geo:-81.3291546,28.8347357
END:VEVENT
BEGIN:VEVENT
DTSTART;TZID=America/New_York:20270710T110000
DTEND;TZID=America/New_York:20270710T110000
DTSTAMP:20260419T180045
CREATED:20260105T003232Z
LAST-MODIFIED:20260105T060317Z
UID:10021404-1815217200-1815217200@epictriviafl.com
SUMMARY:Music Bingo
DESCRIPTION:
URL:https://epictriviafl.com/event/music-bingo-cabanna/2027-07-10/
LOCATION:Cabanna Live\, 4380 Carraway Pl\, Sanford\, FL\, 32771\, United States
GEO:28.8347357;-81.3291546
X-APPLE-STRUCTURED-LOCATION;VALUE=URI;X-ADDRESS=Cabanna Live 4380 Carraway Pl Sanford FL 32771 United States;X-APPLE-RADIUS=500;X-TITLE=4380 Carraway Pl:geo:-81.3291546,28.8347357
END:VEVENT
BEGIN:VEVENT
DTSTART;TZID=America/New_York:20270717T110000
DTEND;TZID=America/New_York:20270717T110000
DTSTAMP:20260419T180045
CREATED:20260105T003232Z
LAST-MODIFIED:20260105T060317Z
UID:10021405-1815822000-1815822000@epictriviafl.com
SUMMARY:Music Bingo
DESCRIPTION:
URL:https://epictriviafl.com/event/music-bingo-cabanna/2027-07-17/
LOCATION:Cabanna Live\, 4380 Carraway Pl\, Sanford\, FL\, 32771\, United States
GEO:28.8347357;-81.3291546
X-APPLE-STRUCTURED-LOCATION;VALUE=URI;X-ADDRESS=Cabanna Live 4380 Carraway Pl Sanford FL 32771 United States;X-APPLE-RADIUS=500;X-TITLE=4380 Carraway Pl:geo:-81.3291546,28.8347357
END:VEVENT
BEGIN:VEVENT
DTSTART;TZID=America/New_York:20270724T110000
DTEND;TZID=America/New_York:20270724T110000
DTSTAMP:20260419T180045
CREATED:20260105T003232Z
LAST-MODIFIED:20260105T060317Z
UID:10021406-1816426800-1816426800@epictriviafl.com
SUMMARY:Music Bingo
DESCRIPTION:
URL:https://epictriviafl.com/event/music-bingo-cabanna/2027-07-24/
LOCATION:Cabanna Live\, 4380 Carraway Pl\, Sanford\, FL\, 32771\, United States
GEO:28.8347357;-81.3291546
X-APPLE-STRUCTURED-LOCATION;VALUE=URI;X-ADDRESS=Cabanna Live 4380 Carraway Pl Sanford FL 32771 United States;X-APPLE-RADIUS=500;X-TITLE=4380 Carraway Pl:geo:-81.3291546,28.8347357
END:VEVENT
BEGIN:VEVENT
DTSTART;TZID=America/New_York:20270731T110000
DTEND;TZID=America/New_York:20270731T110000
DTSTAMP:20260419T180045
CREATED:20260105T003232Z
LAST-MODIFIED:20260105T060317Z
UID:10021407-1817031600-1817031600@epictriviafl.com
SUMMARY:Music Bingo
DESCRIPTION:
URL:https://epictriviafl.com/event/music-bingo-cabanna/2027-07-31/
LOCATION:Cabanna Live\, 4380 Carraway Pl\, Sanford\, FL\, 32771\, United States
GEO:28.8347357;-81.3291546
X-APPLE-STRUCTURED-LOCATION;VALUE=URI;X-ADDRESS=Cabanna Live 4380 Carraway Pl Sanford FL 32771 United States;X-APPLE-RADIUS=500;X-TITLE=4380 Carraway Pl:geo:-81.3291546,28.8347357
END:VEVENT
BEGIN:VEVENT
DTSTART;TZID=America/New_York:20270807T110000
DTEND;TZID=America/New_York:20270807T110000
DTSTAMP:20260419T180045
CREATED:20260105T003232Z
LAST-MODIFIED:20260105T060317Z
UID:10021408-1817636400-1817636400@epictriviafl.com
SUMMARY:Music Bingo
DESCRIPTION:
URL:https://epictriviafl.com/event/music-bingo-cabanna/2027-08-07/
LOCATION:Cabanna Live\, 4380 Carraway Pl\, Sanford\, FL\, 32771\, United States
GEO:28.8347357;-81.3291546
X-APPLE-STRUCTURED-LOCATION;VALUE=URI;X-ADDRESS=Cabanna Live 4380 Carraway Pl Sanford FL 32771 United States;X-APPLE-RADIUS=500;X-TITLE=4380 Carraway Pl:geo:-81.3291546,28.8347357
END:VEVENT
BEGIN:VEVENT
DTSTART;TZID=America/New_York:20270814T110000
DTEND;TZID=America/New_York:20270814T110000
DTSTAMP:20260419T180045
CREATED:20260105T003232Z
LAST-MODIFIED:20260105T060317Z
UID:10021409-1818241200-1818241200@epictriviafl.com
SUMMARY:Music Bingo
DESCRIPTION:
URL:https://epictriviafl.com/event/music-bingo-cabanna/2027-08-14/
LOCATION:Cabanna Live\, 4380 Carraway Pl\, Sanford\, FL\, 32771\, United States
GEO:28.8347357;-81.3291546
X-APPLE-STRUCTURED-LOCATION;VALUE=URI;X-ADDRESS=Cabanna Live 4380 Carraway Pl Sanford FL 32771 United States;X-APPLE-RADIUS=500;X-TITLE=4380 Carraway Pl:geo:-81.3291546,28.8347357
END:VEVENT
BEGIN:VEVENT
DTSTART;TZID=America/New_York:20270821T110000
DTEND;TZID=America/New_York:20270821T110000
DTSTAMP:20260419T180045
CREATED:20260105T003232Z
LAST-MODIFIED:20260105T060317Z
UID:10021410-1818846000-1818846000@epictriviafl.com
SUMMARY:Music Bingo
DESCRIPTION:
URL:https://epictriviafl.com/event/music-bingo-cabanna/2027-08-21/
LOCATION:Cabanna Live\, 4380 Carraway Pl\, Sanford\, FL\, 32771\, United States
GEO:28.8347357;-81.3291546
X-APPLE-STRUCTURED-LOCATION;VALUE=URI;X-ADDRESS=Cabanna Live 4380 Carraway Pl Sanford FL 32771 United States;X-APPLE-RADIUS=500;X-TITLE=4380 Carraway Pl:geo:-81.3291546,28.8347357
END:VEVENT
BEGIN:VEVENT
DTSTART;TZID=America/New_York:20270828T110000
DTEND;TZID=America/New_York:20270828T110000
DTSTAMP:20260419T180045
CREATED:20260105T003232Z
LAST-MODIFIED:20260105T060317Z
UID:10021411-1819450800-1819450800@epictriviafl.com
SUMMARY:Music Bingo
DESCRIPTION:
URL:https://epictriviafl.com/event/music-bingo-cabanna/2027-08-28/
LOCATION:Cabanna Live\, 4380 Carraway Pl\, Sanford\, FL\, 32771\, United States
GEO:28.8347357;-81.3291546
X-APPLE-STRUCTURED-LOCATION;VALUE=URI;X-ADDRESS=Cabanna Live 4380 Carraway Pl Sanford FL 32771 United States;X-APPLE-RADIUS=500;X-TITLE=4380 Carraway Pl:geo:-81.3291546,28.8347357
END:VEVENT
BEGIN:VEVENT
DTSTART;TZID=America/New_York:20270904T110000
DTEND;TZID=America/New_York:20270904T110000
DTSTAMP:20260419T180045
CREATED:20260105T003232Z
LAST-MODIFIED:20260105T060317Z
UID:10021412-1820055600-1820055600@epictriviafl.com
SUMMARY:Music Bingo
DESCRIPTION:
URL:https://epictriviafl.com/event/music-bingo-cabanna/2027-09-04/
LOCATION:Cabanna Live\, 4380 Carraway Pl\, Sanford\, FL\, 32771\, United States
GEO:28.8347357;-81.3291546
X-APPLE-STRUCTURED-LOCATION;VALUE=URI;X-ADDRESS=Cabanna Live 4380 Carraway Pl Sanford FL 32771 United States;X-APPLE-RADIUS=500;X-TITLE=4380 Carraway Pl:geo:-81.3291546,28.8347357
END:VEVENT
BEGIN:VEVENT
DTSTART;TZID=America/New_York:20270911T110000
DTEND;TZID=America/New_York:20270911T110000
DTSTAMP:20260419T180045
CREATED:20260105T003232Z
LAST-MODIFIED:20260105T060317Z
UID:10021413-1820660400-1820660400@epictriviafl.com
SUMMARY:Music Bingo
DESCRIPTION:
URL:https://epictriviafl.com/event/music-bingo-cabanna/2027-09-11/
LOCATION:Cabanna Live\, 4380 Carraway Pl\, Sanford\, FL\, 32771\, United States
GEO:28.8347357;-81.3291546
X-APPLE-STRUCTURED-LOCATION;VALUE=URI;X-ADDRESS=Cabanna Live 4380 Carraway Pl Sanford FL 32771 United States;X-APPLE-RADIUS=500;X-TITLE=4380 Carraway Pl:geo:-81.3291546,28.8347357
END:VEVENT
BEGIN:VEVENT
DTSTART;TZID=America/New_York:20270918T110000
DTEND;TZID=America/New_York:20270918T110000
DTSTAMP:20260419T180045
CREATED:20260105T003232Z
LAST-MODIFIED:20260105T060317Z
UID:10021414-1821265200-1821265200@epictriviafl.com
SUMMARY:Music Bingo
DESCRIPTION:
URL:https://epictriviafl.com/event/music-bingo-cabanna/2027-09-18/
LOCATION:Cabanna Live\, 4380 Carraway Pl\, Sanford\, FL\, 32771\, United States
GEO:28.8347357;-81.3291546
X-APPLE-STRUCTURED-LOCATION;VALUE=URI;X-ADDRESS=Cabanna Live 4380 Carraway Pl Sanford FL 32771 United States;X-APPLE-RADIUS=500;X-TITLE=4380 Carraway Pl:geo:-81.3291546,28.8347357
END:VEVENT
BEGIN:VEVENT
DTSTART;TZID=America/New_York:20270925T110000
DTEND;TZID=America/New_York:20270925T110000
DTSTAMP:20260419T180045
CREATED:20260105T003232Z
LAST-MODIFIED:20260105T060317Z
UID:10021415-1821870000-1821870000@epictriviafl.com
SUMMARY:Music Bingo
DESCRIPTION:
URL:https://epictriviafl.com/event/music-bingo-cabanna/2027-09-25/
LOCATION:Cabanna Live\, 4380 Carraway Pl\, Sanford\, FL\, 32771\, United States
GEO:28.8347357;-81.3291546
X-APPLE-STRUCTURED-LOCATION;VALUE=URI;X-ADDRESS=Cabanna Live 4380 Carraway Pl Sanford FL 32771 United States;X-APPLE-RADIUS=500;X-TITLE=4380 Carraway Pl:geo:-81.3291546,28.8347357
END:VEVENT
BEGIN:VEVENT
DTSTART;TZID=America/New_York:20271002T110000
DTEND;TZID=America/New_York:20271002T110000
DTSTAMP:20260419T180045
CREATED:20260105T003232Z
LAST-MODIFIED:20260105T060317Z
UID:10021416-1822474800-1822474800@epictriviafl.com
SUMMARY:Music Bingo
DESCRIPTION:
URL:https://epictriviafl.com/event/music-bingo-cabanna/2027-10-02/
LOCATION:Cabanna Live\, 4380 Carraway Pl\, Sanford\, FL\, 32771\, United States
GEO:28.8347357;-81.3291546
X-APPLE-STRUCTURED-LOCATION;VALUE=URI;X-ADDRESS=Cabanna Live 4380 Carraway Pl Sanford FL 32771 United States;X-APPLE-RADIUS=500;X-TITLE=4380 Carraway Pl:geo:-81.3291546,28.8347357
END:VEVENT
BEGIN:VEVENT
DTSTART;TZID=America/New_York:20271009T110000
DTEND;TZID=America/New_York:20271009T110000
DTSTAMP:20260419T180045
CREATED:20260105T003232Z
LAST-MODIFIED:20260105T060317Z
UID:10021417-1823079600-1823079600@epictriviafl.com
SUMMARY:Music Bingo
DESCRIPTION:
URL:https://epictriviafl.com/event/music-bingo-cabanna/2027-10-09/
LOCATION:Cabanna Live\, 4380 Carraway Pl\, Sanford\, FL\, 32771\, United States
GEO:28.8347357;-81.3291546
X-APPLE-STRUCTURED-LOCATION;VALUE=URI;X-ADDRESS=Cabanna Live 4380 Carraway Pl Sanford FL 32771 United States;X-APPLE-RADIUS=500;X-TITLE=4380 Carraway Pl:geo:-81.3291546,28.8347357
END:VEVENT
BEGIN:VEVENT
DTSTART;TZID=America/New_York:20271016T110000
DTEND;TZID=America/New_York:20271016T110000
DTSTAMP:20260419T180045
CREATED:20260105T003232Z
LAST-MODIFIED:20260105T060317Z
UID:10021418-1823684400-1823684400@epictriviafl.com
SUMMARY:Music Bingo
DESCRIPTION:
URL:https://epictriviafl.com/event/music-bingo-cabanna/2027-10-16/
LOCATION:Cabanna Live\, 4380 Carraway Pl\, Sanford\, FL\, 32771\, United States
GEO:28.8347357;-81.3291546
X-APPLE-STRUCTURED-LOCATION;VALUE=URI;X-ADDRESS=Cabanna Live 4380 Carraway Pl Sanford FL 32771 United States;X-APPLE-RADIUS=500;X-TITLE=4380 Carraway Pl:geo:-81.3291546,28.8347357
END:VEVENT
END:VCALENDAR