BEGIN:VCALENDAR
VERSION:2.0
PRODID:-//Epic Trivia - ECPv6.15.18//NONSGML v1.0//EN
CALSCALE:GREGORIAN
METHOD:PUBLISH
X-WR-CALNAME:Epic Trivia
X-ORIGINAL-URL:https://epictriviafl.com
X-WR-CALDESC:Events for Epic Trivia
REFRESH-INTERVAL;VALUE=DURATION:PT1H
X-Robots-Tag:noindex
X-PUBLISHED-TTL:PT1H
BEGIN:VTIMEZONE
TZID:America/New_York
BEGIN:DAYLIGHT
TZOFFSETFROM:-0500
TZOFFSETTO:-0400
TZNAME:EDT
DTSTART:20280312T070000
END:DAYLIGHT
BEGIN:STANDARD
TZOFFSETFROM:-0400
TZOFFSETTO:-0500
TZNAME:EST
DTSTART:20281105T060000
END:STANDARD
BEGIN:DAYLIGHT
TZOFFSETFROM:-0500
TZOFFSETTO:-0400
TZNAME:EDT
DTSTART:20290311T070000
END:DAYLIGHT
BEGIN:STANDARD
TZOFFSETFROM:-0400
TZOFFSETTO:-0500
TZNAME:EST
DTSTART:20291104T060000
END:STANDARD
BEGIN:DAYLIGHT
TZOFFSETFROM:-0500
TZOFFSETTO:-0400
TZNAME:EDT
DTSTART:20300310T070000
END:DAYLIGHT
BEGIN:STANDARD
TZOFFSETFROM:-0400
TZOFFSETTO:-0500
TZNAME:EST
DTSTART:20301103T060000
END:STANDARD
END:VTIMEZONE
BEGIN:VEVENT
DTSTART;TZID=America/New_York:20290421T110000
DTEND;TZID=America/New_York:20290421T110000
DTSTAMP:20260420T072225
CREATED:20260105T003232Z
LAST-MODIFIED:20260105T060317Z
UID:10021497-1871463600-1871463600@epictriviafl.com
SUMMARY:Music Bingo
DESCRIPTION:
URL:https://epictriviafl.com/event/music-bingo-cabanna/2029-04-21/
LOCATION:Cabanna Live\, 4380 Carraway Pl\, Sanford\, FL\, 32771\, United States
GEO:28.8347357;-81.3291546
X-APPLE-STRUCTURED-LOCATION;VALUE=URI;X-ADDRESS=Cabanna Live 4380 Carraway Pl Sanford FL 32771 United States;X-APPLE-RADIUS=500;X-TITLE=4380 Carraway Pl:geo:-81.3291546,28.8347357
END:VEVENT
BEGIN:VEVENT
DTSTART;TZID=America/New_York:20290428T110000
DTEND;TZID=America/New_York:20290428T110000
DTSTAMP:20260420T072225
CREATED:20260105T003232Z
LAST-MODIFIED:20260105T060317Z
UID:10021498-1872068400-1872068400@epictriviafl.com
SUMMARY:Music Bingo
DESCRIPTION:
URL:https://epictriviafl.com/event/music-bingo-cabanna/2029-04-28/
LOCATION:Cabanna Live\, 4380 Carraway Pl\, Sanford\, FL\, 32771\, United States
GEO:28.8347357;-81.3291546
X-APPLE-STRUCTURED-LOCATION;VALUE=URI;X-ADDRESS=Cabanna Live 4380 Carraway Pl Sanford FL 32771 United States;X-APPLE-RADIUS=500;X-TITLE=4380 Carraway Pl:geo:-81.3291546,28.8347357
END:VEVENT
BEGIN:VEVENT
DTSTART;TZID=America/New_York:20290505T110000
DTEND;TZID=America/New_York:20290505T110000
DTSTAMP:20260420T072225
CREATED:20260105T003232Z
LAST-MODIFIED:20260105T060317Z
UID:10021499-1872673200-1872673200@epictriviafl.com
SUMMARY:Music Bingo
DESCRIPTION:
URL:https://epictriviafl.com/event/music-bingo-cabanna/2029-05-05/
LOCATION:Cabanna Live\, 4380 Carraway Pl\, Sanford\, FL\, 32771\, United States
GEO:28.8347357;-81.3291546
X-APPLE-STRUCTURED-LOCATION;VALUE=URI;X-ADDRESS=Cabanna Live 4380 Carraway Pl Sanford FL 32771 United States;X-APPLE-RADIUS=500;X-TITLE=4380 Carraway Pl:geo:-81.3291546,28.8347357
END:VEVENT
BEGIN:VEVENT
DTSTART;TZID=America/New_York:20290512T110000
DTEND;TZID=America/New_York:20290512T110000
DTSTAMP:20260420T072225
CREATED:20260105T003232Z
LAST-MODIFIED:20260105T060317Z
UID:10021500-1873278000-1873278000@epictriviafl.com
SUMMARY:Music Bingo
DESCRIPTION:
URL:https://epictriviafl.com/event/music-bingo-cabanna/2029-05-12/
LOCATION:Cabanna Live\, 4380 Carraway Pl\, Sanford\, FL\, 32771\, United States
GEO:28.8347357;-81.3291546
X-APPLE-STRUCTURED-LOCATION;VALUE=URI;X-ADDRESS=Cabanna Live 4380 Carraway Pl Sanford FL 32771 United States;X-APPLE-RADIUS=500;X-TITLE=4380 Carraway Pl:geo:-81.3291546,28.8347357
END:VEVENT
BEGIN:VEVENT
DTSTART;TZID=America/New_York:20290519T110000
DTEND;TZID=America/New_York:20290519T110000
DTSTAMP:20260420T072225
CREATED:20260105T003232Z
LAST-MODIFIED:20260105T060317Z
UID:10021501-1873882800-1873882800@epictriviafl.com
SUMMARY:Music Bingo
DESCRIPTION:
URL:https://epictriviafl.com/event/music-bingo-cabanna/2029-05-19/
LOCATION:Cabanna Live\, 4380 Carraway Pl\, Sanford\, FL\, 32771\, United States
GEO:28.8347357;-81.3291546
X-APPLE-STRUCTURED-LOCATION;VALUE=URI;X-ADDRESS=Cabanna Live 4380 Carraway Pl Sanford FL 32771 United States;X-APPLE-RADIUS=500;X-TITLE=4380 Carraway Pl:geo:-81.3291546,28.8347357
END:VEVENT
BEGIN:VEVENT
DTSTART;TZID=America/New_York:20290526T110000
DTEND;TZID=America/New_York:20290526T110000
DTSTAMP:20260420T072225
CREATED:20260105T003232Z
LAST-MODIFIED:20260105T060317Z
UID:10021502-1874487600-1874487600@epictriviafl.com
SUMMARY:Music Bingo
DESCRIPTION:
URL:https://epictriviafl.com/event/music-bingo-cabanna/2029-05-26/
LOCATION:Cabanna Live\, 4380 Carraway Pl\, Sanford\, FL\, 32771\, United States
GEO:28.8347357;-81.3291546
X-APPLE-STRUCTURED-LOCATION;VALUE=URI;X-ADDRESS=Cabanna Live 4380 Carraway Pl Sanford FL 32771 United States;X-APPLE-RADIUS=500;X-TITLE=4380 Carraway Pl:geo:-81.3291546,28.8347357
END:VEVENT
BEGIN:VEVENT
DTSTART;TZID=America/New_York:20290602T110000
DTEND;TZID=America/New_York:20290602T110000
DTSTAMP:20260420T072225
CREATED:20260105T003232Z
LAST-MODIFIED:20260105T060317Z
UID:10021503-1875092400-1875092400@epictriviafl.com
SUMMARY:Music Bingo
DESCRIPTION:
URL:https://epictriviafl.com/event/music-bingo-cabanna/2029-06-02/
LOCATION:Cabanna Live\, 4380 Carraway Pl\, Sanford\, FL\, 32771\, United States
GEO:28.8347357;-81.3291546
X-APPLE-STRUCTURED-LOCATION;VALUE=URI;X-ADDRESS=Cabanna Live 4380 Carraway Pl Sanford FL 32771 United States;X-APPLE-RADIUS=500;X-TITLE=4380 Carraway Pl:geo:-81.3291546,28.8347357
END:VEVENT
BEGIN:VEVENT
DTSTART;TZID=America/New_York:20290609T110000
DTEND;TZID=America/New_York:20290609T110000
DTSTAMP:20260420T072225
CREATED:20260105T003232Z
LAST-MODIFIED:20260105T060317Z
UID:10021504-1875697200-1875697200@epictriviafl.com
SUMMARY:Music Bingo
DESCRIPTION:
URL:https://epictriviafl.com/event/music-bingo-cabanna/2029-06-09/
LOCATION:Cabanna Live\, 4380 Carraway Pl\, Sanford\, FL\, 32771\, United States
GEO:28.8347357;-81.3291546
X-APPLE-STRUCTURED-LOCATION;VALUE=URI;X-ADDRESS=Cabanna Live 4380 Carraway Pl Sanford FL 32771 United States;X-APPLE-RADIUS=500;X-TITLE=4380 Carraway Pl:geo:-81.3291546,28.8347357
END:VEVENT
BEGIN:VEVENT
DTSTART;TZID=America/New_York:20290616T110000
DTEND;TZID=America/New_York:20290616T110000
DTSTAMP:20260420T072225
CREATED:20260105T003232Z
LAST-MODIFIED:20260105T060317Z
UID:10021505-1876302000-1876302000@epictriviafl.com
SUMMARY:Music Bingo
DESCRIPTION:
URL:https://epictriviafl.com/event/music-bingo-cabanna/2029-06-16/
LOCATION:Cabanna Live\, 4380 Carraway Pl\, Sanford\, FL\, 32771\, United States
GEO:28.8347357;-81.3291546
X-APPLE-STRUCTURED-LOCATION;VALUE=URI;X-ADDRESS=Cabanna Live 4380 Carraway Pl Sanford FL 32771 United States;X-APPLE-RADIUS=500;X-TITLE=4380 Carraway Pl:geo:-81.3291546,28.8347357
END:VEVENT
BEGIN:VEVENT
DTSTART;TZID=America/New_York:20290623T110000
DTEND;TZID=America/New_York:20290623T110000
DTSTAMP:20260420T072225
CREATED:20260105T003232Z
LAST-MODIFIED:20260105T060317Z
UID:10021506-1876906800-1876906800@epictriviafl.com
SUMMARY:Music Bingo
DESCRIPTION:
URL:https://epictriviafl.com/event/music-bingo-cabanna/2029-06-23/
LOCATION:Cabanna Live\, 4380 Carraway Pl\, Sanford\, FL\, 32771\, United States
GEO:28.8347357;-81.3291546
X-APPLE-STRUCTURED-LOCATION;VALUE=URI;X-ADDRESS=Cabanna Live 4380 Carraway Pl Sanford FL 32771 United States;X-APPLE-RADIUS=500;X-TITLE=4380 Carraway Pl:geo:-81.3291546,28.8347357
END:VEVENT
BEGIN:VEVENT
DTSTART;TZID=America/New_York:20290630T110000
DTEND;TZID=America/New_York:20290630T110000
DTSTAMP:20260420T072225
CREATED:20260105T003232Z
LAST-MODIFIED:20260105T060317Z
UID:10021507-1877511600-1877511600@epictriviafl.com
SUMMARY:Music Bingo
DESCRIPTION:
URL:https://epictriviafl.com/event/music-bingo-cabanna/2029-06-30/
LOCATION:Cabanna Live\, 4380 Carraway Pl\, Sanford\, FL\, 32771\, United States
GEO:28.8347357;-81.3291546
X-APPLE-STRUCTURED-LOCATION;VALUE=URI;X-ADDRESS=Cabanna Live 4380 Carraway Pl Sanford FL 32771 United States;X-APPLE-RADIUS=500;X-TITLE=4380 Carraway Pl:geo:-81.3291546,28.8347357
END:VEVENT
BEGIN:VEVENT
DTSTART;TZID=America/New_York:20290707T110000
DTEND;TZID=America/New_York:20290707T110000
DTSTAMP:20260420T072225
CREATED:20260105T003232Z
LAST-MODIFIED:20260105T060317Z
UID:10021508-1878116400-1878116400@epictriviafl.com
SUMMARY:Music Bingo
DESCRIPTION:
URL:https://epictriviafl.com/event/music-bingo-cabanna/2029-07-07/
LOCATION:Cabanna Live\, 4380 Carraway Pl\, Sanford\, FL\, 32771\, United States
GEO:28.8347357;-81.3291546
X-APPLE-STRUCTURED-LOCATION;VALUE=URI;X-ADDRESS=Cabanna Live 4380 Carraway Pl Sanford FL 32771 United States;X-APPLE-RADIUS=500;X-TITLE=4380 Carraway Pl:geo:-81.3291546,28.8347357
END:VEVENT
BEGIN:VEVENT
DTSTART;TZID=America/New_York:20290714T110000
DTEND;TZID=America/New_York:20290714T110000
DTSTAMP:20260420T072225
CREATED:20260105T003232Z
LAST-MODIFIED:20260105T060317Z
UID:10021509-1878721200-1878721200@epictriviafl.com
SUMMARY:Music Bingo
DESCRIPTION:
URL:https://epictriviafl.com/event/music-bingo-cabanna/2029-07-14/
LOCATION:Cabanna Live\, 4380 Carraway Pl\, Sanford\, FL\, 32771\, United States
GEO:28.8347357;-81.3291546
X-APPLE-STRUCTURED-LOCATION;VALUE=URI;X-ADDRESS=Cabanna Live 4380 Carraway Pl Sanford FL 32771 United States;X-APPLE-RADIUS=500;X-TITLE=4380 Carraway Pl:geo:-81.3291546,28.8347357
END:VEVENT
BEGIN:VEVENT
DTSTART;TZID=America/New_York:20290721T110000
DTEND;TZID=America/New_York:20290721T110000
DTSTAMP:20260420T072225
CREATED:20260105T003232Z
LAST-MODIFIED:20260105T060317Z
UID:10021510-1879326000-1879326000@epictriviafl.com
SUMMARY:Music Bingo
DESCRIPTION:
URL:https://epictriviafl.com/event/music-bingo-cabanna/2029-07-21/
LOCATION:Cabanna Live\, 4380 Carraway Pl\, Sanford\, FL\, 32771\, United States
GEO:28.8347357;-81.3291546
X-APPLE-STRUCTURED-LOCATION;VALUE=URI;X-ADDRESS=Cabanna Live 4380 Carraway Pl Sanford FL 32771 United States;X-APPLE-RADIUS=500;X-TITLE=4380 Carraway Pl:geo:-81.3291546,28.8347357
END:VEVENT
BEGIN:VEVENT
DTSTART;TZID=America/New_York:20290728T110000
DTEND;TZID=America/New_York:20290728T110000
DTSTAMP:20260420T072225
CREATED:20260105T003232Z
LAST-MODIFIED:20260105T060317Z
UID:10021511-1879930800-1879930800@epictriviafl.com
SUMMARY:Music Bingo
DESCRIPTION:
URL:https://epictriviafl.com/event/music-bingo-cabanna/2029-07-28/
LOCATION:Cabanna Live\, 4380 Carraway Pl\, Sanford\, FL\, 32771\, United States
GEO:28.8347357;-81.3291546
X-APPLE-STRUCTURED-LOCATION;VALUE=URI;X-ADDRESS=Cabanna Live 4380 Carraway Pl Sanford FL 32771 United States;X-APPLE-RADIUS=500;X-TITLE=4380 Carraway Pl:geo:-81.3291546,28.8347357
END:VEVENT
BEGIN:VEVENT
DTSTART;TZID=America/New_York:20290804T110000
DTEND;TZID=America/New_York:20290804T110000
DTSTAMP:20260420T072225
CREATED:20260105T003232Z
LAST-MODIFIED:20260105T060317Z
UID:10021512-1880535600-1880535600@epictriviafl.com
SUMMARY:Music Bingo
DESCRIPTION:
URL:https://epictriviafl.com/event/music-bingo-cabanna/2029-08-04/
LOCATION:Cabanna Live\, 4380 Carraway Pl\, Sanford\, FL\, 32771\, United States
GEO:28.8347357;-81.3291546
X-APPLE-STRUCTURED-LOCATION;VALUE=URI;X-ADDRESS=Cabanna Live 4380 Carraway Pl Sanford FL 32771 United States;X-APPLE-RADIUS=500;X-TITLE=4380 Carraway Pl:geo:-81.3291546,28.8347357
END:VEVENT
BEGIN:VEVENT
DTSTART;TZID=America/New_York:20290811T110000
DTEND;TZID=America/New_York:20290811T110000
DTSTAMP:20260420T072225
CREATED:20260105T003232Z
LAST-MODIFIED:20260105T060317Z
UID:10021513-1881140400-1881140400@epictriviafl.com
SUMMARY:Music Bingo
DESCRIPTION:
URL:https://epictriviafl.com/event/music-bingo-cabanna/2029-08-11/
LOCATION:Cabanna Live\, 4380 Carraway Pl\, Sanford\, FL\, 32771\, United States
GEO:28.8347357;-81.3291546
X-APPLE-STRUCTURED-LOCATION;VALUE=URI;X-ADDRESS=Cabanna Live 4380 Carraway Pl Sanford FL 32771 United States;X-APPLE-RADIUS=500;X-TITLE=4380 Carraway Pl:geo:-81.3291546,28.8347357
END:VEVENT
BEGIN:VEVENT
DTSTART;TZID=America/New_York:20290818T110000
DTEND;TZID=America/New_York:20290818T110000
DTSTAMP:20260420T072225
CREATED:20260105T003232Z
LAST-MODIFIED:20260105T060317Z
UID:10021514-1881745200-1881745200@epictriviafl.com
SUMMARY:Music Bingo
DESCRIPTION:
URL:https://epictriviafl.com/event/music-bingo-cabanna/2029-08-18/
LOCATION:Cabanna Live\, 4380 Carraway Pl\, Sanford\, FL\, 32771\, United States
GEO:28.8347357;-81.3291546
X-APPLE-STRUCTURED-LOCATION;VALUE=URI;X-ADDRESS=Cabanna Live 4380 Carraway Pl Sanford FL 32771 United States;X-APPLE-RADIUS=500;X-TITLE=4380 Carraway Pl:geo:-81.3291546,28.8347357
END:VEVENT
BEGIN:VEVENT
DTSTART;TZID=America/New_York:20290825T110000
DTEND;TZID=America/New_York:20290825T110000
DTSTAMP:20260420T072225
CREATED:20260105T003232Z
LAST-MODIFIED:20260105T060317Z
UID:10021515-1882350000-1882350000@epictriviafl.com
SUMMARY:Music Bingo
DESCRIPTION:
URL:https://epictriviafl.com/event/music-bingo-cabanna/2029-08-25/
LOCATION:Cabanna Live\, 4380 Carraway Pl\, Sanford\, FL\, 32771\, United States
GEO:28.8347357;-81.3291546
X-APPLE-STRUCTURED-LOCATION;VALUE=URI;X-ADDRESS=Cabanna Live 4380 Carraway Pl Sanford FL 32771 United States;X-APPLE-RADIUS=500;X-TITLE=4380 Carraway Pl:geo:-81.3291546,28.8347357
END:VEVENT
BEGIN:VEVENT
DTSTART;TZID=America/New_York:20290901T110000
DTEND;TZID=America/New_York:20290901T110000
DTSTAMP:20260420T072225
CREATED:20260105T003232Z
LAST-MODIFIED:20260105T060317Z
UID:10021516-1882954800-1882954800@epictriviafl.com
SUMMARY:Music Bingo
DESCRIPTION:
URL:https://epictriviafl.com/event/music-bingo-cabanna/2029-09-01/
LOCATION:Cabanna Live\, 4380 Carraway Pl\, Sanford\, FL\, 32771\, United States
GEO:28.8347357;-81.3291546
X-APPLE-STRUCTURED-LOCATION;VALUE=URI;X-ADDRESS=Cabanna Live 4380 Carraway Pl Sanford FL 32771 United States;X-APPLE-RADIUS=500;X-TITLE=4380 Carraway Pl:geo:-81.3291546,28.8347357
END:VEVENT
BEGIN:VEVENT
DTSTART;TZID=America/New_York:20290908T110000
DTEND;TZID=America/New_York:20290908T110000
DTSTAMP:20260420T072225
CREATED:20260105T003232Z
LAST-MODIFIED:20260105T060317Z
UID:10021517-1883559600-1883559600@epictriviafl.com
SUMMARY:Music Bingo
DESCRIPTION:
URL:https://epictriviafl.com/event/music-bingo-cabanna/2029-09-08/
LOCATION:Cabanna Live\, 4380 Carraway Pl\, Sanford\, FL\, 32771\, United States
GEO:28.8347357;-81.3291546
X-APPLE-STRUCTURED-LOCATION;VALUE=URI;X-ADDRESS=Cabanna Live 4380 Carraway Pl Sanford FL 32771 United States;X-APPLE-RADIUS=500;X-TITLE=4380 Carraway Pl:geo:-81.3291546,28.8347357
END:VEVENT
BEGIN:VEVENT
DTSTART;TZID=America/New_York:20290915T110000
DTEND;TZID=America/New_York:20290915T110000
DTSTAMP:20260420T072225
CREATED:20260105T003232Z
LAST-MODIFIED:20260105T060317Z
UID:10021518-1884164400-1884164400@epictriviafl.com
SUMMARY:Music Bingo
DESCRIPTION:
URL:https://epictriviafl.com/event/music-bingo-cabanna/2029-09-15/
LOCATION:Cabanna Live\, 4380 Carraway Pl\, Sanford\, FL\, 32771\, United States
GEO:28.8347357;-81.3291546
X-APPLE-STRUCTURED-LOCATION;VALUE=URI;X-ADDRESS=Cabanna Live 4380 Carraway Pl Sanford FL 32771 United States;X-APPLE-RADIUS=500;X-TITLE=4380 Carraway Pl:geo:-81.3291546,28.8347357
END:VEVENT
BEGIN:VEVENT
DTSTART;TZID=America/New_York:20290922T110000
DTEND;TZID=America/New_York:20290922T110000
DTSTAMP:20260420T072225
CREATED:20260105T003232Z
LAST-MODIFIED:20260105T060317Z
UID:10021519-1884769200-1884769200@epictriviafl.com
SUMMARY:Music Bingo
DESCRIPTION:
URL:https://epictriviafl.com/event/music-bingo-cabanna/2029-09-22/
LOCATION:Cabanna Live\, 4380 Carraway Pl\, Sanford\, FL\, 32771\, United States
GEO:28.8347357;-81.3291546
X-APPLE-STRUCTURED-LOCATION;VALUE=URI;X-ADDRESS=Cabanna Live 4380 Carraway Pl Sanford FL 32771 United States;X-APPLE-RADIUS=500;X-TITLE=4380 Carraway Pl:geo:-81.3291546,28.8347357
END:VEVENT
BEGIN:VEVENT
DTSTART;TZID=America/New_York:20290929T110000
DTEND;TZID=America/New_York:20290929T110000
DTSTAMP:20260420T072225
CREATED:20260105T003232Z
LAST-MODIFIED:20260105T060317Z
UID:10021520-1885374000-1885374000@epictriviafl.com
SUMMARY:Music Bingo
DESCRIPTION:
URL:https://epictriviafl.com/event/music-bingo-cabanna/2029-09-29/
LOCATION:Cabanna Live\, 4380 Carraway Pl\, Sanford\, FL\, 32771\, United States
GEO:28.8347357;-81.3291546
X-APPLE-STRUCTURED-LOCATION;VALUE=URI;X-ADDRESS=Cabanna Live 4380 Carraway Pl Sanford FL 32771 United States;X-APPLE-RADIUS=500;X-TITLE=4380 Carraway Pl:geo:-81.3291546,28.8347357
END:VEVENT
BEGIN:VEVENT
DTSTART;TZID=America/New_York:20291006T110000
DTEND;TZID=America/New_York:20291006T110000
DTSTAMP:20260420T072225
CREATED:20260105T003232Z
LAST-MODIFIED:20260105T060317Z
UID:10021521-1885978800-1885978800@epictriviafl.com
SUMMARY:Music Bingo
DESCRIPTION:
URL:https://epictriviafl.com/event/music-bingo-cabanna/2029-10-06/
LOCATION:Cabanna Live\, 4380 Carraway Pl\, Sanford\, FL\, 32771\, United States
GEO:28.8347357;-81.3291546
X-APPLE-STRUCTURED-LOCATION;VALUE=URI;X-ADDRESS=Cabanna Live 4380 Carraway Pl Sanford FL 32771 United States;X-APPLE-RADIUS=500;X-TITLE=4380 Carraway Pl:geo:-81.3291546,28.8347357
END:VEVENT
BEGIN:VEVENT
DTSTART;TZID=America/New_York:20291013T110000
DTEND;TZID=America/New_York:20291013T110000
DTSTAMP:20260420T072225
CREATED:20260105T003232Z
LAST-MODIFIED:20260105T060317Z
UID:10021522-1886583600-1886583600@epictriviafl.com
SUMMARY:Music Bingo
DESCRIPTION:
URL:https://epictriviafl.com/event/music-bingo-cabanna/2029-10-13/
LOCATION:Cabanna Live\, 4380 Carraway Pl\, Sanford\, FL\, 32771\, United States
GEO:28.8347357;-81.3291546
X-APPLE-STRUCTURED-LOCATION;VALUE=URI;X-ADDRESS=Cabanna Live 4380 Carraway Pl Sanford FL 32771 United States;X-APPLE-RADIUS=500;X-TITLE=4380 Carraway Pl:geo:-81.3291546,28.8347357
END:VEVENT
BEGIN:VEVENT
DTSTART;TZID=America/New_York:20291020T110000
DTEND;TZID=America/New_York:20291020T110000
DTSTAMP:20260420T072225
CREATED:20260105T003232Z
LAST-MODIFIED:20260105T060317Z
UID:10021523-1887188400-1887188400@epictriviafl.com
SUMMARY:Music Bingo
DESCRIPTION:
URL:https://epictriviafl.com/event/music-bingo-cabanna/2029-10-20/
LOCATION:Cabanna Live\, 4380 Carraway Pl\, Sanford\, FL\, 32771\, United States
GEO:28.8347357;-81.3291546
X-APPLE-STRUCTURED-LOCATION;VALUE=URI;X-ADDRESS=Cabanna Live 4380 Carraway Pl Sanford FL 32771 United States;X-APPLE-RADIUS=500;X-TITLE=4380 Carraway Pl:geo:-81.3291546,28.8347357
END:VEVENT
BEGIN:VEVENT
DTSTART;TZID=America/New_York:20291027T110000
DTEND;TZID=America/New_York:20291027T110000
DTSTAMP:20260420T072225
CREATED:20260105T003232Z
LAST-MODIFIED:20260105T060317Z
UID:10021524-1887793200-1887793200@epictriviafl.com
SUMMARY:Music Bingo
DESCRIPTION:
URL:https://epictriviafl.com/event/music-bingo-cabanna/2029-10-27/
LOCATION:Cabanna Live\, 4380 Carraway Pl\, Sanford\, FL\, 32771\, United States
GEO:28.8347357;-81.3291546
X-APPLE-STRUCTURED-LOCATION;VALUE=URI;X-ADDRESS=Cabanna Live 4380 Carraway Pl Sanford FL 32771 United States;X-APPLE-RADIUS=500;X-TITLE=4380 Carraway Pl:geo:-81.3291546,28.8347357
END:VEVENT
BEGIN:VEVENT
DTSTART;TZID=America/New_York:20291103T110000
DTEND;TZID=America/New_York:20291103T110000
DTSTAMP:20260420T072225
CREATED:20260105T003232Z
LAST-MODIFIED:20260105T060317Z
UID:10021525-1888398000-1888398000@epictriviafl.com
SUMMARY:Music Bingo
DESCRIPTION:
URL:https://epictriviafl.com/event/music-bingo-cabanna/2029-11-03/
LOCATION:Cabanna Live\, 4380 Carraway Pl\, Sanford\, FL\, 32771\, United States
GEO:28.8347357;-81.3291546
X-APPLE-STRUCTURED-LOCATION;VALUE=URI;X-ADDRESS=Cabanna Live 4380 Carraway Pl Sanford FL 32771 United States;X-APPLE-RADIUS=500;X-TITLE=4380 Carraway Pl:geo:-81.3291546,28.8347357
END:VEVENT
BEGIN:VEVENT
DTSTART;TZID=America/New_York:20291110T110000
DTEND;TZID=America/New_York:20291110T110000
DTSTAMP:20260420T072225
CREATED:20260105T003232Z
LAST-MODIFIED:20260105T060317Z
UID:10021526-1889002800-1889002800@epictriviafl.com
SUMMARY:Music Bingo
DESCRIPTION:
URL:https://epictriviafl.com/event/music-bingo-cabanna/2029-11-10/
LOCATION:Cabanna Live\, 4380 Carraway Pl\, Sanford\, FL\, 32771\, United States
GEO:28.8347357;-81.3291546
X-APPLE-STRUCTURED-LOCATION;VALUE=URI;X-ADDRESS=Cabanna Live 4380 Carraway Pl Sanford FL 32771 United States;X-APPLE-RADIUS=500;X-TITLE=4380 Carraway Pl:geo:-81.3291546,28.8347357
END:VEVENT
END:VCALENDAR