BEGIN:VCALENDAR
VERSION:2.0
PRODID:-//Epic Trivia - ECPv6.15.18//NONSGML v1.0//EN
CALSCALE:GREGORIAN
METHOD:PUBLISH
X-ORIGINAL-URL:https://epictriviafl.com
X-WR-CALDESC:Events for Epic Trivia
REFRESH-INTERVAL;VALUE=DURATION:PT1H
X-Robots-Tag:noindex
X-PUBLISHED-TTL:PT1H
BEGIN:VTIMEZONE
TZID:America/New_York
BEGIN:DAYLIGHT
TZOFFSETFROM:-0500
TZOFFSETTO:-0400
TZNAME:EDT
DTSTART:20270314T070000
END:DAYLIGHT
BEGIN:STANDARD
TZOFFSETFROM:-0400
TZOFFSETTO:-0500
TZNAME:EST
DTSTART:20271107T060000
END:STANDARD
BEGIN:DAYLIGHT
TZOFFSETFROM:-0500
TZOFFSETTO:-0400
TZNAME:EDT
DTSTART:20280312T070000
END:DAYLIGHT
BEGIN:STANDARD
TZOFFSETFROM:-0400
TZOFFSETTO:-0500
TZNAME:EST
DTSTART:20281105T060000
END:STANDARD
BEGIN:DAYLIGHT
TZOFFSETFROM:-0500
TZOFFSETTO:-0400
TZNAME:EDT
DTSTART:20290311T070000
END:DAYLIGHT
BEGIN:STANDARD
TZOFFSETFROM:-0400
TZOFFSETTO:-0500
TZNAME:EST
DTSTART:20291104T060000
END:STANDARD
BEGIN:DAYLIGHT
TZOFFSETFROM:-0500
TZOFFSETTO:-0400
TZNAME:EDT
DTSTART:20300310T070000
END:DAYLIGHT
BEGIN:STANDARD
TZOFFSETFROM:-0400
TZOFFSETTO:-0500
TZNAME:EST
DTSTART:20301103T060000
END:STANDARD
END:VTIMEZONE
BEGIN:VEVENT
DTSTART;TZID=America/New_York:20280812T110000
DTEND;TZID=America/New_York:20280812T110000
DTSTAMP:20260420T030506
CREATED:20260105T003232Z
LAST-MODIFIED:20260105T060317Z
UID:10021461-1849690800-1849690800@epictriviafl.com
SUMMARY:Music Bingo
DESCRIPTION:
URL:https://epictriviafl.com/event/music-bingo-cabanna/2028-08-12/
LOCATION:Cabanna Live\, 4380 Carraway Pl\, Sanford\, FL\, 32771\, United States
GEO:28.8347357;-81.3291546
X-APPLE-STRUCTURED-LOCATION;VALUE=URI;X-ADDRESS=Cabanna Live 4380 Carraway Pl Sanford FL 32771 United States;X-APPLE-RADIUS=500;X-TITLE=4380 Carraway Pl:geo:-81.3291546,28.8347357
END:VEVENT
BEGIN:VEVENT
DTSTART;TZID=America/New_York:20280819T110000
DTEND;TZID=America/New_York:20280819T110000
DTSTAMP:20260420T030506
CREATED:20260105T003232Z
LAST-MODIFIED:20260105T060317Z
UID:10021462-1850295600-1850295600@epictriviafl.com
SUMMARY:Music Bingo
DESCRIPTION:
URL:https://epictriviafl.com/event/music-bingo-cabanna/2028-08-19/
LOCATION:Cabanna Live\, 4380 Carraway Pl\, Sanford\, FL\, 32771\, United States
GEO:28.8347357;-81.3291546
X-APPLE-STRUCTURED-LOCATION;VALUE=URI;X-ADDRESS=Cabanna Live 4380 Carraway Pl Sanford FL 32771 United States;X-APPLE-RADIUS=500;X-TITLE=4380 Carraway Pl:geo:-81.3291546,28.8347357
END:VEVENT
BEGIN:VEVENT
DTSTART;TZID=America/New_York:20280826T110000
DTEND;TZID=America/New_York:20280826T110000
DTSTAMP:20260420T030506
CREATED:20260105T003232Z
LAST-MODIFIED:20260105T060317Z
UID:10021463-1850900400-1850900400@epictriviafl.com
SUMMARY:Music Bingo
DESCRIPTION:
URL:https://epictriviafl.com/event/music-bingo-cabanna/2028-08-26/
LOCATION:Cabanna Live\, 4380 Carraway Pl\, Sanford\, FL\, 32771\, United States
GEO:28.8347357;-81.3291546
X-APPLE-STRUCTURED-LOCATION;VALUE=URI;X-ADDRESS=Cabanna Live 4380 Carraway Pl Sanford FL 32771 United States;X-APPLE-RADIUS=500;X-TITLE=4380 Carraway Pl:geo:-81.3291546,28.8347357
END:VEVENT
BEGIN:VEVENT
DTSTART;TZID=America/New_York:20280902T110000
DTEND;TZID=America/New_York:20280902T110000
DTSTAMP:20260420T030506
CREATED:20260105T003232Z
LAST-MODIFIED:20260105T060317Z
UID:10021464-1851505200-1851505200@epictriviafl.com
SUMMARY:Music Bingo
DESCRIPTION:
URL:https://epictriviafl.com/event/music-bingo-cabanna/2028-09-02/
LOCATION:Cabanna Live\, 4380 Carraway Pl\, Sanford\, FL\, 32771\, United States
GEO:28.8347357;-81.3291546
X-APPLE-STRUCTURED-LOCATION;VALUE=URI;X-ADDRESS=Cabanna Live 4380 Carraway Pl Sanford FL 32771 United States;X-APPLE-RADIUS=500;X-TITLE=4380 Carraway Pl:geo:-81.3291546,28.8347357
END:VEVENT
BEGIN:VEVENT
DTSTART;TZID=America/New_York:20280909T110000
DTEND;TZID=America/New_York:20280909T110000
DTSTAMP:20260420T030506
CREATED:20260105T003232Z
LAST-MODIFIED:20260105T060317Z
UID:10021465-1852110000-1852110000@epictriviafl.com
SUMMARY:Music Bingo
DESCRIPTION:
URL:https://epictriviafl.com/event/music-bingo-cabanna/2028-09-09/
LOCATION:Cabanna Live\, 4380 Carraway Pl\, Sanford\, FL\, 32771\, United States
GEO:28.8347357;-81.3291546
X-APPLE-STRUCTURED-LOCATION;VALUE=URI;X-ADDRESS=Cabanna Live 4380 Carraway Pl Sanford FL 32771 United States;X-APPLE-RADIUS=500;X-TITLE=4380 Carraway Pl:geo:-81.3291546,28.8347357
END:VEVENT
BEGIN:VEVENT
DTSTART;TZID=America/New_York:20280916T110000
DTEND;TZID=America/New_York:20280916T110000
DTSTAMP:20260420T030506
CREATED:20260105T003232Z
LAST-MODIFIED:20260105T060317Z
UID:10021466-1852714800-1852714800@epictriviafl.com
SUMMARY:Music Bingo
DESCRIPTION:
URL:https://epictriviafl.com/event/music-bingo-cabanna/2028-09-16/
LOCATION:Cabanna Live\, 4380 Carraway Pl\, Sanford\, FL\, 32771\, United States
GEO:28.8347357;-81.3291546
X-APPLE-STRUCTURED-LOCATION;VALUE=URI;X-ADDRESS=Cabanna Live 4380 Carraway Pl Sanford FL 32771 United States;X-APPLE-RADIUS=500;X-TITLE=4380 Carraway Pl:geo:-81.3291546,28.8347357
END:VEVENT
BEGIN:VEVENT
DTSTART;TZID=America/New_York:20280923T110000
DTEND;TZID=America/New_York:20280923T110000
DTSTAMP:20260420T030506
CREATED:20260105T003232Z
LAST-MODIFIED:20260105T060317Z
UID:10021467-1853319600-1853319600@epictriviafl.com
SUMMARY:Music Bingo
DESCRIPTION:
URL:https://epictriviafl.com/event/music-bingo-cabanna/2028-09-23/
LOCATION:Cabanna Live\, 4380 Carraway Pl\, Sanford\, FL\, 32771\, United States
GEO:28.8347357;-81.3291546
X-APPLE-STRUCTURED-LOCATION;VALUE=URI;X-ADDRESS=Cabanna Live 4380 Carraway Pl Sanford FL 32771 United States;X-APPLE-RADIUS=500;X-TITLE=4380 Carraway Pl:geo:-81.3291546,28.8347357
END:VEVENT
BEGIN:VEVENT
DTSTART;TZID=America/New_York:20280930T110000
DTEND;TZID=America/New_York:20280930T110000
DTSTAMP:20260420T030506
CREATED:20260105T003232Z
LAST-MODIFIED:20260105T060317Z
UID:10021468-1853924400-1853924400@epictriviafl.com
SUMMARY:Music Bingo
DESCRIPTION:
URL:https://epictriviafl.com/event/music-bingo-cabanna/2028-09-30/
LOCATION:Cabanna Live\, 4380 Carraway Pl\, Sanford\, FL\, 32771\, United States
GEO:28.8347357;-81.3291546
X-APPLE-STRUCTURED-LOCATION;VALUE=URI;X-ADDRESS=Cabanna Live 4380 Carraway Pl Sanford FL 32771 United States;X-APPLE-RADIUS=500;X-TITLE=4380 Carraway Pl:geo:-81.3291546,28.8347357
END:VEVENT
BEGIN:VEVENT
DTSTART;TZID=America/New_York:20281007T110000
DTEND;TZID=America/New_York:20281007T110000
DTSTAMP:20260420T030506
CREATED:20260105T003232Z
LAST-MODIFIED:20260105T060317Z
UID:10021469-1854529200-1854529200@epictriviafl.com
SUMMARY:Music Bingo
DESCRIPTION:
URL:https://epictriviafl.com/event/music-bingo-cabanna/2028-10-07/
LOCATION:Cabanna Live\, 4380 Carraway Pl\, Sanford\, FL\, 32771\, United States
GEO:28.8347357;-81.3291546
X-APPLE-STRUCTURED-LOCATION;VALUE=URI;X-ADDRESS=Cabanna Live 4380 Carraway Pl Sanford FL 32771 United States;X-APPLE-RADIUS=500;X-TITLE=4380 Carraway Pl:geo:-81.3291546,28.8347357
END:VEVENT
BEGIN:VEVENT
DTSTART;TZID=America/New_York:20281014T110000
DTEND;TZID=America/New_York:20281014T110000
DTSTAMP:20260420T030506
CREATED:20260105T003232Z
LAST-MODIFIED:20260105T060317Z
UID:10021470-1855134000-1855134000@epictriviafl.com
SUMMARY:Music Bingo
DESCRIPTION:
URL:https://epictriviafl.com/event/music-bingo-cabanna/2028-10-14/
LOCATION:Cabanna Live\, 4380 Carraway Pl\, Sanford\, FL\, 32771\, United States
GEO:28.8347357;-81.3291546
X-APPLE-STRUCTURED-LOCATION;VALUE=URI;X-ADDRESS=Cabanna Live 4380 Carraway Pl Sanford FL 32771 United States;X-APPLE-RADIUS=500;X-TITLE=4380 Carraway Pl:geo:-81.3291546,28.8347357
END:VEVENT
BEGIN:VEVENT
DTSTART;TZID=America/New_York:20281021T110000
DTEND;TZID=America/New_York:20281021T110000
DTSTAMP:20260420T030506
CREATED:20260105T003232Z
LAST-MODIFIED:20260105T060317Z
UID:10021471-1855738800-1855738800@epictriviafl.com
SUMMARY:Music Bingo
DESCRIPTION:
URL:https://epictriviafl.com/event/music-bingo-cabanna/2028-10-21/
LOCATION:Cabanna Live\, 4380 Carraway Pl\, Sanford\, FL\, 32771\, United States
GEO:28.8347357;-81.3291546
X-APPLE-STRUCTURED-LOCATION;VALUE=URI;X-ADDRESS=Cabanna Live 4380 Carraway Pl Sanford FL 32771 United States;X-APPLE-RADIUS=500;X-TITLE=4380 Carraway Pl:geo:-81.3291546,28.8347357
END:VEVENT
BEGIN:VEVENT
DTSTART;TZID=America/New_York:20281028T110000
DTEND;TZID=America/New_York:20281028T110000
DTSTAMP:20260420T030506
CREATED:20260105T003232Z
LAST-MODIFIED:20260105T060317Z
UID:10021472-1856343600-1856343600@epictriviafl.com
SUMMARY:Music Bingo
DESCRIPTION:
URL:https://epictriviafl.com/event/music-bingo-cabanna/2028-10-28/
LOCATION:Cabanna Live\, 4380 Carraway Pl\, Sanford\, FL\, 32771\, United States
GEO:28.8347357;-81.3291546
X-APPLE-STRUCTURED-LOCATION;VALUE=URI;X-ADDRESS=Cabanna Live 4380 Carraway Pl Sanford FL 32771 United States;X-APPLE-RADIUS=500;X-TITLE=4380 Carraway Pl:geo:-81.3291546,28.8347357
END:VEVENT
BEGIN:VEVENT
DTSTART;TZID=America/New_York:20281104T110000
DTEND;TZID=America/New_York:20281104T110000
DTSTAMP:20260420T030506
CREATED:20260105T003232Z
LAST-MODIFIED:20260105T060317Z
UID:10021473-1856948400-1856948400@epictriviafl.com
SUMMARY:Music Bingo
DESCRIPTION:
URL:https://epictriviafl.com/event/music-bingo-cabanna/2028-11-04/
LOCATION:Cabanna Live\, 4380 Carraway Pl\, Sanford\, FL\, 32771\, United States
GEO:28.8347357;-81.3291546
X-APPLE-STRUCTURED-LOCATION;VALUE=URI;X-ADDRESS=Cabanna Live 4380 Carraway Pl Sanford FL 32771 United States;X-APPLE-RADIUS=500;X-TITLE=4380 Carraway Pl:geo:-81.3291546,28.8347357
END:VEVENT
BEGIN:VEVENT
DTSTART;TZID=America/New_York:20281111T110000
DTEND;TZID=America/New_York:20281111T110000
DTSTAMP:20260420T030506
CREATED:20260105T003232Z
LAST-MODIFIED:20260105T060317Z
UID:10021474-1857553200-1857553200@epictriviafl.com
SUMMARY:Music Bingo
DESCRIPTION:
URL:https://epictriviafl.com/event/music-bingo-cabanna/2028-11-11/
LOCATION:Cabanna Live\, 4380 Carraway Pl\, Sanford\, FL\, 32771\, United States
GEO:28.8347357;-81.3291546
X-APPLE-STRUCTURED-LOCATION;VALUE=URI;X-ADDRESS=Cabanna Live 4380 Carraway Pl Sanford FL 32771 United States;X-APPLE-RADIUS=500;X-TITLE=4380 Carraway Pl:geo:-81.3291546,28.8347357
END:VEVENT
BEGIN:VEVENT
DTSTART;TZID=America/New_York:20281118T110000
DTEND;TZID=America/New_York:20281118T110000
DTSTAMP:20260420T030506
CREATED:20260105T003232Z
LAST-MODIFIED:20260105T060317Z
UID:10021475-1858158000-1858158000@epictriviafl.com
SUMMARY:Music Bingo
DESCRIPTION:
URL:https://epictriviafl.com/event/music-bingo-cabanna/2028-11-18/
LOCATION:Cabanna Live\, 4380 Carraway Pl\, Sanford\, FL\, 32771\, United States
GEO:28.8347357;-81.3291546
X-APPLE-STRUCTURED-LOCATION;VALUE=URI;X-ADDRESS=Cabanna Live 4380 Carraway Pl Sanford FL 32771 United States;X-APPLE-RADIUS=500;X-TITLE=4380 Carraway Pl:geo:-81.3291546,28.8347357
END:VEVENT
BEGIN:VEVENT
DTSTART;TZID=America/New_York:20281125T110000
DTEND;TZID=America/New_York:20281125T110000
DTSTAMP:20260420T030506
CREATED:20260105T003232Z
LAST-MODIFIED:20260105T060317Z
UID:10021476-1858762800-1858762800@epictriviafl.com
SUMMARY:Music Bingo
DESCRIPTION:
URL:https://epictriviafl.com/event/music-bingo-cabanna/2028-11-25/
LOCATION:Cabanna Live\, 4380 Carraway Pl\, Sanford\, FL\, 32771\, United States
GEO:28.8347357;-81.3291546
X-APPLE-STRUCTURED-LOCATION;VALUE=URI;X-ADDRESS=Cabanna Live 4380 Carraway Pl Sanford FL 32771 United States;X-APPLE-RADIUS=500;X-TITLE=4380 Carraway Pl:geo:-81.3291546,28.8347357
END:VEVENT
BEGIN:VEVENT
DTSTART;TZID=America/New_York:20281202T110000
DTEND;TZID=America/New_York:20281202T110000
DTSTAMP:20260420T030506
CREATED:20260105T003232Z
LAST-MODIFIED:20260105T060317Z
UID:10021477-1859367600-1859367600@epictriviafl.com
SUMMARY:Music Bingo
DESCRIPTION:
URL:https://epictriviafl.com/event/music-bingo-cabanna/2028-12-02/
LOCATION:Cabanna Live\, 4380 Carraway Pl\, Sanford\, FL\, 32771\, United States
GEO:28.8347357;-81.3291546
X-APPLE-STRUCTURED-LOCATION;VALUE=URI;X-ADDRESS=Cabanna Live 4380 Carraway Pl Sanford FL 32771 United States;X-APPLE-RADIUS=500;X-TITLE=4380 Carraway Pl:geo:-81.3291546,28.8347357
END:VEVENT
BEGIN:VEVENT
DTSTART;TZID=America/New_York:20281209T110000
DTEND;TZID=America/New_York:20281209T110000
DTSTAMP:20260420T030506
CREATED:20260105T003232Z
LAST-MODIFIED:20260105T060317Z
UID:10021478-1859972400-1859972400@epictriviafl.com
SUMMARY:Music Bingo
DESCRIPTION:
URL:https://epictriviafl.com/event/music-bingo-cabanna/2028-12-09/
LOCATION:Cabanna Live\, 4380 Carraway Pl\, Sanford\, FL\, 32771\, United States
GEO:28.8347357;-81.3291546
X-APPLE-STRUCTURED-LOCATION;VALUE=URI;X-ADDRESS=Cabanna Live 4380 Carraway Pl Sanford FL 32771 United States;X-APPLE-RADIUS=500;X-TITLE=4380 Carraway Pl:geo:-81.3291546,28.8347357
END:VEVENT
BEGIN:VEVENT
DTSTART;TZID=America/New_York:20281216T110000
DTEND;TZID=America/New_York:20281216T110000
DTSTAMP:20260420T030506
CREATED:20260105T003232Z
LAST-MODIFIED:20260105T060317Z
UID:10021479-1860577200-1860577200@epictriviafl.com
SUMMARY:Music Bingo
DESCRIPTION:
URL:https://epictriviafl.com/event/music-bingo-cabanna/2028-12-16/
LOCATION:Cabanna Live\, 4380 Carraway Pl\, Sanford\, FL\, 32771\, United States
GEO:28.8347357;-81.3291546
X-APPLE-STRUCTURED-LOCATION;VALUE=URI;X-ADDRESS=Cabanna Live 4380 Carraway Pl Sanford FL 32771 United States;X-APPLE-RADIUS=500;X-TITLE=4380 Carraway Pl:geo:-81.3291546,28.8347357
END:VEVENT
BEGIN:VEVENT
DTSTART;TZID=America/New_York:20281223T110000
DTEND;TZID=America/New_York:20281223T110000
DTSTAMP:20260420T030506
CREATED:20260105T003232Z
LAST-MODIFIED:20260105T060317Z
UID:10021480-1861182000-1861182000@epictriviafl.com
SUMMARY:Music Bingo
DESCRIPTION:
URL:https://epictriviafl.com/event/music-bingo-cabanna/2028-12-23/
LOCATION:Cabanna Live\, 4380 Carraway Pl\, Sanford\, FL\, 32771\, United States
GEO:28.8347357;-81.3291546
X-APPLE-STRUCTURED-LOCATION;VALUE=URI;X-ADDRESS=Cabanna Live 4380 Carraway Pl Sanford FL 32771 United States;X-APPLE-RADIUS=500;X-TITLE=4380 Carraway Pl:geo:-81.3291546,28.8347357
END:VEVENT
BEGIN:VEVENT
DTSTART;TZID=America/New_York:20281230T110000
DTEND;TZID=America/New_York:20281230T110000
DTSTAMP:20260420T030506
CREATED:20260105T003232Z
LAST-MODIFIED:20260105T060317Z
UID:10021481-1861786800-1861786800@epictriviafl.com
SUMMARY:Music Bingo
DESCRIPTION:
URL:https://epictriviafl.com/event/music-bingo-cabanna/2028-12-30/
LOCATION:Cabanna Live\, 4380 Carraway Pl\, Sanford\, FL\, 32771\, United States
GEO:28.8347357;-81.3291546
X-APPLE-STRUCTURED-LOCATION;VALUE=URI;X-ADDRESS=Cabanna Live 4380 Carraway Pl Sanford FL 32771 United States;X-APPLE-RADIUS=500;X-TITLE=4380 Carraway Pl:geo:-81.3291546,28.8347357
END:VEVENT
BEGIN:VEVENT
DTSTART;TZID=America/New_York:20290106T110000
DTEND;TZID=America/New_York:20290106T110000
DTSTAMP:20260420T030506
CREATED:20260105T003232Z
LAST-MODIFIED:20260105T060317Z
UID:10021482-1862391600-1862391600@epictriviafl.com
SUMMARY:Music Bingo
DESCRIPTION:
URL:https://epictriviafl.com/event/music-bingo-cabanna/2029-01-06/
LOCATION:Cabanna Live\, 4380 Carraway Pl\, Sanford\, FL\, 32771\, United States
GEO:28.8347357;-81.3291546
X-APPLE-STRUCTURED-LOCATION;VALUE=URI;X-ADDRESS=Cabanna Live 4380 Carraway Pl Sanford FL 32771 United States;X-APPLE-RADIUS=500;X-TITLE=4380 Carraway Pl:geo:-81.3291546,28.8347357
END:VEVENT
BEGIN:VEVENT
DTSTART;TZID=America/New_York:20290113T110000
DTEND;TZID=America/New_York:20290113T110000
DTSTAMP:20260420T030506
CREATED:20260105T003232Z
LAST-MODIFIED:20260105T060317Z
UID:10021483-1862996400-1862996400@epictriviafl.com
SUMMARY:Music Bingo
DESCRIPTION:
URL:https://epictriviafl.com/event/music-bingo-cabanna/2029-01-13/
LOCATION:Cabanna Live\, 4380 Carraway Pl\, Sanford\, FL\, 32771\, United States
GEO:28.8347357;-81.3291546
X-APPLE-STRUCTURED-LOCATION;VALUE=URI;X-ADDRESS=Cabanna Live 4380 Carraway Pl Sanford FL 32771 United States;X-APPLE-RADIUS=500;X-TITLE=4380 Carraway Pl:geo:-81.3291546,28.8347357
END:VEVENT
BEGIN:VEVENT
DTSTART;TZID=America/New_York:20290120T110000
DTEND;TZID=America/New_York:20290120T110000
DTSTAMP:20260420T030506
CREATED:20260105T003232Z
LAST-MODIFIED:20260105T060317Z
UID:10021484-1863601200-1863601200@epictriviafl.com
SUMMARY:Music Bingo
DESCRIPTION:
URL:https://epictriviafl.com/event/music-bingo-cabanna/2029-01-20/
LOCATION:Cabanna Live\, 4380 Carraway Pl\, Sanford\, FL\, 32771\, United States
GEO:28.8347357;-81.3291546
X-APPLE-STRUCTURED-LOCATION;VALUE=URI;X-ADDRESS=Cabanna Live 4380 Carraway Pl Sanford FL 32771 United States;X-APPLE-RADIUS=500;X-TITLE=4380 Carraway Pl:geo:-81.3291546,28.8347357
END:VEVENT
BEGIN:VEVENT
DTSTART;TZID=America/New_York:20290127T110000
DTEND;TZID=America/New_York:20290127T110000
DTSTAMP:20260420T030506
CREATED:20260105T003232Z
LAST-MODIFIED:20260105T060317Z
UID:10021485-1864206000-1864206000@epictriviafl.com
SUMMARY:Music Bingo
DESCRIPTION:
URL:https://epictriviafl.com/event/music-bingo-cabanna/2029-01-27/
LOCATION:Cabanna Live\, 4380 Carraway Pl\, Sanford\, FL\, 32771\, United States
GEO:28.8347357;-81.3291546
X-APPLE-STRUCTURED-LOCATION;VALUE=URI;X-ADDRESS=Cabanna Live 4380 Carraway Pl Sanford FL 32771 United States;X-APPLE-RADIUS=500;X-TITLE=4380 Carraway Pl:geo:-81.3291546,28.8347357
END:VEVENT
BEGIN:VEVENT
DTSTART;TZID=America/New_York:20290203T110000
DTEND;TZID=America/New_York:20290203T110000
DTSTAMP:20260420T030506
CREATED:20260105T003232Z
LAST-MODIFIED:20260105T060317Z
UID:10021486-1864810800-1864810800@epictriviafl.com
SUMMARY:Music Bingo
DESCRIPTION:
URL:https://epictriviafl.com/event/music-bingo-cabanna/2029-02-03/
LOCATION:Cabanna Live\, 4380 Carraway Pl\, Sanford\, FL\, 32771\, United States
GEO:28.8347357;-81.3291546
X-APPLE-STRUCTURED-LOCATION;VALUE=URI;X-ADDRESS=Cabanna Live 4380 Carraway Pl Sanford FL 32771 United States;X-APPLE-RADIUS=500;X-TITLE=4380 Carraway Pl:geo:-81.3291546,28.8347357
END:VEVENT
BEGIN:VEVENT
DTSTART;TZID=America/New_York:20290210T110000
DTEND;TZID=America/New_York:20290210T110000
DTSTAMP:20260420T030506
CREATED:20260105T003232Z
LAST-MODIFIED:20260105T060317Z
UID:10021487-1865415600-1865415600@epictriviafl.com
SUMMARY:Music Bingo
DESCRIPTION:
URL:https://epictriviafl.com/event/music-bingo-cabanna/2029-02-10/
LOCATION:Cabanna Live\, 4380 Carraway Pl\, Sanford\, FL\, 32771\, United States
GEO:28.8347357;-81.3291546
X-APPLE-STRUCTURED-LOCATION;VALUE=URI;X-ADDRESS=Cabanna Live 4380 Carraway Pl Sanford FL 32771 United States;X-APPLE-RADIUS=500;X-TITLE=4380 Carraway Pl:geo:-81.3291546,28.8347357
END:VEVENT
BEGIN:VEVENT
DTSTART;TZID=America/New_York:20290217T110000
DTEND;TZID=America/New_York:20290217T110000
DTSTAMP:20260420T030506
CREATED:20260105T003232Z
LAST-MODIFIED:20260105T060317Z
UID:10021488-1866020400-1866020400@epictriviafl.com
SUMMARY:Music Bingo
DESCRIPTION:
URL:https://epictriviafl.com/event/music-bingo-cabanna/2029-02-17/
LOCATION:Cabanna Live\, 4380 Carraway Pl\, Sanford\, FL\, 32771\, United States
GEO:28.8347357;-81.3291546
X-APPLE-STRUCTURED-LOCATION;VALUE=URI;X-ADDRESS=Cabanna Live 4380 Carraway Pl Sanford FL 32771 United States;X-APPLE-RADIUS=500;X-TITLE=4380 Carraway Pl:geo:-81.3291546,28.8347357
END:VEVENT
BEGIN:VEVENT
DTSTART;TZID=America/New_York:20290224T110000
DTEND;TZID=America/New_York:20290224T110000
DTSTAMP:20260420T030506
CREATED:20260105T003232Z
LAST-MODIFIED:20260105T060317Z
UID:10021489-1866625200-1866625200@epictriviafl.com
SUMMARY:Music Bingo
DESCRIPTION:
URL:https://epictriviafl.com/event/music-bingo-cabanna/2029-02-24/
LOCATION:Cabanna Live\, 4380 Carraway Pl\, Sanford\, FL\, 32771\, United States
GEO:28.8347357;-81.3291546
X-APPLE-STRUCTURED-LOCATION;VALUE=URI;X-ADDRESS=Cabanna Live 4380 Carraway Pl Sanford FL 32771 United States;X-APPLE-RADIUS=500;X-TITLE=4380 Carraway Pl:geo:-81.3291546,28.8347357
END:VEVENT
BEGIN:VEVENT
DTSTART;TZID=America/New_York:20290303T110000
DTEND;TZID=America/New_York:20290303T110000
DTSTAMP:20260420T030506
CREATED:20260105T003232Z
LAST-MODIFIED:20260105T060317Z
UID:10021490-1867230000-1867230000@epictriviafl.com
SUMMARY:Music Bingo
DESCRIPTION:
URL:https://epictriviafl.com/event/music-bingo-cabanna/2029-03-03/
LOCATION:Cabanna Live\, 4380 Carraway Pl\, Sanford\, FL\, 32771\, United States
GEO:28.8347357;-81.3291546
X-APPLE-STRUCTURED-LOCATION;VALUE=URI;X-ADDRESS=Cabanna Live 4380 Carraway Pl Sanford FL 32771 United States;X-APPLE-RADIUS=500;X-TITLE=4380 Carraway Pl:geo:-81.3291546,28.8347357
END:VEVENT
END:VCALENDAR