BEGIN:VCALENDAR
VERSION:2.0
PRODID:-//Epic Trivia - ECPv6.15.18//NONSGML v1.0//EN
CALSCALE:GREGORIAN
METHOD:PUBLISH
X-ORIGINAL-URL:https://epictriviafl.com
X-WR-CALDESC:Events for Epic Trivia
REFRESH-INTERVAL;VALUE=DURATION:PT1H
X-Robots-Tag:noindex
X-PUBLISHED-TTL:PT1H
BEGIN:VTIMEZONE
TZID:America/New_York
BEGIN:DAYLIGHT
TZOFFSETFROM:-0500
TZOFFSETTO:-0400
TZNAME:EDT
DTSTART:20280312T070000
END:DAYLIGHT
BEGIN:STANDARD
TZOFFSETFROM:-0400
TZOFFSETTO:-0500
TZNAME:EST
DTSTART:20281105T060000
END:STANDARD
BEGIN:DAYLIGHT
TZOFFSETFROM:-0500
TZOFFSETTO:-0400
TZNAME:EDT
DTSTART:20290311T070000
END:DAYLIGHT
BEGIN:STANDARD
TZOFFSETFROM:-0400
TZOFFSETTO:-0500
TZNAME:EST
DTSTART:20291104T060000
END:STANDARD
BEGIN:DAYLIGHT
TZOFFSETFROM:-0500
TZOFFSETTO:-0400
TZNAME:EDT
DTSTART:20300310T070000
END:DAYLIGHT
BEGIN:STANDARD
TZOFFSETFROM:-0400
TZOFFSETTO:-0500
TZNAME:EST
DTSTART:20301103T060000
END:STANDARD
BEGIN:DAYLIGHT
TZOFFSETFROM:-0500
TZOFFSETTO:-0400
TZNAME:EDT
DTSTART:20310309T070000
END:DAYLIGHT
BEGIN:STANDARD
TZOFFSETFROM:-0400
TZOFFSETTO:-0500
TZNAME:EST
DTSTART:20311102T060000
END:STANDARD
END:VTIMEZONE
BEGIN:VEVENT
DTSTART;TZID=America/New_York:20291004T190000
DTEND;TZID=America/New_York:20291004T190000
DTSTAMP:20260422T042254
CREATED:20260105T003147Z
LAST-MODIFIED:20260105T054205Z
UID:10012158-1885834800-1885834800@epictriviafl.com
SUMMARY:Trivia
DESCRIPTION:
URL:https://epictriviafl.com/event/trivia-busters/2029-10-04/
LOCATION:Busters Bistro\, 300 Sanford Ave\, Sanford\, FL\, 32771 USA
GEO:28.8098112;-81.2652009
X-APPLE-STRUCTURED-LOCATION;VALUE=URI;X-ADDRESS=Busters Bistro 300 Sanford Ave Sanford FL 32771 USA;X-APPLE-RADIUS=500;X-TITLE=300 Sanford Ave\, Sanford\, FL\, 32771 USA:geo:-81.2652009,28.8098112
END:VEVENT
BEGIN:VEVENT
DTSTART;TZID=America/New_York:20291005T183000
DTEND;TZID=America/New_York:20291005T183000
DTSTAMP:20260422T042254
CREATED:20260105T003219Z
LAST-MODIFIED:20260105T053805Z
UID:10009818-1885919400-1885919400@epictriviafl.com
SUMMARY:Mario Kart
DESCRIPTION:
URL:https://epictriviafl.com/event/mario-kart-busters/2029-10-05/
LOCATION:Busters Bistro\, 300 Sanford Ave\, Sanford\, FL\, 32771 USA
GEO:28.8098112;-81.2652009
X-APPLE-STRUCTURED-LOCATION;VALUE=URI;X-ADDRESS=Busters Bistro 300 Sanford Ave Sanford FL 32771 USA;X-APPLE-RADIUS=500;X-TITLE=300 Sanford Ave\, Sanford\, FL\, 32771 USA:geo:-81.2652009,28.8098112
END:VEVENT
BEGIN:VEVENT
DTSTART;TZID=America/New_York:20291011T190000
DTEND;TZID=America/New_York:20291011T190000
DTSTAMP:20260422T042254
CREATED:20260105T003147Z
LAST-MODIFIED:20260105T054205Z
UID:10012159-1886439600-1886439600@epictriviafl.com
SUMMARY:Trivia
DESCRIPTION:
URL:https://epictriviafl.com/event/trivia-busters/2029-10-11/
LOCATION:Busters Bistro\, 300 Sanford Ave\, Sanford\, FL\, 32771 USA
GEO:28.8098112;-81.2652009
X-APPLE-STRUCTURED-LOCATION;VALUE=URI;X-ADDRESS=Busters Bistro 300 Sanford Ave Sanford FL 32771 USA;X-APPLE-RADIUS=500;X-TITLE=300 Sanford Ave\, Sanford\, FL\, 32771 USA:geo:-81.2652009,28.8098112
END:VEVENT
BEGIN:VEVENT
DTSTART;TZID=America/New_York:20291012T183000
DTEND;TZID=America/New_York:20291012T183000
DTSTAMP:20260422T042254
CREATED:20260105T003219Z
LAST-MODIFIED:20260105T053805Z
UID:10009819-1886524200-1886524200@epictriviafl.com
SUMMARY:Mario Kart
DESCRIPTION:
URL:https://epictriviafl.com/event/mario-kart-busters/2029-10-12/
LOCATION:Busters Bistro\, 300 Sanford Ave\, Sanford\, FL\, 32771 USA
GEO:28.8098112;-81.2652009
X-APPLE-STRUCTURED-LOCATION;VALUE=URI;X-ADDRESS=Busters Bistro 300 Sanford Ave Sanford FL 32771 USA;X-APPLE-RADIUS=500;X-TITLE=300 Sanford Ave\, Sanford\, FL\, 32771 USA:geo:-81.2652009,28.8098112
END:VEVENT
BEGIN:VEVENT
DTSTART;TZID=America/New_York:20291018T190000
DTEND;TZID=America/New_York:20291018T190000
DTSTAMP:20260422T042254
CREATED:20260105T003147Z
LAST-MODIFIED:20260105T054205Z
UID:10012160-1887044400-1887044400@epictriviafl.com
SUMMARY:Trivia
DESCRIPTION:
URL:https://epictriviafl.com/event/trivia-busters/2029-10-18/
LOCATION:Busters Bistro\, 300 Sanford Ave\, Sanford\, FL\, 32771 USA
GEO:28.8098112;-81.2652009
X-APPLE-STRUCTURED-LOCATION;VALUE=URI;X-ADDRESS=Busters Bistro 300 Sanford Ave Sanford FL 32771 USA;X-APPLE-RADIUS=500;X-TITLE=300 Sanford Ave\, Sanford\, FL\, 32771 USA:geo:-81.2652009,28.8098112
END:VEVENT
BEGIN:VEVENT
DTSTART;TZID=America/New_York:20291019T183000
DTEND;TZID=America/New_York:20291019T183000
DTSTAMP:20260422T042254
CREATED:20260105T003219Z
LAST-MODIFIED:20260105T053805Z
UID:10009820-1887129000-1887129000@epictriviafl.com
SUMMARY:Mario Kart
DESCRIPTION:
URL:https://epictriviafl.com/event/mario-kart-busters/2029-10-19/
LOCATION:Busters Bistro\, 300 Sanford Ave\, Sanford\, FL\, 32771 USA
GEO:28.8098112;-81.2652009
X-APPLE-STRUCTURED-LOCATION;VALUE=URI;X-ADDRESS=Busters Bistro 300 Sanford Ave Sanford FL 32771 USA;X-APPLE-RADIUS=500;X-TITLE=300 Sanford Ave\, Sanford\, FL\, 32771 USA:geo:-81.2652009,28.8098112
END:VEVENT
BEGIN:VEVENT
DTSTART;TZID=America/New_York:20291025T190000
DTEND;TZID=America/New_York:20291025T190000
DTSTAMP:20260422T042254
CREATED:20260105T003147Z
LAST-MODIFIED:20260105T054205Z
UID:10012161-1887649200-1887649200@epictriviafl.com
SUMMARY:Trivia
DESCRIPTION:
URL:https://epictriviafl.com/event/trivia-busters/2029-10-25/
LOCATION:Busters Bistro\, 300 Sanford Ave\, Sanford\, FL\, 32771 USA
GEO:28.8098112;-81.2652009
X-APPLE-STRUCTURED-LOCATION;VALUE=URI;X-ADDRESS=Busters Bistro 300 Sanford Ave Sanford FL 32771 USA;X-APPLE-RADIUS=500;X-TITLE=300 Sanford Ave\, Sanford\, FL\, 32771 USA:geo:-81.2652009,28.8098112
END:VEVENT
BEGIN:VEVENT
DTSTART;TZID=America/New_York:20291026T183000
DTEND;TZID=America/New_York:20291026T183000
DTSTAMP:20260422T042254
CREATED:20260105T003219Z
LAST-MODIFIED:20260105T053805Z
UID:10009821-1887733800-1887733800@epictriviafl.com
SUMMARY:Mario Kart
DESCRIPTION:
URL:https://epictriviafl.com/event/mario-kart-busters/2029-10-26/
LOCATION:Busters Bistro\, 300 Sanford Ave\, Sanford\, FL\, 32771 USA
GEO:28.8098112;-81.2652009
X-APPLE-STRUCTURED-LOCATION;VALUE=URI;X-ADDRESS=Busters Bistro 300 Sanford Ave Sanford FL 32771 USA;X-APPLE-RADIUS=500;X-TITLE=300 Sanford Ave\, Sanford\, FL\, 32771 USA:geo:-81.2652009,28.8098112
END:VEVENT
BEGIN:VEVENT
DTSTART;TZID=America/New_York:20291101T190000
DTEND;TZID=America/New_York:20291101T190000
DTSTAMP:20260422T042254
CREATED:20260105T003147Z
LAST-MODIFIED:20260105T054205Z
UID:10012162-1888254000-1888254000@epictriviafl.com
SUMMARY:Trivia
DESCRIPTION:
URL:https://epictriviafl.com/event/trivia-busters/2029-11-01/
LOCATION:Busters Bistro\, 300 Sanford Ave\, Sanford\, FL\, 32771 USA
GEO:28.8098112;-81.2652009
X-APPLE-STRUCTURED-LOCATION;VALUE=URI;X-ADDRESS=Busters Bistro 300 Sanford Ave Sanford FL 32771 USA;X-APPLE-RADIUS=500;X-TITLE=300 Sanford Ave\, Sanford\, FL\, 32771 USA:geo:-81.2652009,28.8098112
END:VEVENT
BEGIN:VEVENT
DTSTART;TZID=America/New_York:20291102T183000
DTEND;TZID=America/New_York:20291102T183000
DTSTAMP:20260422T042254
CREATED:20260105T003219Z
LAST-MODIFIED:20260105T053805Z
UID:10009822-1888338600-1888338600@epictriviafl.com
SUMMARY:Mario Kart
DESCRIPTION:
URL:https://epictriviafl.com/event/mario-kart-busters/2029-11-02/
LOCATION:Busters Bistro\, 300 Sanford Ave\, Sanford\, FL\, 32771 USA
GEO:28.8098112;-81.2652009
X-APPLE-STRUCTURED-LOCATION;VALUE=URI;X-ADDRESS=Busters Bistro 300 Sanford Ave Sanford FL 32771 USA;X-APPLE-RADIUS=500;X-TITLE=300 Sanford Ave\, Sanford\, FL\, 32771 USA:geo:-81.2652009,28.8098112
END:VEVENT
BEGIN:VEVENT
DTSTART;TZID=America/New_York:20291108T190000
DTEND;TZID=America/New_York:20291108T190000
DTSTAMP:20260422T042254
CREATED:20260105T003147Z
LAST-MODIFIED:20260105T054205Z
UID:10012163-1888858800-1888858800@epictriviafl.com
SUMMARY:Trivia
DESCRIPTION:
URL:https://epictriviafl.com/event/trivia-busters/2029-11-08/
LOCATION:Busters Bistro\, 300 Sanford Ave\, Sanford\, FL\, 32771 USA
GEO:28.8098112;-81.2652009
X-APPLE-STRUCTURED-LOCATION;VALUE=URI;X-ADDRESS=Busters Bistro 300 Sanford Ave Sanford FL 32771 USA;X-APPLE-RADIUS=500;X-TITLE=300 Sanford Ave\, Sanford\, FL\, 32771 USA:geo:-81.2652009,28.8098112
END:VEVENT
BEGIN:VEVENT
DTSTART;TZID=America/New_York:20291109T183000
DTEND;TZID=America/New_York:20291109T183000
DTSTAMP:20260422T042254
CREATED:20260105T003219Z
LAST-MODIFIED:20260105T053805Z
UID:10009823-1888943400-1888943400@epictriviafl.com
SUMMARY:Mario Kart
DESCRIPTION:
URL:https://epictriviafl.com/event/mario-kart-busters/2029-11-09/
LOCATION:Busters Bistro\, 300 Sanford Ave\, Sanford\, FL\, 32771 USA
GEO:28.8098112;-81.2652009
X-APPLE-STRUCTURED-LOCATION;VALUE=URI;X-ADDRESS=Busters Bistro 300 Sanford Ave Sanford FL 32771 USA;X-APPLE-RADIUS=500;X-TITLE=300 Sanford Ave\, Sanford\, FL\, 32771 USA:geo:-81.2652009,28.8098112
END:VEVENT
BEGIN:VEVENT
DTSTART;TZID=America/New_York:20291115T190000
DTEND;TZID=America/New_York:20291115T190000
DTSTAMP:20260422T042254
CREATED:20260105T003147Z
LAST-MODIFIED:20260105T054205Z
UID:10012164-1889463600-1889463600@epictriviafl.com
SUMMARY:Trivia
DESCRIPTION:
URL:https://epictriviafl.com/event/trivia-busters/2029-11-15/
LOCATION:Busters Bistro\, 300 Sanford Ave\, Sanford\, FL\, 32771 USA
GEO:28.8098112;-81.2652009
X-APPLE-STRUCTURED-LOCATION;VALUE=URI;X-ADDRESS=Busters Bistro 300 Sanford Ave Sanford FL 32771 USA;X-APPLE-RADIUS=500;X-TITLE=300 Sanford Ave\, Sanford\, FL\, 32771 USA:geo:-81.2652009,28.8098112
END:VEVENT
BEGIN:VEVENT
DTSTART;TZID=America/New_York:20291116T183000
DTEND;TZID=America/New_York:20291116T183000
DTSTAMP:20260422T042254
CREATED:20260105T003219Z
LAST-MODIFIED:20260105T053805Z
UID:10009824-1889548200-1889548200@epictriviafl.com
SUMMARY:Mario Kart
DESCRIPTION:
URL:https://epictriviafl.com/event/mario-kart-busters/2029-11-16/
LOCATION:Busters Bistro\, 300 Sanford Ave\, Sanford\, FL\, 32771 USA
GEO:28.8098112;-81.2652009
X-APPLE-STRUCTURED-LOCATION;VALUE=URI;X-ADDRESS=Busters Bistro 300 Sanford Ave Sanford FL 32771 USA;X-APPLE-RADIUS=500;X-TITLE=300 Sanford Ave\, Sanford\, FL\, 32771 USA:geo:-81.2652009,28.8098112
END:VEVENT
BEGIN:VEVENT
DTSTART;TZID=America/New_York:20291122T190000
DTEND;TZID=America/New_York:20291122T190000
DTSTAMP:20260422T042254
CREATED:20260105T003147Z
LAST-MODIFIED:20260105T054205Z
UID:10012165-1890068400-1890068400@epictriviafl.com
SUMMARY:Trivia
DESCRIPTION:
URL:https://epictriviafl.com/event/trivia-busters/2029-11-22/
LOCATION:Busters Bistro\, 300 Sanford Ave\, Sanford\, FL\, 32771 USA
GEO:28.8098112;-81.2652009
X-APPLE-STRUCTURED-LOCATION;VALUE=URI;X-ADDRESS=Busters Bistro 300 Sanford Ave Sanford FL 32771 USA;X-APPLE-RADIUS=500;X-TITLE=300 Sanford Ave\, Sanford\, FL\, 32771 USA:geo:-81.2652009,28.8098112
END:VEVENT
BEGIN:VEVENT
DTSTART;TZID=America/New_York:20291123T183000
DTEND;TZID=America/New_York:20291123T183000
DTSTAMP:20260422T042254
CREATED:20260105T003219Z
LAST-MODIFIED:20260105T053805Z
UID:10009825-1890153000-1890153000@epictriviafl.com
SUMMARY:Mario Kart
DESCRIPTION:
URL:https://epictriviafl.com/event/mario-kart-busters/2029-11-23/
LOCATION:Busters Bistro\, 300 Sanford Ave\, Sanford\, FL\, 32771 USA
GEO:28.8098112;-81.2652009
X-APPLE-STRUCTURED-LOCATION;VALUE=URI;X-ADDRESS=Busters Bistro 300 Sanford Ave Sanford FL 32771 USA;X-APPLE-RADIUS=500;X-TITLE=300 Sanford Ave\, Sanford\, FL\, 32771 USA:geo:-81.2652009,28.8098112
END:VEVENT
BEGIN:VEVENT
DTSTART;TZID=America/New_York:20291129T190000
DTEND;TZID=America/New_York:20291129T190000
DTSTAMP:20260422T042254
CREATED:20260105T003147Z
LAST-MODIFIED:20260105T054205Z
UID:10012166-1890673200-1890673200@epictriviafl.com
SUMMARY:Trivia
DESCRIPTION:
URL:https://epictriviafl.com/event/trivia-busters/2029-11-29/
LOCATION:Busters Bistro\, 300 Sanford Ave\, Sanford\, FL\, 32771 USA
GEO:28.8098112;-81.2652009
X-APPLE-STRUCTURED-LOCATION;VALUE=URI;X-ADDRESS=Busters Bistro 300 Sanford Ave Sanford FL 32771 USA;X-APPLE-RADIUS=500;X-TITLE=300 Sanford Ave\, Sanford\, FL\, 32771 USA:geo:-81.2652009,28.8098112
END:VEVENT
BEGIN:VEVENT
DTSTART;TZID=America/New_York:20291130T183000
DTEND;TZID=America/New_York:20291130T183000
DTSTAMP:20260422T042254
CREATED:20260105T003219Z
LAST-MODIFIED:20260105T053805Z
UID:10009826-1890757800-1890757800@epictriviafl.com
SUMMARY:Mario Kart
DESCRIPTION:
URL:https://epictriviafl.com/event/mario-kart-busters/2029-11-30/
LOCATION:Busters Bistro\, 300 Sanford Ave\, Sanford\, FL\, 32771 USA
GEO:28.8098112;-81.2652009
X-APPLE-STRUCTURED-LOCATION;VALUE=URI;X-ADDRESS=Busters Bistro 300 Sanford Ave Sanford FL 32771 USA;X-APPLE-RADIUS=500;X-TITLE=300 Sanford Ave\, Sanford\, FL\, 32771 USA:geo:-81.2652009,28.8098112
END:VEVENT
BEGIN:VEVENT
DTSTART;TZID=America/New_York:20291206T190000
DTEND;TZID=America/New_York:20291206T190000
DTSTAMP:20260422T042254
CREATED:20260105T003147Z
LAST-MODIFIED:20260105T054205Z
UID:10012167-1891278000-1891278000@epictriviafl.com
SUMMARY:Trivia
DESCRIPTION:
URL:https://epictriviafl.com/event/trivia-busters/2029-12-06/
LOCATION:Busters Bistro\, 300 Sanford Ave\, Sanford\, FL\, 32771 USA
GEO:28.8098112;-81.2652009
X-APPLE-STRUCTURED-LOCATION;VALUE=URI;X-ADDRESS=Busters Bistro 300 Sanford Ave Sanford FL 32771 USA;X-APPLE-RADIUS=500;X-TITLE=300 Sanford Ave\, Sanford\, FL\, 32771 USA:geo:-81.2652009,28.8098112
END:VEVENT
BEGIN:VEVENT
DTSTART;TZID=America/New_York:20291207T183000
DTEND;TZID=America/New_York:20291207T183000
DTSTAMP:20260422T042254
CREATED:20260105T003219Z
LAST-MODIFIED:20260105T053805Z
UID:10009827-1891362600-1891362600@epictriviafl.com
SUMMARY:Mario Kart
DESCRIPTION:
URL:https://epictriviafl.com/event/mario-kart-busters/2029-12-07/
LOCATION:Busters Bistro\, 300 Sanford Ave\, Sanford\, FL\, 32771 USA
GEO:28.8098112;-81.2652009
X-APPLE-STRUCTURED-LOCATION;VALUE=URI;X-ADDRESS=Busters Bistro 300 Sanford Ave Sanford FL 32771 USA;X-APPLE-RADIUS=500;X-TITLE=300 Sanford Ave\, Sanford\, FL\, 32771 USA:geo:-81.2652009,28.8098112
END:VEVENT
BEGIN:VEVENT
DTSTART;TZID=America/New_York:20291213T190000
DTEND;TZID=America/New_York:20291213T190000
DTSTAMP:20260422T042254
CREATED:20260105T003147Z
LAST-MODIFIED:20260105T054205Z
UID:10012168-1891882800-1891882800@epictriviafl.com
SUMMARY:Trivia
DESCRIPTION:
URL:https://epictriviafl.com/event/trivia-busters/2029-12-13/
LOCATION:Busters Bistro\, 300 Sanford Ave\, Sanford\, FL\, 32771 USA
GEO:28.8098112;-81.2652009
X-APPLE-STRUCTURED-LOCATION;VALUE=URI;X-ADDRESS=Busters Bistro 300 Sanford Ave Sanford FL 32771 USA;X-APPLE-RADIUS=500;X-TITLE=300 Sanford Ave\, Sanford\, FL\, 32771 USA:geo:-81.2652009,28.8098112
END:VEVENT
BEGIN:VEVENT
DTSTART;TZID=America/New_York:20291214T183000
DTEND;TZID=America/New_York:20291214T183000
DTSTAMP:20260422T042254
CREATED:20260105T003219Z
LAST-MODIFIED:20260105T053805Z
UID:10009828-1891967400-1891967400@epictriviafl.com
SUMMARY:Mario Kart
DESCRIPTION:
URL:https://epictriviafl.com/event/mario-kart-busters/2029-12-14/
LOCATION:Busters Bistro\, 300 Sanford Ave\, Sanford\, FL\, 32771 USA
GEO:28.8098112;-81.2652009
X-APPLE-STRUCTURED-LOCATION;VALUE=URI;X-ADDRESS=Busters Bistro 300 Sanford Ave Sanford FL 32771 USA;X-APPLE-RADIUS=500;X-TITLE=300 Sanford Ave\, Sanford\, FL\, 32771 USA:geo:-81.2652009,28.8098112
END:VEVENT
BEGIN:VEVENT
DTSTART;TZID=America/New_York:20291220T190000
DTEND;TZID=America/New_York:20291220T190000
DTSTAMP:20260422T042254
CREATED:20260105T003147Z
LAST-MODIFIED:20260105T054205Z
UID:10012169-1892487600-1892487600@epictriviafl.com
SUMMARY:Trivia
DESCRIPTION:
URL:https://epictriviafl.com/event/trivia-busters/2029-12-20/
LOCATION:Busters Bistro\, 300 Sanford Ave\, Sanford\, FL\, 32771 USA
GEO:28.8098112;-81.2652009
X-APPLE-STRUCTURED-LOCATION;VALUE=URI;X-ADDRESS=Busters Bistro 300 Sanford Ave Sanford FL 32771 USA;X-APPLE-RADIUS=500;X-TITLE=300 Sanford Ave\, Sanford\, FL\, 32771 USA:geo:-81.2652009,28.8098112
END:VEVENT
BEGIN:VEVENT
DTSTART;TZID=America/New_York:20291221T183000
DTEND;TZID=America/New_York:20291221T183000
DTSTAMP:20260422T042254
CREATED:20260105T003219Z
LAST-MODIFIED:20260105T053805Z
UID:10009829-1892572200-1892572200@epictriviafl.com
SUMMARY:Mario Kart
DESCRIPTION:
URL:https://epictriviafl.com/event/mario-kart-busters/2029-12-21/
LOCATION:Busters Bistro\, 300 Sanford Ave\, Sanford\, FL\, 32771 USA
GEO:28.8098112;-81.2652009
X-APPLE-STRUCTURED-LOCATION;VALUE=URI;X-ADDRESS=Busters Bistro 300 Sanford Ave Sanford FL 32771 USA;X-APPLE-RADIUS=500;X-TITLE=300 Sanford Ave\, Sanford\, FL\, 32771 USA:geo:-81.2652009,28.8098112
END:VEVENT
BEGIN:VEVENT
DTSTART;TZID=America/New_York:20291227T190000
DTEND;TZID=America/New_York:20291227T190000
DTSTAMP:20260422T042254
CREATED:20260105T003147Z
LAST-MODIFIED:20260105T054205Z
UID:10012170-1893092400-1893092400@epictriviafl.com
SUMMARY:Trivia
DESCRIPTION:
URL:https://epictriviafl.com/event/trivia-busters/2029-12-27/
LOCATION:Busters Bistro\, 300 Sanford Ave\, Sanford\, FL\, 32771 USA
GEO:28.8098112;-81.2652009
X-APPLE-STRUCTURED-LOCATION;VALUE=URI;X-ADDRESS=Busters Bistro 300 Sanford Ave Sanford FL 32771 USA;X-APPLE-RADIUS=500;X-TITLE=300 Sanford Ave\, Sanford\, FL\, 32771 USA:geo:-81.2652009,28.8098112
END:VEVENT
BEGIN:VEVENT
DTSTART;TZID=America/New_York:20291228T183000
DTEND;TZID=America/New_York:20291228T183000
DTSTAMP:20260422T042254
CREATED:20260105T003219Z
LAST-MODIFIED:20260105T053805Z
UID:10009830-1893177000-1893177000@epictriviafl.com
SUMMARY:Mario Kart
DESCRIPTION:
URL:https://epictriviafl.com/event/mario-kart-busters/2029-12-28/
LOCATION:Busters Bistro\, 300 Sanford Ave\, Sanford\, FL\, 32771 USA
GEO:28.8098112;-81.2652009
X-APPLE-STRUCTURED-LOCATION;VALUE=URI;X-ADDRESS=Busters Bistro 300 Sanford Ave Sanford FL 32771 USA;X-APPLE-RADIUS=500;X-TITLE=300 Sanford Ave\, Sanford\, FL\, 32771 USA:geo:-81.2652009,28.8098112
END:VEVENT
BEGIN:VEVENT
DTSTART;TZID=America/New_York:20300103T190000
DTEND;TZID=America/New_York:20300103T190000
DTSTAMP:20260422T042254
CREATED:20260105T003147Z
LAST-MODIFIED:20260105T054205Z
UID:10012171-1893697200-1893697200@epictriviafl.com
SUMMARY:Trivia
DESCRIPTION:
URL:https://epictriviafl.com/event/trivia-busters/2030-01-03/
LOCATION:Busters Bistro\, 300 Sanford Ave\, Sanford\, FL\, 32771 USA
GEO:28.8098112;-81.2652009
X-APPLE-STRUCTURED-LOCATION;VALUE=URI;X-ADDRESS=Busters Bistro 300 Sanford Ave Sanford FL 32771 USA;X-APPLE-RADIUS=500;X-TITLE=300 Sanford Ave\, Sanford\, FL\, 32771 USA:geo:-81.2652009,28.8098112
END:VEVENT
BEGIN:VEVENT
DTSTART;TZID=America/New_York:20300104T183000
DTEND;TZID=America/New_York:20300104T183000
DTSTAMP:20260422T042254
CREATED:20260105T003219Z
LAST-MODIFIED:20260105T053805Z
UID:10009831-1893781800-1893781800@epictriviafl.com
SUMMARY:Mario Kart
DESCRIPTION:
URL:https://epictriviafl.com/event/mario-kart-busters/2030-01-04/
LOCATION:Busters Bistro\, 300 Sanford Ave\, Sanford\, FL\, 32771 USA
GEO:28.8098112;-81.2652009
X-APPLE-STRUCTURED-LOCATION;VALUE=URI;X-ADDRESS=Busters Bistro 300 Sanford Ave Sanford FL 32771 USA;X-APPLE-RADIUS=500;X-TITLE=300 Sanford Ave\, Sanford\, FL\, 32771 USA:geo:-81.2652009,28.8098112
END:VEVENT
BEGIN:VEVENT
DTSTART;TZID=America/New_York:20300110T190000
DTEND;TZID=America/New_York:20300110T190000
DTSTAMP:20260422T042254
CREATED:20260105T003147Z
LAST-MODIFIED:20260105T054205Z
UID:10012172-1894302000-1894302000@epictriviafl.com
SUMMARY:Trivia
DESCRIPTION:
URL:https://epictriviafl.com/event/trivia-busters/2030-01-10/
LOCATION:Busters Bistro\, 300 Sanford Ave\, Sanford\, FL\, 32771 USA
GEO:28.8098112;-81.2652009
X-APPLE-STRUCTURED-LOCATION;VALUE=URI;X-ADDRESS=Busters Bistro 300 Sanford Ave Sanford FL 32771 USA;X-APPLE-RADIUS=500;X-TITLE=300 Sanford Ave\, Sanford\, FL\, 32771 USA:geo:-81.2652009,28.8098112
END:VEVENT
BEGIN:VEVENT
DTSTART;TZID=America/New_York:20300111T183000
DTEND;TZID=America/New_York:20300111T183000
DTSTAMP:20260422T042254
CREATED:20260105T003219Z
LAST-MODIFIED:20260105T053805Z
UID:10009832-1894386600-1894386600@epictriviafl.com
SUMMARY:Mario Kart
DESCRIPTION:
URL:https://epictriviafl.com/event/mario-kart-busters/2030-01-11/
LOCATION:Busters Bistro\, 300 Sanford Ave\, Sanford\, FL\, 32771 USA
GEO:28.8098112;-81.2652009
X-APPLE-STRUCTURED-LOCATION;VALUE=URI;X-ADDRESS=Busters Bistro 300 Sanford Ave Sanford FL 32771 USA;X-APPLE-RADIUS=500;X-TITLE=300 Sanford Ave\, Sanford\, FL\, 32771 USA:geo:-81.2652009,28.8098112
END:VEVENT
END:VCALENDAR