BEGIN:VCALENDAR
VERSION:2.0
PRODID:-//Epic Trivia - ECPv6.15.18//NONSGML v1.0//EN
CALSCALE:GREGORIAN
METHOD:PUBLISH
X-ORIGINAL-URL:https://epictriviafl.com
X-WR-CALDESC:Events for Epic Trivia
REFRESH-INTERVAL;VALUE=DURATION:PT1H
X-Robots-Tag:noindex
X-PUBLISHED-TTL:PT1H
BEGIN:VTIMEZONE
TZID:America/New_York
BEGIN:DAYLIGHT
TZOFFSETFROM:-0500
TZOFFSETTO:-0400
TZNAME:EDT
DTSTART:20270314T070000
END:DAYLIGHT
BEGIN:STANDARD
TZOFFSETFROM:-0400
TZOFFSETTO:-0500
TZNAME:EST
DTSTART:20271107T060000
END:STANDARD
BEGIN:DAYLIGHT
TZOFFSETFROM:-0500
TZOFFSETTO:-0400
TZNAME:EDT
DTSTART:20280312T070000
END:DAYLIGHT
BEGIN:STANDARD
TZOFFSETFROM:-0400
TZOFFSETTO:-0500
TZNAME:EST
DTSTART:20281105T060000
END:STANDARD
BEGIN:DAYLIGHT
TZOFFSETFROM:-0500
TZOFFSETTO:-0400
TZNAME:EDT
DTSTART:20290311T070000
END:DAYLIGHT
BEGIN:STANDARD
TZOFFSETFROM:-0400
TZOFFSETTO:-0500
TZNAME:EST
DTSTART:20291104T060000
END:STANDARD
END:VTIMEZONE
BEGIN:VEVENT
DTSTART;TZID=America/New_York:20280224T190000
DTEND;TZID=America/New_York:20280224T190000
DTSTAMP:20260421T061646
CREATED:20260105T003147Z
LAST-MODIFIED:20260105T054205Z
UID:10012074-1835031600-1835031600@epictriviafl.com
SUMMARY:Trivia
DESCRIPTION:
URL:https://epictriviafl.com/event/trivia-busters/2028-02-24/
LOCATION:Busters Bistro\, 300 Sanford Ave\, Sanford\, FL\, 32771 USA
GEO:28.8098112;-81.2652009
X-APPLE-STRUCTURED-LOCATION;VALUE=URI;X-ADDRESS=Busters Bistro 300 Sanford Ave Sanford FL 32771 USA;X-APPLE-RADIUS=500;X-TITLE=300 Sanford Ave\, Sanford\, FL\, 32771 USA:geo:-81.2652009,28.8098112
END:VEVENT
BEGIN:VEVENT
DTSTART;TZID=America/New_York:20280225T183000
DTEND;TZID=America/New_York:20280225T183000
DTSTAMP:20260421T061646
CREATED:20260105T003219Z
LAST-MODIFIED:20260105T053805Z
UID:10009734-1835116200-1835116200@epictriviafl.com
SUMMARY:Mario Kart
DESCRIPTION:
URL:https://epictriviafl.com/event/mario-kart-busters/2028-02-25/
LOCATION:Busters Bistro\, 300 Sanford Ave\, Sanford\, FL\, 32771 USA
GEO:28.8098112;-81.2652009
X-APPLE-STRUCTURED-LOCATION;VALUE=URI;X-ADDRESS=Busters Bistro 300 Sanford Ave Sanford FL 32771 USA;X-APPLE-RADIUS=500;X-TITLE=300 Sanford Ave\, Sanford\, FL\, 32771 USA:geo:-81.2652009,28.8098112
END:VEVENT
BEGIN:VEVENT
DTSTART;TZID=America/New_York:20280302T190000
DTEND;TZID=America/New_York:20280302T190000
DTSTAMP:20260421T061646
CREATED:20260105T003147Z
LAST-MODIFIED:20260105T054205Z
UID:10012075-1835636400-1835636400@epictriviafl.com
SUMMARY:Trivia
DESCRIPTION:
URL:https://epictriviafl.com/event/trivia-busters/2028-03-02/
LOCATION:Busters Bistro\, 300 Sanford Ave\, Sanford\, FL\, 32771 USA
GEO:28.8098112;-81.2652009
X-APPLE-STRUCTURED-LOCATION;VALUE=URI;X-ADDRESS=Busters Bistro 300 Sanford Ave Sanford FL 32771 USA;X-APPLE-RADIUS=500;X-TITLE=300 Sanford Ave\, Sanford\, FL\, 32771 USA:geo:-81.2652009,28.8098112
END:VEVENT
BEGIN:VEVENT
DTSTART;TZID=America/New_York:20280303T183000
DTEND;TZID=America/New_York:20280303T183000
DTSTAMP:20260421T061646
CREATED:20260105T003219Z
LAST-MODIFIED:20260105T053805Z
UID:10009735-1835721000-1835721000@epictriviafl.com
SUMMARY:Mario Kart
DESCRIPTION:
URL:https://epictriviafl.com/event/mario-kart-busters/2028-03-03/
LOCATION:Busters Bistro\, 300 Sanford Ave\, Sanford\, FL\, 32771 USA
GEO:28.8098112;-81.2652009
X-APPLE-STRUCTURED-LOCATION;VALUE=URI;X-ADDRESS=Busters Bistro 300 Sanford Ave Sanford FL 32771 USA;X-APPLE-RADIUS=500;X-TITLE=300 Sanford Ave\, Sanford\, FL\, 32771 USA:geo:-81.2652009,28.8098112
END:VEVENT
BEGIN:VEVENT
DTSTART;TZID=America/New_York:20280309T190000
DTEND;TZID=America/New_York:20280309T190000
DTSTAMP:20260421T061646
CREATED:20260105T003147Z
LAST-MODIFIED:20260105T054205Z
UID:10012076-1836241200-1836241200@epictriviafl.com
SUMMARY:Trivia
DESCRIPTION:
URL:https://epictriviafl.com/event/trivia-busters/2028-03-09/
LOCATION:Busters Bistro\, 300 Sanford Ave\, Sanford\, FL\, 32771 USA
GEO:28.8098112;-81.2652009
X-APPLE-STRUCTURED-LOCATION;VALUE=URI;X-ADDRESS=Busters Bistro 300 Sanford Ave Sanford FL 32771 USA;X-APPLE-RADIUS=500;X-TITLE=300 Sanford Ave\, Sanford\, FL\, 32771 USA:geo:-81.2652009,28.8098112
END:VEVENT
BEGIN:VEVENT
DTSTART;TZID=America/New_York:20280310T183000
DTEND;TZID=America/New_York:20280310T183000
DTSTAMP:20260421T061646
CREATED:20260105T003219Z
LAST-MODIFIED:20260105T053805Z
UID:10009736-1836325800-1836325800@epictriviafl.com
SUMMARY:Mario Kart
DESCRIPTION:
URL:https://epictriviafl.com/event/mario-kart-busters/2028-03-10/
LOCATION:Busters Bistro\, 300 Sanford Ave\, Sanford\, FL\, 32771 USA
GEO:28.8098112;-81.2652009
X-APPLE-STRUCTURED-LOCATION;VALUE=URI;X-ADDRESS=Busters Bistro 300 Sanford Ave Sanford FL 32771 USA;X-APPLE-RADIUS=500;X-TITLE=300 Sanford Ave\, Sanford\, FL\, 32771 USA:geo:-81.2652009,28.8098112
END:VEVENT
BEGIN:VEVENT
DTSTART;TZID=America/New_York:20280316T190000
DTEND;TZID=America/New_York:20280316T190000
DTSTAMP:20260421T061646
CREATED:20260105T003147Z
LAST-MODIFIED:20260105T054205Z
UID:10012077-1836846000-1836846000@epictriviafl.com
SUMMARY:Trivia
DESCRIPTION:
URL:https://epictriviafl.com/event/trivia-busters/2028-03-16/
LOCATION:Busters Bistro\, 300 Sanford Ave\, Sanford\, FL\, 32771 USA
GEO:28.8098112;-81.2652009
X-APPLE-STRUCTURED-LOCATION;VALUE=URI;X-ADDRESS=Busters Bistro 300 Sanford Ave Sanford FL 32771 USA;X-APPLE-RADIUS=500;X-TITLE=300 Sanford Ave\, Sanford\, FL\, 32771 USA:geo:-81.2652009,28.8098112
END:VEVENT
BEGIN:VEVENT
DTSTART;TZID=America/New_York:20280317T183000
DTEND;TZID=America/New_York:20280317T183000
DTSTAMP:20260421T061646
CREATED:20260105T003219Z
LAST-MODIFIED:20260105T053805Z
UID:10009737-1836930600-1836930600@epictriviafl.com
SUMMARY:Mario Kart
DESCRIPTION:
URL:https://epictriviafl.com/event/mario-kart-busters/2028-03-17/
LOCATION:Busters Bistro\, 300 Sanford Ave\, Sanford\, FL\, 32771 USA
GEO:28.8098112;-81.2652009
X-APPLE-STRUCTURED-LOCATION;VALUE=URI;X-ADDRESS=Busters Bistro 300 Sanford Ave Sanford FL 32771 USA;X-APPLE-RADIUS=500;X-TITLE=300 Sanford Ave\, Sanford\, FL\, 32771 USA:geo:-81.2652009,28.8098112
END:VEVENT
BEGIN:VEVENT
DTSTART;TZID=America/New_York:20280323T190000
DTEND;TZID=America/New_York:20280323T190000
DTSTAMP:20260421T061646
CREATED:20260105T003147Z
LAST-MODIFIED:20260105T054205Z
UID:10012078-1837450800-1837450800@epictriviafl.com
SUMMARY:Trivia
DESCRIPTION:
URL:https://epictriviafl.com/event/trivia-busters/2028-03-23/
LOCATION:Busters Bistro\, 300 Sanford Ave\, Sanford\, FL\, 32771 USA
GEO:28.8098112;-81.2652009
X-APPLE-STRUCTURED-LOCATION;VALUE=URI;X-ADDRESS=Busters Bistro 300 Sanford Ave Sanford FL 32771 USA;X-APPLE-RADIUS=500;X-TITLE=300 Sanford Ave\, Sanford\, FL\, 32771 USA:geo:-81.2652009,28.8098112
END:VEVENT
BEGIN:VEVENT
DTSTART;TZID=America/New_York:20280324T183000
DTEND;TZID=America/New_York:20280324T183000
DTSTAMP:20260421T061646
CREATED:20260105T003219Z
LAST-MODIFIED:20260105T053805Z
UID:10009738-1837535400-1837535400@epictriviafl.com
SUMMARY:Mario Kart
DESCRIPTION:
URL:https://epictriviafl.com/event/mario-kart-busters/2028-03-24/
LOCATION:Busters Bistro\, 300 Sanford Ave\, Sanford\, FL\, 32771 USA
GEO:28.8098112;-81.2652009
X-APPLE-STRUCTURED-LOCATION;VALUE=URI;X-ADDRESS=Busters Bistro 300 Sanford Ave Sanford FL 32771 USA;X-APPLE-RADIUS=500;X-TITLE=300 Sanford Ave\, Sanford\, FL\, 32771 USA:geo:-81.2652009,28.8098112
END:VEVENT
BEGIN:VEVENT
DTSTART;TZID=America/New_York:20280330T190000
DTEND;TZID=America/New_York:20280330T190000
DTSTAMP:20260421T061646
CREATED:20260105T003147Z
LAST-MODIFIED:20260105T054205Z
UID:10012079-1838055600-1838055600@epictriviafl.com
SUMMARY:Trivia
DESCRIPTION:
URL:https://epictriviafl.com/event/trivia-busters/2028-03-30/
LOCATION:Busters Bistro\, 300 Sanford Ave\, Sanford\, FL\, 32771 USA
GEO:28.8098112;-81.2652009
X-APPLE-STRUCTURED-LOCATION;VALUE=URI;X-ADDRESS=Busters Bistro 300 Sanford Ave Sanford FL 32771 USA;X-APPLE-RADIUS=500;X-TITLE=300 Sanford Ave\, Sanford\, FL\, 32771 USA:geo:-81.2652009,28.8098112
END:VEVENT
BEGIN:VEVENT
DTSTART;TZID=America/New_York:20280331T183000
DTEND;TZID=America/New_York:20280331T183000
DTSTAMP:20260421T061646
CREATED:20260105T003219Z
LAST-MODIFIED:20260105T053805Z
UID:10009739-1838140200-1838140200@epictriviafl.com
SUMMARY:Mario Kart
DESCRIPTION:
URL:https://epictriviafl.com/event/mario-kart-busters/2028-03-31/
LOCATION:Busters Bistro\, 300 Sanford Ave\, Sanford\, FL\, 32771 USA
GEO:28.8098112;-81.2652009
X-APPLE-STRUCTURED-LOCATION;VALUE=URI;X-ADDRESS=Busters Bistro 300 Sanford Ave Sanford FL 32771 USA;X-APPLE-RADIUS=500;X-TITLE=300 Sanford Ave\, Sanford\, FL\, 32771 USA:geo:-81.2652009,28.8098112
END:VEVENT
BEGIN:VEVENT
DTSTART;TZID=America/New_York:20280406T190000
DTEND;TZID=America/New_York:20280406T190000
DTSTAMP:20260421T061646
CREATED:20260105T003147Z
LAST-MODIFIED:20260105T054205Z
UID:10012080-1838660400-1838660400@epictriviafl.com
SUMMARY:Trivia
DESCRIPTION:
URL:https://epictriviafl.com/event/trivia-busters/2028-04-06/
LOCATION:Busters Bistro\, 300 Sanford Ave\, Sanford\, FL\, 32771 USA
GEO:28.8098112;-81.2652009
X-APPLE-STRUCTURED-LOCATION;VALUE=URI;X-ADDRESS=Busters Bistro 300 Sanford Ave Sanford FL 32771 USA;X-APPLE-RADIUS=500;X-TITLE=300 Sanford Ave\, Sanford\, FL\, 32771 USA:geo:-81.2652009,28.8098112
END:VEVENT
BEGIN:VEVENT
DTSTART;TZID=America/New_York:20280407T183000
DTEND;TZID=America/New_York:20280407T183000
DTSTAMP:20260421T061646
CREATED:20260105T003219Z
LAST-MODIFIED:20260105T053805Z
UID:10009740-1838745000-1838745000@epictriviafl.com
SUMMARY:Mario Kart
DESCRIPTION:
URL:https://epictriviafl.com/event/mario-kart-busters/2028-04-07/
LOCATION:Busters Bistro\, 300 Sanford Ave\, Sanford\, FL\, 32771 USA
GEO:28.8098112;-81.2652009
X-APPLE-STRUCTURED-LOCATION;VALUE=URI;X-ADDRESS=Busters Bistro 300 Sanford Ave Sanford FL 32771 USA;X-APPLE-RADIUS=500;X-TITLE=300 Sanford Ave\, Sanford\, FL\, 32771 USA:geo:-81.2652009,28.8098112
END:VEVENT
BEGIN:VEVENT
DTSTART;TZID=America/New_York:20280413T190000
DTEND;TZID=America/New_York:20280413T190000
DTSTAMP:20260421T061646
CREATED:20260105T003147Z
LAST-MODIFIED:20260105T054205Z
UID:10012081-1839265200-1839265200@epictriviafl.com
SUMMARY:Trivia
DESCRIPTION:
URL:https://epictriviafl.com/event/trivia-busters/2028-04-13/
LOCATION:Busters Bistro\, 300 Sanford Ave\, Sanford\, FL\, 32771 USA
GEO:28.8098112;-81.2652009
X-APPLE-STRUCTURED-LOCATION;VALUE=URI;X-ADDRESS=Busters Bistro 300 Sanford Ave Sanford FL 32771 USA;X-APPLE-RADIUS=500;X-TITLE=300 Sanford Ave\, Sanford\, FL\, 32771 USA:geo:-81.2652009,28.8098112
END:VEVENT
BEGIN:VEVENT
DTSTART;TZID=America/New_York:20280414T183000
DTEND;TZID=America/New_York:20280414T183000
DTSTAMP:20260421T061646
CREATED:20260105T003219Z
LAST-MODIFIED:20260105T053805Z
UID:10009741-1839349800-1839349800@epictriviafl.com
SUMMARY:Mario Kart
DESCRIPTION:
URL:https://epictriviafl.com/event/mario-kart-busters/2028-04-14/
LOCATION:Busters Bistro\, 300 Sanford Ave\, Sanford\, FL\, 32771 USA
GEO:28.8098112;-81.2652009
X-APPLE-STRUCTURED-LOCATION;VALUE=URI;X-ADDRESS=Busters Bistro 300 Sanford Ave Sanford FL 32771 USA;X-APPLE-RADIUS=500;X-TITLE=300 Sanford Ave\, Sanford\, FL\, 32771 USA:geo:-81.2652009,28.8098112
END:VEVENT
BEGIN:VEVENT
DTSTART;TZID=America/New_York:20280420T190000
DTEND;TZID=America/New_York:20280420T190000
DTSTAMP:20260421T061646
CREATED:20260105T003147Z
LAST-MODIFIED:20260105T054205Z
UID:10012082-1839870000-1839870000@epictriviafl.com
SUMMARY:Trivia
DESCRIPTION:
URL:https://epictriviafl.com/event/trivia-busters/2028-04-20/
LOCATION:Busters Bistro\, 300 Sanford Ave\, Sanford\, FL\, 32771 USA
GEO:28.8098112;-81.2652009
X-APPLE-STRUCTURED-LOCATION;VALUE=URI;X-ADDRESS=Busters Bistro 300 Sanford Ave Sanford FL 32771 USA;X-APPLE-RADIUS=500;X-TITLE=300 Sanford Ave\, Sanford\, FL\, 32771 USA:geo:-81.2652009,28.8098112
END:VEVENT
BEGIN:VEVENT
DTSTART;TZID=America/New_York:20280421T183000
DTEND;TZID=America/New_York:20280421T183000
DTSTAMP:20260421T061646
CREATED:20260105T003219Z
LAST-MODIFIED:20260105T053805Z
UID:10009742-1839954600-1839954600@epictriviafl.com
SUMMARY:Mario Kart
DESCRIPTION:
URL:https://epictriviafl.com/event/mario-kart-busters/2028-04-21/
LOCATION:Busters Bistro\, 300 Sanford Ave\, Sanford\, FL\, 32771 USA
GEO:28.8098112;-81.2652009
X-APPLE-STRUCTURED-LOCATION;VALUE=URI;X-ADDRESS=Busters Bistro 300 Sanford Ave Sanford FL 32771 USA;X-APPLE-RADIUS=500;X-TITLE=300 Sanford Ave\, Sanford\, FL\, 32771 USA:geo:-81.2652009,28.8098112
END:VEVENT
BEGIN:VEVENT
DTSTART;TZID=America/New_York:20280427T190000
DTEND;TZID=America/New_York:20280427T190000
DTSTAMP:20260421T061646
CREATED:20260105T003147Z
LAST-MODIFIED:20260105T054205Z
UID:10012083-1840474800-1840474800@epictriviafl.com
SUMMARY:Trivia
DESCRIPTION:
URL:https://epictriviafl.com/event/trivia-busters/2028-04-27/
LOCATION:Busters Bistro\, 300 Sanford Ave\, Sanford\, FL\, 32771 USA
GEO:28.8098112;-81.2652009
X-APPLE-STRUCTURED-LOCATION;VALUE=URI;X-ADDRESS=Busters Bistro 300 Sanford Ave Sanford FL 32771 USA;X-APPLE-RADIUS=500;X-TITLE=300 Sanford Ave\, Sanford\, FL\, 32771 USA:geo:-81.2652009,28.8098112
END:VEVENT
BEGIN:VEVENT
DTSTART;TZID=America/New_York:20280428T183000
DTEND;TZID=America/New_York:20280428T183000
DTSTAMP:20260421T061646
CREATED:20260105T003219Z
LAST-MODIFIED:20260105T053805Z
UID:10009743-1840559400-1840559400@epictriviafl.com
SUMMARY:Mario Kart
DESCRIPTION:
URL:https://epictriviafl.com/event/mario-kart-busters/2028-04-28/
LOCATION:Busters Bistro\, 300 Sanford Ave\, Sanford\, FL\, 32771 USA
GEO:28.8098112;-81.2652009
X-APPLE-STRUCTURED-LOCATION;VALUE=URI;X-ADDRESS=Busters Bistro 300 Sanford Ave Sanford FL 32771 USA;X-APPLE-RADIUS=500;X-TITLE=300 Sanford Ave\, Sanford\, FL\, 32771 USA:geo:-81.2652009,28.8098112
END:VEVENT
BEGIN:VEVENT
DTSTART;TZID=America/New_York:20280504T190000
DTEND;TZID=America/New_York:20280504T190000
DTSTAMP:20260421T061646
CREATED:20260105T003147Z
LAST-MODIFIED:20260105T054205Z
UID:10012084-1841079600-1841079600@epictriviafl.com
SUMMARY:Trivia
DESCRIPTION:
URL:https://epictriviafl.com/event/trivia-busters/2028-05-04/
LOCATION:Busters Bistro\, 300 Sanford Ave\, Sanford\, FL\, 32771 USA
GEO:28.8098112;-81.2652009
X-APPLE-STRUCTURED-LOCATION;VALUE=URI;X-ADDRESS=Busters Bistro 300 Sanford Ave Sanford FL 32771 USA;X-APPLE-RADIUS=500;X-TITLE=300 Sanford Ave\, Sanford\, FL\, 32771 USA:geo:-81.2652009,28.8098112
END:VEVENT
BEGIN:VEVENT
DTSTART;TZID=America/New_York:20280505T183000
DTEND;TZID=America/New_York:20280505T183000
DTSTAMP:20260421T061646
CREATED:20260105T003219Z
LAST-MODIFIED:20260105T053805Z
UID:10009744-1841164200-1841164200@epictriviafl.com
SUMMARY:Mario Kart
DESCRIPTION:
URL:https://epictriviafl.com/event/mario-kart-busters/2028-05-05/
LOCATION:Busters Bistro\, 300 Sanford Ave\, Sanford\, FL\, 32771 USA
GEO:28.8098112;-81.2652009
X-APPLE-STRUCTURED-LOCATION;VALUE=URI;X-ADDRESS=Busters Bistro 300 Sanford Ave Sanford FL 32771 USA;X-APPLE-RADIUS=500;X-TITLE=300 Sanford Ave\, Sanford\, FL\, 32771 USA:geo:-81.2652009,28.8098112
END:VEVENT
BEGIN:VEVENT
DTSTART;TZID=America/New_York:20280511T190000
DTEND;TZID=America/New_York:20280511T190000
DTSTAMP:20260421T061646
CREATED:20260105T003147Z
LAST-MODIFIED:20260105T054205Z
UID:10012085-1841684400-1841684400@epictriviafl.com
SUMMARY:Trivia
DESCRIPTION:
URL:https://epictriviafl.com/event/trivia-busters/2028-05-11/
LOCATION:Busters Bistro\, 300 Sanford Ave\, Sanford\, FL\, 32771 USA
GEO:28.8098112;-81.2652009
X-APPLE-STRUCTURED-LOCATION;VALUE=URI;X-ADDRESS=Busters Bistro 300 Sanford Ave Sanford FL 32771 USA;X-APPLE-RADIUS=500;X-TITLE=300 Sanford Ave\, Sanford\, FL\, 32771 USA:geo:-81.2652009,28.8098112
END:VEVENT
BEGIN:VEVENT
DTSTART;TZID=America/New_York:20280512T183000
DTEND;TZID=America/New_York:20280512T183000
DTSTAMP:20260421T061646
CREATED:20260105T003219Z
LAST-MODIFIED:20260105T053805Z
UID:10009745-1841769000-1841769000@epictriviafl.com
SUMMARY:Mario Kart
DESCRIPTION:
URL:https://epictriviafl.com/event/mario-kart-busters/2028-05-12/
LOCATION:Busters Bistro\, 300 Sanford Ave\, Sanford\, FL\, 32771 USA
GEO:28.8098112;-81.2652009
X-APPLE-STRUCTURED-LOCATION;VALUE=URI;X-ADDRESS=Busters Bistro 300 Sanford Ave Sanford FL 32771 USA;X-APPLE-RADIUS=500;X-TITLE=300 Sanford Ave\, Sanford\, FL\, 32771 USA:geo:-81.2652009,28.8098112
END:VEVENT
BEGIN:VEVENT
DTSTART;TZID=America/New_York:20280518T190000
DTEND;TZID=America/New_York:20280518T190000
DTSTAMP:20260421T061646
CREATED:20260105T003147Z
LAST-MODIFIED:20260105T054205Z
UID:10012086-1842289200-1842289200@epictriviafl.com
SUMMARY:Trivia
DESCRIPTION:
URL:https://epictriviafl.com/event/trivia-busters/2028-05-18/
LOCATION:Busters Bistro\, 300 Sanford Ave\, Sanford\, FL\, 32771 USA
GEO:28.8098112;-81.2652009
X-APPLE-STRUCTURED-LOCATION;VALUE=URI;X-ADDRESS=Busters Bistro 300 Sanford Ave Sanford FL 32771 USA;X-APPLE-RADIUS=500;X-TITLE=300 Sanford Ave\, Sanford\, FL\, 32771 USA:geo:-81.2652009,28.8098112
END:VEVENT
BEGIN:VEVENT
DTSTART;TZID=America/New_York:20280519T183000
DTEND;TZID=America/New_York:20280519T183000
DTSTAMP:20260421T061646
CREATED:20260105T003219Z
LAST-MODIFIED:20260105T053805Z
UID:10009746-1842373800-1842373800@epictriviafl.com
SUMMARY:Mario Kart
DESCRIPTION:
URL:https://epictriviafl.com/event/mario-kart-busters/2028-05-19/
LOCATION:Busters Bistro\, 300 Sanford Ave\, Sanford\, FL\, 32771 USA
GEO:28.8098112;-81.2652009
X-APPLE-STRUCTURED-LOCATION;VALUE=URI;X-ADDRESS=Busters Bistro 300 Sanford Ave Sanford FL 32771 USA;X-APPLE-RADIUS=500;X-TITLE=300 Sanford Ave\, Sanford\, FL\, 32771 USA:geo:-81.2652009,28.8098112
END:VEVENT
BEGIN:VEVENT
DTSTART;TZID=America/New_York:20280525T190000
DTEND;TZID=America/New_York:20280525T190000
DTSTAMP:20260421T061646
CREATED:20260105T003147Z
LAST-MODIFIED:20260105T054205Z
UID:10012087-1842894000-1842894000@epictriviafl.com
SUMMARY:Trivia
DESCRIPTION:
URL:https://epictriviafl.com/event/trivia-busters/2028-05-25/
LOCATION:Busters Bistro\, 300 Sanford Ave\, Sanford\, FL\, 32771 USA
GEO:28.8098112;-81.2652009
X-APPLE-STRUCTURED-LOCATION;VALUE=URI;X-ADDRESS=Busters Bistro 300 Sanford Ave Sanford FL 32771 USA;X-APPLE-RADIUS=500;X-TITLE=300 Sanford Ave\, Sanford\, FL\, 32771 USA:geo:-81.2652009,28.8098112
END:VEVENT
BEGIN:VEVENT
DTSTART;TZID=America/New_York:20280526T183000
DTEND;TZID=America/New_York:20280526T183000
DTSTAMP:20260421T061646
CREATED:20260105T003219Z
LAST-MODIFIED:20260105T053805Z
UID:10009747-1842978600-1842978600@epictriviafl.com
SUMMARY:Mario Kart
DESCRIPTION:
URL:https://epictriviafl.com/event/mario-kart-busters/2028-05-26/
LOCATION:Busters Bistro\, 300 Sanford Ave\, Sanford\, FL\, 32771 USA
GEO:28.8098112;-81.2652009
X-APPLE-STRUCTURED-LOCATION;VALUE=URI;X-ADDRESS=Busters Bistro 300 Sanford Ave Sanford FL 32771 USA;X-APPLE-RADIUS=500;X-TITLE=300 Sanford Ave\, Sanford\, FL\, 32771 USA:geo:-81.2652009,28.8098112
END:VEVENT
BEGIN:VEVENT
DTSTART;TZID=America/New_York:20280601T190000
DTEND;TZID=America/New_York:20280601T190000
DTSTAMP:20260421T061646
CREATED:20260105T003147Z
LAST-MODIFIED:20260105T054205Z
UID:10012088-1843498800-1843498800@epictriviafl.com
SUMMARY:Trivia
DESCRIPTION:
URL:https://epictriviafl.com/event/trivia-busters/2028-06-01/
LOCATION:Busters Bistro\, 300 Sanford Ave\, Sanford\, FL\, 32771 USA
GEO:28.8098112;-81.2652009
X-APPLE-STRUCTURED-LOCATION;VALUE=URI;X-ADDRESS=Busters Bistro 300 Sanford Ave Sanford FL 32771 USA;X-APPLE-RADIUS=500;X-TITLE=300 Sanford Ave\, Sanford\, FL\, 32771 USA:geo:-81.2652009,28.8098112
END:VEVENT
BEGIN:VEVENT
DTSTART;TZID=America/New_York:20280602T183000
DTEND;TZID=America/New_York:20280602T183000
DTSTAMP:20260421T061646
CREATED:20260105T003219Z
LAST-MODIFIED:20260105T053805Z
UID:10009748-1843583400-1843583400@epictriviafl.com
SUMMARY:Mario Kart
DESCRIPTION:
URL:https://epictriviafl.com/event/mario-kart-busters/2028-06-02/
LOCATION:Busters Bistro\, 300 Sanford Ave\, Sanford\, FL\, 32771 USA
GEO:28.8098112;-81.2652009
X-APPLE-STRUCTURED-LOCATION;VALUE=URI;X-ADDRESS=Busters Bistro 300 Sanford Ave Sanford FL 32771 USA;X-APPLE-RADIUS=500;X-TITLE=300 Sanford Ave\, Sanford\, FL\, 32771 USA:geo:-81.2652009,28.8098112
END:VEVENT
END:VCALENDAR