BEGIN:VCALENDAR
VERSION:2.0
PRODID:-//Epic Trivia - ECPv6.15.18//NONSGML v1.0//EN
CALSCALE:GREGORIAN
METHOD:PUBLISH
X-ORIGINAL-URL:https://epictriviafl.com
X-WR-CALDESC:Events for Epic Trivia
REFRESH-INTERVAL;VALUE=DURATION:PT1H
X-Robots-Tag:noindex
X-PUBLISHED-TTL:PT1H
BEGIN:VTIMEZONE
TZID:America/New_York
BEGIN:DAYLIGHT
TZOFFSETFROM:-0500
TZOFFSETTO:-0400
TZNAME:EDT
DTSTART:20260308T070000
END:DAYLIGHT
BEGIN:STANDARD
TZOFFSETFROM:-0400
TZOFFSETTO:-0500
TZNAME:EST
DTSTART:20261101T060000
END:STANDARD
BEGIN:DAYLIGHT
TZOFFSETFROM:-0500
TZOFFSETTO:-0400
TZNAME:EDT
DTSTART:20270314T070000
END:DAYLIGHT
BEGIN:STANDARD
TZOFFSETFROM:-0400
TZOFFSETTO:-0500
TZNAME:EST
DTSTART:20271107T060000
END:STANDARD
BEGIN:DAYLIGHT
TZOFFSETFROM:-0500
TZOFFSETTO:-0400
TZNAME:EDT
DTSTART:20280312T070000
END:DAYLIGHT
BEGIN:STANDARD
TZOFFSETFROM:-0400
TZOFFSETTO:-0500
TZNAME:EST
DTSTART:20281105T060000
END:STANDARD
BEGIN:DAYLIGHT
TZOFFSETFROM:-0500
TZOFFSETTO:-0400
TZNAME:EDT
DTSTART:20290311T070000
END:DAYLIGHT
BEGIN:STANDARD
TZOFFSETFROM:-0400
TZOFFSETTO:-0500
TZNAME:EST
DTSTART:20291104T060000
END:STANDARD
END:VTIMEZONE
BEGIN:VEVENT
DTSTART;TZID=America/New_York:20271202T190000
DTEND;TZID=America/New_York:20271202T190000
DTSTAMP:20260421T031043
CREATED:20260105T003147Z
LAST-MODIFIED:20260105T054205Z
UID:10012062-1827774000-1827774000@epictriviafl.com
SUMMARY:Trivia
DESCRIPTION:
URL:https://epictriviafl.com/event/trivia-busters/2027-12-02/
LOCATION:Busters Bistro\, 300 Sanford Ave\, Sanford\, FL\, 32771 USA
GEO:28.8098112;-81.2652009
X-APPLE-STRUCTURED-LOCATION;VALUE=URI;X-ADDRESS=Busters Bistro 300 Sanford Ave Sanford FL 32771 USA;X-APPLE-RADIUS=500;X-TITLE=300 Sanford Ave\, Sanford\, FL\, 32771 USA:geo:-81.2652009,28.8098112
END:VEVENT
BEGIN:VEVENT
DTSTART;TZID=America/New_York:20271203T183000
DTEND;TZID=America/New_York:20271203T183000
DTSTAMP:20260421T031043
CREATED:20260105T003219Z
LAST-MODIFIED:20260105T053805Z
UID:10009722-1827858600-1827858600@epictriviafl.com
SUMMARY:Mario Kart
DESCRIPTION:
URL:https://epictriviafl.com/event/mario-kart-busters/2027-12-03/
LOCATION:Busters Bistro\, 300 Sanford Ave\, Sanford\, FL\, 32771 USA
GEO:28.8098112;-81.2652009
X-APPLE-STRUCTURED-LOCATION;VALUE=URI;X-ADDRESS=Busters Bistro 300 Sanford Ave Sanford FL 32771 USA;X-APPLE-RADIUS=500;X-TITLE=300 Sanford Ave\, Sanford\, FL\, 32771 USA:geo:-81.2652009,28.8098112
END:VEVENT
BEGIN:VEVENT
DTSTART;TZID=America/New_York:20271209T190000
DTEND;TZID=America/New_York:20271209T190000
DTSTAMP:20260421T031043
CREATED:20260105T003147Z
LAST-MODIFIED:20260105T054205Z
UID:10012063-1828378800-1828378800@epictriviafl.com
SUMMARY:Trivia
DESCRIPTION:
URL:https://epictriviafl.com/event/trivia-busters/2027-12-09/
LOCATION:Busters Bistro\, 300 Sanford Ave\, Sanford\, FL\, 32771 USA
GEO:28.8098112;-81.2652009
X-APPLE-STRUCTURED-LOCATION;VALUE=URI;X-ADDRESS=Busters Bistro 300 Sanford Ave Sanford FL 32771 USA;X-APPLE-RADIUS=500;X-TITLE=300 Sanford Ave\, Sanford\, FL\, 32771 USA:geo:-81.2652009,28.8098112
END:VEVENT
BEGIN:VEVENT
DTSTART;TZID=America/New_York:20271210T183000
DTEND;TZID=America/New_York:20271210T183000
DTSTAMP:20260421T031043
CREATED:20260105T003219Z
LAST-MODIFIED:20260105T053805Z
UID:10009723-1828463400-1828463400@epictriviafl.com
SUMMARY:Mario Kart
DESCRIPTION:
URL:https://epictriviafl.com/event/mario-kart-busters/2027-12-10/
LOCATION:Busters Bistro\, 300 Sanford Ave\, Sanford\, FL\, 32771 USA
GEO:28.8098112;-81.2652009
X-APPLE-STRUCTURED-LOCATION;VALUE=URI;X-ADDRESS=Busters Bistro 300 Sanford Ave Sanford FL 32771 USA;X-APPLE-RADIUS=500;X-TITLE=300 Sanford Ave\, Sanford\, FL\, 32771 USA:geo:-81.2652009,28.8098112
END:VEVENT
BEGIN:VEVENT
DTSTART;TZID=America/New_York:20271216T190000
DTEND;TZID=America/New_York:20271216T190000
DTSTAMP:20260421T031043
CREATED:20260105T003147Z
LAST-MODIFIED:20260105T054205Z
UID:10012064-1828983600-1828983600@epictriviafl.com
SUMMARY:Trivia
DESCRIPTION:
URL:https://epictriviafl.com/event/trivia-busters/2027-12-16/
LOCATION:Busters Bistro\, 300 Sanford Ave\, Sanford\, FL\, 32771 USA
GEO:28.8098112;-81.2652009
X-APPLE-STRUCTURED-LOCATION;VALUE=URI;X-ADDRESS=Busters Bistro 300 Sanford Ave Sanford FL 32771 USA;X-APPLE-RADIUS=500;X-TITLE=300 Sanford Ave\, Sanford\, FL\, 32771 USA:geo:-81.2652009,28.8098112
END:VEVENT
BEGIN:VEVENT
DTSTART;TZID=America/New_York:20271217T183000
DTEND;TZID=America/New_York:20271217T183000
DTSTAMP:20260421T031043
CREATED:20260105T003219Z
LAST-MODIFIED:20260105T053805Z
UID:10009724-1829068200-1829068200@epictriviafl.com
SUMMARY:Mario Kart
DESCRIPTION:
URL:https://epictriviafl.com/event/mario-kart-busters/2027-12-17/
LOCATION:Busters Bistro\, 300 Sanford Ave\, Sanford\, FL\, 32771 USA
GEO:28.8098112;-81.2652009
X-APPLE-STRUCTURED-LOCATION;VALUE=URI;X-ADDRESS=Busters Bistro 300 Sanford Ave Sanford FL 32771 USA;X-APPLE-RADIUS=500;X-TITLE=300 Sanford Ave\, Sanford\, FL\, 32771 USA:geo:-81.2652009,28.8098112
END:VEVENT
BEGIN:VEVENT
DTSTART;TZID=America/New_York:20271223T190000
DTEND;TZID=America/New_York:20271223T190000
DTSTAMP:20260421T031043
CREATED:20260105T003147Z
LAST-MODIFIED:20260105T054205Z
UID:10012065-1829588400-1829588400@epictriviafl.com
SUMMARY:Trivia
DESCRIPTION:
URL:https://epictriviafl.com/event/trivia-busters/2027-12-23/
LOCATION:Busters Bistro\, 300 Sanford Ave\, Sanford\, FL\, 32771 USA
GEO:28.8098112;-81.2652009
X-APPLE-STRUCTURED-LOCATION;VALUE=URI;X-ADDRESS=Busters Bistro 300 Sanford Ave Sanford FL 32771 USA;X-APPLE-RADIUS=500;X-TITLE=300 Sanford Ave\, Sanford\, FL\, 32771 USA:geo:-81.2652009,28.8098112
END:VEVENT
BEGIN:VEVENT
DTSTART;TZID=America/New_York:20271224T183000
DTEND;TZID=America/New_York:20271224T183000
DTSTAMP:20260421T031043
CREATED:20260105T003219Z
LAST-MODIFIED:20260105T053805Z
UID:10009725-1829673000-1829673000@epictriviafl.com
SUMMARY:Mario Kart
DESCRIPTION:
URL:https://epictriviafl.com/event/mario-kart-busters/2027-12-24/
LOCATION:Busters Bistro\, 300 Sanford Ave\, Sanford\, FL\, 32771 USA
GEO:28.8098112;-81.2652009
X-APPLE-STRUCTURED-LOCATION;VALUE=URI;X-ADDRESS=Busters Bistro 300 Sanford Ave Sanford FL 32771 USA;X-APPLE-RADIUS=500;X-TITLE=300 Sanford Ave\, Sanford\, FL\, 32771 USA:geo:-81.2652009,28.8098112
END:VEVENT
BEGIN:VEVENT
DTSTART;TZID=America/New_York:20271230T190000
DTEND;TZID=America/New_York:20271230T190000
DTSTAMP:20260421T031043
CREATED:20260105T003147Z
LAST-MODIFIED:20260105T054205Z
UID:10012066-1830193200-1830193200@epictriviafl.com
SUMMARY:Trivia
DESCRIPTION:
URL:https://epictriviafl.com/event/trivia-busters/2027-12-30/
LOCATION:Busters Bistro\, 300 Sanford Ave\, Sanford\, FL\, 32771 USA
GEO:28.8098112;-81.2652009
X-APPLE-STRUCTURED-LOCATION;VALUE=URI;X-ADDRESS=Busters Bistro 300 Sanford Ave Sanford FL 32771 USA;X-APPLE-RADIUS=500;X-TITLE=300 Sanford Ave\, Sanford\, FL\, 32771 USA:geo:-81.2652009,28.8098112
END:VEVENT
BEGIN:VEVENT
DTSTART;TZID=America/New_York:20271231T183000
DTEND;TZID=America/New_York:20271231T183000
DTSTAMP:20260421T031043
CREATED:20260105T003219Z
LAST-MODIFIED:20260105T053805Z
UID:10009726-1830277800-1830277800@epictriviafl.com
SUMMARY:Mario Kart
DESCRIPTION:
URL:https://epictriviafl.com/event/mario-kart-busters/2027-12-31/
LOCATION:Busters Bistro\, 300 Sanford Ave\, Sanford\, FL\, 32771 USA
GEO:28.8098112;-81.2652009
X-APPLE-STRUCTURED-LOCATION;VALUE=URI;X-ADDRESS=Busters Bistro 300 Sanford Ave Sanford FL 32771 USA;X-APPLE-RADIUS=500;X-TITLE=300 Sanford Ave\, Sanford\, FL\, 32771 USA:geo:-81.2652009,28.8098112
END:VEVENT
BEGIN:VEVENT
DTSTART;TZID=America/New_York:20280106T190000
DTEND;TZID=America/New_York:20280106T190000
DTSTAMP:20260421T031043
CREATED:20260105T003147Z
LAST-MODIFIED:20260105T054205Z
UID:10012067-1830798000-1830798000@epictriviafl.com
SUMMARY:Trivia
DESCRIPTION:
URL:https://epictriviafl.com/event/trivia-busters/2028-01-06/
LOCATION:Busters Bistro\, 300 Sanford Ave\, Sanford\, FL\, 32771 USA
GEO:28.8098112;-81.2652009
X-APPLE-STRUCTURED-LOCATION;VALUE=URI;X-ADDRESS=Busters Bistro 300 Sanford Ave Sanford FL 32771 USA;X-APPLE-RADIUS=500;X-TITLE=300 Sanford Ave\, Sanford\, FL\, 32771 USA:geo:-81.2652009,28.8098112
END:VEVENT
BEGIN:VEVENT
DTSTART;TZID=America/New_York:20280107T183000
DTEND;TZID=America/New_York:20280107T183000
DTSTAMP:20260421T031043
CREATED:20260105T003219Z
LAST-MODIFIED:20260105T053805Z
UID:10009727-1830882600-1830882600@epictriviafl.com
SUMMARY:Mario Kart
DESCRIPTION:
URL:https://epictriviafl.com/event/mario-kart-busters/2028-01-07/
LOCATION:Busters Bistro\, 300 Sanford Ave\, Sanford\, FL\, 32771 USA
GEO:28.8098112;-81.2652009
X-APPLE-STRUCTURED-LOCATION;VALUE=URI;X-ADDRESS=Busters Bistro 300 Sanford Ave Sanford FL 32771 USA;X-APPLE-RADIUS=500;X-TITLE=300 Sanford Ave\, Sanford\, FL\, 32771 USA:geo:-81.2652009,28.8098112
END:VEVENT
BEGIN:VEVENT
DTSTART;TZID=America/New_York:20280113T190000
DTEND;TZID=America/New_York:20280113T190000
DTSTAMP:20260421T031043
CREATED:20260105T003147Z
LAST-MODIFIED:20260105T054205Z
UID:10012068-1831402800-1831402800@epictriviafl.com
SUMMARY:Trivia
DESCRIPTION:
URL:https://epictriviafl.com/event/trivia-busters/2028-01-13/
LOCATION:Busters Bistro\, 300 Sanford Ave\, Sanford\, FL\, 32771 USA
GEO:28.8098112;-81.2652009
X-APPLE-STRUCTURED-LOCATION;VALUE=URI;X-ADDRESS=Busters Bistro 300 Sanford Ave Sanford FL 32771 USA;X-APPLE-RADIUS=500;X-TITLE=300 Sanford Ave\, Sanford\, FL\, 32771 USA:geo:-81.2652009,28.8098112
END:VEVENT
BEGIN:VEVENT
DTSTART;TZID=America/New_York:20280114T183000
DTEND;TZID=America/New_York:20280114T183000
DTSTAMP:20260421T031043
CREATED:20260105T003219Z
LAST-MODIFIED:20260105T053805Z
UID:10009728-1831487400-1831487400@epictriviafl.com
SUMMARY:Mario Kart
DESCRIPTION:
URL:https://epictriviafl.com/event/mario-kart-busters/2028-01-14/
LOCATION:Busters Bistro\, 300 Sanford Ave\, Sanford\, FL\, 32771 USA
GEO:28.8098112;-81.2652009
X-APPLE-STRUCTURED-LOCATION;VALUE=URI;X-ADDRESS=Busters Bistro 300 Sanford Ave Sanford FL 32771 USA;X-APPLE-RADIUS=500;X-TITLE=300 Sanford Ave\, Sanford\, FL\, 32771 USA:geo:-81.2652009,28.8098112
END:VEVENT
BEGIN:VEVENT
DTSTART;TZID=America/New_York:20280120T190000
DTEND;TZID=America/New_York:20280120T190000
DTSTAMP:20260421T031043
CREATED:20260105T003147Z
LAST-MODIFIED:20260105T054205Z
UID:10012069-1832007600-1832007600@epictriviafl.com
SUMMARY:Trivia
DESCRIPTION:
URL:https://epictriviafl.com/event/trivia-busters/2028-01-20/
LOCATION:Busters Bistro\, 300 Sanford Ave\, Sanford\, FL\, 32771 USA
GEO:28.8098112;-81.2652009
X-APPLE-STRUCTURED-LOCATION;VALUE=URI;X-ADDRESS=Busters Bistro 300 Sanford Ave Sanford FL 32771 USA;X-APPLE-RADIUS=500;X-TITLE=300 Sanford Ave\, Sanford\, FL\, 32771 USA:geo:-81.2652009,28.8098112
END:VEVENT
BEGIN:VEVENT
DTSTART;TZID=America/New_York:20280121T183000
DTEND;TZID=America/New_York:20280121T183000
DTSTAMP:20260421T031043
CREATED:20260105T003219Z
LAST-MODIFIED:20260105T053805Z
UID:10009729-1832092200-1832092200@epictriviafl.com
SUMMARY:Mario Kart
DESCRIPTION:
URL:https://epictriviafl.com/event/mario-kart-busters/2028-01-21/
LOCATION:Busters Bistro\, 300 Sanford Ave\, Sanford\, FL\, 32771 USA
GEO:28.8098112;-81.2652009
X-APPLE-STRUCTURED-LOCATION;VALUE=URI;X-ADDRESS=Busters Bistro 300 Sanford Ave Sanford FL 32771 USA;X-APPLE-RADIUS=500;X-TITLE=300 Sanford Ave\, Sanford\, FL\, 32771 USA:geo:-81.2652009,28.8098112
END:VEVENT
BEGIN:VEVENT
DTSTART;TZID=America/New_York:20280127T190000
DTEND;TZID=America/New_York:20280127T190000
DTSTAMP:20260421T031043
CREATED:20260105T003147Z
LAST-MODIFIED:20260105T054205Z
UID:10012070-1832612400-1832612400@epictriviafl.com
SUMMARY:Trivia
DESCRIPTION:
URL:https://epictriviafl.com/event/trivia-busters/2028-01-27/
LOCATION:Busters Bistro\, 300 Sanford Ave\, Sanford\, FL\, 32771 USA
GEO:28.8098112;-81.2652009
X-APPLE-STRUCTURED-LOCATION;VALUE=URI;X-ADDRESS=Busters Bistro 300 Sanford Ave Sanford FL 32771 USA;X-APPLE-RADIUS=500;X-TITLE=300 Sanford Ave\, Sanford\, FL\, 32771 USA:geo:-81.2652009,28.8098112
END:VEVENT
BEGIN:VEVENT
DTSTART;TZID=America/New_York:20280128T183000
DTEND;TZID=America/New_York:20280128T183000
DTSTAMP:20260421T031043
CREATED:20260105T003219Z
LAST-MODIFIED:20260105T053805Z
UID:10009730-1832697000-1832697000@epictriviafl.com
SUMMARY:Mario Kart
DESCRIPTION:
URL:https://epictriviafl.com/event/mario-kart-busters/2028-01-28/
LOCATION:Busters Bistro\, 300 Sanford Ave\, Sanford\, FL\, 32771 USA
GEO:28.8098112;-81.2652009
X-APPLE-STRUCTURED-LOCATION;VALUE=URI;X-ADDRESS=Busters Bistro 300 Sanford Ave Sanford FL 32771 USA;X-APPLE-RADIUS=500;X-TITLE=300 Sanford Ave\, Sanford\, FL\, 32771 USA:geo:-81.2652009,28.8098112
END:VEVENT
BEGIN:VEVENT
DTSTART;TZID=America/New_York:20280203T190000
DTEND;TZID=America/New_York:20280203T190000
DTSTAMP:20260421T031043
CREATED:20260105T003147Z
LAST-MODIFIED:20260105T054205Z
UID:10012071-1833217200-1833217200@epictriviafl.com
SUMMARY:Trivia
DESCRIPTION:
URL:https://epictriviafl.com/event/trivia-busters/2028-02-03/
LOCATION:Busters Bistro\, 300 Sanford Ave\, Sanford\, FL\, 32771 USA
GEO:28.8098112;-81.2652009
X-APPLE-STRUCTURED-LOCATION;VALUE=URI;X-ADDRESS=Busters Bistro 300 Sanford Ave Sanford FL 32771 USA;X-APPLE-RADIUS=500;X-TITLE=300 Sanford Ave\, Sanford\, FL\, 32771 USA:geo:-81.2652009,28.8098112
END:VEVENT
BEGIN:VEVENT
DTSTART;TZID=America/New_York:20280204T183000
DTEND;TZID=America/New_York:20280204T183000
DTSTAMP:20260421T031043
CREATED:20260105T003219Z
LAST-MODIFIED:20260105T053805Z
UID:10009731-1833301800-1833301800@epictriviafl.com
SUMMARY:Mario Kart
DESCRIPTION:
URL:https://epictriviafl.com/event/mario-kart-busters/2028-02-04/
LOCATION:Busters Bistro\, 300 Sanford Ave\, Sanford\, FL\, 32771 USA
GEO:28.8098112;-81.2652009
X-APPLE-STRUCTURED-LOCATION;VALUE=URI;X-ADDRESS=Busters Bistro 300 Sanford Ave Sanford FL 32771 USA;X-APPLE-RADIUS=500;X-TITLE=300 Sanford Ave\, Sanford\, FL\, 32771 USA:geo:-81.2652009,28.8098112
END:VEVENT
BEGIN:VEVENT
DTSTART;TZID=America/New_York:20280210T190000
DTEND;TZID=America/New_York:20280210T190000
DTSTAMP:20260421T031043
CREATED:20260105T003147Z
LAST-MODIFIED:20260105T054205Z
UID:10012072-1833822000-1833822000@epictriviafl.com
SUMMARY:Trivia
DESCRIPTION:
URL:https://epictriviafl.com/event/trivia-busters/2028-02-10/
LOCATION:Busters Bistro\, 300 Sanford Ave\, Sanford\, FL\, 32771 USA
GEO:28.8098112;-81.2652009
X-APPLE-STRUCTURED-LOCATION;VALUE=URI;X-ADDRESS=Busters Bistro 300 Sanford Ave Sanford FL 32771 USA;X-APPLE-RADIUS=500;X-TITLE=300 Sanford Ave\, Sanford\, FL\, 32771 USA:geo:-81.2652009,28.8098112
END:VEVENT
BEGIN:VEVENT
DTSTART;TZID=America/New_York:20280211T183000
DTEND;TZID=America/New_York:20280211T183000
DTSTAMP:20260421T031043
CREATED:20260105T003219Z
LAST-MODIFIED:20260105T053805Z
UID:10009732-1833906600-1833906600@epictriviafl.com
SUMMARY:Mario Kart
DESCRIPTION:
URL:https://epictriviafl.com/event/mario-kart-busters/2028-02-11/
LOCATION:Busters Bistro\, 300 Sanford Ave\, Sanford\, FL\, 32771 USA
GEO:28.8098112;-81.2652009
X-APPLE-STRUCTURED-LOCATION;VALUE=URI;X-ADDRESS=Busters Bistro 300 Sanford Ave Sanford FL 32771 USA;X-APPLE-RADIUS=500;X-TITLE=300 Sanford Ave\, Sanford\, FL\, 32771 USA:geo:-81.2652009,28.8098112
END:VEVENT
BEGIN:VEVENT
DTSTART;TZID=America/New_York:20280217T190000
DTEND;TZID=America/New_York:20280217T190000
DTSTAMP:20260421T031043
CREATED:20260105T003147Z
LAST-MODIFIED:20260105T054205Z
UID:10012073-1834426800-1834426800@epictriviafl.com
SUMMARY:Trivia
DESCRIPTION:
URL:https://epictriviafl.com/event/trivia-busters/2028-02-17/
LOCATION:Busters Bistro\, 300 Sanford Ave\, Sanford\, FL\, 32771 USA
GEO:28.8098112;-81.2652009
X-APPLE-STRUCTURED-LOCATION;VALUE=URI;X-ADDRESS=Busters Bistro 300 Sanford Ave Sanford FL 32771 USA;X-APPLE-RADIUS=500;X-TITLE=300 Sanford Ave\, Sanford\, FL\, 32771 USA:geo:-81.2652009,28.8098112
END:VEVENT
BEGIN:VEVENT
DTSTART;TZID=America/New_York:20280218T183000
DTEND;TZID=America/New_York:20280218T183000
DTSTAMP:20260421T031043
CREATED:20260105T003219Z
LAST-MODIFIED:20260105T053805Z
UID:10009733-1834511400-1834511400@epictriviafl.com
SUMMARY:Mario Kart
DESCRIPTION:
URL:https://epictriviafl.com/event/mario-kart-busters/2028-02-18/
LOCATION:Busters Bistro\, 300 Sanford Ave\, Sanford\, FL\, 32771 USA
GEO:28.8098112;-81.2652009
X-APPLE-STRUCTURED-LOCATION;VALUE=URI;X-ADDRESS=Busters Bistro 300 Sanford Ave Sanford FL 32771 USA;X-APPLE-RADIUS=500;X-TITLE=300 Sanford Ave\, Sanford\, FL\, 32771 USA:geo:-81.2652009,28.8098112
END:VEVENT
BEGIN:VEVENT
DTSTART;TZID=America/New_York:20280224T190000
DTEND;TZID=America/New_York:20280224T190000
DTSTAMP:20260421T031043
CREATED:20260105T003147Z
LAST-MODIFIED:20260105T054205Z
UID:10012074-1835031600-1835031600@epictriviafl.com
SUMMARY:Trivia
DESCRIPTION:
URL:https://epictriviafl.com/event/trivia-busters/2028-02-24/
LOCATION:Busters Bistro\, 300 Sanford Ave\, Sanford\, FL\, 32771 USA
GEO:28.8098112;-81.2652009
X-APPLE-STRUCTURED-LOCATION;VALUE=URI;X-ADDRESS=Busters Bistro 300 Sanford Ave Sanford FL 32771 USA;X-APPLE-RADIUS=500;X-TITLE=300 Sanford Ave\, Sanford\, FL\, 32771 USA:geo:-81.2652009,28.8098112
END:VEVENT
BEGIN:VEVENT
DTSTART;TZID=America/New_York:20280225T183000
DTEND;TZID=America/New_York:20280225T183000
DTSTAMP:20260421T031043
CREATED:20260105T003219Z
LAST-MODIFIED:20260105T053805Z
UID:10009734-1835116200-1835116200@epictriviafl.com
SUMMARY:Mario Kart
DESCRIPTION:
URL:https://epictriviafl.com/event/mario-kart-busters/2028-02-25/
LOCATION:Busters Bistro\, 300 Sanford Ave\, Sanford\, FL\, 32771 USA
GEO:28.8098112;-81.2652009
X-APPLE-STRUCTURED-LOCATION;VALUE=URI;X-ADDRESS=Busters Bistro 300 Sanford Ave Sanford FL 32771 USA;X-APPLE-RADIUS=500;X-TITLE=300 Sanford Ave\, Sanford\, FL\, 32771 USA:geo:-81.2652009,28.8098112
END:VEVENT
BEGIN:VEVENT
DTSTART;TZID=America/New_York:20280302T190000
DTEND;TZID=America/New_York:20280302T190000
DTSTAMP:20260421T031043
CREATED:20260105T003147Z
LAST-MODIFIED:20260105T054205Z
UID:10012075-1835636400-1835636400@epictriviafl.com
SUMMARY:Trivia
DESCRIPTION:
URL:https://epictriviafl.com/event/trivia-busters/2028-03-02/
LOCATION:Busters Bistro\, 300 Sanford Ave\, Sanford\, FL\, 32771 USA
GEO:28.8098112;-81.2652009
X-APPLE-STRUCTURED-LOCATION;VALUE=URI;X-ADDRESS=Busters Bistro 300 Sanford Ave Sanford FL 32771 USA;X-APPLE-RADIUS=500;X-TITLE=300 Sanford Ave\, Sanford\, FL\, 32771 USA:geo:-81.2652009,28.8098112
END:VEVENT
BEGIN:VEVENT
DTSTART;TZID=America/New_York:20280303T183000
DTEND;TZID=America/New_York:20280303T183000
DTSTAMP:20260421T031043
CREATED:20260105T003219Z
LAST-MODIFIED:20260105T053805Z
UID:10009735-1835721000-1835721000@epictriviafl.com
SUMMARY:Mario Kart
DESCRIPTION:
URL:https://epictriviafl.com/event/mario-kart-busters/2028-03-03/
LOCATION:Busters Bistro\, 300 Sanford Ave\, Sanford\, FL\, 32771 USA
GEO:28.8098112;-81.2652009
X-APPLE-STRUCTURED-LOCATION;VALUE=URI;X-ADDRESS=Busters Bistro 300 Sanford Ave Sanford FL 32771 USA;X-APPLE-RADIUS=500;X-TITLE=300 Sanford Ave\, Sanford\, FL\, 32771 USA:geo:-81.2652009,28.8098112
END:VEVENT
BEGIN:VEVENT
DTSTART;TZID=America/New_York:20280309T190000
DTEND;TZID=America/New_York:20280309T190000
DTSTAMP:20260421T031043
CREATED:20260105T003147Z
LAST-MODIFIED:20260105T054205Z
UID:10012076-1836241200-1836241200@epictriviafl.com
SUMMARY:Trivia
DESCRIPTION:
URL:https://epictriviafl.com/event/trivia-busters/2028-03-09/
LOCATION:Busters Bistro\, 300 Sanford Ave\, Sanford\, FL\, 32771 USA
GEO:28.8098112;-81.2652009
X-APPLE-STRUCTURED-LOCATION;VALUE=URI;X-ADDRESS=Busters Bistro 300 Sanford Ave Sanford FL 32771 USA;X-APPLE-RADIUS=500;X-TITLE=300 Sanford Ave\, Sanford\, FL\, 32771 USA:geo:-81.2652009,28.8098112
END:VEVENT
BEGIN:VEVENT
DTSTART;TZID=America/New_York:20280310T183000
DTEND;TZID=America/New_York:20280310T183000
DTSTAMP:20260421T031043
CREATED:20260105T003219Z
LAST-MODIFIED:20260105T053805Z
UID:10009736-1836325800-1836325800@epictriviafl.com
SUMMARY:Mario Kart
DESCRIPTION:
URL:https://epictriviafl.com/event/mario-kart-busters/2028-03-10/
LOCATION:Busters Bistro\, 300 Sanford Ave\, Sanford\, FL\, 32771 USA
GEO:28.8098112;-81.2652009
X-APPLE-STRUCTURED-LOCATION;VALUE=URI;X-ADDRESS=Busters Bistro 300 Sanford Ave Sanford FL 32771 USA;X-APPLE-RADIUS=500;X-TITLE=300 Sanford Ave\, Sanford\, FL\, 32771 USA:geo:-81.2652009,28.8098112
END:VEVENT
END:VCALENDAR