BEGIN:VCALENDAR
VERSION:2.0
PRODID:-//Epic Trivia - ECPv6.15.18//NONSGML v1.0//EN
CALSCALE:GREGORIAN
METHOD:PUBLISH
X-WR-CALNAME:Epic Trivia
X-ORIGINAL-URL:https://epictriviafl.com
X-WR-CALDESC:Events for Epic Trivia
REFRESH-INTERVAL;VALUE=DURATION:PT1H
X-Robots-Tag:noindex
X-PUBLISHED-TTL:PT1H
BEGIN:VTIMEZONE
TZID:America/New_York
BEGIN:DAYLIGHT
TZOFFSETFROM:-0500
TZOFFSETTO:-0400
TZNAME:EDT
DTSTART:20250309T070000
END:DAYLIGHT
BEGIN:STANDARD
TZOFFSETFROM:-0400
TZOFFSETTO:-0500
TZNAME:EST
DTSTART:20251102T060000
END:STANDARD
BEGIN:DAYLIGHT
TZOFFSETFROM:-0500
TZOFFSETTO:-0400
TZNAME:EDT
DTSTART:20260308T070000
END:DAYLIGHT
BEGIN:STANDARD
TZOFFSETFROM:-0400
TZOFFSETTO:-0500
TZNAME:EST
DTSTART:20261101T060000
END:STANDARD
BEGIN:DAYLIGHT
TZOFFSETFROM:-0500
TZOFFSETTO:-0400
TZNAME:EDT
DTSTART:20270314T070000
END:DAYLIGHT
BEGIN:STANDARD
TZOFFSETFROM:-0400
TZOFFSETTO:-0500
TZNAME:EST
DTSTART:20271107T060000
END:STANDARD
END:VTIMEZONE
BEGIN:VEVENT
DTSTART;TZID=America/New_York:20260417T183000
DTEND;TZID=America/New_York:20260417T183000
DTSTAMP:20260419T141326
CREATED:20260105T003219Z
LAST-MODIFIED:20260105T053805Z
UID:10009637-1776450600-1776450600@epictriviafl.com
SUMMARY:Mario Kart
DESCRIPTION:
URL:https://epictriviafl.com/event/mario-kart-busters/2026-04-17/
LOCATION:Busters Bistro\, 300 Sanford Ave\, Sanford\, FL\, 32771 USA
GEO:28.8098112;-81.2652009
X-APPLE-STRUCTURED-LOCATION;VALUE=URI;X-ADDRESS=Busters Bistro 300 Sanford Ave Sanford FL 32771 USA;X-APPLE-RADIUS=500;X-TITLE=300 Sanford Ave\, Sanford\, FL\, 32771 USA:geo:-81.2652009,28.8098112
END:VEVENT
BEGIN:VEVENT
DTSTART;TZID=America/New_York:20260416T190000
DTEND;TZID=America/New_York:20260416T190000
DTSTAMP:20260419T141326
CREATED:20260105T003147Z
LAST-MODIFIED:20260105T054205Z
UID:10011977-1776366000-1776366000@epictriviafl.com
SUMMARY:Trivia
DESCRIPTION:
URL:https://epictriviafl.com/event/trivia-busters/2026-04-16/
LOCATION:Busters Bistro\, 300 Sanford Ave\, Sanford\, FL\, 32771 USA
GEO:28.8098112;-81.2652009
X-APPLE-STRUCTURED-LOCATION;VALUE=URI;X-ADDRESS=Busters Bistro 300 Sanford Ave Sanford FL 32771 USA;X-APPLE-RADIUS=500;X-TITLE=300 Sanford Ave\, Sanford\, FL\, 32771 USA:geo:-81.2652009,28.8098112
END:VEVENT
BEGIN:VEVENT
DTSTART;TZID=America/New_York:20260410T183000
DTEND;TZID=America/New_York:20260410T183000
DTSTAMP:20260419T141326
CREATED:20260105T003219Z
LAST-MODIFIED:20260105T053805Z
UID:10009636-1775845800-1775845800@epictriviafl.com
SUMMARY:Mario Kart
DESCRIPTION:
URL:https://epictriviafl.com/event/mario-kart-busters/2026-04-10/
LOCATION:Busters Bistro\, 300 Sanford Ave\, Sanford\, FL\, 32771 USA
GEO:28.8098112;-81.2652009
X-APPLE-STRUCTURED-LOCATION;VALUE=URI;X-ADDRESS=Busters Bistro 300 Sanford Ave Sanford FL 32771 USA;X-APPLE-RADIUS=500;X-TITLE=300 Sanford Ave\, Sanford\, FL\, 32771 USA:geo:-81.2652009,28.8098112
END:VEVENT
BEGIN:VEVENT
DTSTART;TZID=America/New_York:20260409T190000
DTEND;TZID=America/New_York:20260409T190000
DTSTAMP:20260419T141326
CREATED:20260105T003147Z
LAST-MODIFIED:20260105T054205Z
UID:10011976-1775761200-1775761200@epictriviafl.com
SUMMARY:Trivia
DESCRIPTION:
URL:https://epictriviafl.com/event/trivia-busters/2026-04-09/
LOCATION:Busters Bistro\, 300 Sanford Ave\, Sanford\, FL\, 32771 USA
GEO:28.8098112;-81.2652009
X-APPLE-STRUCTURED-LOCATION;VALUE=URI;X-ADDRESS=Busters Bistro 300 Sanford Ave Sanford FL 32771 USA;X-APPLE-RADIUS=500;X-TITLE=300 Sanford Ave\, Sanford\, FL\, 32771 USA:geo:-81.2652009,28.8098112
END:VEVENT
BEGIN:VEVENT
DTSTART;TZID=America/New_York:20260403T183000
DTEND;TZID=America/New_York:20260403T183000
DTSTAMP:20260419T141326
CREATED:20260105T003219Z
LAST-MODIFIED:20260105T053805Z
UID:10009635-1775241000-1775241000@epictriviafl.com
SUMMARY:Mario Kart
DESCRIPTION:
URL:https://epictriviafl.com/event/mario-kart-busters/2026-04-03/
LOCATION:Busters Bistro\, 300 Sanford Ave\, Sanford\, FL\, 32771 USA
GEO:28.8098112;-81.2652009
X-APPLE-STRUCTURED-LOCATION;VALUE=URI;X-ADDRESS=Busters Bistro 300 Sanford Ave Sanford FL 32771 USA;X-APPLE-RADIUS=500;X-TITLE=300 Sanford Ave\, Sanford\, FL\, 32771 USA:geo:-81.2652009,28.8098112
END:VEVENT
BEGIN:VEVENT
DTSTART;TZID=America/New_York:20260402T190000
DTEND;TZID=America/New_York:20260402T190000
DTSTAMP:20260419T141326
CREATED:20260105T003147Z
LAST-MODIFIED:20260105T054205Z
UID:10011975-1775156400-1775156400@epictriviafl.com
SUMMARY:Trivia
DESCRIPTION:
URL:https://epictriviafl.com/event/trivia-busters/2026-04-02/
LOCATION:Busters Bistro\, 300 Sanford Ave\, Sanford\, FL\, 32771 USA
GEO:28.8098112;-81.2652009
X-APPLE-STRUCTURED-LOCATION;VALUE=URI;X-ADDRESS=Busters Bistro 300 Sanford Ave Sanford FL 32771 USA;X-APPLE-RADIUS=500;X-TITLE=300 Sanford Ave\, Sanford\, FL\, 32771 USA:geo:-81.2652009,28.8098112
END:VEVENT
BEGIN:VEVENT
DTSTART;TZID=America/New_York:20260327T183000
DTEND;TZID=America/New_York:20260327T183000
DTSTAMP:20260419T141326
CREATED:20260105T003219Z
LAST-MODIFIED:20260105T053805Z
UID:10009634-1774636200-1774636200@epictriviafl.com
SUMMARY:Mario Kart
DESCRIPTION:
URL:https://epictriviafl.com/event/mario-kart-busters/2026-03-27/
LOCATION:Busters Bistro\, 300 Sanford Ave\, Sanford\, FL\, 32771 USA
GEO:28.8098112;-81.2652009
X-APPLE-STRUCTURED-LOCATION;VALUE=URI;X-ADDRESS=Busters Bistro 300 Sanford Ave Sanford FL 32771 USA;X-APPLE-RADIUS=500;X-TITLE=300 Sanford Ave\, Sanford\, FL\, 32771 USA:geo:-81.2652009,28.8098112
END:VEVENT
BEGIN:VEVENT
DTSTART;TZID=America/New_York:20260326T190000
DTEND;TZID=America/New_York:20260326T190000
DTSTAMP:20260419T141326
CREATED:20260105T003147Z
LAST-MODIFIED:20260105T054205Z
UID:10011974-1774551600-1774551600@epictriviafl.com
SUMMARY:Trivia
DESCRIPTION:
URL:https://epictriviafl.com/event/trivia-busters/2026-03-26/
LOCATION:Busters Bistro\, 300 Sanford Ave\, Sanford\, FL\, 32771 USA
GEO:28.8098112;-81.2652009
X-APPLE-STRUCTURED-LOCATION;VALUE=URI;X-ADDRESS=Busters Bistro 300 Sanford Ave Sanford FL 32771 USA;X-APPLE-RADIUS=500;X-TITLE=300 Sanford Ave\, Sanford\, FL\, 32771 USA:geo:-81.2652009,28.8098112
END:VEVENT
BEGIN:VEVENT
DTSTART;TZID=America/New_York:20260320T183000
DTEND;TZID=America/New_York:20260320T183000
DTSTAMP:20260419T141326
CREATED:20260105T003219Z
LAST-MODIFIED:20260105T053805Z
UID:10009633-1774031400-1774031400@epictriviafl.com
SUMMARY:Mario Kart
DESCRIPTION:
URL:https://epictriviafl.com/event/mario-kart-busters/2026-03-20/
LOCATION:Busters Bistro\, 300 Sanford Ave\, Sanford\, FL\, 32771 USA
GEO:28.8098112;-81.2652009
X-APPLE-STRUCTURED-LOCATION;VALUE=URI;X-ADDRESS=Busters Bistro 300 Sanford Ave Sanford FL 32771 USA;X-APPLE-RADIUS=500;X-TITLE=300 Sanford Ave\, Sanford\, FL\, 32771 USA:geo:-81.2652009,28.8098112
END:VEVENT
BEGIN:VEVENT
DTSTART;TZID=America/New_York:20260319T190000
DTEND;TZID=America/New_York:20260319T190000
DTSTAMP:20260419T141326
CREATED:20260105T003147Z
LAST-MODIFIED:20260105T054205Z
UID:10011973-1773946800-1773946800@epictriviafl.com
SUMMARY:Trivia
DESCRIPTION:
URL:https://epictriviafl.com/event/trivia-busters/2026-03-19/
LOCATION:Busters Bistro\, 300 Sanford Ave\, Sanford\, FL\, 32771 USA
GEO:28.8098112;-81.2652009
X-APPLE-STRUCTURED-LOCATION;VALUE=URI;X-ADDRESS=Busters Bistro 300 Sanford Ave Sanford FL 32771 USA;X-APPLE-RADIUS=500;X-TITLE=300 Sanford Ave\, Sanford\, FL\, 32771 USA:geo:-81.2652009,28.8098112
END:VEVENT
BEGIN:VEVENT
DTSTART;TZID=America/New_York:20260313T183000
DTEND;TZID=America/New_York:20260313T183000
DTSTAMP:20260419T141326
CREATED:20260105T003219Z
LAST-MODIFIED:20260105T053805Z
UID:10009632-1773426600-1773426600@epictriviafl.com
SUMMARY:Mario Kart
DESCRIPTION:
URL:https://epictriviafl.com/event/mario-kart-busters/2026-03-13/
LOCATION:Busters Bistro\, 300 Sanford Ave\, Sanford\, FL\, 32771 USA
GEO:28.8098112;-81.2652009
X-APPLE-STRUCTURED-LOCATION;VALUE=URI;X-ADDRESS=Busters Bistro 300 Sanford Ave Sanford FL 32771 USA;X-APPLE-RADIUS=500;X-TITLE=300 Sanford Ave\, Sanford\, FL\, 32771 USA:geo:-81.2652009,28.8098112
END:VEVENT
BEGIN:VEVENT
DTSTART;TZID=America/New_York:20260312T190000
DTEND;TZID=America/New_York:20260312T190000
DTSTAMP:20260419T141326
CREATED:20260105T003147Z
LAST-MODIFIED:20260105T054205Z
UID:10011972-1773342000-1773342000@epictriviafl.com
SUMMARY:Trivia
DESCRIPTION:
URL:https://epictriviafl.com/event/trivia-busters/2026-03-12/
LOCATION:Busters Bistro\, 300 Sanford Ave\, Sanford\, FL\, 32771 USA
GEO:28.8098112;-81.2652009
X-APPLE-STRUCTURED-LOCATION;VALUE=URI;X-ADDRESS=Busters Bistro 300 Sanford Ave Sanford FL 32771 USA;X-APPLE-RADIUS=500;X-TITLE=300 Sanford Ave\, Sanford\, FL\, 32771 USA:geo:-81.2652009,28.8098112
END:VEVENT
BEGIN:VEVENT
DTSTART;TZID=America/New_York:20260306T183000
DTEND;TZID=America/New_York:20260306T183000
DTSTAMP:20260419T141326
CREATED:20260105T003219Z
LAST-MODIFIED:20260105T053805Z
UID:10009631-1772821800-1772821800@epictriviafl.com
SUMMARY:Mario Kart
DESCRIPTION:
URL:https://epictriviafl.com/event/mario-kart-busters/2026-03-06/
LOCATION:Busters Bistro\, 300 Sanford Ave\, Sanford\, FL\, 32771 USA
GEO:28.8098112;-81.2652009
X-APPLE-STRUCTURED-LOCATION;VALUE=URI;X-ADDRESS=Busters Bistro 300 Sanford Ave Sanford FL 32771 USA;X-APPLE-RADIUS=500;X-TITLE=300 Sanford Ave\, Sanford\, FL\, 32771 USA:geo:-81.2652009,28.8098112
END:VEVENT
BEGIN:VEVENT
DTSTART;TZID=America/New_York:20260305T190000
DTEND;TZID=America/New_York:20260305T190000
DTSTAMP:20260419T141326
CREATED:20260105T003147Z
LAST-MODIFIED:20260105T054205Z
UID:10011971-1772737200-1772737200@epictriviafl.com
SUMMARY:Trivia
DESCRIPTION:
URL:https://epictriviafl.com/event/trivia-busters/2026-03-05/
LOCATION:Busters Bistro\, 300 Sanford Ave\, Sanford\, FL\, 32771 USA
GEO:28.8098112;-81.2652009
X-APPLE-STRUCTURED-LOCATION;VALUE=URI;X-ADDRESS=Busters Bistro 300 Sanford Ave Sanford FL 32771 USA;X-APPLE-RADIUS=500;X-TITLE=300 Sanford Ave\, Sanford\, FL\, 32771 USA:geo:-81.2652009,28.8098112
END:VEVENT
BEGIN:VEVENT
DTSTART;TZID=America/New_York:20260227T183000
DTEND;TZID=America/New_York:20260227T183000
DTSTAMP:20260419T141326
CREATED:20260105T003219Z
LAST-MODIFIED:20260105T053805Z
UID:10009630-1772217000-1772217000@epictriviafl.com
SUMMARY:Mario Kart
DESCRIPTION:
URL:https://epictriviafl.com/event/mario-kart-busters/2026-02-27/
LOCATION:Busters Bistro\, 300 Sanford Ave\, Sanford\, FL\, 32771 USA
GEO:28.8098112;-81.2652009
X-APPLE-STRUCTURED-LOCATION;VALUE=URI;X-ADDRESS=Busters Bistro 300 Sanford Ave Sanford FL 32771 USA;X-APPLE-RADIUS=500;X-TITLE=300 Sanford Ave\, Sanford\, FL\, 32771 USA:geo:-81.2652009,28.8098112
END:VEVENT
BEGIN:VEVENT
DTSTART;TZID=America/New_York:20260226T190000
DTEND;TZID=America/New_York:20260226T190000
DTSTAMP:20260419T141326
CREATED:20260105T003147Z
LAST-MODIFIED:20260105T054205Z
UID:10011970-1772132400-1772132400@epictriviafl.com
SUMMARY:Trivia
DESCRIPTION:
URL:https://epictriviafl.com/event/trivia-busters/2026-02-26/
LOCATION:Busters Bistro\, 300 Sanford Ave\, Sanford\, FL\, 32771 USA
GEO:28.8098112;-81.2652009
X-APPLE-STRUCTURED-LOCATION;VALUE=URI;X-ADDRESS=Busters Bistro 300 Sanford Ave Sanford FL 32771 USA;X-APPLE-RADIUS=500;X-TITLE=300 Sanford Ave\, Sanford\, FL\, 32771 USA:geo:-81.2652009,28.8098112
END:VEVENT
BEGIN:VEVENT
DTSTART;TZID=America/New_York:20260220T183000
DTEND;TZID=America/New_York:20260220T183000
DTSTAMP:20260419T141326
CREATED:20260105T003219Z
LAST-MODIFIED:20260105T053805Z
UID:10009629-1771612200-1771612200@epictriviafl.com
SUMMARY:Mario Kart
DESCRIPTION:
URL:https://epictriviafl.com/event/mario-kart-busters/2026-02-20/
LOCATION:Busters Bistro\, 300 Sanford Ave\, Sanford\, FL\, 32771 USA
GEO:28.8098112;-81.2652009
X-APPLE-STRUCTURED-LOCATION;VALUE=URI;X-ADDRESS=Busters Bistro 300 Sanford Ave Sanford FL 32771 USA;X-APPLE-RADIUS=500;X-TITLE=300 Sanford Ave\, Sanford\, FL\, 32771 USA:geo:-81.2652009,28.8098112
END:VEVENT
BEGIN:VEVENT
DTSTART;TZID=America/New_York:20260219T190000
DTEND;TZID=America/New_York:20260219T190000
DTSTAMP:20260419T141326
CREATED:20260105T003147Z
LAST-MODIFIED:20260105T054205Z
UID:10011969-1771527600-1771527600@epictriviafl.com
SUMMARY:Trivia
DESCRIPTION:
URL:https://epictriviafl.com/event/trivia-busters/2026-02-19/
LOCATION:Busters Bistro\, 300 Sanford Ave\, Sanford\, FL\, 32771 USA
GEO:28.8098112;-81.2652009
X-APPLE-STRUCTURED-LOCATION;VALUE=URI;X-ADDRESS=Busters Bistro 300 Sanford Ave Sanford FL 32771 USA;X-APPLE-RADIUS=500;X-TITLE=300 Sanford Ave\, Sanford\, FL\, 32771 USA:geo:-81.2652009,28.8098112
END:VEVENT
BEGIN:VEVENT
DTSTART;TZID=America/New_York:20260213T183000
DTEND;TZID=America/New_York:20260213T183000
DTSTAMP:20260419T141326
CREATED:20260105T003219Z
LAST-MODIFIED:20260105T053805Z
UID:10009628-1771007400-1771007400@epictriviafl.com
SUMMARY:Mario Kart
DESCRIPTION:
URL:https://epictriviafl.com/event/mario-kart-busters/2026-02-13/
LOCATION:Busters Bistro\, 300 Sanford Ave\, Sanford\, FL\, 32771 USA
GEO:28.8098112;-81.2652009
X-APPLE-STRUCTURED-LOCATION;VALUE=URI;X-ADDRESS=Busters Bistro 300 Sanford Ave Sanford FL 32771 USA;X-APPLE-RADIUS=500;X-TITLE=300 Sanford Ave\, Sanford\, FL\, 32771 USA:geo:-81.2652009,28.8098112
END:VEVENT
BEGIN:VEVENT
DTSTART;TZID=America/New_York:20260212T190000
DTEND;TZID=America/New_York:20260212T190000
DTSTAMP:20260419T141326
CREATED:20260105T003147Z
LAST-MODIFIED:20260105T054205Z
UID:10011968-1770922800-1770922800@epictriviafl.com
SUMMARY:Trivia
DESCRIPTION:
URL:https://epictriviafl.com/event/trivia-busters/2026-02-12/
LOCATION:Busters Bistro\, 300 Sanford Ave\, Sanford\, FL\, 32771 USA
GEO:28.8098112;-81.2652009
X-APPLE-STRUCTURED-LOCATION;VALUE=URI;X-ADDRESS=Busters Bistro 300 Sanford Ave Sanford FL 32771 USA;X-APPLE-RADIUS=500;X-TITLE=300 Sanford Ave\, Sanford\, FL\, 32771 USA:geo:-81.2652009,28.8098112
END:VEVENT
BEGIN:VEVENT
DTSTART;TZID=America/New_York:20260206T183000
DTEND;TZID=America/New_York:20260206T183000
DTSTAMP:20260419T141326
CREATED:20260105T003219Z
LAST-MODIFIED:20260105T053805Z
UID:10009627-1770402600-1770402600@epictriviafl.com
SUMMARY:Mario Kart
DESCRIPTION:
URL:https://epictriviafl.com/event/mario-kart-busters/2026-02-06/
LOCATION:Busters Bistro\, 300 Sanford Ave\, Sanford\, FL\, 32771 USA
GEO:28.8098112;-81.2652009
X-APPLE-STRUCTURED-LOCATION;VALUE=URI;X-ADDRESS=Busters Bistro 300 Sanford Ave Sanford FL 32771 USA;X-APPLE-RADIUS=500;X-TITLE=300 Sanford Ave\, Sanford\, FL\, 32771 USA:geo:-81.2652009,28.8098112
END:VEVENT
BEGIN:VEVENT
DTSTART;TZID=America/New_York:20260205T190000
DTEND;TZID=America/New_York:20260205T190000
DTSTAMP:20260419T141326
CREATED:20260105T003147Z
LAST-MODIFIED:20260105T054205Z
UID:10011967-1770318000-1770318000@epictriviafl.com
SUMMARY:Trivia
DESCRIPTION:
URL:https://epictriviafl.com/event/trivia-busters/2026-02-05/
LOCATION:Busters Bistro\, 300 Sanford Ave\, Sanford\, FL\, 32771 USA
GEO:28.8098112;-81.2652009
X-APPLE-STRUCTURED-LOCATION;VALUE=URI;X-ADDRESS=Busters Bistro 300 Sanford Ave Sanford FL 32771 USA;X-APPLE-RADIUS=500;X-TITLE=300 Sanford Ave\, Sanford\, FL\, 32771 USA:geo:-81.2652009,28.8098112
END:VEVENT
BEGIN:VEVENT
DTSTART;TZID=America/New_York:20260130T183000
DTEND;TZID=America/New_York:20260130T183000
DTSTAMP:20260419T141326
CREATED:20260105T003219Z
LAST-MODIFIED:20260105T053805Z
UID:10009626-1769797800-1769797800@epictriviafl.com
SUMMARY:Mario Kart
DESCRIPTION:
URL:https://epictriviafl.com/event/mario-kart-busters/2026-01-30/
LOCATION:Busters Bistro\, 300 Sanford Ave\, Sanford\, FL\, 32771 USA
GEO:28.8098112;-81.2652009
X-APPLE-STRUCTURED-LOCATION;VALUE=URI;X-ADDRESS=Busters Bistro 300 Sanford Ave Sanford FL 32771 USA;X-APPLE-RADIUS=500;X-TITLE=300 Sanford Ave\, Sanford\, FL\, 32771 USA:geo:-81.2652009,28.8098112
END:VEVENT
BEGIN:VEVENT
DTSTART;TZID=America/New_York:20260129T190000
DTEND;TZID=America/New_York:20260129T190000
DTSTAMP:20260419T141326
CREATED:20260105T003147Z
LAST-MODIFIED:20260105T054205Z
UID:10011966-1769713200-1769713200@epictriviafl.com
SUMMARY:Trivia
DESCRIPTION:
URL:https://epictriviafl.com/event/trivia-busters/2026-01-29/
LOCATION:Busters Bistro\, 300 Sanford Ave\, Sanford\, FL\, 32771 USA
GEO:28.8098112;-81.2652009
X-APPLE-STRUCTURED-LOCATION;VALUE=URI;X-ADDRESS=Busters Bistro 300 Sanford Ave Sanford FL 32771 USA;X-APPLE-RADIUS=500;X-TITLE=300 Sanford Ave\, Sanford\, FL\, 32771 USA:geo:-81.2652009,28.8098112
END:VEVENT
BEGIN:VEVENT
DTSTART;TZID=America/New_York:20260123T183000
DTEND;TZID=America/New_York:20260123T183000
DTSTAMP:20260419T141326
CREATED:20260105T003219Z
LAST-MODIFIED:20260105T053805Z
UID:10009625-1769193000-1769193000@epictriviafl.com
SUMMARY:Mario Kart
DESCRIPTION:
URL:https://epictriviafl.com/event/mario-kart-busters/2026-01-23/
LOCATION:Busters Bistro\, 300 Sanford Ave\, Sanford\, FL\, 32771 USA
GEO:28.8098112;-81.2652009
X-APPLE-STRUCTURED-LOCATION;VALUE=URI;X-ADDRESS=Busters Bistro 300 Sanford Ave Sanford FL 32771 USA;X-APPLE-RADIUS=500;X-TITLE=300 Sanford Ave\, Sanford\, FL\, 32771 USA:geo:-81.2652009,28.8098112
END:VEVENT
BEGIN:VEVENT
DTSTART;TZID=America/New_York:20260122T190000
DTEND;TZID=America/New_York:20260122T190000
DTSTAMP:20260419T141326
CREATED:20260105T003147Z
LAST-MODIFIED:20260105T054205Z
UID:10011965-1769108400-1769108400@epictriviafl.com
SUMMARY:Trivia
DESCRIPTION:
URL:https://epictriviafl.com/event/trivia-busters/2026-01-22/
LOCATION:Busters Bistro\, 300 Sanford Ave\, Sanford\, FL\, 32771 USA
GEO:28.8098112;-81.2652009
X-APPLE-STRUCTURED-LOCATION;VALUE=URI;X-ADDRESS=Busters Bistro 300 Sanford Ave Sanford FL 32771 USA;X-APPLE-RADIUS=500;X-TITLE=300 Sanford Ave\, Sanford\, FL\, 32771 USA:geo:-81.2652009,28.8098112
END:VEVENT
BEGIN:VEVENT
DTSTART;TZID=America/New_York:20260116T183000
DTEND;TZID=America/New_York:20260116T183000
DTSTAMP:20260419T141326
CREATED:20260105T003219Z
LAST-MODIFIED:20260105T053805Z
UID:10009624-1768588200-1768588200@epictriviafl.com
SUMMARY:Mario Kart
DESCRIPTION:
URL:https://epictriviafl.com/event/mario-kart-busters/2026-01-16/
LOCATION:Busters Bistro\, 300 Sanford Ave\, Sanford\, FL\, 32771 USA
GEO:28.8098112;-81.2652009
X-APPLE-STRUCTURED-LOCATION;VALUE=URI;X-ADDRESS=Busters Bistro 300 Sanford Ave Sanford FL 32771 USA;X-APPLE-RADIUS=500;X-TITLE=300 Sanford Ave\, Sanford\, FL\, 32771 USA:geo:-81.2652009,28.8098112
END:VEVENT
BEGIN:VEVENT
DTSTART;TZID=America/New_York:20260115T190000
DTEND;TZID=America/New_York:20260115T190000
DTSTAMP:20260419T141326
CREATED:20260105T003147Z
LAST-MODIFIED:20260105T054205Z
UID:10011964-1768503600-1768503600@epictriviafl.com
SUMMARY:Trivia
DESCRIPTION:
URL:https://epictriviafl.com/event/trivia-busters/2026-01-15/
LOCATION:Busters Bistro\, 300 Sanford Ave\, Sanford\, FL\, 32771 USA
GEO:28.8098112;-81.2652009
X-APPLE-STRUCTURED-LOCATION;VALUE=URI;X-ADDRESS=Busters Bistro 300 Sanford Ave Sanford FL 32771 USA;X-APPLE-RADIUS=500;X-TITLE=300 Sanford Ave\, Sanford\, FL\, 32771 USA:geo:-81.2652009,28.8098112
END:VEVENT
BEGIN:VEVENT
DTSTART;TZID=America/New_York:20260109T183000
DTEND;TZID=America/New_York:20260109T183000
DTSTAMP:20260419T141326
CREATED:20260105T003219Z
LAST-MODIFIED:20260105T053805Z
UID:10008835-1767983400-1767983400@epictriviafl.com
SUMMARY:Mario Kart
DESCRIPTION:
URL:https://epictriviafl.com/event/mario-kart-busters/2026-01-09/
LOCATION:Busters Bistro\, 300 Sanford Ave\, Sanford\, FL\, 32771 USA
GEO:28.8098112;-81.2652009
X-APPLE-STRUCTURED-LOCATION;VALUE=URI;X-ADDRESS=Busters Bistro 300 Sanford Ave Sanford FL 32771 USA;X-APPLE-RADIUS=500;X-TITLE=300 Sanford Ave\, Sanford\, FL\, 32771 USA:geo:-81.2652009,28.8098112
END:VEVENT
BEGIN:VEVENT
DTSTART;TZID=America/New_York:20260108T190000
DTEND;TZID=America/New_York:20260108T190000
DTSTAMP:20260419T141326
CREATED:20260105T003147Z
LAST-MODIFIED:20260105T054205Z
UID:10008821-1767898800-1767898800@epictriviafl.com
SUMMARY:Trivia
DESCRIPTION:
URL:https://epictriviafl.com/event/trivia-busters/2026-01-08/
LOCATION:Busters Bistro\, 300 Sanford Ave\, Sanford\, FL\, 32771 USA
GEO:28.8098112;-81.2652009
X-APPLE-STRUCTURED-LOCATION;VALUE=URI;X-ADDRESS=Busters Bistro 300 Sanford Ave Sanford FL 32771 USA;X-APPLE-RADIUS=500;X-TITLE=300 Sanford Ave\, Sanford\, FL\, 32771 USA:geo:-81.2652009,28.8098112
END:VEVENT
END:VCALENDAR