BEGIN:VCALENDAR
VERSION:2.0
PRODID:-//Epic Trivia - ECPv6.15.18//NONSGML v1.0//EN
CALSCALE:GREGORIAN
METHOD:PUBLISH
X-WR-CALNAME:Epic Trivia
X-ORIGINAL-URL:https://epictriviafl.com
X-WR-CALDESC:Events for Epic Trivia
REFRESH-INTERVAL;VALUE=DURATION:PT1H
X-Robots-Tag:noindex
X-PUBLISHED-TTL:PT1H
BEGIN:VTIMEZONE
TZID:America/New_York
BEGIN:DAYLIGHT
TZOFFSETFROM:-0500
TZOFFSETTO:-0400
TZNAME:EDT
DTSTART:20260308T070000
END:DAYLIGHT
BEGIN:STANDARD
TZOFFSETFROM:-0400
TZOFFSETTO:-0500
TZNAME:EST
DTSTART:20261101T060000
END:STANDARD
BEGIN:DAYLIGHT
TZOFFSETFROM:-0500
TZOFFSETTO:-0400
TZNAME:EDT
DTSTART:20270314T070000
END:DAYLIGHT
BEGIN:STANDARD
TZOFFSETFROM:-0400
TZOFFSETTO:-0500
TZNAME:EST
DTSTART:20271107T060000
END:STANDARD
BEGIN:DAYLIGHT
TZOFFSETFROM:-0500
TZOFFSETTO:-0400
TZNAME:EDT
DTSTART:20280312T070000
END:DAYLIGHT
BEGIN:STANDARD
TZOFFSETFROM:-0400
TZOFFSETTO:-0500
TZNAME:EST
DTSTART:20281105T060000
END:STANDARD
END:VTIMEZONE
BEGIN:VEVENT
DTSTART;TZID=America/New_York:20270211T180000
DTEND;TZID=America/New_York:20270211T180000
DTSTAMP:20260420T000628
CREATED:20260105T003134Z
LAST-MODIFIED:20260105T054413Z
UID:10013060-1802368800-1802368800@epictriviafl.com
SUMMARY:Trivia
DESCRIPTION:
URL:https://epictriviafl.com/event/trivia-blue-springs/2027-02-11/
LOCATION:Blue Springs Brewing\, 1070 S Volusia Ave\, Orange City\, FL 32763 USA
GEO:28.9363912;-81.2982016
X-APPLE-STRUCTURED-LOCATION;VALUE=URI;X-ADDRESS=Blue Springs Brewing 1070 S Volusia Ave Orange City FL 32763 USA;X-APPLE-RADIUS=500;X-TITLE=1070 S Volusia Ave\, Orange City\, FL 32763 USA:geo:-81.2982016,28.9363912
END:VEVENT
BEGIN:VEVENT
DTSTART;TZID=America/New_York:20270214T190000
DTEND;TZID=America/New_York:20270214T190000
DTSTAMP:20260420T000628
CREATED:20260105T003233Z
LAST-MODIFIED:20260105T055940Z
UID:10019561-1802631600-1802631600@epictriviafl.com
SUMMARY:Music Bingo
DESCRIPTION:
URL:https://epictriviafl.com/event/music-bingo-blue-springs/2027-02-14/
LOCATION:Blue Springs Brewing\, 1070 S Volusia Ave\, Orange City\, FL 32763 USA
GEO:28.9363912;-81.2982016
X-APPLE-STRUCTURED-LOCATION;VALUE=URI;X-ADDRESS=Blue Springs Brewing 1070 S Volusia Ave Orange City FL 32763 USA;X-APPLE-RADIUS=500;X-TITLE=1070 S Volusia Ave\, Orange City\, FL 32763 USA:geo:-81.2982016,28.9363912
END:VEVENT
BEGIN:VEVENT
DTSTART;TZID=America/New_York:20270218T180000
DTEND;TZID=America/New_York:20270218T180000
DTSTAMP:20260420T000628
CREATED:20260105T003134Z
LAST-MODIFIED:20260105T054413Z
UID:10013061-1802973600-1802973600@epictriviafl.com
SUMMARY:Trivia
DESCRIPTION:
URL:https://epictriviafl.com/event/trivia-blue-springs/2027-02-18/
LOCATION:Blue Springs Brewing\, 1070 S Volusia Ave\, Orange City\, FL 32763 USA
GEO:28.9363912;-81.2982016
X-APPLE-STRUCTURED-LOCATION;VALUE=URI;X-ADDRESS=Blue Springs Brewing 1070 S Volusia Ave Orange City FL 32763 USA;X-APPLE-RADIUS=500;X-TITLE=1070 S Volusia Ave\, Orange City\, FL 32763 USA:geo:-81.2982016,28.9363912
END:VEVENT
BEGIN:VEVENT
DTSTART;TZID=America/New_York:20270221T190000
DTEND;TZID=America/New_York:20270221T190000
DTSTAMP:20260420T000628
CREATED:20260105T003233Z
LAST-MODIFIED:20260105T055940Z
UID:10019562-1803236400-1803236400@epictriviafl.com
SUMMARY:Music Bingo
DESCRIPTION:
URL:https://epictriviafl.com/event/music-bingo-blue-springs/2027-02-21/
LOCATION:Blue Springs Brewing\, 1070 S Volusia Ave\, Orange City\, FL 32763 USA
GEO:28.9363912;-81.2982016
X-APPLE-STRUCTURED-LOCATION;VALUE=URI;X-ADDRESS=Blue Springs Brewing 1070 S Volusia Ave Orange City FL 32763 USA;X-APPLE-RADIUS=500;X-TITLE=1070 S Volusia Ave\, Orange City\, FL 32763 USA:geo:-81.2982016,28.9363912
END:VEVENT
BEGIN:VEVENT
DTSTART;TZID=America/New_York:20270225T180000
DTEND;TZID=America/New_York:20270225T180000
DTSTAMP:20260420T000628
CREATED:20260105T003134Z
LAST-MODIFIED:20260105T054413Z
UID:10013062-1803578400-1803578400@epictriviafl.com
SUMMARY:Trivia
DESCRIPTION:
URL:https://epictriviafl.com/event/trivia-blue-springs/2027-02-25/
LOCATION:Blue Springs Brewing\, 1070 S Volusia Ave\, Orange City\, FL 32763 USA
GEO:28.9363912;-81.2982016
X-APPLE-STRUCTURED-LOCATION;VALUE=URI;X-ADDRESS=Blue Springs Brewing 1070 S Volusia Ave Orange City FL 32763 USA;X-APPLE-RADIUS=500;X-TITLE=1070 S Volusia Ave\, Orange City\, FL 32763 USA:geo:-81.2982016,28.9363912
END:VEVENT
BEGIN:VEVENT
DTSTART;TZID=America/New_York:20270228T190000
DTEND;TZID=America/New_York:20270228T190000
DTSTAMP:20260420T000628
CREATED:20260105T003233Z
LAST-MODIFIED:20260105T055940Z
UID:10019563-1803841200-1803841200@epictriviafl.com
SUMMARY:Music Bingo
DESCRIPTION:
URL:https://epictriviafl.com/event/music-bingo-blue-springs/2027-02-28/
LOCATION:Blue Springs Brewing\, 1070 S Volusia Ave\, Orange City\, FL 32763 USA
GEO:28.9363912;-81.2982016
X-APPLE-STRUCTURED-LOCATION;VALUE=URI;X-ADDRESS=Blue Springs Brewing 1070 S Volusia Ave Orange City FL 32763 USA;X-APPLE-RADIUS=500;X-TITLE=1070 S Volusia Ave\, Orange City\, FL 32763 USA:geo:-81.2982016,28.9363912
END:VEVENT
BEGIN:VEVENT
DTSTART;TZID=America/New_York:20270304T180000
DTEND;TZID=America/New_York:20270304T180000
DTSTAMP:20260420T000628
CREATED:20260105T003134Z
LAST-MODIFIED:20260105T054413Z
UID:10013063-1804183200-1804183200@epictriviafl.com
SUMMARY:Trivia
DESCRIPTION:
URL:https://epictriviafl.com/event/trivia-blue-springs/2027-03-04/
LOCATION:Blue Springs Brewing\, 1070 S Volusia Ave\, Orange City\, FL 32763 USA
GEO:28.9363912;-81.2982016
X-APPLE-STRUCTURED-LOCATION;VALUE=URI;X-ADDRESS=Blue Springs Brewing 1070 S Volusia Ave Orange City FL 32763 USA;X-APPLE-RADIUS=500;X-TITLE=1070 S Volusia Ave\, Orange City\, FL 32763 USA:geo:-81.2982016,28.9363912
END:VEVENT
BEGIN:VEVENT
DTSTART;TZID=America/New_York:20270307T190000
DTEND;TZID=America/New_York:20270307T190000
DTSTAMP:20260420T000628
CREATED:20260105T003233Z
LAST-MODIFIED:20260105T055940Z
UID:10019564-1804446000-1804446000@epictriviafl.com
SUMMARY:Music Bingo
DESCRIPTION:
URL:https://epictriviafl.com/event/music-bingo-blue-springs/2027-03-07/
LOCATION:Blue Springs Brewing\, 1070 S Volusia Ave\, Orange City\, FL 32763 USA
GEO:28.9363912;-81.2982016
X-APPLE-STRUCTURED-LOCATION;VALUE=URI;X-ADDRESS=Blue Springs Brewing 1070 S Volusia Ave Orange City FL 32763 USA;X-APPLE-RADIUS=500;X-TITLE=1070 S Volusia Ave\, Orange City\, FL 32763 USA:geo:-81.2982016,28.9363912
END:VEVENT
BEGIN:VEVENT
DTSTART;TZID=America/New_York:20270311T180000
DTEND;TZID=America/New_York:20270311T180000
DTSTAMP:20260420T000628
CREATED:20260105T003134Z
LAST-MODIFIED:20260105T054413Z
UID:10013064-1804788000-1804788000@epictriviafl.com
SUMMARY:Trivia
DESCRIPTION:
URL:https://epictriviafl.com/event/trivia-blue-springs/2027-03-11/
LOCATION:Blue Springs Brewing\, 1070 S Volusia Ave\, Orange City\, FL 32763 USA
GEO:28.9363912;-81.2982016
X-APPLE-STRUCTURED-LOCATION;VALUE=URI;X-ADDRESS=Blue Springs Brewing 1070 S Volusia Ave Orange City FL 32763 USA;X-APPLE-RADIUS=500;X-TITLE=1070 S Volusia Ave\, Orange City\, FL 32763 USA:geo:-81.2982016,28.9363912
END:VEVENT
BEGIN:VEVENT
DTSTART;TZID=America/New_York:20270314T190000
DTEND;TZID=America/New_York:20270314T190000
DTSTAMP:20260420T000628
CREATED:20260105T003233Z
LAST-MODIFIED:20260105T055940Z
UID:10019565-1805050800-1805050800@epictriviafl.com
SUMMARY:Music Bingo
DESCRIPTION:
URL:https://epictriviafl.com/event/music-bingo-blue-springs/2027-03-14/
LOCATION:Blue Springs Brewing\, 1070 S Volusia Ave\, Orange City\, FL 32763 USA
GEO:28.9363912;-81.2982016
X-APPLE-STRUCTURED-LOCATION;VALUE=URI;X-ADDRESS=Blue Springs Brewing 1070 S Volusia Ave Orange City FL 32763 USA;X-APPLE-RADIUS=500;X-TITLE=1070 S Volusia Ave\, Orange City\, FL 32763 USA:geo:-81.2982016,28.9363912
END:VEVENT
BEGIN:VEVENT
DTSTART;TZID=America/New_York:20270318T180000
DTEND;TZID=America/New_York:20270318T180000
DTSTAMP:20260420T000628
CREATED:20260105T003134Z
LAST-MODIFIED:20260105T054413Z
UID:10013065-1805392800-1805392800@epictriviafl.com
SUMMARY:Trivia
DESCRIPTION:
URL:https://epictriviafl.com/event/trivia-blue-springs/2027-03-18/
LOCATION:Blue Springs Brewing\, 1070 S Volusia Ave\, Orange City\, FL 32763 USA
GEO:28.9363912;-81.2982016
X-APPLE-STRUCTURED-LOCATION;VALUE=URI;X-ADDRESS=Blue Springs Brewing 1070 S Volusia Ave Orange City FL 32763 USA;X-APPLE-RADIUS=500;X-TITLE=1070 S Volusia Ave\, Orange City\, FL 32763 USA:geo:-81.2982016,28.9363912
END:VEVENT
BEGIN:VEVENT
DTSTART;TZID=America/New_York:20270321T190000
DTEND;TZID=America/New_York:20270321T190000
DTSTAMP:20260420T000628
CREATED:20260105T003233Z
LAST-MODIFIED:20260105T055940Z
UID:10019566-1805655600-1805655600@epictriviafl.com
SUMMARY:Music Bingo
DESCRIPTION:
URL:https://epictriviafl.com/event/music-bingo-blue-springs/2027-03-21/
LOCATION:Blue Springs Brewing\, 1070 S Volusia Ave\, Orange City\, FL 32763 USA
GEO:28.9363912;-81.2982016
X-APPLE-STRUCTURED-LOCATION;VALUE=URI;X-ADDRESS=Blue Springs Brewing 1070 S Volusia Ave Orange City FL 32763 USA;X-APPLE-RADIUS=500;X-TITLE=1070 S Volusia Ave\, Orange City\, FL 32763 USA:geo:-81.2982016,28.9363912
END:VEVENT
BEGIN:VEVENT
DTSTART;TZID=America/New_York:20270325T180000
DTEND;TZID=America/New_York:20270325T180000
DTSTAMP:20260420T000628
CREATED:20260105T003134Z
LAST-MODIFIED:20260105T054413Z
UID:10013066-1805997600-1805997600@epictriviafl.com
SUMMARY:Trivia
DESCRIPTION:
URL:https://epictriviafl.com/event/trivia-blue-springs/2027-03-25/
LOCATION:Blue Springs Brewing\, 1070 S Volusia Ave\, Orange City\, FL 32763 USA
GEO:28.9363912;-81.2982016
X-APPLE-STRUCTURED-LOCATION;VALUE=URI;X-ADDRESS=Blue Springs Brewing 1070 S Volusia Ave Orange City FL 32763 USA;X-APPLE-RADIUS=500;X-TITLE=1070 S Volusia Ave\, Orange City\, FL 32763 USA:geo:-81.2982016,28.9363912
END:VEVENT
BEGIN:VEVENT
DTSTART;TZID=America/New_York:20270328T190000
DTEND;TZID=America/New_York:20270328T190000
DTSTAMP:20260420T000628
CREATED:20260105T003233Z
LAST-MODIFIED:20260105T055940Z
UID:10019567-1806260400-1806260400@epictriviafl.com
SUMMARY:Music Bingo
DESCRIPTION:
URL:https://epictriviafl.com/event/music-bingo-blue-springs/2027-03-28/
LOCATION:Blue Springs Brewing\, 1070 S Volusia Ave\, Orange City\, FL 32763 USA
GEO:28.9363912;-81.2982016
X-APPLE-STRUCTURED-LOCATION;VALUE=URI;X-ADDRESS=Blue Springs Brewing 1070 S Volusia Ave Orange City FL 32763 USA;X-APPLE-RADIUS=500;X-TITLE=1070 S Volusia Ave\, Orange City\, FL 32763 USA:geo:-81.2982016,28.9363912
END:VEVENT
BEGIN:VEVENT
DTSTART;TZID=America/New_York:20270401T180000
DTEND;TZID=America/New_York:20270401T180000
DTSTAMP:20260420T000628
CREATED:20260105T003134Z
LAST-MODIFIED:20260105T054413Z
UID:10013067-1806602400-1806602400@epictriviafl.com
SUMMARY:Trivia
DESCRIPTION:
URL:https://epictriviafl.com/event/trivia-blue-springs/2027-04-01/
LOCATION:Blue Springs Brewing\, 1070 S Volusia Ave\, Orange City\, FL 32763 USA
GEO:28.9363912;-81.2982016
X-APPLE-STRUCTURED-LOCATION;VALUE=URI;X-ADDRESS=Blue Springs Brewing 1070 S Volusia Ave Orange City FL 32763 USA;X-APPLE-RADIUS=500;X-TITLE=1070 S Volusia Ave\, Orange City\, FL 32763 USA:geo:-81.2982016,28.9363912
END:VEVENT
BEGIN:VEVENT
DTSTART;TZID=America/New_York:20270404T190000
DTEND;TZID=America/New_York:20270404T190000
DTSTAMP:20260420T000628
CREATED:20260105T003233Z
LAST-MODIFIED:20260105T055940Z
UID:10019568-1806865200-1806865200@epictriviafl.com
SUMMARY:Music Bingo
DESCRIPTION:
URL:https://epictriviafl.com/event/music-bingo-blue-springs/2027-04-04/
LOCATION:Blue Springs Brewing\, 1070 S Volusia Ave\, Orange City\, FL 32763 USA
GEO:28.9363912;-81.2982016
X-APPLE-STRUCTURED-LOCATION;VALUE=URI;X-ADDRESS=Blue Springs Brewing 1070 S Volusia Ave Orange City FL 32763 USA;X-APPLE-RADIUS=500;X-TITLE=1070 S Volusia Ave\, Orange City\, FL 32763 USA:geo:-81.2982016,28.9363912
END:VEVENT
BEGIN:VEVENT
DTSTART;TZID=America/New_York:20270408T180000
DTEND;TZID=America/New_York:20270408T180000
DTSTAMP:20260420T000628
CREATED:20260105T003134Z
LAST-MODIFIED:20260105T054413Z
UID:10013068-1807207200-1807207200@epictriviafl.com
SUMMARY:Trivia
DESCRIPTION:
URL:https://epictriviafl.com/event/trivia-blue-springs/2027-04-08/
LOCATION:Blue Springs Brewing\, 1070 S Volusia Ave\, Orange City\, FL 32763 USA
GEO:28.9363912;-81.2982016
X-APPLE-STRUCTURED-LOCATION;VALUE=URI;X-ADDRESS=Blue Springs Brewing 1070 S Volusia Ave Orange City FL 32763 USA;X-APPLE-RADIUS=500;X-TITLE=1070 S Volusia Ave\, Orange City\, FL 32763 USA:geo:-81.2982016,28.9363912
END:VEVENT
BEGIN:VEVENT
DTSTART;TZID=America/New_York:20270411T190000
DTEND;TZID=America/New_York:20270411T190000
DTSTAMP:20260420T000628
CREATED:20260105T003233Z
LAST-MODIFIED:20260105T055940Z
UID:10019569-1807470000-1807470000@epictriviafl.com
SUMMARY:Music Bingo
DESCRIPTION:
URL:https://epictriviafl.com/event/music-bingo-blue-springs/2027-04-11/
LOCATION:Blue Springs Brewing\, 1070 S Volusia Ave\, Orange City\, FL 32763 USA
GEO:28.9363912;-81.2982016
X-APPLE-STRUCTURED-LOCATION;VALUE=URI;X-ADDRESS=Blue Springs Brewing 1070 S Volusia Ave Orange City FL 32763 USA;X-APPLE-RADIUS=500;X-TITLE=1070 S Volusia Ave\, Orange City\, FL 32763 USA:geo:-81.2982016,28.9363912
END:VEVENT
BEGIN:VEVENT
DTSTART;TZID=America/New_York:20270415T180000
DTEND;TZID=America/New_York:20270415T180000
DTSTAMP:20260420T000628
CREATED:20260105T003134Z
LAST-MODIFIED:20260105T054413Z
UID:10013069-1807812000-1807812000@epictriviafl.com
SUMMARY:Trivia
DESCRIPTION:
URL:https://epictriviafl.com/event/trivia-blue-springs/2027-04-15/
LOCATION:Blue Springs Brewing\, 1070 S Volusia Ave\, Orange City\, FL 32763 USA
GEO:28.9363912;-81.2982016
X-APPLE-STRUCTURED-LOCATION;VALUE=URI;X-ADDRESS=Blue Springs Brewing 1070 S Volusia Ave Orange City FL 32763 USA;X-APPLE-RADIUS=500;X-TITLE=1070 S Volusia Ave\, Orange City\, FL 32763 USA:geo:-81.2982016,28.9363912
END:VEVENT
BEGIN:VEVENT
DTSTART;TZID=America/New_York:20270418T190000
DTEND;TZID=America/New_York:20270418T190000
DTSTAMP:20260420T000628
CREATED:20260105T003233Z
LAST-MODIFIED:20260105T055940Z
UID:10019570-1808074800-1808074800@epictriviafl.com
SUMMARY:Music Bingo
DESCRIPTION:
URL:https://epictriviafl.com/event/music-bingo-blue-springs/2027-04-18/
LOCATION:Blue Springs Brewing\, 1070 S Volusia Ave\, Orange City\, FL 32763 USA
GEO:28.9363912;-81.2982016
X-APPLE-STRUCTURED-LOCATION;VALUE=URI;X-ADDRESS=Blue Springs Brewing 1070 S Volusia Ave Orange City FL 32763 USA;X-APPLE-RADIUS=500;X-TITLE=1070 S Volusia Ave\, Orange City\, FL 32763 USA:geo:-81.2982016,28.9363912
END:VEVENT
BEGIN:VEVENT
DTSTART;TZID=America/New_York:20270422T180000
DTEND;TZID=America/New_York:20270422T180000
DTSTAMP:20260420T000628
CREATED:20260105T003134Z
LAST-MODIFIED:20260105T054413Z
UID:10013070-1808416800-1808416800@epictriviafl.com
SUMMARY:Trivia
DESCRIPTION:
URL:https://epictriviafl.com/event/trivia-blue-springs/2027-04-22/
LOCATION:Blue Springs Brewing\, 1070 S Volusia Ave\, Orange City\, FL 32763 USA
GEO:28.9363912;-81.2982016
X-APPLE-STRUCTURED-LOCATION;VALUE=URI;X-ADDRESS=Blue Springs Brewing 1070 S Volusia Ave Orange City FL 32763 USA;X-APPLE-RADIUS=500;X-TITLE=1070 S Volusia Ave\, Orange City\, FL 32763 USA:geo:-81.2982016,28.9363912
END:VEVENT
BEGIN:VEVENT
DTSTART;TZID=America/New_York:20270425T190000
DTEND;TZID=America/New_York:20270425T190000
DTSTAMP:20260420T000628
CREATED:20260105T003233Z
LAST-MODIFIED:20260105T055940Z
UID:10019571-1808679600-1808679600@epictriviafl.com
SUMMARY:Music Bingo
DESCRIPTION:
URL:https://epictriviafl.com/event/music-bingo-blue-springs/2027-04-25/
LOCATION:Blue Springs Brewing\, 1070 S Volusia Ave\, Orange City\, FL 32763 USA
GEO:28.9363912;-81.2982016
X-APPLE-STRUCTURED-LOCATION;VALUE=URI;X-ADDRESS=Blue Springs Brewing 1070 S Volusia Ave Orange City FL 32763 USA;X-APPLE-RADIUS=500;X-TITLE=1070 S Volusia Ave\, Orange City\, FL 32763 USA:geo:-81.2982016,28.9363912
END:VEVENT
BEGIN:VEVENT
DTSTART;TZID=America/New_York:20270429T180000
DTEND;TZID=America/New_York:20270429T180000
DTSTAMP:20260420T000628
CREATED:20260105T003134Z
LAST-MODIFIED:20260105T054413Z
UID:10013071-1809021600-1809021600@epictriviafl.com
SUMMARY:Trivia
DESCRIPTION:
URL:https://epictriviafl.com/event/trivia-blue-springs/2027-04-29/
LOCATION:Blue Springs Brewing\, 1070 S Volusia Ave\, Orange City\, FL 32763 USA
GEO:28.9363912;-81.2982016
X-APPLE-STRUCTURED-LOCATION;VALUE=URI;X-ADDRESS=Blue Springs Brewing 1070 S Volusia Ave Orange City FL 32763 USA;X-APPLE-RADIUS=500;X-TITLE=1070 S Volusia Ave\, Orange City\, FL 32763 USA:geo:-81.2982016,28.9363912
END:VEVENT
BEGIN:VEVENT
DTSTART;TZID=America/New_York:20270502T190000
DTEND;TZID=America/New_York:20270502T190000
DTSTAMP:20260420T000628
CREATED:20260105T003233Z
LAST-MODIFIED:20260105T055940Z
UID:10019572-1809284400-1809284400@epictriviafl.com
SUMMARY:Music Bingo
DESCRIPTION:
URL:https://epictriviafl.com/event/music-bingo-blue-springs/2027-05-02/
LOCATION:Blue Springs Brewing\, 1070 S Volusia Ave\, Orange City\, FL 32763 USA
GEO:28.9363912;-81.2982016
X-APPLE-STRUCTURED-LOCATION;VALUE=URI;X-ADDRESS=Blue Springs Brewing 1070 S Volusia Ave Orange City FL 32763 USA;X-APPLE-RADIUS=500;X-TITLE=1070 S Volusia Ave\, Orange City\, FL 32763 USA:geo:-81.2982016,28.9363912
END:VEVENT
BEGIN:VEVENT
DTSTART;TZID=America/New_York:20270506T180000
DTEND;TZID=America/New_York:20270506T180000
DTSTAMP:20260420T000628
CREATED:20260105T003134Z
LAST-MODIFIED:20260105T054413Z
UID:10013072-1809626400-1809626400@epictriviafl.com
SUMMARY:Trivia
DESCRIPTION:
URL:https://epictriviafl.com/event/trivia-blue-springs/2027-05-06/
LOCATION:Blue Springs Brewing\, 1070 S Volusia Ave\, Orange City\, FL 32763 USA
GEO:28.9363912;-81.2982016
X-APPLE-STRUCTURED-LOCATION;VALUE=URI;X-ADDRESS=Blue Springs Brewing 1070 S Volusia Ave Orange City FL 32763 USA;X-APPLE-RADIUS=500;X-TITLE=1070 S Volusia Ave\, Orange City\, FL 32763 USA:geo:-81.2982016,28.9363912
END:VEVENT
BEGIN:VEVENT
DTSTART;TZID=America/New_York:20270509T190000
DTEND;TZID=America/New_York:20270509T190000
DTSTAMP:20260420T000628
CREATED:20260105T003233Z
LAST-MODIFIED:20260105T055940Z
UID:10019573-1809889200-1809889200@epictriviafl.com
SUMMARY:Music Bingo
DESCRIPTION:
URL:https://epictriviafl.com/event/music-bingo-blue-springs/2027-05-09/
LOCATION:Blue Springs Brewing\, 1070 S Volusia Ave\, Orange City\, FL 32763 USA
GEO:28.9363912;-81.2982016
X-APPLE-STRUCTURED-LOCATION;VALUE=URI;X-ADDRESS=Blue Springs Brewing 1070 S Volusia Ave Orange City FL 32763 USA;X-APPLE-RADIUS=500;X-TITLE=1070 S Volusia Ave\, Orange City\, FL 32763 USA:geo:-81.2982016,28.9363912
END:VEVENT
BEGIN:VEVENT
DTSTART;TZID=America/New_York:20270513T180000
DTEND;TZID=America/New_York:20270513T180000
DTSTAMP:20260420T000628
CREATED:20260105T003134Z
LAST-MODIFIED:20260105T054413Z
UID:10013073-1810231200-1810231200@epictriviafl.com
SUMMARY:Trivia
DESCRIPTION:
URL:https://epictriviafl.com/event/trivia-blue-springs/2027-05-13/
LOCATION:Blue Springs Brewing\, 1070 S Volusia Ave\, Orange City\, FL 32763 USA
GEO:28.9363912;-81.2982016
X-APPLE-STRUCTURED-LOCATION;VALUE=URI;X-ADDRESS=Blue Springs Brewing 1070 S Volusia Ave Orange City FL 32763 USA;X-APPLE-RADIUS=500;X-TITLE=1070 S Volusia Ave\, Orange City\, FL 32763 USA:geo:-81.2982016,28.9363912
END:VEVENT
BEGIN:VEVENT
DTSTART;TZID=America/New_York:20270516T190000
DTEND;TZID=America/New_York:20270516T190000
DTSTAMP:20260420T000628
CREATED:20260105T003233Z
LAST-MODIFIED:20260105T055940Z
UID:10019574-1810494000-1810494000@epictriviafl.com
SUMMARY:Music Bingo
DESCRIPTION:
URL:https://epictriviafl.com/event/music-bingo-blue-springs/2027-05-16/
LOCATION:Blue Springs Brewing\, 1070 S Volusia Ave\, Orange City\, FL 32763 USA
GEO:28.9363912;-81.2982016
X-APPLE-STRUCTURED-LOCATION;VALUE=URI;X-ADDRESS=Blue Springs Brewing 1070 S Volusia Ave Orange City FL 32763 USA;X-APPLE-RADIUS=500;X-TITLE=1070 S Volusia Ave\, Orange City\, FL 32763 USA:geo:-81.2982016,28.9363912
END:VEVENT
BEGIN:VEVENT
DTSTART;TZID=America/New_York:20270520T180000
DTEND;TZID=America/New_York:20270520T180000
DTSTAMP:20260420T000628
CREATED:20260105T003134Z
LAST-MODIFIED:20260105T054413Z
UID:10013074-1810836000-1810836000@epictriviafl.com
SUMMARY:Trivia
DESCRIPTION:
URL:https://epictriviafl.com/event/trivia-blue-springs/2027-05-20/
LOCATION:Blue Springs Brewing\, 1070 S Volusia Ave\, Orange City\, FL 32763 USA
GEO:28.9363912;-81.2982016
X-APPLE-STRUCTURED-LOCATION;VALUE=URI;X-ADDRESS=Blue Springs Brewing 1070 S Volusia Ave Orange City FL 32763 USA;X-APPLE-RADIUS=500;X-TITLE=1070 S Volusia Ave\, Orange City\, FL 32763 USA:geo:-81.2982016,28.9363912
END:VEVENT
BEGIN:VEVENT
DTSTART;TZID=America/New_York:20270523T190000
DTEND;TZID=America/New_York:20270523T190000
DTSTAMP:20260420T000628
CREATED:20260105T003233Z
LAST-MODIFIED:20260105T055940Z
UID:10019575-1811098800-1811098800@epictriviafl.com
SUMMARY:Music Bingo
DESCRIPTION:
URL:https://epictriviafl.com/event/music-bingo-blue-springs/2027-05-23/
LOCATION:Blue Springs Brewing\, 1070 S Volusia Ave\, Orange City\, FL 32763 USA
GEO:28.9363912;-81.2982016
X-APPLE-STRUCTURED-LOCATION;VALUE=URI;X-ADDRESS=Blue Springs Brewing 1070 S Volusia Ave Orange City FL 32763 USA;X-APPLE-RADIUS=500;X-TITLE=1070 S Volusia Ave\, Orange City\, FL 32763 USA:geo:-81.2982016,28.9363912
END:VEVENT
END:VCALENDAR