BEGIN:VCALENDAR
VERSION:2.0
PRODID:-//Epic Trivia - ECPv6.15.18//NONSGML v1.0//EN
CALSCALE:GREGORIAN
METHOD:PUBLISH
X-WR-CALNAME:Epic Trivia
X-ORIGINAL-URL:https://epictriviafl.com
X-WR-CALDESC:Events for Epic Trivia
REFRESH-INTERVAL;VALUE=DURATION:PT1H
X-Robots-Tag:noindex
X-PUBLISHED-TTL:PT1H
BEGIN:VTIMEZONE
TZID:America/New_York
BEGIN:DAYLIGHT
TZOFFSETFROM:-0500
TZOFFSETTO:-0400
TZNAME:EDT
DTSTART:20290311T070000
END:DAYLIGHT
BEGIN:STANDARD
TZOFFSETFROM:-0400
TZOFFSETTO:-0500
TZNAME:EST
DTSTART:20291104T060000
END:STANDARD
BEGIN:DAYLIGHT
TZOFFSETFROM:-0500
TZOFFSETTO:-0400
TZNAME:EDT
DTSTART:20300310T070000
END:DAYLIGHT
BEGIN:STANDARD
TZOFFSETFROM:-0400
TZOFFSETTO:-0500
TZNAME:EST
DTSTART:20301103T060000
END:STANDARD
BEGIN:DAYLIGHT
TZOFFSETFROM:-0500
TZOFFSETTO:-0400
TZNAME:EDT
DTSTART:20310309T070000
END:DAYLIGHT
BEGIN:STANDARD
TZOFFSETFROM:-0400
TZOFFSETTO:-0500
TZNAME:EST
DTSTART:20311102T060000
END:STANDARD
END:VTIMEZONE
BEGIN:VEVENT
DTSTART;TZID=America/New_York:20300905T180000
DTEND;TZID=America/New_York:20300905T180000
DTSTAMP:20260422T014632
CREATED:20260105T003134Z
LAST-MODIFIED:20260105T054413Z
UID:10013246-1914861600-1914861600@epictriviafl.com
SUMMARY:Trivia
DESCRIPTION:
URL:https://epictriviafl.com/event/trivia-blue-springs/2030-09-05/
LOCATION:Blue Springs Brewing\, 1070 S Volusia Ave\, Orange City\, FL 32763 USA
GEO:28.9363912;-81.2982016
X-APPLE-STRUCTURED-LOCATION;VALUE=URI;X-ADDRESS=Blue Springs Brewing 1070 S Volusia Ave Orange City FL 32763 USA;X-APPLE-RADIUS=500;X-TITLE=1070 S Volusia Ave\, Orange City\, FL 32763 USA:geo:-81.2982016,28.9363912
END:VEVENT
BEGIN:VEVENT
DTSTART;TZID=America/New_York:20300908T190000
DTEND;TZID=America/New_York:20300908T190000
DTSTAMP:20260422T014632
CREATED:20260105T003233Z
LAST-MODIFIED:20260105T055940Z
UID:10019747-1915124400-1915124400@epictriviafl.com
SUMMARY:Music Bingo
DESCRIPTION:
URL:https://epictriviafl.com/event/music-bingo-blue-springs/2030-09-08/
LOCATION:Blue Springs Brewing\, 1070 S Volusia Ave\, Orange City\, FL 32763 USA
GEO:28.9363912;-81.2982016
X-APPLE-STRUCTURED-LOCATION;VALUE=URI;X-ADDRESS=Blue Springs Brewing 1070 S Volusia Ave Orange City FL 32763 USA;X-APPLE-RADIUS=500;X-TITLE=1070 S Volusia Ave\, Orange City\, FL 32763 USA:geo:-81.2982016,28.9363912
END:VEVENT
BEGIN:VEVENT
DTSTART;TZID=America/New_York:20300912T180000
DTEND;TZID=America/New_York:20300912T180000
DTSTAMP:20260422T014632
CREATED:20260105T003134Z
LAST-MODIFIED:20260105T054413Z
UID:10013247-1915466400-1915466400@epictriviafl.com
SUMMARY:Trivia
DESCRIPTION:
URL:https://epictriviafl.com/event/trivia-blue-springs/2030-09-12/
LOCATION:Blue Springs Brewing\, 1070 S Volusia Ave\, Orange City\, FL 32763 USA
GEO:28.9363912;-81.2982016
X-APPLE-STRUCTURED-LOCATION;VALUE=URI;X-ADDRESS=Blue Springs Brewing 1070 S Volusia Ave Orange City FL 32763 USA;X-APPLE-RADIUS=500;X-TITLE=1070 S Volusia Ave\, Orange City\, FL 32763 USA:geo:-81.2982016,28.9363912
END:VEVENT
BEGIN:VEVENT
DTSTART;TZID=America/New_York:20300915T190000
DTEND;TZID=America/New_York:20300915T190000
DTSTAMP:20260422T014632
CREATED:20260105T003233Z
LAST-MODIFIED:20260105T055940Z
UID:10019748-1915729200-1915729200@epictriviafl.com
SUMMARY:Music Bingo
DESCRIPTION:
URL:https://epictriviafl.com/event/music-bingo-blue-springs/2030-09-15/
LOCATION:Blue Springs Brewing\, 1070 S Volusia Ave\, Orange City\, FL 32763 USA
GEO:28.9363912;-81.2982016
X-APPLE-STRUCTURED-LOCATION;VALUE=URI;X-ADDRESS=Blue Springs Brewing 1070 S Volusia Ave Orange City FL 32763 USA;X-APPLE-RADIUS=500;X-TITLE=1070 S Volusia Ave\, Orange City\, FL 32763 USA:geo:-81.2982016,28.9363912
END:VEVENT
BEGIN:VEVENT
DTSTART;TZID=America/New_York:20300919T180000
DTEND;TZID=America/New_York:20300919T180000
DTSTAMP:20260422T014632
CREATED:20260105T003134Z
LAST-MODIFIED:20260105T054413Z
UID:10013248-1916071200-1916071200@epictriviafl.com
SUMMARY:Trivia
DESCRIPTION:
URL:https://epictriviafl.com/event/trivia-blue-springs/2030-09-19/
LOCATION:Blue Springs Brewing\, 1070 S Volusia Ave\, Orange City\, FL 32763 USA
GEO:28.9363912;-81.2982016
X-APPLE-STRUCTURED-LOCATION;VALUE=URI;X-ADDRESS=Blue Springs Brewing 1070 S Volusia Ave Orange City FL 32763 USA;X-APPLE-RADIUS=500;X-TITLE=1070 S Volusia Ave\, Orange City\, FL 32763 USA:geo:-81.2982016,28.9363912
END:VEVENT
BEGIN:VEVENT
DTSTART;TZID=America/New_York:20300922T190000
DTEND;TZID=America/New_York:20300922T190000
DTSTAMP:20260422T014632
CREATED:20260105T003233Z
LAST-MODIFIED:20260105T055940Z
UID:10019749-1916334000-1916334000@epictriviafl.com
SUMMARY:Music Bingo
DESCRIPTION:
URL:https://epictriviafl.com/event/music-bingo-blue-springs/2030-09-22/
LOCATION:Blue Springs Brewing\, 1070 S Volusia Ave\, Orange City\, FL 32763 USA
GEO:28.9363912;-81.2982016
X-APPLE-STRUCTURED-LOCATION;VALUE=URI;X-ADDRESS=Blue Springs Brewing 1070 S Volusia Ave Orange City FL 32763 USA;X-APPLE-RADIUS=500;X-TITLE=1070 S Volusia Ave\, Orange City\, FL 32763 USA:geo:-81.2982016,28.9363912
END:VEVENT
BEGIN:VEVENT
DTSTART;TZID=America/New_York:20300926T180000
DTEND;TZID=America/New_York:20300926T180000
DTSTAMP:20260422T014632
CREATED:20260105T003134Z
LAST-MODIFIED:20260105T054413Z
UID:10013249-1916676000-1916676000@epictriviafl.com
SUMMARY:Trivia
DESCRIPTION:
URL:https://epictriviafl.com/event/trivia-blue-springs/2030-09-26/
LOCATION:Blue Springs Brewing\, 1070 S Volusia Ave\, Orange City\, FL 32763 USA
GEO:28.9363912;-81.2982016
X-APPLE-STRUCTURED-LOCATION;VALUE=URI;X-ADDRESS=Blue Springs Brewing 1070 S Volusia Ave Orange City FL 32763 USA;X-APPLE-RADIUS=500;X-TITLE=1070 S Volusia Ave\, Orange City\, FL 32763 USA:geo:-81.2982016,28.9363912
END:VEVENT
BEGIN:VEVENT
DTSTART;TZID=America/New_York:20300929T190000
DTEND;TZID=America/New_York:20300929T190000
DTSTAMP:20260422T014632
CREATED:20260105T003233Z
LAST-MODIFIED:20260105T055940Z
UID:10019750-1916938800-1916938800@epictriviafl.com
SUMMARY:Music Bingo
DESCRIPTION:
URL:https://epictriviafl.com/event/music-bingo-blue-springs/2030-09-29/
LOCATION:Blue Springs Brewing\, 1070 S Volusia Ave\, Orange City\, FL 32763 USA
GEO:28.9363912;-81.2982016
X-APPLE-STRUCTURED-LOCATION;VALUE=URI;X-ADDRESS=Blue Springs Brewing 1070 S Volusia Ave Orange City FL 32763 USA;X-APPLE-RADIUS=500;X-TITLE=1070 S Volusia Ave\, Orange City\, FL 32763 USA:geo:-81.2982016,28.9363912
END:VEVENT
BEGIN:VEVENT
DTSTART;TZID=America/New_York:20301003T180000
DTEND;TZID=America/New_York:20301003T180000
DTSTAMP:20260422T014632
CREATED:20260105T003134Z
LAST-MODIFIED:20260105T054413Z
UID:10013250-1917280800-1917280800@epictriviafl.com
SUMMARY:Trivia
DESCRIPTION:
URL:https://epictriviafl.com/event/trivia-blue-springs/2030-10-03/
LOCATION:Blue Springs Brewing\, 1070 S Volusia Ave\, Orange City\, FL 32763 USA
GEO:28.9363912;-81.2982016
X-APPLE-STRUCTURED-LOCATION;VALUE=URI;X-ADDRESS=Blue Springs Brewing 1070 S Volusia Ave Orange City FL 32763 USA;X-APPLE-RADIUS=500;X-TITLE=1070 S Volusia Ave\, Orange City\, FL 32763 USA:geo:-81.2982016,28.9363912
END:VEVENT
BEGIN:VEVENT
DTSTART;TZID=America/New_York:20301006T190000
DTEND;TZID=America/New_York:20301006T190000
DTSTAMP:20260422T014632
CREATED:20260105T003233Z
LAST-MODIFIED:20260105T055940Z
UID:10019751-1917543600-1917543600@epictriviafl.com
SUMMARY:Music Bingo
DESCRIPTION:
URL:https://epictriviafl.com/event/music-bingo-blue-springs/2030-10-06/
LOCATION:Blue Springs Brewing\, 1070 S Volusia Ave\, Orange City\, FL 32763 USA
GEO:28.9363912;-81.2982016
X-APPLE-STRUCTURED-LOCATION;VALUE=URI;X-ADDRESS=Blue Springs Brewing 1070 S Volusia Ave Orange City FL 32763 USA;X-APPLE-RADIUS=500;X-TITLE=1070 S Volusia Ave\, Orange City\, FL 32763 USA:geo:-81.2982016,28.9363912
END:VEVENT
BEGIN:VEVENT
DTSTART;TZID=America/New_York:20301010T180000
DTEND;TZID=America/New_York:20301010T180000
DTSTAMP:20260422T014632
CREATED:20260105T003134Z
LAST-MODIFIED:20260105T054413Z
UID:10013251-1917885600-1917885600@epictriviafl.com
SUMMARY:Trivia
DESCRIPTION:
URL:https://epictriviafl.com/event/trivia-blue-springs/2030-10-10/
LOCATION:Blue Springs Brewing\, 1070 S Volusia Ave\, Orange City\, FL 32763 USA
GEO:28.9363912;-81.2982016
X-APPLE-STRUCTURED-LOCATION;VALUE=URI;X-ADDRESS=Blue Springs Brewing 1070 S Volusia Ave Orange City FL 32763 USA;X-APPLE-RADIUS=500;X-TITLE=1070 S Volusia Ave\, Orange City\, FL 32763 USA:geo:-81.2982016,28.9363912
END:VEVENT
BEGIN:VEVENT
DTSTART;TZID=America/New_York:20301013T190000
DTEND;TZID=America/New_York:20301013T190000
DTSTAMP:20260422T014632
CREATED:20260105T003233Z
LAST-MODIFIED:20260105T055940Z
UID:10019752-1918148400-1918148400@epictriviafl.com
SUMMARY:Music Bingo
DESCRIPTION:
URL:https://epictriviafl.com/event/music-bingo-blue-springs/2030-10-13/
LOCATION:Blue Springs Brewing\, 1070 S Volusia Ave\, Orange City\, FL 32763 USA
GEO:28.9363912;-81.2982016
X-APPLE-STRUCTURED-LOCATION;VALUE=URI;X-ADDRESS=Blue Springs Brewing 1070 S Volusia Ave Orange City FL 32763 USA;X-APPLE-RADIUS=500;X-TITLE=1070 S Volusia Ave\, Orange City\, FL 32763 USA:geo:-81.2982016,28.9363912
END:VEVENT
BEGIN:VEVENT
DTSTART;TZID=America/New_York:20301017T180000
DTEND;TZID=America/New_York:20301017T180000
DTSTAMP:20260422T014632
CREATED:20260105T003134Z
LAST-MODIFIED:20260105T054413Z
UID:10013252-1918490400-1918490400@epictriviafl.com
SUMMARY:Trivia
DESCRIPTION:
URL:https://epictriviafl.com/event/trivia-blue-springs/2030-10-17/
LOCATION:Blue Springs Brewing\, 1070 S Volusia Ave\, Orange City\, FL 32763 USA
GEO:28.9363912;-81.2982016
X-APPLE-STRUCTURED-LOCATION;VALUE=URI;X-ADDRESS=Blue Springs Brewing 1070 S Volusia Ave Orange City FL 32763 USA;X-APPLE-RADIUS=500;X-TITLE=1070 S Volusia Ave\, Orange City\, FL 32763 USA:geo:-81.2982016,28.9363912
END:VEVENT
BEGIN:VEVENT
DTSTART;TZID=America/New_York:20301020T190000
DTEND;TZID=America/New_York:20301020T190000
DTSTAMP:20260422T014632
CREATED:20260105T003233Z
LAST-MODIFIED:20260105T055940Z
UID:10019753-1918753200-1918753200@epictriviafl.com
SUMMARY:Music Bingo
DESCRIPTION:
URL:https://epictriviafl.com/event/music-bingo-blue-springs/2030-10-20/
LOCATION:Blue Springs Brewing\, 1070 S Volusia Ave\, Orange City\, FL 32763 USA
GEO:28.9363912;-81.2982016
X-APPLE-STRUCTURED-LOCATION;VALUE=URI;X-ADDRESS=Blue Springs Brewing 1070 S Volusia Ave Orange City FL 32763 USA;X-APPLE-RADIUS=500;X-TITLE=1070 S Volusia Ave\, Orange City\, FL 32763 USA:geo:-81.2982016,28.9363912
END:VEVENT
BEGIN:VEVENT
DTSTART;TZID=America/New_York:20301024T180000
DTEND;TZID=America/New_York:20301024T180000
DTSTAMP:20260422T014632
CREATED:20260105T003134Z
LAST-MODIFIED:20260105T054413Z
UID:10013253-1919095200-1919095200@epictriviafl.com
SUMMARY:Trivia
DESCRIPTION:
URL:https://epictriviafl.com/event/trivia-blue-springs/2030-10-24/
LOCATION:Blue Springs Brewing\, 1070 S Volusia Ave\, Orange City\, FL 32763 USA
GEO:28.9363912;-81.2982016
X-APPLE-STRUCTURED-LOCATION;VALUE=URI;X-ADDRESS=Blue Springs Brewing 1070 S Volusia Ave Orange City FL 32763 USA;X-APPLE-RADIUS=500;X-TITLE=1070 S Volusia Ave\, Orange City\, FL 32763 USA:geo:-81.2982016,28.9363912
END:VEVENT
BEGIN:VEVENT
DTSTART;TZID=America/New_York:20301027T190000
DTEND;TZID=America/New_York:20301027T190000
DTSTAMP:20260422T014632
CREATED:20260105T003233Z
LAST-MODIFIED:20260105T055940Z
UID:10019754-1919358000-1919358000@epictriviafl.com
SUMMARY:Music Bingo
DESCRIPTION:
URL:https://epictriviafl.com/event/music-bingo-blue-springs/2030-10-27/
LOCATION:Blue Springs Brewing\, 1070 S Volusia Ave\, Orange City\, FL 32763 USA
GEO:28.9363912;-81.2982016
X-APPLE-STRUCTURED-LOCATION;VALUE=URI;X-ADDRESS=Blue Springs Brewing 1070 S Volusia Ave Orange City FL 32763 USA;X-APPLE-RADIUS=500;X-TITLE=1070 S Volusia Ave\, Orange City\, FL 32763 USA:geo:-81.2982016,28.9363912
END:VEVENT
BEGIN:VEVENT
DTSTART;TZID=America/New_York:20301031T180000
DTEND;TZID=America/New_York:20301031T180000
DTSTAMP:20260422T014632
CREATED:20260105T003134Z
LAST-MODIFIED:20260105T054413Z
UID:10013254-1919700000-1919700000@epictriviafl.com
SUMMARY:Trivia
DESCRIPTION:
URL:https://epictriviafl.com/event/trivia-blue-springs/2030-10-31/
LOCATION:Blue Springs Brewing\, 1070 S Volusia Ave\, Orange City\, FL 32763 USA
GEO:28.9363912;-81.2982016
X-APPLE-STRUCTURED-LOCATION;VALUE=URI;X-ADDRESS=Blue Springs Brewing 1070 S Volusia Ave Orange City FL 32763 USA;X-APPLE-RADIUS=500;X-TITLE=1070 S Volusia Ave\, Orange City\, FL 32763 USA:geo:-81.2982016,28.9363912
END:VEVENT
BEGIN:VEVENT
DTSTART;TZID=America/New_York:20301103T190000
DTEND;TZID=America/New_York:20301103T190000
DTSTAMP:20260422T014632
CREATED:20260105T003233Z
LAST-MODIFIED:20260105T055940Z
UID:10019755-1919962800-1919962800@epictriviafl.com
SUMMARY:Music Bingo
DESCRIPTION:
URL:https://epictriviafl.com/event/music-bingo-blue-springs/2030-11-03/
LOCATION:Blue Springs Brewing\, 1070 S Volusia Ave\, Orange City\, FL 32763 USA
GEO:28.9363912;-81.2982016
X-APPLE-STRUCTURED-LOCATION;VALUE=URI;X-ADDRESS=Blue Springs Brewing 1070 S Volusia Ave Orange City FL 32763 USA;X-APPLE-RADIUS=500;X-TITLE=1070 S Volusia Ave\, Orange City\, FL 32763 USA:geo:-81.2982016,28.9363912
END:VEVENT
BEGIN:VEVENT
DTSTART;TZID=America/New_York:20301107T180000
DTEND;TZID=America/New_York:20301107T180000
DTSTAMP:20260422T014632
CREATED:20260105T003134Z
LAST-MODIFIED:20260105T054413Z
UID:10013255-1920304800-1920304800@epictriviafl.com
SUMMARY:Trivia
DESCRIPTION:
URL:https://epictriviafl.com/event/trivia-blue-springs/2030-11-07/
LOCATION:Blue Springs Brewing\, 1070 S Volusia Ave\, Orange City\, FL 32763 USA
GEO:28.9363912;-81.2982016
X-APPLE-STRUCTURED-LOCATION;VALUE=URI;X-ADDRESS=Blue Springs Brewing 1070 S Volusia Ave Orange City FL 32763 USA;X-APPLE-RADIUS=500;X-TITLE=1070 S Volusia Ave\, Orange City\, FL 32763 USA:geo:-81.2982016,28.9363912
END:VEVENT
BEGIN:VEVENT
DTSTART;TZID=America/New_York:20301110T190000
DTEND;TZID=America/New_York:20301110T190000
DTSTAMP:20260422T014632
CREATED:20260105T003233Z
LAST-MODIFIED:20260105T055940Z
UID:10019756-1920567600-1920567600@epictriviafl.com
SUMMARY:Music Bingo
DESCRIPTION:
URL:https://epictriviafl.com/event/music-bingo-blue-springs/2030-11-10/
LOCATION:Blue Springs Brewing\, 1070 S Volusia Ave\, Orange City\, FL 32763 USA
GEO:28.9363912;-81.2982016
X-APPLE-STRUCTURED-LOCATION;VALUE=URI;X-ADDRESS=Blue Springs Brewing 1070 S Volusia Ave Orange City FL 32763 USA;X-APPLE-RADIUS=500;X-TITLE=1070 S Volusia Ave\, Orange City\, FL 32763 USA:geo:-81.2982016,28.9363912
END:VEVENT
BEGIN:VEVENT
DTSTART;TZID=America/New_York:20301114T180000
DTEND;TZID=America/New_York:20301114T180000
DTSTAMP:20260422T014632
CREATED:20260105T003134Z
LAST-MODIFIED:20260105T054413Z
UID:10013256-1920909600-1920909600@epictriviafl.com
SUMMARY:Trivia
DESCRIPTION:
URL:https://epictriviafl.com/event/trivia-blue-springs/2030-11-14/
LOCATION:Blue Springs Brewing\, 1070 S Volusia Ave\, Orange City\, FL 32763 USA
GEO:28.9363912;-81.2982016
X-APPLE-STRUCTURED-LOCATION;VALUE=URI;X-ADDRESS=Blue Springs Brewing 1070 S Volusia Ave Orange City FL 32763 USA;X-APPLE-RADIUS=500;X-TITLE=1070 S Volusia Ave\, Orange City\, FL 32763 USA:geo:-81.2982016,28.9363912
END:VEVENT
BEGIN:VEVENT
DTSTART;TZID=America/New_York:20301117T190000
DTEND;TZID=America/New_York:20301117T190000
DTSTAMP:20260422T014632
CREATED:20260105T003233Z
LAST-MODIFIED:20260105T055940Z
UID:10019757-1921172400-1921172400@epictriviafl.com
SUMMARY:Music Bingo
DESCRIPTION:
URL:https://epictriviafl.com/event/music-bingo-blue-springs/2030-11-17/
LOCATION:Blue Springs Brewing\, 1070 S Volusia Ave\, Orange City\, FL 32763 USA
GEO:28.9363912;-81.2982016
X-APPLE-STRUCTURED-LOCATION;VALUE=URI;X-ADDRESS=Blue Springs Brewing 1070 S Volusia Ave Orange City FL 32763 USA;X-APPLE-RADIUS=500;X-TITLE=1070 S Volusia Ave\, Orange City\, FL 32763 USA:geo:-81.2982016,28.9363912
END:VEVENT
BEGIN:VEVENT
DTSTART;TZID=America/New_York:20301121T180000
DTEND;TZID=America/New_York:20301121T180000
DTSTAMP:20260422T014632
CREATED:20260105T003134Z
LAST-MODIFIED:20260105T054413Z
UID:10013257-1921514400-1921514400@epictriviafl.com
SUMMARY:Trivia
DESCRIPTION:
URL:https://epictriviafl.com/event/trivia-blue-springs/2030-11-21/
LOCATION:Blue Springs Brewing\, 1070 S Volusia Ave\, Orange City\, FL 32763 USA
GEO:28.9363912;-81.2982016
X-APPLE-STRUCTURED-LOCATION;VALUE=URI;X-ADDRESS=Blue Springs Brewing 1070 S Volusia Ave Orange City FL 32763 USA;X-APPLE-RADIUS=500;X-TITLE=1070 S Volusia Ave\, Orange City\, FL 32763 USA:geo:-81.2982016,28.9363912
END:VEVENT
BEGIN:VEVENT
DTSTART;TZID=America/New_York:20301124T190000
DTEND;TZID=America/New_York:20301124T190000
DTSTAMP:20260422T014632
CREATED:20260105T003233Z
LAST-MODIFIED:20260105T055940Z
UID:10019758-1921777200-1921777200@epictriviafl.com
SUMMARY:Music Bingo
DESCRIPTION:
URL:https://epictriviafl.com/event/music-bingo-blue-springs/2030-11-24/
LOCATION:Blue Springs Brewing\, 1070 S Volusia Ave\, Orange City\, FL 32763 USA
GEO:28.9363912;-81.2982016
X-APPLE-STRUCTURED-LOCATION;VALUE=URI;X-ADDRESS=Blue Springs Brewing 1070 S Volusia Ave Orange City FL 32763 USA;X-APPLE-RADIUS=500;X-TITLE=1070 S Volusia Ave\, Orange City\, FL 32763 USA:geo:-81.2982016,28.9363912
END:VEVENT
BEGIN:VEVENT
DTSTART;TZID=America/New_York:20301128T180000
DTEND;TZID=America/New_York:20301128T180000
DTSTAMP:20260422T014632
CREATED:20260105T003134Z
LAST-MODIFIED:20260105T054413Z
UID:10013258-1922119200-1922119200@epictriviafl.com
SUMMARY:Trivia
DESCRIPTION:
URL:https://epictriviafl.com/event/trivia-blue-springs/2030-11-28/
LOCATION:Blue Springs Brewing\, 1070 S Volusia Ave\, Orange City\, FL 32763 USA
GEO:28.9363912;-81.2982016
X-APPLE-STRUCTURED-LOCATION;VALUE=URI;X-ADDRESS=Blue Springs Brewing 1070 S Volusia Ave Orange City FL 32763 USA;X-APPLE-RADIUS=500;X-TITLE=1070 S Volusia Ave\, Orange City\, FL 32763 USA:geo:-81.2982016,28.9363912
END:VEVENT
BEGIN:VEVENT
DTSTART;TZID=America/New_York:20301201T190000
DTEND;TZID=America/New_York:20301201T190000
DTSTAMP:20260422T014632
CREATED:20260105T003233Z
LAST-MODIFIED:20260105T055940Z
UID:10019759-1922382000-1922382000@epictriviafl.com
SUMMARY:Music Bingo
DESCRIPTION:
URL:https://epictriviafl.com/event/music-bingo-blue-springs/2030-12-01/
LOCATION:Blue Springs Brewing\, 1070 S Volusia Ave\, Orange City\, FL 32763 USA
GEO:28.9363912;-81.2982016
X-APPLE-STRUCTURED-LOCATION;VALUE=URI;X-ADDRESS=Blue Springs Brewing 1070 S Volusia Ave Orange City FL 32763 USA;X-APPLE-RADIUS=500;X-TITLE=1070 S Volusia Ave\, Orange City\, FL 32763 USA:geo:-81.2982016,28.9363912
END:VEVENT
BEGIN:VEVENT
DTSTART;TZID=America/New_York:20301205T180000
DTEND;TZID=America/New_York:20301205T180000
DTSTAMP:20260422T014632
CREATED:20260105T003134Z
LAST-MODIFIED:20260105T054413Z
UID:10013259-1922724000-1922724000@epictriviafl.com
SUMMARY:Trivia
DESCRIPTION:
URL:https://epictriviafl.com/event/trivia-blue-springs/2030-12-05/
LOCATION:Blue Springs Brewing\, 1070 S Volusia Ave\, Orange City\, FL 32763 USA
GEO:28.9363912;-81.2982016
X-APPLE-STRUCTURED-LOCATION;VALUE=URI;X-ADDRESS=Blue Springs Brewing 1070 S Volusia Ave Orange City FL 32763 USA;X-APPLE-RADIUS=500;X-TITLE=1070 S Volusia Ave\, Orange City\, FL 32763 USA:geo:-81.2982016,28.9363912
END:VEVENT
BEGIN:VEVENT
DTSTART;TZID=America/New_York:20301208T190000
DTEND;TZID=America/New_York:20301208T190000
DTSTAMP:20260422T014632
CREATED:20260105T003233Z
LAST-MODIFIED:20260105T055940Z
UID:10019760-1922986800-1922986800@epictriviafl.com
SUMMARY:Music Bingo
DESCRIPTION:
URL:https://epictriviafl.com/event/music-bingo-blue-springs/2030-12-08/
LOCATION:Blue Springs Brewing\, 1070 S Volusia Ave\, Orange City\, FL 32763 USA
GEO:28.9363912;-81.2982016
X-APPLE-STRUCTURED-LOCATION;VALUE=URI;X-ADDRESS=Blue Springs Brewing 1070 S Volusia Ave Orange City FL 32763 USA;X-APPLE-RADIUS=500;X-TITLE=1070 S Volusia Ave\, Orange City\, FL 32763 USA:geo:-81.2982016,28.9363912
END:VEVENT
BEGIN:VEVENT
DTSTART;TZID=America/New_York:20301212T180000
DTEND;TZID=America/New_York:20301212T180000
DTSTAMP:20260422T014632
CREATED:20260105T003134Z
LAST-MODIFIED:20260105T054413Z
UID:10013260-1923328800-1923328800@epictriviafl.com
SUMMARY:Trivia
DESCRIPTION:
URL:https://epictriviafl.com/event/trivia-blue-springs/2030-12-12/
LOCATION:Blue Springs Brewing\, 1070 S Volusia Ave\, Orange City\, FL 32763 USA
GEO:28.9363912;-81.2982016
X-APPLE-STRUCTURED-LOCATION;VALUE=URI;X-ADDRESS=Blue Springs Brewing 1070 S Volusia Ave Orange City FL 32763 USA;X-APPLE-RADIUS=500;X-TITLE=1070 S Volusia Ave\, Orange City\, FL 32763 USA:geo:-81.2982016,28.9363912
END:VEVENT
BEGIN:VEVENT
DTSTART;TZID=America/New_York:20301215T190000
DTEND;TZID=America/New_York:20301215T190000
DTSTAMP:20260422T014632
CREATED:20260105T003233Z
LAST-MODIFIED:20260105T055940Z
UID:10019761-1923591600-1923591600@epictriviafl.com
SUMMARY:Music Bingo
DESCRIPTION:
URL:https://epictriviafl.com/event/music-bingo-blue-springs/2030-12-15/
LOCATION:Blue Springs Brewing\, 1070 S Volusia Ave\, Orange City\, FL 32763 USA
GEO:28.9363912;-81.2982016
X-APPLE-STRUCTURED-LOCATION;VALUE=URI;X-ADDRESS=Blue Springs Brewing 1070 S Volusia Ave Orange City FL 32763 USA;X-APPLE-RADIUS=500;X-TITLE=1070 S Volusia Ave\, Orange City\, FL 32763 USA:geo:-81.2982016,28.9363912
END:VEVENT
END:VCALENDAR