BEGIN:VCALENDAR
VERSION:2.0
PRODID:-//Epic Trivia - ECPv6.15.18//NONSGML v1.0//EN
CALSCALE:GREGORIAN
METHOD:PUBLISH
X-ORIGINAL-URL:https://epictriviafl.com
X-WR-CALDESC:Events for Epic Trivia
REFRESH-INTERVAL;VALUE=DURATION:PT1H
X-Robots-Tag:noindex
X-PUBLISHED-TTL:PT1H
BEGIN:VTIMEZONE
TZID:America/New_York
BEGIN:DAYLIGHT
TZOFFSETFROM:-0500
TZOFFSETTO:-0400
TZNAME:EDT
DTSTART:20280312T070000
END:DAYLIGHT
BEGIN:STANDARD
TZOFFSETFROM:-0400
TZOFFSETTO:-0500
TZNAME:EST
DTSTART:20281105T060000
END:STANDARD
BEGIN:DAYLIGHT
TZOFFSETFROM:-0500
TZOFFSETTO:-0400
TZNAME:EDT
DTSTART:20290311T070000
END:DAYLIGHT
BEGIN:STANDARD
TZOFFSETFROM:-0400
TZOFFSETTO:-0500
TZNAME:EST
DTSTART:20291104T060000
END:STANDARD
BEGIN:DAYLIGHT
TZOFFSETFROM:-0500
TZOFFSETTO:-0400
TZNAME:EDT
DTSTART:20300310T070000
END:DAYLIGHT
BEGIN:STANDARD
TZOFFSETFROM:-0400
TZOFFSETTO:-0500
TZNAME:EST
DTSTART:20301103T060000
END:STANDARD
END:VTIMEZONE
BEGIN:VEVENT
DTSTART;TZID=America/New_York:20290531T180000
DTEND;TZID=America/New_York:20290531T180000
DTSTAMP:20260421T081833
CREATED:20260105T003134Z
LAST-MODIFIED:20260105T054413Z
UID:10013180-1874944800-1874944800@epictriviafl.com
SUMMARY:Trivia
DESCRIPTION:
URL:https://epictriviafl.com/event/trivia-blue-springs/2029-05-31/
LOCATION:Blue Springs Brewing\, 1070 S Volusia Ave\, Orange City\, FL 32763 USA
GEO:28.9363912;-81.2982016
X-APPLE-STRUCTURED-LOCATION;VALUE=URI;X-ADDRESS=Blue Springs Brewing 1070 S Volusia Ave Orange City FL 32763 USA;X-APPLE-RADIUS=500;X-TITLE=1070 S Volusia Ave\, Orange City\, FL 32763 USA:geo:-81.2982016,28.9363912
END:VEVENT
BEGIN:VEVENT
DTSTART;TZID=America/New_York:20290603T190000
DTEND;TZID=America/New_York:20290603T190000
DTSTAMP:20260421T081833
CREATED:20260105T003233Z
LAST-MODIFIED:20260105T055940Z
UID:10019681-1875207600-1875207600@epictriviafl.com
SUMMARY:Music Bingo
DESCRIPTION:
URL:https://epictriviafl.com/event/music-bingo-blue-springs/2029-06-03/
LOCATION:Blue Springs Brewing\, 1070 S Volusia Ave\, Orange City\, FL 32763 USA
GEO:28.9363912;-81.2982016
X-APPLE-STRUCTURED-LOCATION;VALUE=URI;X-ADDRESS=Blue Springs Brewing 1070 S Volusia Ave Orange City FL 32763 USA;X-APPLE-RADIUS=500;X-TITLE=1070 S Volusia Ave\, Orange City\, FL 32763 USA:geo:-81.2982016,28.9363912
END:VEVENT
BEGIN:VEVENT
DTSTART;TZID=America/New_York:20290607T180000
DTEND;TZID=America/New_York:20290607T180000
DTSTAMP:20260421T081833
CREATED:20260105T003134Z
LAST-MODIFIED:20260105T054413Z
UID:10013181-1875549600-1875549600@epictriviafl.com
SUMMARY:Trivia
DESCRIPTION:
URL:https://epictriviafl.com/event/trivia-blue-springs/2029-06-07/
LOCATION:Blue Springs Brewing\, 1070 S Volusia Ave\, Orange City\, FL 32763 USA
GEO:28.9363912;-81.2982016
X-APPLE-STRUCTURED-LOCATION;VALUE=URI;X-ADDRESS=Blue Springs Brewing 1070 S Volusia Ave Orange City FL 32763 USA;X-APPLE-RADIUS=500;X-TITLE=1070 S Volusia Ave\, Orange City\, FL 32763 USA:geo:-81.2982016,28.9363912
END:VEVENT
BEGIN:VEVENT
DTSTART;TZID=America/New_York:20290610T190000
DTEND;TZID=America/New_York:20290610T190000
DTSTAMP:20260421T081833
CREATED:20260105T003233Z
LAST-MODIFIED:20260105T055940Z
UID:10019682-1875812400-1875812400@epictriviafl.com
SUMMARY:Music Bingo
DESCRIPTION:
URL:https://epictriviafl.com/event/music-bingo-blue-springs/2029-06-10/
LOCATION:Blue Springs Brewing\, 1070 S Volusia Ave\, Orange City\, FL 32763 USA
GEO:28.9363912;-81.2982016
X-APPLE-STRUCTURED-LOCATION;VALUE=URI;X-ADDRESS=Blue Springs Brewing 1070 S Volusia Ave Orange City FL 32763 USA;X-APPLE-RADIUS=500;X-TITLE=1070 S Volusia Ave\, Orange City\, FL 32763 USA:geo:-81.2982016,28.9363912
END:VEVENT
BEGIN:VEVENT
DTSTART;TZID=America/New_York:20290614T180000
DTEND;TZID=America/New_York:20290614T180000
DTSTAMP:20260421T081833
CREATED:20260105T003134Z
LAST-MODIFIED:20260105T054413Z
UID:10013182-1876154400-1876154400@epictriviafl.com
SUMMARY:Trivia
DESCRIPTION:
URL:https://epictriviafl.com/event/trivia-blue-springs/2029-06-14/
LOCATION:Blue Springs Brewing\, 1070 S Volusia Ave\, Orange City\, FL 32763 USA
GEO:28.9363912;-81.2982016
X-APPLE-STRUCTURED-LOCATION;VALUE=URI;X-ADDRESS=Blue Springs Brewing 1070 S Volusia Ave Orange City FL 32763 USA;X-APPLE-RADIUS=500;X-TITLE=1070 S Volusia Ave\, Orange City\, FL 32763 USA:geo:-81.2982016,28.9363912
END:VEVENT
BEGIN:VEVENT
DTSTART;TZID=America/New_York:20290617T190000
DTEND;TZID=America/New_York:20290617T190000
DTSTAMP:20260421T081833
CREATED:20260105T003233Z
LAST-MODIFIED:20260105T055940Z
UID:10019683-1876417200-1876417200@epictriviafl.com
SUMMARY:Music Bingo
DESCRIPTION:
URL:https://epictriviafl.com/event/music-bingo-blue-springs/2029-06-17/
LOCATION:Blue Springs Brewing\, 1070 S Volusia Ave\, Orange City\, FL 32763 USA
GEO:28.9363912;-81.2982016
X-APPLE-STRUCTURED-LOCATION;VALUE=URI;X-ADDRESS=Blue Springs Brewing 1070 S Volusia Ave Orange City FL 32763 USA;X-APPLE-RADIUS=500;X-TITLE=1070 S Volusia Ave\, Orange City\, FL 32763 USA:geo:-81.2982016,28.9363912
END:VEVENT
BEGIN:VEVENT
DTSTART;TZID=America/New_York:20290621T180000
DTEND;TZID=America/New_York:20290621T180000
DTSTAMP:20260421T081833
CREATED:20260105T003134Z
LAST-MODIFIED:20260105T054413Z
UID:10013183-1876759200-1876759200@epictriviafl.com
SUMMARY:Trivia
DESCRIPTION:
URL:https://epictriviafl.com/event/trivia-blue-springs/2029-06-21/
LOCATION:Blue Springs Brewing\, 1070 S Volusia Ave\, Orange City\, FL 32763 USA
GEO:28.9363912;-81.2982016
X-APPLE-STRUCTURED-LOCATION;VALUE=URI;X-ADDRESS=Blue Springs Brewing 1070 S Volusia Ave Orange City FL 32763 USA;X-APPLE-RADIUS=500;X-TITLE=1070 S Volusia Ave\, Orange City\, FL 32763 USA:geo:-81.2982016,28.9363912
END:VEVENT
BEGIN:VEVENT
DTSTART;TZID=America/New_York:20290624T190000
DTEND;TZID=America/New_York:20290624T190000
DTSTAMP:20260421T081833
CREATED:20260105T003233Z
LAST-MODIFIED:20260105T055940Z
UID:10019684-1877022000-1877022000@epictriviafl.com
SUMMARY:Music Bingo
DESCRIPTION:
URL:https://epictriviafl.com/event/music-bingo-blue-springs/2029-06-24/
LOCATION:Blue Springs Brewing\, 1070 S Volusia Ave\, Orange City\, FL 32763 USA
GEO:28.9363912;-81.2982016
X-APPLE-STRUCTURED-LOCATION;VALUE=URI;X-ADDRESS=Blue Springs Brewing 1070 S Volusia Ave Orange City FL 32763 USA;X-APPLE-RADIUS=500;X-TITLE=1070 S Volusia Ave\, Orange City\, FL 32763 USA:geo:-81.2982016,28.9363912
END:VEVENT
BEGIN:VEVENT
DTSTART;TZID=America/New_York:20290628T180000
DTEND;TZID=America/New_York:20290628T180000
DTSTAMP:20260421T081833
CREATED:20260105T003134Z
LAST-MODIFIED:20260105T054413Z
UID:10013184-1877364000-1877364000@epictriviafl.com
SUMMARY:Trivia
DESCRIPTION:
URL:https://epictriviafl.com/event/trivia-blue-springs/2029-06-28/
LOCATION:Blue Springs Brewing\, 1070 S Volusia Ave\, Orange City\, FL 32763 USA
GEO:28.9363912;-81.2982016
X-APPLE-STRUCTURED-LOCATION;VALUE=URI;X-ADDRESS=Blue Springs Brewing 1070 S Volusia Ave Orange City FL 32763 USA;X-APPLE-RADIUS=500;X-TITLE=1070 S Volusia Ave\, Orange City\, FL 32763 USA:geo:-81.2982016,28.9363912
END:VEVENT
BEGIN:VEVENT
DTSTART;TZID=America/New_York:20290701T190000
DTEND;TZID=America/New_York:20290701T190000
DTSTAMP:20260421T081833
CREATED:20260105T003233Z
LAST-MODIFIED:20260105T055940Z
UID:10019685-1877626800-1877626800@epictriviafl.com
SUMMARY:Music Bingo
DESCRIPTION:
URL:https://epictriviafl.com/event/music-bingo-blue-springs/2029-07-01/
LOCATION:Blue Springs Brewing\, 1070 S Volusia Ave\, Orange City\, FL 32763 USA
GEO:28.9363912;-81.2982016
X-APPLE-STRUCTURED-LOCATION;VALUE=URI;X-ADDRESS=Blue Springs Brewing 1070 S Volusia Ave Orange City FL 32763 USA;X-APPLE-RADIUS=500;X-TITLE=1070 S Volusia Ave\, Orange City\, FL 32763 USA:geo:-81.2982016,28.9363912
END:VEVENT
BEGIN:VEVENT
DTSTART;TZID=America/New_York:20290705T180000
DTEND;TZID=America/New_York:20290705T180000
DTSTAMP:20260421T081833
CREATED:20260105T003134Z
LAST-MODIFIED:20260105T054413Z
UID:10013185-1877968800-1877968800@epictriviafl.com
SUMMARY:Trivia
DESCRIPTION:
URL:https://epictriviafl.com/event/trivia-blue-springs/2029-07-05/
LOCATION:Blue Springs Brewing\, 1070 S Volusia Ave\, Orange City\, FL 32763 USA
GEO:28.9363912;-81.2982016
X-APPLE-STRUCTURED-LOCATION;VALUE=URI;X-ADDRESS=Blue Springs Brewing 1070 S Volusia Ave Orange City FL 32763 USA;X-APPLE-RADIUS=500;X-TITLE=1070 S Volusia Ave\, Orange City\, FL 32763 USA:geo:-81.2982016,28.9363912
END:VEVENT
BEGIN:VEVENT
DTSTART;TZID=America/New_York:20290708T190000
DTEND;TZID=America/New_York:20290708T190000
DTSTAMP:20260421T081833
CREATED:20260105T003233Z
LAST-MODIFIED:20260105T055940Z
UID:10019686-1878231600-1878231600@epictriviafl.com
SUMMARY:Music Bingo
DESCRIPTION:
URL:https://epictriviafl.com/event/music-bingo-blue-springs/2029-07-08/
LOCATION:Blue Springs Brewing\, 1070 S Volusia Ave\, Orange City\, FL 32763 USA
GEO:28.9363912;-81.2982016
X-APPLE-STRUCTURED-LOCATION;VALUE=URI;X-ADDRESS=Blue Springs Brewing 1070 S Volusia Ave Orange City FL 32763 USA;X-APPLE-RADIUS=500;X-TITLE=1070 S Volusia Ave\, Orange City\, FL 32763 USA:geo:-81.2982016,28.9363912
END:VEVENT
BEGIN:VEVENT
DTSTART;TZID=America/New_York:20290712T180000
DTEND;TZID=America/New_York:20290712T180000
DTSTAMP:20260421T081833
CREATED:20260105T003134Z
LAST-MODIFIED:20260105T054413Z
UID:10013186-1878573600-1878573600@epictriviafl.com
SUMMARY:Trivia
DESCRIPTION:
URL:https://epictriviafl.com/event/trivia-blue-springs/2029-07-12/
LOCATION:Blue Springs Brewing\, 1070 S Volusia Ave\, Orange City\, FL 32763 USA
GEO:28.9363912;-81.2982016
X-APPLE-STRUCTURED-LOCATION;VALUE=URI;X-ADDRESS=Blue Springs Brewing 1070 S Volusia Ave Orange City FL 32763 USA;X-APPLE-RADIUS=500;X-TITLE=1070 S Volusia Ave\, Orange City\, FL 32763 USA:geo:-81.2982016,28.9363912
END:VEVENT
BEGIN:VEVENT
DTSTART;TZID=America/New_York:20290715T190000
DTEND;TZID=America/New_York:20290715T190000
DTSTAMP:20260421T081833
CREATED:20260105T003233Z
LAST-MODIFIED:20260105T055940Z
UID:10019687-1878836400-1878836400@epictriviafl.com
SUMMARY:Music Bingo
DESCRIPTION:
URL:https://epictriviafl.com/event/music-bingo-blue-springs/2029-07-15/
LOCATION:Blue Springs Brewing\, 1070 S Volusia Ave\, Orange City\, FL 32763 USA
GEO:28.9363912;-81.2982016
X-APPLE-STRUCTURED-LOCATION;VALUE=URI;X-ADDRESS=Blue Springs Brewing 1070 S Volusia Ave Orange City FL 32763 USA;X-APPLE-RADIUS=500;X-TITLE=1070 S Volusia Ave\, Orange City\, FL 32763 USA:geo:-81.2982016,28.9363912
END:VEVENT
BEGIN:VEVENT
DTSTART;TZID=America/New_York:20290719T180000
DTEND;TZID=America/New_York:20290719T180000
DTSTAMP:20260421T081833
CREATED:20260105T003134Z
LAST-MODIFIED:20260105T054413Z
UID:10013187-1879178400-1879178400@epictriviafl.com
SUMMARY:Trivia
DESCRIPTION:
URL:https://epictriviafl.com/event/trivia-blue-springs/2029-07-19/
LOCATION:Blue Springs Brewing\, 1070 S Volusia Ave\, Orange City\, FL 32763 USA
GEO:28.9363912;-81.2982016
X-APPLE-STRUCTURED-LOCATION;VALUE=URI;X-ADDRESS=Blue Springs Brewing 1070 S Volusia Ave Orange City FL 32763 USA;X-APPLE-RADIUS=500;X-TITLE=1070 S Volusia Ave\, Orange City\, FL 32763 USA:geo:-81.2982016,28.9363912
END:VEVENT
BEGIN:VEVENT
DTSTART;TZID=America/New_York:20290722T190000
DTEND;TZID=America/New_York:20290722T190000
DTSTAMP:20260421T081833
CREATED:20260105T003233Z
LAST-MODIFIED:20260105T055940Z
UID:10019688-1879441200-1879441200@epictriviafl.com
SUMMARY:Music Bingo
DESCRIPTION:
URL:https://epictriviafl.com/event/music-bingo-blue-springs/2029-07-22/
LOCATION:Blue Springs Brewing\, 1070 S Volusia Ave\, Orange City\, FL 32763 USA
GEO:28.9363912;-81.2982016
X-APPLE-STRUCTURED-LOCATION;VALUE=URI;X-ADDRESS=Blue Springs Brewing 1070 S Volusia Ave Orange City FL 32763 USA;X-APPLE-RADIUS=500;X-TITLE=1070 S Volusia Ave\, Orange City\, FL 32763 USA:geo:-81.2982016,28.9363912
END:VEVENT
BEGIN:VEVENT
DTSTART;TZID=America/New_York:20290726T180000
DTEND;TZID=America/New_York:20290726T180000
DTSTAMP:20260421T081833
CREATED:20260105T003134Z
LAST-MODIFIED:20260105T054413Z
UID:10013188-1879783200-1879783200@epictriviafl.com
SUMMARY:Trivia
DESCRIPTION:
URL:https://epictriviafl.com/event/trivia-blue-springs/2029-07-26/
LOCATION:Blue Springs Brewing\, 1070 S Volusia Ave\, Orange City\, FL 32763 USA
GEO:28.9363912;-81.2982016
X-APPLE-STRUCTURED-LOCATION;VALUE=URI;X-ADDRESS=Blue Springs Brewing 1070 S Volusia Ave Orange City FL 32763 USA;X-APPLE-RADIUS=500;X-TITLE=1070 S Volusia Ave\, Orange City\, FL 32763 USA:geo:-81.2982016,28.9363912
END:VEVENT
BEGIN:VEVENT
DTSTART;TZID=America/New_York:20290729T190000
DTEND;TZID=America/New_York:20290729T190000
DTSTAMP:20260421T081833
CREATED:20260105T003233Z
LAST-MODIFIED:20260105T055940Z
UID:10019689-1880046000-1880046000@epictriviafl.com
SUMMARY:Music Bingo
DESCRIPTION:
URL:https://epictriviafl.com/event/music-bingo-blue-springs/2029-07-29/
LOCATION:Blue Springs Brewing\, 1070 S Volusia Ave\, Orange City\, FL 32763 USA
GEO:28.9363912;-81.2982016
X-APPLE-STRUCTURED-LOCATION;VALUE=URI;X-ADDRESS=Blue Springs Brewing 1070 S Volusia Ave Orange City FL 32763 USA;X-APPLE-RADIUS=500;X-TITLE=1070 S Volusia Ave\, Orange City\, FL 32763 USA:geo:-81.2982016,28.9363912
END:VEVENT
BEGIN:VEVENT
DTSTART;TZID=America/New_York:20290802T180000
DTEND;TZID=America/New_York:20290802T180000
DTSTAMP:20260421T081833
CREATED:20260105T003134Z
LAST-MODIFIED:20260105T054413Z
UID:10013189-1880388000-1880388000@epictriviafl.com
SUMMARY:Trivia
DESCRIPTION:
URL:https://epictriviafl.com/event/trivia-blue-springs/2029-08-02/
LOCATION:Blue Springs Brewing\, 1070 S Volusia Ave\, Orange City\, FL 32763 USA
GEO:28.9363912;-81.2982016
X-APPLE-STRUCTURED-LOCATION;VALUE=URI;X-ADDRESS=Blue Springs Brewing 1070 S Volusia Ave Orange City FL 32763 USA;X-APPLE-RADIUS=500;X-TITLE=1070 S Volusia Ave\, Orange City\, FL 32763 USA:geo:-81.2982016,28.9363912
END:VEVENT
BEGIN:VEVENT
DTSTART;TZID=America/New_York:20290805T190000
DTEND;TZID=America/New_York:20290805T190000
DTSTAMP:20260421T081833
CREATED:20260105T003233Z
LAST-MODIFIED:20260105T055940Z
UID:10019690-1880650800-1880650800@epictriviafl.com
SUMMARY:Music Bingo
DESCRIPTION:
URL:https://epictriviafl.com/event/music-bingo-blue-springs/2029-08-05/
LOCATION:Blue Springs Brewing\, 1070 S Volusia Ave\, Orange City\, FL 32763 USA
GEO:28.9363912;-81.2982016
X-APPLE-STRUCTURED-LOCATION;VALUE=URI;X-ADDRESS=Blue Springs Brewing 1070 S Volusia Ave Orange City FL 32763 USA;X-APPLE-RADIUS=500;X-TITLE=1070 S Volusia Ave\, Orange City\, FL 32763 USA:geo:-81.2982016,28.9363912
END:VEVENT
BEGIN:VEVENT
DTSTART;TZID=America/New_York:20290809T180000
DTEND;TZID=America/New_York:20290809T180000
DTSTAMP:20260421T081833
CREATED:20260105T003134Z
LAST-MODIFIED:20260105T054413Z
UID:10013190-1880992800-1880992800@epictriviafl.com
SUMMARY:Trivia
DESCRIPTION:
URL:https://epictriviafl.com/event/trivia-blue-springs/2029-08-09/
LOCATION:Blue Springs Brewing\, 1070 S Volusia Ave\, Orange City\, FL 32763 USA
GEO:28.9363912;-81.2982016
X-APPLE-STRUCTURED-LOCATION;VALUE=URI;X-ADDRESS=Blue Springs Brewing 1070 S Volusia Ave Orange City FL 32763 USA;X-APPLE-RADIUS=500;X-TITLE=1070 S Volusia Ave\, Orange City\, FL 32763 USA:geo:-81.2982016,28.9363912
END:VEVENT
BEGIN:VEVENT
DTSTART;TZID=America/New_York:20290812T190000
DTEND;TZID=America/New_York:20290812T190000
DTSTAMP:20260421T081833
CREATED:20260105T003233Z
LAST-MODIFIED:20260105T055940Z
UID:10019691-1881255600-1881255600@epictriviafl.com
SUMMARY:Music Bingo
DESCRIPTION:
URL:https://epictriviafl.com/event/music-bingo-blue-springs/2029-08-12/
LOCATION:Blue Springs Brewing\, 1070 S Volusia Ave\, Orange City\, FL 32763 USA
GEO:28.9363912;-81.2982016
X-APPLE-STRUCTURED-LOCATION;VALUE=URI;X-ADDRESS=Blue Springs Brewing 1070 S Volusia Ave Orange City FL 32763 USA;X-APPLE-RADIUS=500;X-TITLE=1070 S Volusia Ave\, Orange City\, FL 32763 USA:geo:-81.2982016,28.9363912
END:VEVENT
BEGIN:VEVENT
DTSTART;TZID=America/New_York:20290816T180000
DTEND;TZID=America/New_York:20290816T180000
DTSTAMP:20260421T081833
CREATED:20260105T003134Z
LAST-MODIFIED:20260105T054413Z
UID:10013191-1881597600-1881597600@epictriviafl.com
SUMMARY:Trivia
DESCRIPTION:
URL:https://epictriviafl.com/event/trivia-blue-springs/2029-08-16/
LOCATION:Blue Springs Brewing\, 1070 S Volusia Ave\, Orange City\, FL 32763 USA
GEO:28.9363912;-81.2982016
X-APPLE-STRUCTURED-LOCATION;VALUE=URI;X-ADDRESS=Blue Springs Brewing 1070 S Volusia Ave Orange City FL 32763 USA;X-APPLE-RADIUS=500;X-TITLE=1070 S Volusia Ave\, Orange City\, FL 32763 USA:geo:-81.2982016,28.9363912
END:VEVENT
BEGIN:VEVENT
DTSTART;TZID=America/New_York:20290819T190000
DTEND;TZID=America/New_York:20290819T190000
DTSTAMP:20260421T081833
CREATED:20260105T003233Z
LAST-MODIFIED:20260105T055940Z
UID:10019692-1881860400-1881860400@epictriviafl.com
SUMMARY:Music Bingo
DESCRIPTION:
URL:https://epictriviafl.com/event/music-bingo-blue-springs/2029-08-19/
LOCATION:Blue Springs Brewing\, 1070 S Volusia Ave\, Orange City\, FL 32763 USA
GEO:28.9363912;-81.2982016
X-APPLE-STRUCTURED-LOCATION;VALUE=URI;X-ADDRESS=Blue Springs Brewing 1070 S Volusia Ave Orange City FL 32763 USA;X-APPLE-RADIUS=500;X-TITLE=1070 S Volusia Ave\, Orange City\, FL 32763 USA:geo:-81.2982016,28.9363912
END:VEVENT
BEGIN:VEVENT
DTSTART;TZID=America/New_York:20290823T180000
DTEND;TZID=America/New_York:20290823T180000
DTSTAMP:20260421T081833
CREATED:20260105T003134Z
LAST-MODIFIED:20260105T054413Z
UID:10013192-1882202400-1882202400@epictriviafl.com
SUMMARY:Trivia
DESCRIPTION:
URL:https://epictriviafl.com/event/trivia-blue-springs/2029-08-23/
LOCATION:Blue Springs Brewing\, 1070 S Volusia Ave\, Orange City\, FL 32763 USA
GEO:28.9363912;-81.2982016
X-APPLE-STRUCTURED-LOCATION;VALUE=URI;X-ADDRESS=Blue Springs Brewing 1070 S Volusia Ave Orange City FL 32763 USA;X-APPLE-RADIUS=500;X-TITLE=1070 S Volusia Ave\, Orange City\, FL 32763 USA:geo:-81.2982016,28.9363912
END:VEVENT
BEGIN:VEVENT
DTSTART;TZID=America/New_York:20290826T190000
DTEND;TZID=America/New_York:20290826T190000
DTSTAMP:20260421T081833
CREATED:20260105T003233Z
LAST-MODIFIED:20260105T055940Z
UID:10019693-1882465200-1882465200@epictriviafl.com
SUMMARY:Music Bingo
DESCRIPTION:
URL:https://epictriviafl.com/event/music-bingo-blue-springs/2029-08-26/
LOCATION:Blue Springs Brewing\, 1070 S Volusia Ave\, Orange City\, FL 32763 USA
GEO:28.9363912;-81.2982016
X-APPLE-STRUCTURED-LOCATION;VALUE=URI;X-ADDRESS=Blue Springs Brewing 1070 S Volusia Ave Orange City FL 32763 USA;X-APPLE-RADIUS=500;X-TITLE=1070 S Volusia Ave\, Orange City\, FL 32763 USA:geo:-81.2982016,28.9363912
END:VEVENT
BEGIN:VEVENT
DTSTART;TZID=America/New_York:20290830T180000
DTEND;TZID=America/New_York:20290830T180000
DTSTAMP:20260421T081833
CREATED:20260105T003134Z
LAST-MODIFIED:20260105T054413Z
UID:10013193-1882807200-1882807200@epictriviafl.com
SUMMARY:Trivia
DESCRIPTION:
URL:https://epictriviafl.com/event/trivia-blue-springs/2029-08-30/
LOCATION:Blue Springs Brewing\, 1070 S Volusia Ave\, Orange City\, FL 32763 USA
GEO:28.9363912;-81.2982016
X-APPLE-STRUCTURED-LOCATION;VALUE=URI;X-ADDRESS=Blue Springs Brewing 1070 S Volusia Ave Orange City FL 32763 USA;X-APPLE-RADIUS=500;X-TITLE=1070 S Volusia Ave\, Orange City\, FL 32763 USA:geo:-81.2982016,28.9363912
END:VEVENT
BEGIN:VEVENT
DTSTART;TZID=America/New_York:20290902T190000
DTEND;TZID=America/New_York:20290902T190000
DTSTAMP:20260421T081833
CREATED:20260105T003233Z
LAST-MODIFIED:20260105T055940Z
UID:10019694-1883070000-1883070000@epictriviafl.com
SUMMARY:Music Bingo
DESCRIPTION:
URL:https://epictriviafl.com/event/music-bingo-blue-springs/2029-09-02/
LOCATION:Blue Springs Brewing\, 1070 S Volusia Ave\, Orange City\, FL 32763 USA
GEO:28.9363912;-81.2982016
X-APPLE-STRUCTURED-LOCATION;VALUE=URI;X-ADDRESS=Blue Springs Brewing 1070 S Volusia Ave Orange City FL 32763 USA;X-APPLE-RADIUS=500;X-TITLE=1070 S Volusia Ave\, Orange City\, FL 32763 USA:geo:-81.2982016,28.9363912
END:VEVENT
BEGIN:VEVENT
DTSTART;TZID=America/New_York:20290906T180000
DTEND;TZID=America/New_York:20290906T180000
DTSTAMP:20260421T081833
CREATED:20260105T003134Z
LAST-MODIFIED:20260105T054413Z
UID:10013194-1883412000-1883412000@epictriviafl.com
SUMMARY:Trivia
DESCRIPTION:
URL:https://epictriviafl.com/event/trivia-blue-springs/2029-09-06/
LOCATION:Blue Springs Brewing\, 1070 S Volusia Ave\, Orange City\, FL 32763 USA
GEO:28.9363912;-81.2982016
X-APPLE-STRUCTURED-LOCATION;VALUE=URI;X-ADDRESS=Blue Springs Brewing 1070 S Volusia Ave Orange City FL 32763 USA;X-APPLE-RADIUS=500;X-TITLE=1070 S Volusia Ave\, Orange City\, FL 32763 USA:geo:-81.2982016,28.9363912
END:VEVENT
BEGIN:VEVENT
DTSTART;TZID=America/New_York:20290909T190000
DTEND;TZID=America/New_York:20290909T190000
DTSTAMP:20260421T081833
CREATED:20260105T003233Z
LAST-MODIFIED:20260105T055940Z
UID:10019695-1883674800-1883674800@epictriviafl.com
SUMMARY:Music Bingo
DESCRIPTION:
URL:https://epictriviafl.com/event/music-bingo-blue-springs/2029-09-09/
LOCATION:Blue Springs Brewing\, 1070 S Volusia Ave\, Orange City\, FL 32763 USA
GEO:28.9363912;-81.2982016
X-APPLE-STRUCTURED-LOCATION;VALUE=URI;X-ADDRESS=Blue Springs Brewing 1070 S Volusia Ave Orange City FL 32763 USA;X-APPLE-RADIUS=500;X-TITLE=1070 S Volusia Ave\, Orange City\, FL 32763 USA:geo:-81.2982016,28.9363912
END:VEVENT
END:VCALENDAR