BEGIN:VCALENDAR
VERSION:2.0
PRODID:-//Epic Trivia - ECPv6.15.18//NONSGML v1.0//EN
CALSCALE:GREGORIAN
METHOD:PUBLISH
X-WR-CALNAME:Epic Trivia
X-ORIGINAL-URL:https://epictriviafl.com
X-WR-CALDESC:Events for Epic Trivia
REFRESH-INTERVAL;VALUE=DURATION:PT1H
X-Robots-Tag:noindex
X-PUBLISHED-TTL:PT1H
BEGIN:VTIMEZONE
TZID:America/New_York
BEGIN:DAYLIGHT
TZOFFSETFROM:-0500
TZOFFSETTO:-0400
TZNAME:EDT
DTSTART:20270314T070000
END:DAYLIGHT
BEGIN:STANDARD
TZOFFSETFROM:-0400
TZOFFSETTO:-0500
TZNAME:EST
DTSTART:20271107T060000
END:STANDARD
BEGIN:DAYLIGHT
TZOFFSETFROM:-0500
TZOFFSETTO:-0400
TZNAME:EDT
DTSTART:20280312T070000
END:DAYLIGHT
BEGIN:STANDARD
TZOFFSETFROM:-0400
TZOFFSETTO:-0500
TZNAME:EST
DTSTART:20281105T060000
END:STANDARD
BEGIN:DAYLIGHT
TZOFFSETFROM:-0500
TZOFFSETTO:-0400
TZNAME:EDT
DTSTART:20290311T070000
END:DAYLIGHT
BEGIN:STANDARD
TZOFFSETFROM:-0400
TZOFFSETTO:-0500
TZNAME:EST
DTSTART:20291104T060000
END:STANDARD
BEGIN:DAYLIGHT
TZOFFSETFROM:-0500
TZOFFSETTO:-0400
TZNAME:EDT
DTSTART:20300310T070000
END:DAYLIGHT
BEGIN:STANDARD
TZOFFSETFROM:-0400
TZOFFSETTO:-0500
TZNAME:EST
DTSTART:20301103T060000
END:STANDARD
END:VTIMEZONE
BEGIN:VEVENT
DTSTART;TZID=America/New_York:20281102T180000
DTEND;TZID=America/New_York:20281102T180000
DTSTAMP:20260421T002911
CREATED:20260105T003134Z
LAST-MODIFIED:20260105T054413Z
UID:10013150-1856800800-1856800800@epictriviafl.com
SUMMARY:Trivia
DESCRIPTION:
URL:https://epictriviafl.com/event/trivia-blue-springs/2028-11-02/
LOCATION:Blue Springs Brewing\, 1070 S Volusia Ave\, Orange City\, FL 32763 USA
GEO:28.9363912;-81.2982016
X-APPLE-STRUCTURED-LOCATION;VALUE=URI;X-ADDRESS=Blue Springs Brewing 1070 S Volusia Ave Orange City FL 32763 USA;X-APPLE-RADIUS=500;X-TITLE=1070 S Volusia Ave\, Orange City\, FL 32763 USA:geo:-81.2982016,28.9363912
END:VEVENT
BEGIN:VEVENT
DTSTART;TZID=America/New_York:20281105T190000
DTEND;TZID=America/New_York:20281105T190000
DTSTAMP:20260421T002911
CREATED:20260105T003233Z
LAST-MODIFIED:20260105T055940Z
UID:10019651-1857063600-1857063600@epictriviafl.com
SUMMARY:Music Bingo
DESCRIPTION:
URL:https://epictriviafl.com/event/music-bingo-blue-springs/2028-11-05/
LOCATION:Blue Springs Brewing\, 1070 S Volusia Ave\, Orange City\, FL 32763 USA
GEO:28.9363912;-81.2982016
X-APPLE-STRUCTURED-LOCATION;VALUE=URI;X-ADDRESS=Blue Springs Brewing 1070 S Volusia Ave Orange City FL 32763 USA;X-APPLE-RADIUS=500;X-TITLE=1070 S Volusia Ave\, Orange City\, FL 32763 USA:geo:-81.2982016,28.9363912
END:VEVENT
BEGIN:VEVENT
DTSTART;TZID=America/New_York:20281109T180000
DTEND;TZID=America/New_York:20281109T180000
DTSTAMP:20260421T002911
CREATED:20260105T003134Z
LAST-MODIFIED:20260105T054413Z
UID:10013151-1857405600-1857405600@epictriviafl.com
SUMMARY:Trivia
DESCRIPTION:
URL:https://epictriviafl.com/event/trivia-blue-springs/2028-11-09/
LOCATION:Blue Springs Brewing\, 1070 S Volusia Ave\, Orange City\, FL 32763 USA
GEO:28.9363912;-81.2982016
X-APPLE-STRUCTURED-LOCATION;VALUE=URI;X-ADDRESS=Blue Springs Brewing 1070 S Volusia Ave Orange City FL 32763 USA;X-APPLE-RADIUS=500;X-TITLE=1070 S Volusia Ave\, Orange City\, FL 32763 USA:geo:-81.2982016,28.9363912
END:VEVENT
BEGIN:VEVENT
DTSTART;TZID=America/New_York:20281112T190000
DTEND;TZID=America/New_York:20281112T190000
DTSTAMP:20260421T002911
CREATED:20260105T003233Z
LAST-MODIFIED:20260105T055940Z
UID:10019652-1857668400-1857668400@epictriviafl.com
SUMMARY:Music Bingo
DESCRIPTION:
URL:https://epictriviafl.com/event/music-bingo-blue-springs/2028-11-12/
LOCATION:Blue Springs Brewing\, 1070 S Volusia Ave\, Orange City\, FL 32763 USA
GEO:28.9363912;-81.2982016
X-APPLE-STRUCTURED-LOCATION;VALUE=URI;X-ADDRESS=Blue Springs Brewing 1070 S Volusia Ave Orange City FL 32763 USA;X-APPLE-RADIUS=500;X-TITLE=1070 S Volusia Ave\, Orange City\, FL 32763 USA:geo:-81.2982016,28.9363912
END:VEVENT
BEGIN:VEVENT
DTSTART;TZID=America/New_York:20281116T180000
DTEND;TZID=America/New_York:20281116T180000
DTSTAMP:20260421T002911
CREATED:20260105T003134Z
LAST-MODIFIED:20260105T054413Z
UID:10013152-1858010400-1858010400@epictriviafl.com
SUMMARY:Trivia
DESCRIPTION:
URL:https://epictriviafl.com/event/trivia-blue-springs/2028-11-16/
LOCATION:Blue Springs Brewing\, 1070 S Volusia Ave\, Orange City\, FL 32763 USA
GEO:28.9363912;-81.2982016
X-APPLE-STRUCTURED-LOCATION;VALUE=URI;X-ADDRESS=Blue Springs Brewing 1070 S Volusia Ave Orange City FL 32763 USA;X-APPLE-RADIUS=500;X-TITLE=1070 S Volusia Ave\, Orange City\, FL 32763 USA:geo:-81.2982016,28.9363912
END:VEVENT
BEGIN:VEVENT
DTSTART;TZID=America/New_York:20281119T190000
DTEND;TZID=America/New_York:20281119T190000
DTSTAMP:20260421T002911
CREATED:20260105T003233Z
LAST-MODIFIED:20260105T055940Z
UID:10019653-1858273200-1858273200@epictriviafl.com
SUMMARY:Music Bingo
DESCRIPTION:
URL:https://epictriviafl.com/event/music-bingo-blue-springs/2028-11-19/
LOCATION:Blue Springs Brewing\, 1070 S Volusia Ave\, Orange City\, FL 32763 USA
GEO:28.9363912;-81.2982016
X-APPLE-STRUCTURED-LOCATION;VALUE=URI;X-ADDRESS=Blue Springs Brewing 1070 S Volusia Ave Orange City FL 32763 USA;X-APPLE-RADIUS=500;X-TITLE=1070 S Volusia Ave\, Orange City\, FL 32763 USA:geo:-81.2982016,28.9363912
END:VEVENT
BEGIN:VEVENT
DTSTART;TZID=America/New_York:20281123T180000
DTEND;TZID=America/New_York:20281123T180000
DTSTAMP:20260421T002911
CREATED:20260105T003134Z
LAST-MODIFIED:20260105T054413Z
UID:10013153-1858615200-1858615200@epictriviafl.com
SUMMARY:Trivia
DESCRIPTION:
URL:https://epictriviafl.com/event/trivia-blue-springs/2028-11-23/
LOCATION:Blue Springs Brewing\, 1070 S Volusia Ave\, Orange City\, FL 32763 USA
GEO:28.9363912;-81.2982016
X-APPLE-STRUCTURED-LOCATION;VALUE=URI;X-ADDRESS=Blue Springs Brewing 1070 S Volusia Ave Orange City FL 32763 USA;X-APPLE-RADIUS=500;X-TITLE=1070 S Volusia Ave\, Orange City\, FL 32763 USA:geo:-81.2982016,28.9363912
END:VEVENT
BEGIN:VEVENT
DTSTART;TZID=America/New_York:20281126T190000
DTEND;TZID=America/New_York:20281126T190000
DTSTAMP:20260421T002911
CREATED:20260105T003233Z
LAST-MODIFIED:20260105T055940Z
UID:10019654-1858878000-1858878000@epictriviafl.com
SUMMARY:Music Bingo
DESCRIPTION:
URL:https://epictriviafl.com/event/music-bingo-blue-springs/2028-11-26/
LOCATION:Blue Springs Brewing\, 1070 S Volusia Ave\, Orange City\, FL 32763 USA
GEO:28.9363912;-81.2982016
X-APPLE-STRUCTURED-LOCATION;VALUE=URI;X-ADDRESS=Blue Springs Brewing 1070 S Volusia Ave Orange City FL 32763 USA;X-APPLE-RADIUS=500;X-TITLE=1070 S Volusia Ave\, Orange City\, FL 32763 USA:geo:-81.2982016,28.9363912
END:VEVENT
BEGIN:VEVENT
DTSTART;TZID=America/New_York:20281130T180000
DTEND;TZID=America/New_York:20281130T180000
DTSTAMP:20260421T002911
CREATED:20260105T003134Z
LAST-MODIFIED:20260105T054413Z
UID:10013154-1859220000-1859220000@epictriviafl.com
SUMMARY:Trivia
DESCRIPTION:
URL:https://epictriviafl.com/event/trivia-blue-springs/2028-11-30/
LOCATION:Blue Springs Brewing\, 1070 S Volusia Ave\, Orange City\, FL 32763 USA
GEO:28.9363912;-81.2982016
X-APPLE-STRUCTURED-LOCATION;VALUE=URI;X-ADDRESS=Blue Springs Brewing 1070 S Volusia Ave Orange City FL 32763 USA;X-APPLE-RADIUS=500;X-TITLE=1070 S Volusia Ave\, Orange City\, FL 32763 USA:geo:-81.2982016,28.9363912
END:VEVENT
BEGIN:VEVENT
DTSTART;TZID=America/New_York:20281203T190000
DTEND;TZID=America/New_York:20281203T190000
DTSTAMP:20260421T002911
CREATED:20260105T003233Z
LAST-MODIFIED:20260105T055940Z
UID:10019655-1859482800-1859482800@epictriviafl.com
SUMMARY:Music Bingo
DESCRIPTION:
URL:https://epictriviafl.com/event/music-bingo-blue-springs/2028-12-03/
LOCATION:Blue Springs Brewing\, 1070 S Volusia Ave\, Orange City\, FL 32763 USA
GEO:28.9363912;-81.2982016
X-APPLE-STRUCTURED-LOCATION;VALUE=URI;X-ADDRESS=Blue Springs Brewing 1070 S Volusia Ave Orange City FL 32763 USA;X-APPLE-RADIUS=500;X-TITLE=1070 S Volusia Ave\, Orange City\, FL 32763 USA:geo:-81.2982016,28.9363912
END:VEVENT
BEGIN:VEVENT
DTSTART;TZID=America/New_York:20281207T180000
DTEND;TZID=America/New_York:20281207T180000
DTSTAMP:20260421T002911
CREATED:20260105T003134Z
LAST-MODIFIED:20260105T054413Z
UID:10013155-1859824800-1859824800@epictriviafl.com
SUMMARY:Trivia
DESCRIPTION:
URL:https://epictriviafl.com/event/trivia-blue-springs/2028-12-07/
LOCATION:Blue Springs Brewing\, 1070 S Volusia Ave\, Orange City\, FL 32763 USA
GEO:28.9363912;-81.2982016
X-APPLE-STRUCTURED-LOCATION;VALUE=URI;X-ADDRESS=Blue Springs Brewing 1070 S Volusia Ave Orange City FL 32763 USA;X-APPLE-RADIUS=500;X-TITLE=1070 S Volusia Ave\, Orange City\, FL 32763 USA:geo:-81.2982016,28.9363912
END:VEVENT
BEGIN:VEVENT
DTSTART;TZID=America/New_York:20281210T190000
DTEND;TZID=America/New_York:20281210T190000
DTSTAMP:20260421T002911
CREATED:20260105T003233Z
LAST-MODIFIED:20260105T055940Z
UID:10019656-1860087600-1860087600@epictriviafl.com
SUMMARY:Music Bingo
DESCRIPTION:
URL:https://epictriviafl.com/event/music-bingo-blue-springs/2028-12-10/
LOCATION:Blue Springs Brewing\, 1070 S Volusia Ave\, Orange City\, FL 32763 USA
GEO:28.9363912;-81.2982016
X-APPLE-STRUCTURED-LOCATION;VALUE=URI;X-ADDRESS=Blue Springs Brewing 1070 S Volusia Ave Orange City FL 32763 USA;X-APPLE-RADIUS=500;X-TITLE=1070 S Volusia Ave\, Orange City\, FL 32763 USA:geo:-81.2982016,28.9363912
END:VEVENT
BEGIN:VEVENT
DTSTART;TZID=America/New_York:20281214T180000
DTEND;TZID=America/New_York:20281214T180000
DTSTAMP:20260421T002911
CREATED:20260105T003134Z
LAST-MODIFIED:20260105T054413Z
UID:10013156-1860429600-1860429600@epictriviafl.com
SUMMARY:Trivia
DESCRIPTION:
URL:https://epictriviafl.com/event/trivia-blue-springs/2028-12-14/
LOCATION:Blue Springs Brewing\, 1070 S Volusia Ave\, Orange City\, FL 32763 USA
GEO:28.9363912;-81.2982016
X-APPLE-STRUCTURED-LOCATION;VALUE=URI;X-ADDRESS=Blue Springs Brewing 1070 S Volusia Ave Orange City FL 32763 USA;X-APPLE-RADIUS=500;X-TITLE=1070 S Volusia Ave\, Orange City\, FL 32763 USA:geo:-81.2982016,28.9363912
END:VEVENT
BEGIN:VEVENT
DTSTART;TZID=America/New_York:20281217T190000
DTEND;TZID=America/New_York:20281217T190000
DTSTAMP:20260421T002911
CREATED:20260105T003233Z
LAST-MODIFIED:20260105T055940Z
UID:10019657-1860692400-1860692400@epictriviafl.com
SUMMARY:Music Bingo
DESCRIPTION:
URL:https://epictriviafl.com/event/music-bingo-blue-springs/2028-12-17/
LOCATION:Blue Springs Brewing\, 1070 S Volusia Ave\, Orange City\, FL 32763 USA
GEO:28.9363912;-81.2982016
X-APPLE-STRUCTURED-LOCATION;VALUE=URI;X-ADDRESS=Blue Springs Brewing 1070 S Volusia Ave Orange City FL 32763 USA;X-APPLE-RADIUS=500;X-TITLE=1070 S Volusia Ave\, Orange City\, FL 32763 USA:geo:-81.2982016,28.9363912
END:VEVENT
BEGIN:VEVENT
DTSTART;TZID=America/New_York:20281221T180000
DTEND;TZID=America/New_York:20281221T180000
DTSTAMP:20260421T002911
CREATED:20260105T003134Z
LAST-MODIFIED:20260105T054413Z
UID:10013157-1861034400-1861034400@epictriviafl.com
SUMMARY:Trivia
DESCRIPTION:
URL:https://epictriviafl.com/event/trivia-blue-springs/2028-12-21/
LOCATION:Blue Springs Brewing\, 1070 S Volusia Ave\, Orange City\, FL 32763 USA
GEO:28.9363912;-81.2982016
X-APPLE-STRUCTURED-LOCATION;VALUE=URI;X-ADDRESS=Blue Springs Brewing 1070 S Volusia Ave Orange City FL 32763 USA;X-APPLE-RADIUS=500;X-TITLE=1070 S Volusia Ave\, Orange City\, FL 32763 USA:geo:-81.2982016,28.9363912
END:VEVENT
BEGIN:VEVENT
DTSTART;TZID=America/New_York:20281224T190000
DTEND;TZID=America/New_York:20281224T190000
DTSTAMP:20260421T002911
CREATED:20260105T003233Z
LAST-MODIFIED:20260105T055940Z
UID:10019658-1861297200-1861297200@epictriviafl.com
SUMMARY:Music Bingo
DESCRIPTION:
URL:https://epictriviafl.com/event/music-bingo-blue-springs/2028-12-24/
LOCATION:Blue Springs Brewing\, 1070 S Volusia Ave\, Orange City\, FL 32763 USA
GEO:28.9363912;-81.2982016
X-APPLE-STRUCTURED-LOCATION;VALUE=URI;X-ADDRESS=Blue Springs Brewing 1070 S Volusia Ave Orange City FL 32763 USA;X-APPLE-RADIUS=500;X-TITLE=1070 S Volusia Ave\, Orange City\, FL 32763 USA:geo:-81.2982016,28.9363912
END:VEVENT
BEGIN:VEVENT
DTSTART;TZID=America/New_York:20281228T180000
DTEND;TZID=America/New_York:20281228T180000
DTSTAMP:20260421T002911
CREATED:20260105T003134Z
LAST-MODIFIED:20260105T054413Z
UID:10013158-1861639200-1861639200@epictriviafl.com
SUMMARY:Trivia
DESCRIPTION:
URL:https://epictriviafl.com/event/trivia-blue-springs/2028-12-28/
LOCATION:Blue Springs Brewing\, 1070 S Volusia Ave\, Orange City\, FL 32763 USA
GEO:28.9363912;-81.2982016
X-APPLE-STRUCTURED-LOCATION;VALUE=URI;X-ADDRESS=Blue Springs Brewing 1070 S Volusia Ave Orange City FL 32763 USA;X-APPLE-RADIUS=500;X-TITLE=1070 S Volusia Ave\, Orange City\, FL 32763 USA:geo:-81.2982016,28.9363912
END:VEVENT
BEGIN:VEVENT
DTSTART;TZID=America/New_York:20281231T190000
DTEND;TZID=America/New_York:20281231T190000
DTSTAMP:20260421T002911
CREATED:20260105T003233Z
LAST-MODIFIED:20260105T055940Z
UID:10019659-1861902000-1861902000@epictriviafl.com
SUMMARY:Music Bingo
DESCRIPTION:
URL:https://epictriviafl.com/event/music-bingo-blue-springs/2028-12-31/
LOCATION:Blue Springs Brewing\, 1070 S Volusia Ave\, Orange City\, FL 32763 USA
GEO:28.9363912;-81.2982016
X-APPLE-STRUCTURED-LOCATION;VALUE=URI;X-ADDRESS=Blue Springs Brewing 1070 S Volusia Ave Orange City FL 32763 USA;X-APPLE-RADIUS=500;X-TITLE=1070 S Volusia Ave\, Orange City\, FL 32763 USA:geo:-81.2982016,28.9363912
END:VEVENT
BEGIN:VEVENT
DTSTART;TZID=America/New_York:20290104T180000
DTEND;TZID=America/New_York:20290104T180000
DTSTAMP:20260421T002911
CREATED:20260105T003134Z
LAST-MODIFIED:20260105T054413Z
UID:10013159-1862244000-1862244000@epictriviafl.com
SUMMARY:Trivia
DESCRIPTION:
URL:https://epictriviafl.com/event/trivia-blue-springs/2029-01-04/
LOCATION:Blue Springs Brewing\, 1070 S Volusia Ave\, Orange City\, FL 32763 USA
GEO:28.9363912;-81.2982016
X-APPLE-STRUCTURED-LOCATION;VALUE=URI;X-ADDRESS=Blue Springs Brewing 1070 S Volusia Ave Orange City FL 32763 USA;X-APPLE-RADIUS=500;X-TITLE=1070 S Volusia Ave\, Orange City\, FL 32763 USA:geo:-81.2982016,28.9363912
END:VEVENT
BEGIN:VEVENT
DTSTART;TZID=America/New_York:20290107T190000
DTEND;TZID=America/New_York:20290107T190000
DTSTAMP:20260421T002911
CREATED:20260105T003233Z
LAST-MODIFIED:20260105T055940Z
UID:10019660-1862506800-1862506800@epictriviafl.com
SUMMARY:Music Bingo
DESCRIPTION:
URL:https://epictriviafl.com/event/music-bingo-blue-springs/2029-01-07/
LOCATION:Blue Springs Brewing\, 1070 S Volusia Ave\, Orange City\, FL 32763 USA
GEO:28.9363912;-81.2982016
X-APPLE-STRUCTURED-LOCATION;VALUE=URI;X-ADDRESS=Blue Springs Brewing 1070 S Volusia Ave Orange City FL 32763 USA;X-APPLE-RADIUS=500;X-TITLE=1070 S Volusia Ave\, Orange City\, FL 32763 USA:geo:-81.2982016,28.9363912
END:VEVENT
BEGIN:VEVENT
DTSTART;TZID=America/New_York:20290111T180000
DTEND;TZID=America/New_York:20290111T180000
DTSTAMP:20260421T002911
CREATED:20260105T003134Z
LAST-MODIFIED:20260105T054413Z
UID:10013160-1862848800-1862848800@epictriviafl.com
SUMMARY:Trivia
DESCRIPTION:
URL:https://epictriviafl.com/event/trivia-blue-springs/2029-01-11/
LOCATION:Blue Springs Brewing\, 1070 S Volusia Ave\, Orange City\, FL 32763 USA
GEO:28.9363912;-81.2982016
X-APPLE-STRUCTURED-LOCATION;VALUE=URI;X-ADDRESS=Blue Springs Brewing 1070 S Volusia Ave Orange City FL 32763 USA;X-APPLE-RADIUS=500;X-TITLE=1070 S Volusia Ave\, Orange City\, FL 32763 USA:geo:-81.2982016,28.9363912
END:VEVENT
BEGIN:VEVENT
DTSTART;TZID=America/New_York:20290114T190000
DTEND;TZID=America/New_York:20290114T190000
DTSTAMP:20260421T002911
CREATED:20260105T003233Z
LAST-MODIFIED:20260105T055940Z
UID:10019661-1863111600-1863111600@epictriviafl.com
SUMMARY:Music Bingo
DESCRIPTION:
URL:https://epictriviafl.com/event/music-bingo-blue-springs/2029-01-14/
LOCATION:Blue Springs Brewing\, 1070 S Volusia Ave\, Orange City\, FL 32763 USA
GEO:28.9363912;-81.2982016
X-APPLE-STRUCTURED-LOCATION;VALUE=URI;X-ADDRESS=Blue Springs Brewing 1070 S Volusia Ave Orange City FL 32763 USA;X-APPLE-RADIUS=500;X-TITLE=1070 S Volusia Ave\, Orange City\, FL 32763 USA:geo:-81.2982016,28.9363912
END:VEVENT
BEGIN:VEVENT
DTSTART;TZID=America/New_York:20290118T180000
DTEND;TZID=America/New_York:20290118T180000
DTSTAMP:20260421T002911
CREATED:20260105T003134Z
LAST-MODIFIED:20260105T054413Z
UID:10013161-1863453600-1863453600@epictriviafl.com
SUMMARY:Trivia
DESCRIPTION:
URL:https://epictriviafl.com/event/trivia-blue-springs/2029-01-18/
LOCATION:Blue Springs Brewing\, 1070 S Volusia Ave\, Orange City\, FL 32763 USA
GEO:28.9363912;-81.2982016
X-APPLE-STRUCTURED-LOCATION;VALUE=URI;X-ADDRESS=Blue Springs Brewing 1070 S Volusia Ave Orange City FL 32763 USA;X-APPLE-RADIUS=500;X-TITLE=1070 S Volusia Ave\, Orange City\, FL 32763 USA:geo:-81.2982016,28.9363912
END:VEVENT
BEGIN:VEVENT
DTSTART;TZID=America/New_York:20290121T190000
DTEND;TZID=America/New_York:20290121T190000
DTSTAMP:20260421T002911
CREATED:20260105T003233Z
LAST-MODIFIED:20260105T055940Z
UID:10019662-1863716400-1863716400@epictriviafl.com
SUMMARY:Music Bingo
DESCRIPTION:
URL:https://epictriviafl.com/event/music-bingo-blue-springs/2029-01-21/
LOCATION:Blue Springs Brewing\, 1070 S Volusia Ave\, Orange City\, FL 32763 USA
GEO:28.9363912;-81.2982016
X-APPLE-STRUCTURED-LOCATION;VALUE=URI;X-ADDRESS=Blue Springs Brewing 1070 S Volusia Ave Orange City FL 32763 USA;X-APPLE-RADIUS=500;X-TITLE=1070 S Volusia Ave\, Orange City\, FL 32763 USA:geo:-81.2982016,28.9363912
END:VEVENT
BEGIN:VEVENT
DTSTART;TZID=America/New_York:20290125T180000
DTEND;TZID=America/New_York:20290125T180000
DTSTAMP:20260421T002911
CREATED:20260105T003134Z
LAST-MODIFIED:20260105T054413Z
UID:10013162-1864058400-1864058400@epictriviafl.com
SUMMARY:Trivia
DESCRIPTION:
URL:https://epictriviafl.com/event/trivia-blue-springs/2029-01-25/
LOCATION:Blue Springs Brewing\, 1070 S Volusia Ave\, Orange City\, FL 32763 USA
GEO:28.9363912;-81.2982016
X-APPLE-STRUCTURED-LOCATION;VALUE=URI;X-ADDRESS=Blue Springs Brewing 1070 S Volusia Ave Orange City FL 32763 USA;X-APPLE-RADIUS=500;X-TITLE=1070 S Volusia Ave\, Orange City\, FL 32763 USA:geo:-81.2982016,28.9363912
END:VEVENT
BEGIN:VEVENT
DTSTART;TZID=America/New_York:20290128T190000
DTEND;TZID=America/New_York:20290128T190000
DTSTAMP:20260421T002911
CREATED:20260105T003233Z
LAST-MODIFIED:20260105T055940Z
UID:10019663-1864321200-1864321200@epictriviafl.com
SUMMARY:Music Bingo
DESCRIPTION:
URL:https://epictriviafl.com/event/music-bingo-blue-springs/2029-01-28/
LOCATION:Blue Springs Brewing\, 1070 S Volusia Ave\, Orange City\, FL 32763 USA
GEO:28.9363912;-81.2982016
X-APPLE-STRUCTURED-LOCATION;VALUE=URI;X-ADDRESS=Blue Springs Brewing 1070 S Volusia Ave Orange City FL 32763 USA;X-APPLE-RADIUS=500;X-TITLE=1070 S Volusia Ave\, Orange City\, FL 32763 USA:geo:-81.2982016,28.9363912
END:VEVENT
BEGIN:VEVENT
DTSTART;TZID=America/New_York:20290201T180000
DTEND;TZID=America/New_York:20290201T180000
DTSTAMP:20260421T002911
CREATED:20260105T003134Z
LAST-MODIFIED:20260105T054413Z
UID:10013163-1864663200-1864663200@epictriviafl.com
SUMMARY:Trivia
DESCRIPTION:
URL:https://epictriviafl.com/event/trivia-blue-springs/2029-02-01/
LOCATION:Blue Springs Brewing\, 1070 S Volusia Ave\, Orange City\, FL 32763 USA
GEO:28.9363912;-81.2982016
X-APPLE-STRUCTURED-LOCATION;VALUE=URI;X-ADDRESS=Blue Springs Brewing 1070 S Volusia Ave Orange City FL 32763 USA;X-APPLE-RADIUS=500;X-TITLE=1070 S Volusia Ave\, Orange City\, FL 32763 USA:geo:-81.2982016,28.9363912
END:VEVENT
BEGIN:VEVENT
DTSTART;TZID=America/New_York:20290204T190000
DTEND;TZID=America/New_York:20290204T190000
DTSTAMP:20260421T002911
CREATED:20260105T003233Z
LAST-MODIFIED:20260105T055940Z
UID:10019664-1864926000-1864926000@epictriviafl.com
SUMMARY:Music Bingo
DESCRIPTION:
URL:https://epictriviafl.com/event/music-bingo-blue-springs/2029-02-04/
LOCATION:Blue Springs Brewing\, 1070 S Volusia Ave\, Orange City\, FL 32763 USA
GEO:28.9363912;-81.2982016
X-APPLE-STRUCTURED-LOCATION;VALUE=URI;X-ADDRESS=Blue Springs Brewing 1070 S Volusia Ave Orange City FL 32763 USA;X-APPLE-RADIUS=500;X-TITLE=1070 S Volusia Ave\, Orange City\, FL 32763 USA:geo:-81.2982016,28.9363912
END:VEVENT
BEGIN:VEVENT
DTSTART;TZID=America/New_York:20290208T180000
DTEND;TZID=America/New_York:20290208T180000
DTSTAMP:20260421T002911
CREATED:20260105T003134Z
LAST-MODIFIED:20260105T054413Z
UID:10013164-1865268000-1865268000@epictriviafl.com
SUMMARY:Trivia
DESCRIPTION:
URL:https://epictriviafl.com/event/trivia-blue-springs/2029-02-08/
LOCATION:Blue Springs Brewing\, 1070 S Volusia Ave\, Orange City\, FL 32763 USA
GEO:28.9363912;-81.2982016
X-APPLE-STRUCTURED-LOCATION;VALUE=URI;X-ADDRESS=Blue Springs Brewing 1070 S Volusia Ave Orange City FL 32763 USA;X-APPLE-RADIUS=500;X-TITLE=1070 S Volusia Ave\, Orange City\, FL 32763 USA:geo:-81.2982016,28.9363912
END:VEVENT
BEGIN:VEVENT
DTSTART;TZID=America/New_York:20290211T190000
DTEND;TZID=America/New_York:20290211T190000
DTSTAMP:20260421T002911
CREATED:20260105T003233Z
LAST-MODIFIED:20260105T055940Z
UID:10019665-1865530800-1865530800@epictriviafl.com
SUMMARY:Music Bingo
DESCRIPTION:
URL:https://epictriviafl.com/event/music-bingo-blue-springs/2029-02-11/
LOCATION:Blue Springs Brewing\, 1070 S Volusia Ave\, Orange City\, FL 32763 USA
GEO:28.9363912;-81.2982016
X-APPLE-STRUCTURED-LOCATION;VALUE=URI;X-ADDRESS=Blue Springs Brewing 1070 S Volusia Ave Orange City FL 32763 USA;X-APPLE-RADIUS=500;X-TITLE=1070 S Volusia Ave\, Orange City\, FL 32763 USA:geo:-81.2982016,28.9363912
END:VEVENT
END:VCALENDAR