BEGIN:VCALENDAR
VERSION:2.0
PRODID:-//Epic Trivia - ECPv6.15.18//NONSGML v1.0//EN
CALSCALE:GREGORIAN
METHOD:PUBLISH
X-WR-CALNAME:Epic Trivia
X-ORIGINAL-URL:https://epictriviafl.com
X-WR-CALDESC:Events for Epic Trivia
REFRESH-INTERVAL;VALUE=DURATION:PT1H
X-Robots-Tag:noindex
X-PUBLISHED-TTL:PT1H
BEGIN:VTIMEZONE
TZID:America/New_York
BEGIN:DAYLIGHT
TZOFFSETFROM:-0500
TZOFFSETTO:-0400
TZNAME:EDT
DTSTART:20260308T070000
END:DAYLIGHT
BEGIN:STANDARD
TZOFFSETFROM:-0400
TZOFFSETTO:-0500
TZNAME:EST
DTSTART:20261101T060000
END:STANDARD
BEGIN:DAYLIGHT
TZOFFSETFROM:-0500
TZOFFSETTO:-0400
TZNAME:EDT
DTSTART:20270314T070000
END:DAYLIGHT
BEGIN:STANDARD
TZOFFSETFROM:-0400
TZOFFSETTO:-0500
TZNAME:EST
DTSTART:20271107T060000
END:STANDARD
BEGIN:DAYLIGHT
TZOFFSETFROM:-0500
TZOFFSETTO:-0400
TZNAME:EDT
DTSTART:20280312T070000
END:DAYLIGHT
BEGIN:STANDARD
TZOFFSETFROM:-0400
TZOFFSETTO:-0500
TZNAME:EST
DTSTART:20281105T060000
END:STANDARD
BEGIN:DAYLIGHT
TZOFFSETFROM:-0500
TZOFFSETTO:-0400
TZNAME:EDT
DTSTART:20290311T070000
END:DAYLIGHT
BEGIN:STANDARD
TZOFFSETFROM:-0400
TZOFFSETTO:-0500
TZNAME:EST
DTSTART:20291104T060000
END:STANDARD
END:VTIMEZONE
BEGIN:VEVENT
DTSTART;TZID=America/New_York:20271021T180000
DTEND;TZID=America/New_York:20271021T180000
DTSTAMP:20260420T091140
CREATED:20260105T003134Z
LAST-MODIFIED:20260105T054413Z
UID:10013096-1824141600-1824141600@epictriviafl.com
SUMMARY:Trivia
DESCRIPTION:
URL:https://epictriviafl.com/event/trivia-blue-springs/2027-10-21/
LOCATION:Blue Springs Brewing\, 1070 S Volusia Ave\, Orange City\, FL 32763 USA
GEO:28.9363912;-81.2982016
X-APPLE-STRUCTURED-LOCATION;VALUE=URI;X-ADDRESS=Blue Springs Brewing 1070 S Volusia Ave Orange City FL 32763 USA;X-APPLE-RADIUS=500;X-TITLE=1070 S Volusia Ave\, Orange City\, FL 32763 USA:geo:-81.2982016,28.9363912
END:VEVENT
BEGIN:VEVENT
DTSTART;TZID=America/New_York:20271024T190000
DTEND;TZID=America/New_York:20271024T190000
DTSTAMP:20260420T091140
CREATED:20260105T003233Z
LAST-MODIFIED:20260105T055940Z
UID:10019597-1824404400-1824404400@epictriviafl.com
SUMMARY:Music Bingo
DESCRIPTION:
URL:https://epictriviafl.com/event/music-bingo-blue-springs/2027-10-24/
LOCATION:Blue Springs Brewing\, 1070 S Volusia Ave\, Orange City\, FL 32763 USA
GEO:28.9363912;-81.2982016
X-APPLE-STRUCTURED-LOCATION;VALUE=URI;X-ADDRESS=Blue Springs Brewing 1070 S Volusia Ave Orange City FL 32763 USA;X-APPLE-RADIUS=500;X-TITLE=1070 S Volusia Ave\, Orange City\, FL 32763 USA:geo:-81.2982016,28.9363912
END:VEVENT
BEGIN:VEVENT
DTSTART;TZID=America/New_York:20271028T180000
DTEND;TZID=America/New_York:20271028T180000
DTSTAMP:20260420T091140
CREATED:20260105T003134Z
LAST-MODIFIED:20260105T054413Z
UID:10013097-1824746400-1824746400@epictriviafl.com
SUMMARY:Trivia
DESCRIPTION:
URL:https://epictriviafl.com/event/trivia-blue-springs/2027-10-28/
LOCATION:Blue Springs Brewing\, 1070 S Volusia Ave\, Orange City\, FL 32763 USA
GEO:28.9363912;-81.2982016
X-APPLE-STRUCTURED-LOCATION;VALUE=URI;X-ADDRESS=Blue Springs Brewing 1070 S Volusia Ave Orange City FL 32763 USA;X-APPLE-RADIUS=500;X-TITLE=1070 S Volusia Ave\, Orange City\, FL 32763 USA:geo:-81.2982016,28.9363912
END:VEVENT
BEGIN:VEVENT
DTSTART;TZID=America/New_York:20271031T190000
DTEND;TZID=America/New_York:20271031T190000
DTSTAMP:20260420T091140
CREATED:20260105T003233Z
LAST-MODIFIED:20260105T055940Z
UID:10019598-1825009200-1825009200@epictriviafl.com
SUMMARY:Music Bingo
DESCRIPTION:
URL:https://epictriviafl.com/event/music-bingo-blue-springs/2027-10-31/
LOCATION:Blue Springs Brewing\, 1070 S Volusia Ave\, Orange City\, FL 32763 USA
GEO:28.9363912;-81.2982016
X-APPLE-STRUCTURED-LOCATION;VALUE=URI;X-ADDRESS=Blue Springs Brewing 1070 S Volusia Ave Orange City FL 32763 USA;X-APPLE-RADIUS=500;X-TITLE=1070 S Volusia Ave\, Orange City\, FL 32763 USA:geo:-81.2982016,28.9363912
END:VEVENT
BEGIN:VEVENT
DTSTART;TZID=America/New_York:20271104T180000
DTEND;TZID=America/New_York:20271104T180000
DTSTAMP:20260420T091140
CREATED:20260105T003134Z
LAST-MODIFIED:20260105T054413Z
UID:10013098-1825351200-1825351200@epictriviafl.com
SUMMARY:Trivia
DESCRIPTION:
URL:https://epictriviafl.com/event/trivia-blue-springs/2027-11-04/
LOCATION:Blue Springs Brewing\, 1070 S Volusia Ave\, Orange City\, FL 32763 USA
GEO:28.9363912;-81.2982016
X-APPLE-STRUCTURED-LOCATION;VALUE=URI;X-ADDRESS=Blue Springs Brewing 1070 S Volusia Ave Orange City FL 32763 USA;X-APPLE-RADIUS=500;X-TITLE=1070 S Volusia Ave\, Orange City\, FL 32763 USA:geo:-81.2982016,28.9363912
END:VEVENT
BEGIN:VEVENT
DTSTART;TZID=America/New_York:20271107T190000
DTEND;TZID=America/New_York:20271107T190000
DTSTAMP:20260420T091140
CREATED:20260105T003233Z
LAST-MODIFIED:20260105T055940Z
UID:10019599-1825614000-1825614000@epictriviafl.com
SUMMARY:Music Bingo
DESCRIPTION:
URL:https://epictriviafl.com/event/music-bingo-blue-springs/2027-11-07/
LOCATION:Blue Springs Brewing\, 1070 S Volusia Ave\, Orange City\, FL 32763 USA
GEO:28.9363912;-81.2982016
X-APPLE-STRUCTURED-LOCATION;VALUE=URI;X-ADDRESS=Blue Springs Brewing 1070 S Volusia Ave Orange City FL 32763 USA;X-APPLE-RADIUS=500;X-TITLE=1070 S Volusia Ave\, Orange City\, FL 32763 USA:geo:-81.2982016,28.9363912
END:VEVENT
BEGIN:VEVENT
DTSTART;TZID=America/New_York:20271111T180000
DTEND;TZID=America/New_York:20271111T180000
DTSTAMP:20260420T091140
CREATED:20260105T003134Z
LAST-MODIFIED:20260105T054413Z
UID:10013099-1825956000-1825956000@epictriviafl.com
SUMMARY:Trivia
DESCRIPTION:
URL:https://epictriviafl.com/event/trivia-blue-springs/2027-11-11/
LOCATION:Blue Springs Brewing\, 1070 S Volusia Ave\, Orange City\, FL 32763 USA
GEO:28.9363912;-81.2982016
X-APPLE-STRUCTURED-LOCATION;VALUE=URI;X-ADDRESS=Blue Springs Brewing 1070 S Volusia Ave Orange City FL 32763 USA;X-APPLE-RADIUS=500;X-TITLE=1070 S Volusia Ave\, Orange City\, FL 32763 USA:geo:-81.2982016,28.9363912
END:VEVENT
BEGIN:VEVENT
DTSTART;TZID=America/New_York:20271114T190000
DTEND;TZID=America/New_York:20271114T190000
DTSTAMP:20260420T091140
CREATED:20260105T003233Z
LAST-MODIFIED:20260105T055940Z
UID:10019600-1826218800-1826218800@epictriviafl.com
SUMMARY:Music Bingo
DESCRIPTION:
URL:https://epictriviafl.com/event/music-bingo-blue-springs/2027-11-14/
LOCATION:Blue Springs Brewing\, 1070 S Volusia Ave\, Orange City\, FL 32763 USA
GEO:28.9363912;-81.2982016
X-APPLE-STRUCTURED-LOCATION;VALUE=URI;X-ADDRESS=Blue Springs Brewing 1070 S Volusia Ave Orange City FL 32763 USA;X-APPLE-RADIUS=500;X-TITLE=1070 S Volusia Ave\, Orange City\, FL 32763 USA:geo:-81.2982016,28.9363912
END:VEVENT
BEGIN:VEVENT
DTSTART;TZID=America/New_York:20271118T180000
DTEND;TZID=America/New_York:20271118T180000
DTSTAMP:20260420T091140
CREATED:20260105T003134Z
LAST-MODIFIED:20260105T054413Z
UID:10013100-1826560800-1826560800@epictriviafl.com
SUMMARY:Trivia
DESCRIPTION:
URL:https://epictriviafl.com/event/trivia-blue-springs/2027-11-18/
LOCATION:Blue Springs Brewing\, 1070 S Volusia Ave\, Orange City\, FL 32763 USA
GEO:28.9363912;-81.2982016
X-APPLE-STRUCTURED-LOCATION;VALUE=URI;X-ADDRESS=Blue Springs Brewing 1070 S Volusia Ave Orange City FL 32763 USA;X-APPLE-RADIUS=500;X-TITLE=1070 S Volusia Ave\, Orange City\, FL 32763 USA:geo:-81.2982016,28.9363912
END:VEVENT
BEGIN:VEVENT
DTSTART;TZID=America/New_York:20271121T190000
DTEND;TZID=America/New_York:20271121T190000
DTSTAMP:20260420T091140
CREATED:20260105T003233Z
LAST-MODIFIED:20260105T055940Z
UID:10019601-1826823600-1826823600@epictriviafl.com
SUMMARY:Music Bingo
DESCRIPTION:
URL:https://epictriviafl.com/event/music-bingo-blue-springs/2027-11-21/
LOCATION:Blue Springs Brewing\, 1070 S Volusia Ave\, Orange City\, FL 32763 USA
GEO:28.9363912;-81.2982016
X-APPLE-STRUCTURED-LOCATION;VALUE=URI;X-ADDRESS=Blue Springs Brewing 1070 S Volusia Ave Orange City FL 32763 USA;X-APPLE-RADIUS=500;X-TITLE=1070 S Volusia Ave\, Orange City\, FL 32763 USA:geo:-81.2982016,28.9363912
END:VEVENT
BEGIN:VEVENT
DTSTART;TZID=America/New_York:20271125T180000
DTEND;TZID=America/New_York:20271125T180000
DTSTAMP:20260420T091140
CREATED:20260105T003134Z
LAST-MODIFIED:20260105T054413Z
UID:10013101-1827165600-1827165600@epictriviafl.com
SUMMARY:Trivia
DESCRIPTION:
URL:https://epictriviafl.com/event/trivia-blue-springs/2027-11-25/
LOCATION:Blue Springs Brewing\, 1070 S Volusia Ave\, Orange City\, FL 32763 USA
GEO:28.9363912;-81.2982016
X-APPLE-STRUCTURED-LOCATION;VALUE=URI;X-ADDRESS=Blue Springs Brewing 1070 S Volusia Ave Orange City FL 32763 USA;X-APPLE-RADIUS=500;X-TITLE=1070 S Volusia Ave\, Orange City\, FL 32763 USA:geo:-81.2982016,28.9363912
END:VEVENT
BEGIN:VEVENT
DTSTART;TZID=America/New_York:20271128T190000
DTEND;TZID=America/New_York:20271128T190000
DTSTAMP:20260420T091140
CREATED:20260105T003233Z
LAST-MODIFIED:20260105T055940Z
UID:10019602-1827428400-1827428400@epictriviafl.com
SUMMARY:Music Bingo
DESCRIPTION:
URL:https://epictriviafl.com/event/music-bingo-blue-springs/2027-11-28/
LOCATION:Blue Springs Brewing\, 1070 S Volusia Ave\, Orange City\, FL 32763 USA
GEO:28.9363912;-81.2982016
X-APPLE-STRUCTURED-LOCATION;VALUE=URI;X-ADDRESS=Blue Springs Brewing 1070 S Volusia Ave Orange City FL 32763 USA;X-APPLE-RADIUS=500;X-TITLE=1070 S Volusia Ave\, Orange City\, FL 32763 USA:geo:-81.2982016,28.9363912
END:VEVENT
BEGIN:VEVENT
DTSTART;TZID=America/New_York:20271202T180000
DTEND;TZID=America/New_York:20271202T180000
DTSTAMP:20260420T091140
CREATED:20260105T003134Z
LAST-MODIFIED:20260105T054413Z
UID:10013102-1827770400-1827770400@epictriviafl.com
SUMMARY:Trivia
DESCRIPTION:
URL:https://epictriviafl.com/event/trivia-blue-springs/2027-12-02/
LOCATION:Blue Springs Brewing\, 1070 S Volusia Ave\, Orange City\, FL 32763 USA
GEO:28.9363912;-81.2982016
X-APPLE-STRUCTURED-LOCATION;VALUE=URI;X-ADDRESS=Blue Springs Brewing 1070 S Volusia Ave Orange City FL 32763 USA;X-APPLE-RADIUS=500;X-TITLE=1070 S Volusia Ave\, Orange City\, FL 32763 USA:geo:-81.2982016,28.9363912
END:VEVENT
BEGIN:VEVENT
DTSTART;TZID=America/New_York:20271205T190000
DTEND;TZID=America/New_York:20271205T190000
DTSTAMP:20260420T091140
CREATED:20260105T003233Z
LAST-MODIFIED:20260105T055940Z
UID:10019603-1828033200-1828033200@epictriviafl.com
SUMMARY:Music Bingo
DESCRIPTION:
URL:https://epictriviafl.com/event/music-bingo-blue-springs/2027-12-05/
LOCATION:Blue Springs Brewing\, 1070 S Volusia Ave\, Orange City\, FL 32763 USA
GEO:28.9363912;-81.2982016
X-APPLE-STRUCTURED-LOCATION;VALUE=URI;X-ADDRESS=Blue Springs Brewing 1070 S Volusia Ave Orange City FL 32763 USA;X-APPLE-RADIUS=500;X-TITLE=1070 S Volusia Ave\, Orange City\, FL 32763 USA:geo:-81.2982016,28.9363912
END:VEVENT
BEGIN:VEVENT
DTSTART;TZID=America/New_York:20271209T180000
DTEND;TZID=America/New_York:20271209T180000
DTSTAMP:20260420T091140
CREATED:20260105T003134Z
LAST-MODIFIED:20260105T054413Z
UID:10013103-1828375200-1828375200@epictriviafl.com
SUMMARY:Trivia
DESCRIPTION:
URL:https://epictriviafl.com/event/trivia-blue-springs/2027-12-09/
LOCATION:Blue Springs Brewing\, 1070 S Volusia Ave\, Orange City\, FL 32763 USA
GEO:28.9363912;-81.2982016
X-APPLE-STRUCTURED-LOCATION;VALUE=URI;X-ADDRESS=Blue Springs Brewing 1070 S Volusia Ave Orange City FL 32763 USA;X-APPLE-RADIUS=500;X-TITLE=1070 S Volusia Ave\, Orange City\, FL 32763 USA:geo:-81.2982016,28.9363912
END:VEVENT
BEGIN:VEVENT
DTSTART;TZID=America/New_York:20271212T190000
DTEND;TZID=America/New_York:20271212T190000
DTSTAMP:20260420T091140
CREATED:20260105T003233Z
LAST-MODIFIED:20260105T055940Z
UID:10019604-1828638000-1828638000@epictriviafl.com
SUMMARY:Music Bingo
DESCRIPTION:
URL:https://epictriviafl.com/event/music-bingo-blue-springs/2027-12-12/
LOCATION:Blue Springs Brewing\, 1070 S Volusia Ave\, Orange City\, FL 32763 USA
GEO:28.9363912;-81.2982016
X-APPLE-STRUCTURED-LOCATION;VALUE=URI;X-ADDRESS=Blue Springs Brewing 1070 S Volusia Ave Orange City FL 32763 USA;X-APPLE-RADIUS=500;X-TITLE=1070 S Volusia Ave\, Orange City\, FL 32763 USA:geo:-81.2982016,28.9363912
END:VEVENT
BEGIN:VEVENT
DTSTART;TZID=America/New_York:20271216T180000
DTEND;TZID=America/New_York:20271216T180000
DTSTAMP:20260420T091140
CREATED:20260105T003134Z
LAST-MODIFIED:20260105T054413Z
UID:10013104-1828980000-1828980000@epictriviafl.com
SUMMARY:Trivia
DESCRIPTION:
URL:https://epictriviafl.com/event/trivia-blue-springs/2027-12-16/
LOCATION:Blue Springs Brewing\, 1070 S Volusia Ave\, Orange City\, FL 32763 USA
GEO:28.9363912;-81.2982016
X-APPLE-STRUCTURED-LOCATION;VALUE=URI;X-ADDRESS=Blue Springs Brewing 1070 S Volusia Ave Orange City FL 32763 USA;X-APPLE-RADIUS=500;X-TITLE=1070 S Volusia Ave\, Orange City\, FL 32763 USA:geo:-81.2982016,28.9363912
END:VEVENT
BEGIN:VEVENT
DTSTART;TZID=America/New_York:20271219T190000
DTEND;TZID=America/New_York:20271219T190000
DTSTAMP:20260420T091140
CREATED:20260105T003233Z
LAST-MODIFIED:20260105T055940Z
UID:10019605-1829242800-1829242800@epictriviafl.com
SUMMARY:Music Bingo
DESCRIPTION:
URL:https://epictriviafl.com/event/music-bingo-blue-springs/2027-12-19/
LOCATION:Blue Springs Brewing\, 1070 S Volusia Ave\, Orange City\, FL 32763 USA
GEO:28.9363912;-81.2982016
X-APPLE-STRUCTURED-LOCATION;VALUE=URI;X-ADDRESS=Blue Springs Brewing 1070 S Volusia Ave Orange City FL 32763 USA;X-APPLE-RADIUS=500;X-TITLE=1070 S Volusia Ave\, Orange City\, FL 32763 USA:geo:-81.2982016,28.9363912
END:VEVENT
BEGIN:VEVENT
DTSTART;TZID=America/New_York:20271223T180000
DTEND;TZID=America/New_York:20271223T180000
DTSTAMP:20260420T091140
CREATED:20260105T003134Z
LAST-MODIFIED:20260105T054413Z
UID:10013105-1829584800-1829584800@epictriviafl.com
SUMMARY:Trivia
DESCRIPTION:
URL:https://epictriviafl.com/event/trivia-blue-springs/2027-12-23/
LOCATION:Blue Springs Brewing\, 1070 S Volusia Ave\, Orange City\, FL 32763 USA
GEO:28.9363912;-81.2982016
X-APPLE-STRUCTURED-LOCATION;VALUE=URI;X-ADDRESS=Blue Springs Brewing 1070 S Volusia Ave Orange City FL 32763 USA;X-APPLE-RADIUS=500;X-TITLE=1070 S Volusia Ave\, Orange City\, FL 32763 USA:geo:-81.2982016,28.9363912
END:VEVENT
BEGIN:VEVENT
DTSTART;TZID=America/New_York:20271226T190000
DTEND;TZID=America/New_York:20271226T190000
DTSTAMP:20260420T091140
CREATED:20260105T003233Z
LAST-MODIFIED:20260105T055940Z
UID:10019606-1829847600-1829847600@epictriviafl.com
SUMMARY:Music Bingo
DESCRIPTION:
URL:https://epictriviafl.com/event/music-bingo-blue-springs/2027-12-26/
LOCATION:Blue Springs Brewing\, 1070 S Volusia Ave\, Orange City\, FL 32763 USA
GEO:28.9363912;-81.2982016
X-APPLE-STRUCTURED-LOCATION;VALUE=URI;X-ADDRESS=Blue Springs Brewing 1070 S Volusia Ave Orange City FL 32763 USA;X-APPLE-RADIUS=500;X-TITLE=1070 S Volusia Ave\, Orange City\, FL 32763 USA:geo:-81.2982016,28.9363912
END:VEVENT
BEGIN:VEVENT
DTSTART;TZID=America/New_York:20271230T180000
DTEND;TZID=America/New_York:20271230T180000
DTSTAMP:20260420T091140
CREATED:20260105T003134Z
LAST-MODIFIED:20260105T054413Z
UID:10013106-1830189600-1830189600@epictriviafl.com
SUMMARY:Trivia
DESCRIPTION:
URL:https://epictriviafl.com/event/trivia-blue-springs/2027-12-30/
LOCATION:Blue Springs Brewing\, 1070 S Volusia Ave\, Orange City\, FL 32763 USA
GEO:28.9363912;-81.2982016
X-APPLE-STRUCTURED-LOCATION;VALUE=URI;X-ADDRESS=Blue Springs Brewing 1070 S Volusia Ave Orange City FL 32763 USA;X-APPLE-RADIUS=500;X-TITLE=1070 S Volusia Ave\, Orange City\, FL 32763 USA:geo:-81.2982016,28.9363912
END:VEVENT
BEGIN:VEVENT
DTSTART;TZID=America/New_York:20280102T190000
DTEND;TZID=America/New_York:20280102T190000
DTSTAMP:20260420T091140
CREATED:20260105T003233Z
LAST-MODIFIED:20260105T055940Z
UID:10019607-1830452400-1830452400@epictriviafl.com
SUMMARY:Music Bingo
DESCRIPTION:
URL:https://epictriviafl.com/event/music-bingo-blue-springs/2028-01-02/
LOCATION:Blue Springs Brewing\, 1070 S Volusia Ave\, Orange City\, FL 32763 USA
GEO:28.9363912;-81.2982016
X-APPLE-STRUCTURED-LOCATION;VALUE=URI;X-ADDRESS=Blue Springs Brewing 1070 S Volusia Ave Orange City FL 32763 USA;X-APPLE-RADIUS=500;X-TITLE=1070 S Volusia Ave\, Orange City\, FL 32763 USA:geo:-81.2982016,28.9363912
END:VEVENT
BEGIN:VEVENT
DTSTART;TZID=America/New_York:20280106T180000
DTEND;TZID=America/New_York:20280106T180000
DTSTAMP:20260420T091140
CREATED:20260105T003134Z
LAST-MODIFIED:20260105T054413Z
UID:10013107-1830794400-1830794400@epictriviafl.com
SUMMARY:Trivia
DESCRIPTION:
URL:https://epictriviafl.com/event/trivia-blue-springs/2028-01-06/
LOCATION:Blue Springs Brewing\, 1070 S Volusia Ave\, Orange City\, FL 32763 USA
GEO:28.9363912;-81.2982016
X-APPLE-STRUCTURED-LOCATION;VALUE=URI;X-ADDRESS=Blue Springs Brewing 1070 S Volusia Ave Orange City FL 32763 USA;X-APPLE-RADIUS=500;X-TITLE=1070 S Volusia Ave\, Orange City\, FL 32763 USA:geo:-81.2982016,28.9363912
END:VEVENT
BEGIN:VEVENT
DTSTART;TZID=America/New_York:20280109T190000
DTEND;TZID=America/New_York:20280109T190000
DTSTAMP:20260420T091140
CREATED:20260105T003233Z
LAST-MODIFIED:20260105T055940Z
UID:10019608-1831057200-1831057200@epictriviafl.com
SUMMARY:Music Bingo
DESCRIPTION:
URL:https://epictriviafl.com/event/music-bingo-blue-springs/2028-01-09/
LOCATION:Blue Springs Brewing\, 1070 S Volusia Ave\, Orange City\, FL 32763 USA
GEO:28.9363912;-81.2982016
X-APPLE-STRUCTURED-LOCATION;VALUE=URI;X-ADDRESS=Blue Springs Brewing 1070 S Volusia Ave Orange City FL 32763 USA;X-APPLE-RADIUS=500;X-TITLE=1070 S Volusia Ave\, Orange City\, FL 32763 USA:geo:-81.2982016,28.9363912
END:VEVENT
BEGIN:VEVENT
DTSTART;TZID=America/New_York:20280113T180000
DTEND;TZID=America/New_York:20280113T180000
DTSTAMP:20260420T091140
CREATED:20260105T003134Z
LAST-MODIFIED:20260105T054413Z
UID:10013108-1831399200-1831399200@epictriviafl.com
SUMMARY:Trivia
DESCRIPTION:
URL:https://epictriviafl.com/event/trivia-blue-springs/2028-01-13/
LOCATION:Blue Springs Brewing\, 1070 S Volusia Ave\, Orange City\, FL 32763 USA
GEO:28.9363912;-81.2982016
X-APPLE-STRUCTURED-LOCATION;VALUE=URI;X-ADDRESS=Blue Springs Brewing 1070 S Volusia Ave Orange City FL 32763 USA;X-APPLE-RADIUS=500;X-TITLE=1070 S Volusia Ave\, Orange City\, FL 32763 USA:geo:-81.2982016,28.9363912
END:VEVENT
BEGIN:VEVENT
DTSTART;TZID=America/New_York:20280116T190000
DTEND;TZID=America/New_York:20280116T190000
DTSTAMP:20260420T091140
CREATED:20260105T003233Z
LAST-MODIFIED:20260105T055940Z
UID:10019609-1831662000-1831662000@epictriviafl.com
SUMMARY:Music Bingo
DESCRIPTION:
URL:https://epictriviafl.com/event/music-bingo-blue-springs/2028-01-16/
LOCATION:Blue Springs Brewing\, 1070 S Volusia Ave\, Orange City\, FL 32763 USA
GEO:28.9363912;-81.2982016
X-APPLE-STRUCTURED-LOCATION;VALUE=URI;X-ADDRESS=Blue Springs Brewing 1070 S Volusia Ave Orange City FL 32763 USA;X-APPLE-RADIUS=500;X-TITLE=1070 S Volusia Ave\, Orange City\, FL 32763 USA:geo:-81.2982016,28.9363912
END:VEVENT
BEGIN:VEVENT
DTSTART;TZID=America/New_York:20280120T180000
DTEND;TZID=America/New_York:20280120T180000
DTSTAMP:20260420T091140
CREATED:20260105T003134Z
LAST-MODIFIED:20260105T054413Z
UID:10013109-1832004000-1832004000@epictriviafl.com
SUMMARY:Trivia
DESCRIPTION:
URL:https://epictriviafl.com/event/trivia-blue-springs/2028-01-20/
LOCATION:Blue Springs Brewing\, 1070 S Volusia Ave\, Orange City\, FL 32763 USA
GEO:28.9363912;-81.2982016
X-APPLE-STRUCTURED-LOCATION;VALUE=URI;X-ADDRESS=Blue Springs Brewing 1070 S Volusia Ave Orange City FL 32763 USA;X-APPLE-RADIUS=500;X-TITLE=1070 S Volusia Ave\, Orange City\, FL 32763 USA:geo:-81.2982016,28.9363912
END:VEVENT
BEGIN:VEVENT
DTSTART;TZID=America/New_York:20280123T190000
DTEND;TZID=America/New_York:20280123T190000
DTSTAMP:20260420T091140
CREATED:20260105T003233Z
LAST-MODIFIED:20260105T055940Z
UID:10019610-1832266800-1832266800@epictriviafl.com
SUMMARY:Music Bingo
DESCRIPTION:
URL:https://epictriviafl.com/event/music-bingo-blue-springs/2028-01-23/
LOCATION:Blue Springs Brewing\, 1070 S Volusia Ave\, Orange City\, FL 32763 USA
GEO:28.9363912;-81.2982016
X-APPLE-STRUCTURED-LOCATION;VALUE=URI;X-ADDRESS=Blue Springs Brewing 1070 S Volusia Ave Orange City FL 32763 USA;X-APPLE-RADIUS=500;X-TITLE=1070 S Volusia Ave\, Orange City\, FL 32763 USA:geo:-81.2982016,28.9363912
END:VEVENT
BEGIN:VEVENT
DTSTART;TZID=America/New_York:20280127T180000
DTEND;TZID=America/New_York:20280127T180000
DTSTAMP:20260420T091140
CREATED:20260105T003134Z
LAST-MODIFIED:20260105T054413Z
UID:10013110-1832608800-1832608800@epictriviafl.com
SUMMARY:Trivia
DESCRIPTION:
URL:https://epictriviafl.com/event/trivia-blue-springs/2028-01-27/
LOCATION:Blue Springs Brewing\, 1070 S Volusia Ave\, Orange City\, FL 32763 USA
GEO:28.9363912;-81.2982016
X-APPLE-STRUCTURED-LOCATION;VALUE=URI;X-ADDRESS=Blue Springs Brewing 1070 S Volusia Ave Orange City FL 32763 USA;X-APPLE-RADIUS=500;X-TITLE=1070 S Volusia Ave\, Orange City\, FL 32763 USA:geo:-81.2982016,28.9363912
END:VEVENT
BEGIN:VEVENT
DTSTART;TZID=America/New_York:20280130T190000
DTEND;TZID=America/New_York:20280130T190000
DTSTAMP:20260420T091140
CREATED:20260105T003233Z
LAST-MODIFIED:20260105T055940Z
UID:10019611-1832871600-1832871600@epictriviafl.com
SUMMARY:Music Bingo
DESCRIPTION:
URL:https://epictriviafl.com/event/music-bingo-blue-springs/2028-01-30/
LOCATION:Blue Springs Brewing\, 1070 S Volusia Ave\, Orange City\, FL 32763 USA
GEO:28.9363912;-81.2982016
X-APPLE-STRUCTURED-LOCATION;VALUE=URI;X-ADDRESS=Blue Springs Brewing 1070 S Volusia Ave Orange City FL 32763 USA;X-APPLE-RADIUS=500;X-TITLE=1070 S Volusia Ave\, Orange City\, FL 32763 USA:geo:-81.2982016,28.9363912
END:VEVENT
END:VCALENDAR