BEGIN:VCALENDAR
VERSION:2.0
PRODID:-//Epic Trivia - ECPv6.15.18//NONSGML v1.0//EN
CALSCALE:GREGORIAN
METHOD:PUBLISH
X-WR-CALNAME:Epic Trivia
X-ORIGINAL-URL:https://epictriviafl.com
X-WR-CALDESC:Events for Epic Trivia
REFRESH-INTERVAL;VALUE=DURATION:PT1H
X-Robots-Tag:noindex
X-PUBLISHED-TTL:PT1H
BEGIN:VTIMEZONE
TZID:America/New_York
BEGIN:DAYLIGHT
TZOFFSETFROM:-0500
TZOFFSETTO:-0400
TZNAME:EDT
DTSTART:20250309T070000
END:DAYLIGHT
BEGIN:STANDARD
TZOFFSETFROM:-0400
TZOFFSETTO:-0500
TZNAME:EST
DTSTART:20251102T060000
END:STANDARD
BEGIN:DAYLIGHT
TZOFFSETFROM:-0500
TZOFFSETTO:-0400
TZNAME:EDT
DTSTART:20260308T070000
END:DAYLIGHT
BEGIN:STANDARD
TZOFFSETFROM:-0400
TZOFFSETTO:-0500
TZNAME:EST
DTSTART:20261101T060000
END:STANDARD
BEGIN:DAYLIGHT
TZOFFSETFROM:-0500
TZOFFSETTO:-0400
TZNAME:EDT
DTSTART:20270314T070000
END:DAYLIGHT
BEGIN:STANDARD
TZOFFSETFROM:-0400
TZOFFSETTO:-0500
TZNAME:EST
DTSTART:20271107T060000
END:STANDARD
BEGIN:DAYLIGHT
TZOFFSETFROM:-0500
TZOFFSETTO:-0400
TZNAME:EDT
DTSTART:20280312T070000
END:DAYLIGHT
BEGIN:STANDARD
TZOFFSETFROM:-0400
TZOFFSETTO:-0500
TZNAME:EST
DTSTART:20281105T060000
END:STANDARD
END:VTIMEZONE
BEGIN:VEVENT
DTSTART;TZID=America/New_York:20261229T190000
DTEND;TZID=America/New_York:20261229T190000
DTSTAMP:20260419T205218
CREATED:20260105T003047Z
LAST-MODIFIED:20260105T055352Z
UID:10017214-1798570800-1798570800@epictriviafl.com
SUMMARY:Trivia
DESCRIPTION:
URL:https://epictriviafl.com/event/trivia-4th-street/2026-12-29/
LOCATION:4th Street Bar & Grill\, 132 N 4th St #1200\, Lake Mary\, FL 32746 USA
GEO:28.7573037;-81.3243581
X-APPLE-STRUCTURED-LOCATION;VALUE=URI;X-ADDRESS=4th Street Bar & Grill 132 N 4th St #1200 Lake Mary FL 32746 USA;X-APPLE-RADIUS=500;X-TITLE=132 N 4th St #1200\, Lake Mary\, FL 32746 USA:geo:-81.3243581,28.7573037
END:VEVENT
BEGIN:VEVENT
DTSTART;TZID=America/New_York:20270105T190000
DTEND;TZID=America/New_York:20270105T190000
DTSTAMP:20260419T205218
CREATED:20260105T003047Z
LAST-MODIFIED:20260105T055352Z
UID:10017215-1799175600-1799175600@epictriviafl.com
SUMMARY:Trivia
DESCRIPTION:
URL:https://epictriviafl.com/event/trivia-4th-street/2027-01-05/
LOCATION:4th Street Bar & Grill\, 132 N 4th St #1200\, Lake Mary\, FL 32746 USA
GEO:28.7573037;-81.3243581
X-APPLE-STRUCTURED-LOCATION;VALUE=URI;X-ADDRESS=4th Street Bar & Grill 132 N 4th St #1200 Lake Mary FL 32746 USA;X-APPLE-RADIUS=500;X-TITLE=132 N 4th St #1200\, Lake Mary\, FL 32746 USA:geo:-81.3243581,28.7573037
END:VEVENT
BEGIN:VEVENT
DTSTART;TZID=America/New_York:20270112T190000
DTEND;TZID=America/New_York:20270112T190000
DTSTAMP:20260419T205218
CREATED:20260105T003047Z
LAST-MODIFIED:20260105T055352Z
UID:10017216-1799780400-1799780400@epictriviafl.com
SUMMARY:Trivia
DESCRIPTION:
URL:https://epictriviafl.com/event/trivia-4th-street/2027-01-12/
LOCATION:4th Street Bar & Grill\, 132 N 4th St #1200\, Lake Mary\, FL 32746 USA
GEO:28.7573037;-81.3243581
X-APPLE-STRUCTURED-LOCATION;VALUE=URI;X-ADDRESS=4th Street Bar & Grill 132 N 4th St #1200 Lake Mary FL 32746 USA;X-APPLE-RADIUS=500;X-TITLE=132 N 4th St #1200\, Lake Mary\, FL 32746 USA:geo:-81.3243581,28.7573037
END:VEVENT
BEGIN:VEVENT
DTSTART;TZID=America/New_York:20270119T190000
DTEND;TZID=America/New_York:20270119T190000
DTSTAMP:20260419T205218
CREATED:20260105T003047Z
LAST-MODIFIED:20260105T055352Z
UID:10017217-1800385200-1800385200@epictriviafl.com
SUMMARY:Trivia
DESCRIPTION:
URL:https://epictriviafl.com/event/trivia-4th-street/2027-01-19/
LOCATION:4th Street Bar & Grill\, 132 N 4th St #1200\, Lake Mary\, FL 32746 USA
GEO:28.7573037;-81.3243581
X-APPLE-STRUCTURED-LOCATION;VALUE=URI;X-ADDRESS=4th Street Bar & Grill 132 N 4th St #1200 Lake Mary FL 32746 USA;X-APPLE-RADIUS=500;X-TITLE=132 N 4th St #1200\, Lake Mary\, FL 32746 USA:geo:-81.3243581,28.7573037
END:VEVENT
BEGIN:VEVENT
DTSTART;TZID=America/New_York:20270126T190000
DTEND;TZID=America/New_York:20270126T190000
DTSTAMP:20260419T205218
CREATED:20260105T003047Z
LAST-MODIFIED:20260105T055352Z
UID:10017218-1800990000-1800990000@epictriviafl.com
SUMMARY:Trivia
DESCRIPTION:
URL:https://epictriviafl.com/event/trivia-4th-street/2027-01-26/
LOCATION:4th Street Bar & Grill\, 132 N 4th St #1200\, Lake Mary\, FL 32746 USA
GEO:28.7573037;-81.3243581
X-APPLE-STRUCTURED-LOCATION;VALUE=URI;X-ADDRESS=4th Street Bar & Grill 132 N 4th St #1200 Lake Mary FL 32746 USA;X-APPLE-RADIUS=500;X-TITLE=132 N 4th St #1200\, Lake Mary\, FL 32746 USA:geo:-81.3243581,28.7573037
END:VEVENT
BEGIN:VEVENT
DTSTART;TZID=America/New_York:20270202T190000
DTEND;TZID=America/New_York:20270202T190000
DTSTAMP:20260419T205218
CREATED:20260105T003047Z
LAST-MODIFIED:20260105T055352Z
UID:10017219-1801594800-1801594800@epictriviafl.com
SUMMARY:Trivia
DESCRIPTION:
URL:https://epictriviafl.com/event/trivia-4th-street/2027-02-02/
LOCATION:4th Street Bar & Grill\, 132 N 4th St #1200\, Lake Mary\, FL 32746 USA
GEO:28.7573037;-81.3243581
X-APPLE-STRUCTURED-LOCATION;VALUE=URI;X-ADDRESS=4th Street Bar & Grill 132 N 4th St #1200 Lake Mary FL 32746 USA;X-APPLE-RADIUS=500;X-TITLE=132 N 4th St #1200\, Lake Mary\, FL 32746 USA:geo:-81.3243581,28.7573037
END:VEVENT
BEGIN:VEVENT
DTSTART;TZID=America/New_York:20270209T190000
DTEND;TZID=America/New_York:20270209T190000
DTSTAMP:20260419T205218
CREATED:20260105T003047Z
LAST-MODIFIED:20260105T055352Z
UID:10017220-1802199600-1802199600@epictriviafl.com
SUMMARY:Trivia
DESCRIPTION:
URL:https://epictriviafl.com/event/trivia-4th-street/2027-02-09/
LOCATION:4th Street Bar & Grill\, 132 N 4th St #1200\, Lake Mary\, FL 32746 USA
GEO:28.7573037;-81.3243581
X-APPLE-STRUCTURED-LOCATION;VALUE=URI;X-ADDRESS=4th Street Bar & Grill 132 N 4th St #1200 Lake Mary FL 32746 USA;X-APPLE-RADIUS=500;X-TITLE=132 N 4th St #1200\, Lake Mary\, FL 32746 USA:geo:-81.3243581,28.7573037
END:VEVENT
BEGIN:VEVENT
DTSTART;TZID=America/New_York:20270216T190000
DTEND;TZID=America/New_York:20270216T190000
DTSTAMP:20260419T205218
CREATED:20260105T003047Z
LAST-MODIFIED:20260105T055352Z
UID:10017221-1802804400-1802804400@epictriviafl.com
SUMMARY:Trivia
DESCRIPTION:
URL:https://epictriviafl.com/event/trivia-4th-street/2027-02-16/
LOCATION:4th Street Bar & Grill\, 132 N 4th St #1200\, Lake Mary\, FL 32746 USA
GEO:28.7573037;-81.3243581
X-APPLE-STRUCTURED-LOCATION;VALUE=URI;X-ADDRESS=4th Street Bar & Grill 132 N 4th St #1200 Lake Mary FL 32746 USA;X-APPLE-RADIUS=500;X-TITLE=132 N 4th St #1200\, Lake Mary\, FL 32746 USA:geo:-81.3243581,28.7573037
END:VEVENT
BEGIN:VEVENT
DTSTART;TZID=America/New_York:20270223T190000
DTEND;TZID=America/New_York:20270223T190000
DTSTAMP:20260419T205218
CREATED:20260105T003047Z
LAST-MODIFIED:20260105T055352Z
UID:10017222-1803409200-1803409200@epictriviafl.com
SUMMARY:Trivia
DESCRIPTION:
URL:https://epictriviafl.com/event/trivia-4th-street/2027-02-23/
LOCATION:4th Street Bar & Grill\, 132 N 4th St #1200\, Lake Mary\, FL 32746 USA
GEO:28.7573037;-81.3243581
X-APPLE-STRUCTURED-LOCATION;VALUE=URI;X-ADDRESS=4th Street Bar & Grill 132 N 4th St #1200 Lake Mary FL 32746 USA;X-APPLE-RADIUS=500;X-TITLE=132 N 4th St #1200\, Lake Mary\, FL 32746 USA:geo:-81.3243581,28.7573037
END:VEVENT
BEGIN:VEVENT
DTSTART;TZID=America/New_York:20270302T190000
DTEND;TZID=America/New_York:20270302T190000
DTSTAMP:20260419T205218
CREATED:20260105T003047Z
LAST-MODIFIED:20260105T055352Z
UID:10017223-1804014000-1804014000@epictriviafl.com
SUMMARY:Trivia
DESCRIPTION:
URL:https://epictriviafl.com/event/trivia-4th-street/2027-03-02/
LOCATION:4th Street Bar & Grill\, 132 N 4th St #1200\, Lake Mary\, FL 32746 USA
GEO:28.7573037;-81.3243581
X-APPLE-STRUCTURED-LOCATION;VALUE=URI;X-ADDRESS=4th Street Bar & Grill 132 N 4th St #1200 Lake Mary FL 32746 USA;X-APPLE-RADIUS=500;X-TITLE=132 N 4th St #1200\, Lake Mary\, FL 32746 USA:geo:-81.3243581,28.7573037
END:VEVENT
BEGIN:VEVENT
DTSTART;TZID=America/New_York:20270309T190000
DTEND;TZID=America/New_York:20270309T190000
DTSTAMP:20260419T205218
CREATED:20260105T003047Z
LAST-MODIFIED:20260105T055352Z
UID:10017224-1804618800-1804618800@epictriviafl.com
SUMMARY:Trivia
DESCRIPTION:
URL:https://epictriviafl.com/event/trivia-4th-street/2027-03-09/
LOCATION:4th Street Bar & Grill\, 132 N 4th St #1200\, Lake Mary\, FL 32746 USA
GEO:28.7573037;-81.3243581
X-APPLE-STRUCTURED-LOCATION;VALUE=URI;X-ADDRESS=4th Street Bar & Grill 132 N 4th St #1200 Lake Mary FL 32746 USA;X-APPLE-RADIUS=500;X-TITLE=132 N 4th St #1200\, Lake Mary\, FL 32746 USA:geo:-81.3243581,28.7573037
END:VEVENT
BEGIN:VEVENT
DTSTART;TZID=America/New_York:20270316T190000
DTEND;TZID=America/New_York:20270316T190000
DTSTAMP:20260419T205218
CREATED:20260105T003047Z
LAST-MODIFIED:20260105T055352Z
UID:10017225-1805223600-1805223600@epictriviafl.com
SUMMARY:Trivia
DESCRIPTION:
URL:https://epictriviafl.com/event/trivia-4th-street/2027-03-16/
LOCATION:4th Street Bar & Grill\, 132 N 4th St #1200\, Lake Mary\, FL 32746 USA
GEO:28.7573037;-81.3243581
X-APPLE-STRUCTURED-LOCATION;VALUE=URI;X-ADDRESS=4th Street Bar & Grill 132 N 4th St #1200 Lake Mary FL 32746 USA;X-APPLE-RADIUS=500;X-TITLE=132 N 4th St #1200\, Lake Mary\, FL 32746 USA:geo:-81.3243581,28.7573037
END:VEVENT
BEGIN:VEVENT
DTSTART;TZID=America/New_York:20270323T190000
DTEND;TZID=America/New_York:20270323T190000
DTSTAMP:20260419T205218
CREATED:20260105T003047Z
LAST-MODIFIED:20260105T055352Z
UID:10017226-1805828400-1805828400@epictriviafl.com
SUMMARY:Trivia
DESCRIPTION:
URL:https://epictriviafl.com/event/trivia-4th-street/2027-03-23/
LOCATION:4th Street Bar & Grill\, 132 N 4th St #1200\, Lake Mary\, FL 32746 USA
GEO:28.7573037;-81.3243581
X-APPLE-STRUCTURED-LOCATION;VALUE=URI;X-ADDRESS=4th Street Bar & Grill 132 N 4th St #1200 Lake Mary FL 32746 USA;X-APPLE-RADIUS=500;X-TITLE=132 N 4th St #1200\, Lake Mary\, FL 32746 USA:geo:-81.3243581,28.7573037
END:VEVENT
BEGIN:VEVENT
DTSTART;TZID=America/New_York:20270330T190000
DTEND;TZID=America/New_York:20270330T190000
DTSTAMP:20260419T205218
CREATED:20260105T003047Z
LAST-MODIFIED:20260105T055352Z
UID:10017227-1806433200-1806433200@epictriviafl.com
SUMMARY:Trivia
DESCRIPTION:
URL:https://epictriviafl.com/event/trivia-4th-street/2027-03-30/
LOCATION:4th Street Bar & Grill\, 132 N 4th St #1200\, Lake Mary\, FL 32746 USA
GEO:28.7573037;-81.3243581
X-APPLE-STRUCTURED-LOCATION;VALUE=URI;X-ADDRESS=4th Street Bar & Grill 132 N 4th St #1200 Lake Mary FL 32746 USA;X-APPLE-RADIUS=500;X-TITLE=132 N 4th St #1200\, Lake Mary\, FL 32746 USA:geo:-81.3243581,28.7573037
END:VEVENT
BEGIN:VEVENT
DTSTART;TZID=America/New_York:20270406T190000
DTEND;TZID=America/New_York:20270406T190000
DTSTAMP:20260419T205218
CREATED:20260105T003047Z
LAST-MODIFIED:20260105T055352Z
UID:10017228-1807038000-1807038000@epictriviafl.com
SUMMARY:Trivia
DESCRIPTION:
URL:https://epictriviafl.com/event/trivia-4th-street/2027-04-06/
LOCATION:4th Street Bar & Grill\, 132 N 4th St #1200\, Lake Mary\, FL 32746 USA
GEO:28.7573037;-81.3243581
X-APPLE-STRUCTURED-LOCATION;VALUE=URI;X-ADDRESS=4th Street Bar & Grill 132 N 4th St #1200 Lake Mary FL 32746 USA;X-APPLE-RADIUS=500;X-TITLE=132 N 4th St #1200\, Lake Mary\, FL 32746 USA:geo:-81.3243581,28.7573037
END:VEVENT
BEGIN:VEVENT
DTSTART;TZID=America/New_York:20270413T190000
DTEND;TZID=America/New_York:20270413T190000
DTSTAMP:20260419T205218
CREATED:20260105T003047Z
LAST-MODIFIED:20260105T055352Z
UID:10017229-1807642800-1807642800@epictriviafl.com
SUMMARY:Trivia
DESCRIPTION:
URL:https://epictriviafl.com/event/trivia-4th-street/2027-04-13/
LOCATION:4th Street Bar & Grill\, 132 N 4th St #1200\, Lake Mary\, FL 32746 USA
GEO:28.7573037;-81.3243581
X-APPLE-STRUCTURED-LOCATION;VALUE=URI;X-ADDRESS=4th Street Bar & Grill 132 N 4th St #1200 Lake Mary FL 32746 USA;X-APPLE-RADIUS=500;X-TITLE=132 N 4th St #1200\, Lake Mary\, FL 32746 USA:geo:-81.3243581,28.7573037
END:VEVENT
BEGIN:VEVENT
DTSTART;TZID=America/New_York:20270420T190000
DTEND;TZID=America/New_York:20270420T190000
DTSTAMP:20260419T205218
CREATED:20260105T003047Z
LAST-MODIFIED:20260105T055352Z
UID:10017230-1808247600-1808247600@epictriviafl.com
SUMMARY:Trivia
DESCRIPTION:
URL:https://epictriviafl.com/event/trivia-4th-street/2027-04-20/
LOCATION:4th Street Bar & Grill\, 132 N 4th St #1200\, Lake Mary\, FL 32746 USA
GEO:28.7573037;-81.3243581
X-APPLE-STRUCTURED-LOCATION;VALUE=URI;X-ADDRESS=4th Street Bar & Grill 132 N 4th St #1200 Lake Mary FL 32746 USA;X-APPLE-RADIUS=500;X-TITLE=132 N 4th St #1200\, Lake Mary\, FL 32746 USA:geo:-81.3243581,28.7573037
END:VEVENT
BEGIN:VEVENT
DTSTART;TZID=America/New_York:20270427T190000
DTEND;TZID=America/New_York:20270427T190000
DTSTAMP:20260419T205218
CREATED:20260105T003047Z
LAST-MODIFIED:20260105T055352Z
UID:10017231-1808852400-1808852400@epictriviafl.com
SUMMARY:Trivia
DESCRIPTION:
URL:https://epictriviafl.com/event/trivia-4th-street/2027-04-27/
LOCATION:4th Street Bar & Grill\, 132 N 4th St #1200\, Lake Mary\, FL 32746 USA
GEO:28.7573037;-81.3243581
X-APPLE-STRUCTURED-LOCATION;VALUE=URI;X-ADDRESS=4th Street Bar & Grill 132 N 4th St #1200 Lake Mary FL 32746 USA;X-APPLE-RADIUS=500;X-TITLE=132 N 4th St #1200\, Lake Mary\, FL 32746 USA:geo:-81.3243581,28.7573037
END:VEVENT
BEGIN:VEVENT
DTSTART;TZID=America/New_York:20270504T190000
DTEND;TZID=America/New_York:20270504T190000
DTSTAMP:20260419T205218
CREATED:20260105T003047Z
LAST-MODIFIED:20260105T055352Z
UID:10017232-1809457200-1809457200@epictriviafl.com
SUMMARY:Trivia
DESCRIPTION:
URL:https://epictriviafl.com/event/trivia-4th-street/2027-05-04/
LOCATION:4th Street Bar & Grill\, 132 N 4th St #1200\, Lake Mary\, FL 32746 USA
GEO:28.7573037;-81.3243581
X-APPLE-STRUCTURED-LOCATION;VALUE=URI;X-ADDRESS=4th Street Bar & Grill 132 N 4th St #1200 Lake Mary FL 32746 USA;X-APPLE-RADIUS=500;X-TITLE=132 N 4th St #1200\, Lake Mary\, FL 32746 USA:geo:-81.3243581,28.7573037
END:VEVENT
BEGIN:VEVENT
DTSTART;TZID=America/New_York:20270511T190000
DTEND;TZID=America/New_York:20270511T190000
DTSTAMP:20260419T205218
CREATED:20260105T003047Z
LAST-MODIFIED:20260105T055352Z
UID:10017233-1810062000-1810062000@epictriviafl.com
SUMMARY:Trivia
DESCRIPTION:
URL:https://epictriviafl.com/event/trivia-4th-street/2027-05-11/
LOCATION:4th Street Bar & Grill\, 132 N 4th St #1200\, Lake Mary\, FL 32746 USA
GEO:28.7573037;-81.3243581
X-APPLE-STRUCTURED-LOCATION;VALUE=URI;X-ADDRESS=4th Street Bar & Grill 132 N 4th St #1200 Lake Mary FL 32746 USA;X-APPLE-RADIUS=500;X-TITLE=132 N 4th St #1200\, Lake Mary\, FL 32746 USA:geo:-81.3243581,28.7573037
END:VEVENT
BEGIN:VEVENT
DTSTART;TZID=America/New_York:20270518T190000
DTEND;TZID=America/New_York:20270518T190000
DTSTAMP:20260419T205218
CREATED:20260105T003047Z
LAST-MODIFIED:20260105T055352Z
UID:10017234-1810666800-1810666800@epictriviafl.com
SUMMARY:Trivia
DESCRIPTION:
URL:https://epictriviafl.com/event/trivia-4th-street/2027-05-18/
LOCATION:4th Street Bar & Grill\, 132 N 4th St #1200\, Lake Mary\, FL 32746 USA
GEO:28.7573037;-81.3243581
X-APPLE-STRUCTURED-LOCATION;VALUE=URI;X-ADDRESS=4th Street Bar & Grill 132 N 4th St #1200 Lake Mary FL 32746 USA;X-APPLE-RADIUS=500;X-TITLE=132 N 4th St #1200\, Lake Mary\, FL 32746 USA:geo:-81.3243581,28.7573037
END:VEVENT
BEGIN:VEVENT
DTSTART;TZID=America/New_York:20270525T190000
DTEND;TZID=America/New_York:20270525T190000
DTSTAMP:20260419T205218
CREATED:20260105T003047Z
LAST-MODIFIED:20260105T055352Z
UID:10017235-1811271600-1811271600@epictriviafl.com
SUMMARY:Trivia
DESCRIPTION:
URL:https://epictriviafl.com/event/trivia-4th-street/2027-05-25/
LOCATION:4th Street Bar & Grill\, 132 N 4th St #1200\, Lake Mary\, FL 32746 USA
GEO:28.7573037;-81.3243581
X-APPLE-STRUCTURED-LOCATION;VALUE=URI;X-ADDRESS=4th Street Bar & Grill 132 N 4th St #1200 Lake Mary FL 32746 USA;X-APPLE-RADIUS=500;X-TITLE=132 N 4th St #1200\, Lake Mary\, FL 32746 USA:geo:-81.3243581,28.7573037
END:VEVENT
BEGIN:VEVENT
DTSTART;TZID=America/New_York:20270601T190000
DTEND;TZID=America/New_York:20270601T190000
DTSTAMP:20260419T205218
CREATED:20260105T003047Z
LAST-MODIFIED:20260105T055352Z
UID:10017236-1811876400-1811876400@epictriviafl.com
SUMMARY:Trivia
DESCRIPTION:
URL:https://epictriviafl.com/event/trivia-4th-street/2027-06-01/
LOCATION:4th Street Bar & Grill\, 132 N 4th St #1200\, Lake Mary\, FL 32746 USA
GEO:28.7573037;-81.3243581
X-APPLE-STRUCTURED-LOCATION;VALUE=URI;X-ADDRESS=4th Street Bar & Grill 132 N 4th St #1200 Lake Mary FL 32746 USA;X-APPLE-RADIUS=500;X-TITLE=132 N 4th St #1200\, Lake Mary\, FL 32746 USA:geo:-81.3243581,28.7573037
END:VEVENT
BEGIN:VEVENT
DTSTART;TZID=America/New_York:20270608T190000
DTEND;TZID=America/New_York:20270608T190000
DTSTAMP:20260419T205218
CREATED:20260105T003047Z
LAST-MODIFIED:20260105T055352Z
UID:10017237-1812481200-1812481200@epictriviafl.com
SUMMARY:Trivia
DESCRIPTION:
URL:https://epictriviafl.com/event/trivia-4th-street/2027-06-08/
LOCATION:4th Street Bar & Grill\, 132 N 4th St #1200\, Lake Mary\, FL 32746 USA
GEO:28.7573037;-81.3243581
X-APPLE-STRUCTURED-LOCATION;VALUE=URI;X-ADDRESS=4th Street Bar & Grill 132 N 4th St #1200 Lake Mary FL 32746 USA;X-APPLE-RADIUS=500;X-TITLE=132 N 4th St #1200\, Lake Mary\, FL 32746 USA:geo:-81.3243581,28.7573037
END:VEVENT
BEGIN:VEVENT
DTSTART;TZID=America/New_York:20270615T190000
DTEND;TZID=America/New_York:20270615T190000
DTSTAMP:20260419T205218
CREATED:20260105T003047Z
LAST-MODIFIED:20260105T055352Z
UID:10017238-1813086000-1813086000@epictriviafl.com
SUMMARY:Trivia
DESCRIPTION:
URL:https://epictriviafl.com/event/trivia-4th-street/2027-06-15/
LOCATION:4th Street Bar & Grill\, 132 N 4th St #1200\, Lake Mary\, FL 32746 USA
GEO:28.7573037;-81.3243581
X-APPLE-STRUCTURED-LOCATION;VALUE=URI;X-ADDRESS=4th Street Bar & Grill 132 N 4th St #1200 Lake Mary FL 32746 USA;X-APPLE-RADIUS=500;X-TITLE=132 N 4th St #1200\, Lake Mary\, FL 32746 USA:geo:-81.3243581,28.7573037
END:VEVENT
BEGIN:VEVENT
DTSTART;TZID=America/New_York:20270622T190000
DTEND;TZID=America/New_York:20270622T190000
DTSTAMP:20260419T205218
CREATED:20260105T003047Z
LAST-MODIFIED:20260105T055352Z
UID:10017239-1813690800-1813690800@epictriviafl.com
SUMMARY:Trivia
DESCRIPTION:
URL:https://epictriviafl.com/event/trivia-4th-street/2027-06-22/
LOCATION:4th Street Bar & Grill\, 132 N 4th St #1200\, Lake Mary\, FL 32746 USA
GEO:28.7573037;-81.3243581
X-APPLE-STRUCTURED-LOCATION;VALUE=URI;X-ADDRESS=4th Street Bar & Grill 132 N 4th St #1200 Lake Mary FL 32746 USA;X-APPLE-RADIUS=500;X-TITLE=132 N 4th St #1200\, Lake Mary\, FL 32746 USA:geo:-81.3243581,28.7573037
END:VEVENT
BEGIN:VEVENT
DTSTART;TZID=America/New_York:20270629T190000
DTEND;TZID=America/New_York:20270629T190000
DTSTAMP:20260419T205218
CREATED:20260105T003047Z
LAST-MODIFIED:20260105T055352Z
UID:10017240-1814295600-1814295600@epictriviafl.com
SUMMARY:Trivia
DESCRIPTION:
URL:https://epictriviafl.com/event/trivia-4th-street/2027-06-29/
LOCATION:4th Street Bar & Grill\, 132 N 4th St #1200\, Lake Mary\, FL 32746 USA
GEO:28.7573037;-81.3243581
X-APPLE-STRUCTURED-LOCATION;VALUE=URI;X-ADDRESS=4th Street Bar & Grill 132 N 4th St #1200 Lake Mary FL 32746 USA;X-APPLE-RADIUS=500;X-TITLE=132 N 4th St #1200\, Lake Mary\, FL 32746 USA:geo:-81.3243581,28.7573037
END:VEVENT
BEGIN:VEVENT
DTSTART;TZID=America/New_York:20270706T190000
DTEND;TZID=America/New_York:20270706T190000
DTSTAMP:20260419T205218
CREATED:20260105T003047Z
LAST-MODIFIED:20260105T055352Z
UID:10017241-1814900400-1814900400@epictriviafl.com
SUMMARY:Trivia
DESCRIPTION:
URL:https://epictriviafl.com/event/trivia-4th-street/2027-07-06/
LOCATION:4th Street Bar & Grill\, 132 N 4th St #1200\, Lake Mary\, FL 32746 USA
GEO:28.7573037;-81.3243581
X-APPLE-STRUCTURED-LOCATION;VALUE=URI;X-ADDRESS=4th Street Bar & Grill 132 N 4th St #1200 Lake Mary FL 32746 USA;X-APPLE-RADIUS=500;X-TITLE=132 N 4th St #1200\, Lake Mary\, FL 32746 USA:geo:-81.3243581,28.7573037
END:VEVENT
BEGIN:VEVENT
DTSTART;TZID=America/New_York:20270713T190000
DTEND;TZID=America/New_York:20270713T190000
DTSTAMP:20260419T205218
CREATED:20260105T003047Z
LAST-MODIFIED:20260105T055352Z
UID:10017242-1815505200-1815505200@epictriviafl.com
SUMMARY:Trivia
DESCRIPTION:
URL:https://epictriviafl.com/event/trivia-4th-street/2027-07-13/
LOCATION:4th Street Bar & Grill\, 132 N 4th St #1200\, Lake Mary\, FL 32746 USA
GEO:28.7573037;-81.3243581
X-APPLE-STRUCTURED-LOCATION;VALUE=URI;X-ADDRESS=4th Street Bar & Grill 132 N 4th St #1200 Lake Mary FL 32746 USA;X-APPLE-RADIUS=500;X-TITLE=132 N 4th St #1200\, Lake Mary\, FL 32746 USA:geo:-81.3243581,28.7573037
END:VEVENT
BEGIN:VEVENT
DTSTART;TZID=America/New_York:20270720T190000
DTEND;TZID=America/New_York:20270720T190000
DTSTAMP:20260419T205219
CREATED:20260105T003047Z
LAST-MODIFIED:20260105T055352Z
UID:10017243-1816110000-1816110000@epictriviafl.com
SUMMARY:Trivia
DESCRIPTION:
URL:https://epictriviafl.com/event/trivia-4th-street/2027-07-20/
LOCATION:4th Street Bar & Grill\, 132 N 4th St #1200\, Lake Mary\, FL 32746 USA
GEO:28.7573037;-81.3243581
X-APPLE-STRUCTURED-LOCATION;VALUE=URI;X-ADDRESS=4th Street Bar & Grill 132 N 4th St #1200 Lake Mary FL 32746 USA;X-APPLE-RADIUS=500;X-TITLE=132 N 4th St #1200\, Lake Mary\, FL 32746 USA:geo:-81.3243581,28.7573037
END:VEVENT
END:VCALENDAR