BEGIN:VCALENDAR
VERSION:2.0
PRODID:-//Epic Trivia - ECPv6.15.18//NONSGML v1.0//EN
CALSCALE:GREGORIAN
METHOD:PUBLISH
X-ORIGINAL-URL:https://epictriviafl.com
X-WR-CALDESC:Events for Epic Trivia
REFRESH-INTERVAL;VALUE=DURATION:PT1H
X-Robots-Tag:noindex
X-PUBLISHED-TTL:PT1H
BEGIN:VTIMEZONE
TZID:America/New_York
BEGIN:DAYLIGHT
TZOFFSETFROM:-0500
TZOFFSETTO:-0400
TZNAME:EDT
DTSTART:20280312T070000
END:DAYLIGHT
BEGIN:STANDARD
TZOFFSETFROM:-0400
TZOFFSETTO:-0500
TZNAME:EST
DTSTART:20281105T060000
END:STANDARD
BEGIN:DAYLIGHT
TZOFFSETFROM:-0500
TZOFFSETTO:-0400
TZNAME:EDT
DTSTART:20290311T070000
END:DAYLIGHT
BEGIN:STANDARD
TZOFFSETFROM:-0400
TZOFFSETTO:-0500
TZNAME:EST
DTSTART:20291104T060000
END:STANDARD
BEGIN:DAYLIGHT
TZOFFSETFROM:-0500
TZOFFSETTO:-0400
TZNAME:EDT
DTSTART:20300310T070000
END:DAYLIGHT
BEGIN:STANDARD
TZOFFSETFROM:-0400
TZOFFSETTO:-0500
TZNAME:EST
DTSTART:20301103T060000
END:STANDARD
BEGIN:DAYLIGHT
TZOFFSETFROM:-0500
TZOFFSETTO:-0400
TZNAME:EDT
DTSTART:20310309T070000
END:DAYLIGHT
BEGIN:STANDARD
TZOFFSETFROM:-0400
TZOFFSETTO:-0500
TZNAME:EST
DTSTART:20311102T060000
END:STANDARD
END:VTIMEZONE
BEGIN:VEVENT
DTSTART;TZID=America/New_York:20290710T190000
DTEND;TZID=America/New_York:20290710T190000
DTSTAMP:20260420T140957
CREATED:20260105T003047Z
LAST-MODIFIED:20260105T055352Z
UID:10017346-1878404400-1878404400@epictriviafl.com
SUMMARY:Trivia
DESCRIPTION:
URL:https://epictriviafl.com/event/trivia-4th-street/2029-07-10/
LOCATION:4th Street Bar & Grill\, 132 N 4th St #1200\, Lake Mary\, FL 32746 USA
GEO:28.7573037;-81.3243581
X-APPLE-STRUCTURED-LOCATION;VALUE=URI;X-ADDRESS=4th Street Bar & Grill 132 N 4th St #1200 Lake Mary FL 32746 USA;X-APPLE-RADIUS=500;X-TITLE=132 N 4th St #1200\, Lake Mary\, FL 32746 USA:geo:-81.3243581,28.7573037
END:VEVENT
BEGIN:VEVENT
DTSTART;TZID=America/New_York:20290717T190000
DTEND;TZID=America/New_York:20290717T190000
DTSTAMP:20260420T140957
CREATED:20260105T003047Z
LAST-MODIFIED:20260105T055352Z
UID:10017347-1879009200-1879009200@epictriviafl.com
SUMMARY:Trivia
DESCRIPTION:
URL:https://epictriviafl.com/event/trivia-4th-street/2029-07-17/
LOCATION:4th Street Bar & Grill\, 132 N 4th St #1200\, Lake Mary\, FL 32746 USA
GEO:28.7573037;-81.3243581
X-APPLE-STRUCTURED-LOCATION;VALUE=URI;X-ADDRESS=4th Street Bar & Grill 132 N 4th St #1200 Lake Mary FL 32746 USA;X-APPLE-RADIUS=500;X-TITLE=132 N 4th St #1200\, Lake Mary\, FL 32746 USA:geo:-81.3243581,28.7573037
END:VEVENT
BEGIN:VEVENT
DTSTART;TZID=America/New_York:20290724T190000
DTEND;TZID=America/New_York:20290724T190000
DTSTAMP:20260420T140957
CREATED:20260105T003047Z
LAST-MODIFIED:20260105T055352Z
UID:10017348-1879614000-1879614000@epictriviafl.com
SUMMARY:Trivia
DESCRIPTION:
URL:https://epictriviafl.com/event/trivia-4th-street/2029-07-24/
LOCATION:4th Street Bar & Grill\, 132 N 4th St #1200\, Lake Mary\, FL 32746 USA
GEO:28.7573037;-81.3243581
X-APPLE-STRUCTURED-LOCATION;VALUE=URI;X-ADDRESS=4th Street Bar & Grill 132 N 4th St #1200 Lake Mary FL 32746 USA;X-APPLE-RADIUS=500;X-TITLE=132 N 4th St #1200\, Lake Mary\, FL 32746 USA:geo:-81.3243581,28.7573037
END:VEVENT
BEGIN:VEVENT
DTSTART;TZID=America/New_York:20290731T190000
DTEND;TZID=America/New_York:20290731T190000
DTSTAMP:20260420T140957
CREATED:20260105T003047Z
LAST-MODIFIED:20260105T055352Z
UID:10017349-1880218800-1880218800@epictriviafl.com
SUMMARY:Trivia
DESCRIPTION:
URL:https://epictriviafl.com/event/trivia-4th-street/2029-07-31/
LOCATION:4th Street Bar & Grill\, 132 N 4th St #1200\, Lake Mary\, FL 32746 USA
GEO:28.7573037;-81.3243581
X-APPLE-STRUCTURED-LOCATION;VALUE=URI;X-ADDRESS=4th Street Bar & Grill 132 N 4th St #1200 Lake Mary FL 32746 USA;X-APPLE-RADIUS=500;X-TITLE=132 N 4th St #1200\, Lake Mary\, FL 32746 USA:geo:-81.3243581,28.7573037
END:VEVENT
BEGIN:VEVENT
DTSTART;TZID=America/New_York:20290807T190000
DTEND;TZID=America/New_York:20290807T190000
DTSTAMP:20260420T140957
CREATED:20260105T003047Z
LAST-MODIFIED:20260105T055352Z
UID:10017350-1880823600-1880823600@epictriviafl.com
SUMMARY:Trivia
DESCRIPTION:
URL:https://epictriviafl.com/event/trivia-4th-street/2029-08-07/
LOCATION:4th Street Bar & Grill\, 132 N 4th St #1200\, Lake Mary\, FL 32746 USA
GEO:28.7573037;-81.3243581
X-APPLE-STRUCTURED-LOCATION;VALUE=URI;X-ADDRESS=4th Street Bar & Grill 132 N 4th St #1200 Lake Mary FL 32746 USA;X-APPLE-RADIUS=500;X-TITLE=132 N 4th St #1200\, Lake Mary\, FL 32746 USA:geo:-81.3243581,28.7573037
END:VEVENT
BEGIN:VEVENT
DTSTART;TZID=America/New_York:20290814T190000
DTEND;TZID=America/New_York:20290814T190000
DTSTAMP:20260420T140957
CREATED:20260105T003047Z
LAST-MODIFIED:20260105T055352Z
UID:10017351-1881428400-1881428400@epictriviafl.com
SUMMARY:Trivia
DESCRIPTION:
URL:https://epictriviafl.com/event/trivia-4th-street/2029-08-14/
LOCATION:4th Street Bar & Grill\, 132 N 4th St #1200\, Lake Mary\, FL 32746 USA
GEO:28.7573037;-81.3243581
X-APPLE-STRUCTURED-LOCATION;VALUE=URI;X-ADDRESS=4th Street Bar & Grill 132 N 4th St #1200 Lake Mary FL 32746 USA;X-APPLE-RADIUS=500;X-TITLE=132 N 4th St #1200\, Lake Mary\, FL 32746 USA:geo:-81.3243581,28.7573037
END:VEVENT
BEGIN:VEVENT
DTSTART;TZID=America/New_York:20290821T190000
DTEND;TZID=America/New_York:20290821T190000
DTSTAMP:20260420T140957
CREATED:20260105T003047Z
LAST-MODIFIED:20260105T055352Z
UID:10017352-1882033200-1882033200@epictriviafl.com
SUMMARY:Trivia
DESCRIPTION:
URL:https://epictriviafl.com/event/trivia-4th-street/2029-08-21/
LOCATION:4th Street Bar & Grill\, 132 N 4th St #1200\, Lake Mary\, FL 32746 USA
GEO:28.7573037;-81.3243581
X-APPLE-STRUCTURED-LOCATION;VALUE=URI;X-ADDRESS=4th Street Bar & Grill 132 N 4th St #1200 Lake Mary FL 32746 USA;X-APPLE-RADIUS=500;X-TITLE=132 N 4th St #1200\, Lake Mary\, FL 32746 USA:geo:-81.3243581,28.7573037
END:VEVENT
BEGIN:VEVENT
DTSTART;TZID=America/New_York:20290828T190000
DTEND;TZID=America/New_York:20290828T190000
DTSTAMP:20260420T140957
CREATED:20260105T003047Z
LAST-MODIFIED:20260105T055352Z
UID:10017353-1882638000-1882638000@epictriviafl.com
SUMMARY:Trivia
DESCRIPTION:
URL:https://epictriviafl.com/event/trivia-4th-street/2029-08-28/
LOCATION:4th Street Bar & Grill\, 132 N 4th St #1200\, Lake Mary\, FL 32746 USA
GEO:28.7573037;-81.3243581
X-APPLE-STRUCTURED-LOCATION;VALUE=URI;X-ADDRESS=4th Street Bar & Grill 132 N 4th St #1200 Lake Mary FL 32746 USA;X-APPLE-RADIUS=500;X-TITLE=132 N 4th St #1200\, Lake Mary\, FL 32746 USA:geo:-81.3243581,28.7573037
END:VEVENT
BEGIN:VEVENT
DTSTART;TZID=America/New_York:20290904T190000
DTEND;TZID=America/New_York:20290904T190000
DTSTAMP:20260420T140957
CREATED:20260105T003047Z
LAST-MODIFIED:20260105T055352Z
UID:10017354-1883242800-1883242800@epictriviafl.com
SUMMARY:Trivia
DESCRIPTION:
URL:https://epictriviafl.com/event/trivia-4th-street/2029-09-04/
LOCATION:4th Street Bar & Grill\, 132 N 4th St #1200\, Lake Mary\, FL 32746 USA
GEO:28.7573037;-81.3243581
X-APPLE-STRUCTURED-LOCATION;VALUE=URI;X-ADDRESS=4th Street Bar & Grill 132 N 4th St #1200 Lake Mary FL 32746 USA;X-APPLE-RADIUS=500;X-TITLE=132 N 4th St #1200\, Lake Mary\, FL 32746 USA:geo:-81.3243581,28.7573037
END:VEVENT
BEGIN:VEVENT
DTSTART;TZID=America/New_York:20290911T190000
DTEND;TZID=America/New_York:20290911T190000
DTSTAMP:20260420T140957
CREATED:20260105T003047Z
LAST-MODIFIED:20260105T055352Z
UID:10017355-1883847600-1883847600@epictriviafl.com
SUMMARY:Trivia
DESCRIPTION:
URL:https://epictriviafl.com/event/trivia-4th-street/2029-09-11/
LOCATION:4th Street Bar & Grill\, 132 N 4th St #1200\, Lake Mary\, FL 32746 USA
GEO:28.7573037;-81.3243581
X-APPLE-STRUCTURED-LOCATION;VALUE=URI;X-ADDRESS=4th Street Bar & Grill 132 N 4th St #1200 Lake Mary FL 32746 USA;X-APPLE-RADIUS=500;X-TITLE=132 N 4th St #1200\, Lake Mary\, FL 32746 USA:geo:-81.3243581,28.7573037
END:VEVENT
BEGIN:VEVENT
DTSTART;TZID=America/New_York:20290918T190000
DTEND;TZID=America/New_York:20290918T190000
DTSTAMP:20260420T140957
CREATED:20260105T003047Z
LAST-MODIFIED:20260105T055352Z
UID:10017356-1884452400-1884452400@epictriviafl.com
SUMMARY:Trivia
DESCRIPTION:
URL:https://epictriviafl.com/event/trivia-4th-street/2029-09-18/
LOCATION:4th Street Bar & Grill\, 132 N 4th St #1200\, Lake Mary\, FL 32746 USA
GEO:28.7573037;-81.3243581
X-APPLE-STRUCTURED-LOCATION;VALUE=URI;X-ADDRESS=4th Street Bar & Grill 132 N 4th St #1200 Lake Mary FL 32746 USA;X-APPLE-RADIUS=500;X-TITLE=132 N 4th St #1200\, Lake Mary\, FL 32746 USA:geo:-81.3243581,28.7573037
END:VEVENT
BEGIN:VEVENT
DTSTART;TZID=America/New_York:20290925T190000
DTEND;TZID=America/New_York:20290925T190000
DTSTAMP:20260420T140957
CREATED:20260105T003047Z
LAST-MODIFIED:20260105T055352Z
UID:10017357-1885057200-1885057200@epictriviafl.com
SUMMARY:Trivia
DESCRIPTION:
URL:https://epictriviafl.com/event/trivia-4th-street/2029-09-25/
LOCATION:4th Street Bar & Grill\, 132 N 4th St #1200\, Lake Mary\, FL 32746 USA
GEO:28.7573037;-81.3243581
X-APPLE-STRUCTURED-LOCATION;VALUE=URI;X-ADDRESS=4th Street Bar & Grill 132 N 4th St #1200 Lake Mary FL 32746 USA;X-APPLE-RADIUS=500;X-TITLE=132 N 4th St #1200\, Lake Mary\, FL 32746 USA:geo:-81.3243581,28.7573037
END:VEVENT
BEGIN:VEVENT
DTSTART;TZID=America/New_York:20291002T190000
DTEND;TZID=America/New_York:20291002T190000
DTSTAMP:20260420T140957
CREATED:20260105T003047Z
LAST-MODIFIED:20260105T055352Z
UID:10017358-1885662000-1885662000@epictriviafl.com
SUMMARY:Trivia
DESCRIPTION:
URL:https://epictriviafl.com/event/trivia-4th-street/2029-10-02/
LOCATION:4th Street Bar & Grill\, 132 N 4th St #1200\, Lake Mary\, FL 32746 USA
GEO:28.7573037;-81.3243581
X-APPLE-STRUCTURED-LOCATION;VALUE=URI;X-ADDRESS=4th Street Bar & Grill 132 N 4th St #1200 Lake Mary FL 32746 USA;X-APPLE-RADIUS=500;X-TITLE=132 N 4th St #1200\, Lake Mary\, FL 32746 USA:geo:-81.3243581,28.7573037
END:VEVENT
BEGIN:VEVENT
DTSTART;TZID=America/New_York:20291009T190000
DTEND;TZID=America/New_York:20291009T190000
DTSTAMP:20260420T140957
CREATED:20260105T003047Z
LAST-MODIFIED:20260105T055352Z
UID:10017359-1886266800-1886266800@epictriviafl.com
SUMMARY:Trivia
DESCRIPTION:
URL:https://epictriviafl.com/event/trivia-4th-street/2029-10-09/
LOCATION:4th Street Bar & Grill\, 132 N 4th St #1200\, Lake Mary\, FL 32746 USA
GEO:28.7573037;-81.3243581
X-APPLE-STRUCTURED-LOCATION;VALUE=URI;X-ADDRESS=4th Street Bar & Grill 132 N 4th St #1200 Lake Mary FL 32746 USA;X-APPLE-RADIUS=500;X-TITLE=132 N 4th St #1200\, Lake Mary\, FL 32746 USA:geo:-81.3243581,28.7573037
END:VEVENT
BEGIN:VEVENT
DTSTART;TZID=America/New_York:20291016T190000
DTEND;TZID=America/New_York:20291016T190000
DTSTAMP:20260420T140957
CREATED:20260105T003047Z
LAST-MODIFIED:20260105T055352Z
UID:10017360-1886871600-1886871600@epictriviafl.com
SUMMARY:Trivia
DESCRIPTION:
URL:https://epictriviafl.com/event/trivia-4th-street/2029-10-16/
LOCATION:4th Street Bar & Grill\, 132 N 4th St #1200\, Lake Mary\, FL 32746 USA
GEO:28.7573037;-81.3243581
X-APPLE-STRUCTURED-LOCATION;VALUE=URI;X-ADDRESS=4th Street Bar & Grill 132 N 4th St #1200 Lake Mary FL 32746 USA;X-APPLE-RADIUS=500;X-TITLE=132 N 4th St #1200\, Lake Mary\, FL 32746 USA:geo:-81.3243581,28.7573037
END:VEVENT
BEGIN:VEVENT
DTSTART;TZID=America/New_York:20291023T190000
DTEND;TZID=America/New_York:20291023T190000
DTSTAMP:20260420T140957
CREATED:20260105T003047Z
LAST-MODIFIED:20260105T055352Z
UID:10017361-1887476400-1887476400@epictriviafl.com
SUMMARY:Trivia
DESCRIPTION:
URL:https://epictriviafl.com/event/trivia-4th-street/2029-10-23/
LOCATION:4th Street Bar & Grill\, 132 N 4th St #1200\, Lake Mary\, FL 32746 USA
GEO:28.7573037;-81.3243581
X-APPLE-STRUCTURED-LOCATION;VALUE=URI;X-ADDRESS=4th Street Bar & Grill 132 N 4th St #1200 Lake Mary FL 32746 USA;X-APPLE-RADIUS=500;X-TITLE=132 N 4th St #1200\, Lake Mary\, FL 32746 USA:geo:-81.3243581,28.7573037
END:VEVENT
BEGIN:VEVENT
DTSTART;TZID=America/New_York:20291030T190000
DTEND;TZID=America/New_York:20291030T190000
DTSTAMP:20260420T140957
CREATED:20260105T003047Z
LAST-MODIFIED:20260105T055352Z
UID:10017362-1888081200-1888081200@epictriviafl.com
SUMMARY:Trivia
DESCRIPTION:
URL:https://epictriviafl.com/event/trivia-4th-street/2029-10-30/
LOCATION:4th Street Bar & Grill\, 132 N 4th St #1200\, Lake Mary\, FL 32746 USA
GEO:28.7573037;-81.3243581
X-APPLE-STRUCTURED-LOCATION;VALUE=URI;X-ADDRESS=4th Street Bar & Grill 132 N 4th St #1200 Lake Mary FL 32746 USA;X-APPLE-RADIUS=500;X-TITLE=132 N 4th St #1200\, Lake Mary\, FL 32746 USA:geo:-81.3243581,28.7573037
END:VEVENT
BEGIN:VEVENT
DTSTART;TZID=America/New_York:20291106T190000
DTEND;TZID=America/New_York:20291106T190000
DTSTAMP:20260420T140957
CREATED:20260105T003047Z
LAST-MODIFIED:20260105T055352Z
UID:10017363-1888686000-1888686000@epictriviafl.com
SUMMARY:Trivia
DESCRIPTION:
URL:https://epictriviafl.com/event/trivia-4th-street/2029-11-06/
LOCATION:4th Street Bar & Grill\, 132 N 4th St #1200\, Lake Mary\, FL 32746 USA
GEO:28.7573037;-81.3243581
X-APPLE-STRUCTURED-LOCATION;VALUE=URI;X-ADDRESS=4th Street Bar & Grill 132 N 4th St #1200 Lake Mary FL 32746 USA;X-APPLE-RADIUS=500;X-TITLE=132 N 4th St #1200\, Lake Mary\, FL 32746 USA:geo:-81.3243581,28.7573037
END:VEVENT
BEGIN:VEVENT
DTSTART;TZID=America/New_York:20291113T190000
DTEND;TZID=America/New_York:20291113T190000
DTSTAMP:20260420T140957
CREATED:20260105T003047Z
LAST-MODIFIED:20260105T055352Z
UID:10017364-1889290800-1889290800@epictriviafl.com
SUMMARY:Trivia
DESCRIPTION:
URL:https://epictriviafl.com/event/trivia-4th-street/2029-11-13/
LOCATION:4th Street Bar & Grill\, 132 N 4th St #1200\, Lake Mary\, FL 32746 USA
GEO:28.7573037;-81.3243581
X-APPLE-STRUCTURED-LOCATION;VALUE=URI;X-ADDRESS=4th Street Bar & Grill 132 N 4th St #1200 Lake Mary FL 32746 USA;X-APPLE-RADIUS=500;X-TITLE=132 N 4th St #1200\, Lake Mary\, FL 32746 USA:geo:-81.3243581,28.7573037
END:VEVENT
BEGIN:VEVENT
DTSTART;TZID=America/New_York:20291120T190000
DTEND;TZID=America/New_York:20291120T190000
DTSTAMP:20260420T140957
CREATED:20260105T003047Z
LAST-MODIFIED:20260105T055352Z
UID:10017365-1889895600-1889895600@epictriviafl.com
SUMMARY:Trivia
DESCRIPTION:
URL:https://epictriviafl.com/event/trivia-4th-street/2029-11-20/
LOCATION:4th Street Bar & Grill\, 132 N 4th St #1200\, Lake Mary\, FL 32746 USA
GEO:28.7573037;-81.3243581
X-APPLE-STRUCTURED-LOCATION;VALUE=URI;X-ADDRESS=4th Street Bar & Grill 132 N 4th St #1200 Lake Mary FL 32746 USA;X-APPLE-RADIUS=500;X-TITLE=132 N 4th St #1200\, Lake Mary\, FL 32746 USA:geo:-81.3243581,28.7573037
END:VEVENT
BEGIN:VEVENT
DTSTART;TZID=America/New_York:20291127T190000
DTEND;TZID=America/New_York:20291127T190000
DTSTAMP:20260420T140957
CREATED:20260105T003047Z
LAST-MODIFIED:20260105T055352Z
UID:10017366-1890500400-1890500400@epictriviafl.com
SUMMARY:Trivia
DESCRIPTION:
URL:https://epictriviafl.com/event/trivia-4th-street/2029-11-27/
LOCATION:4th Street Bar & Grill\, 132 N 4th St #1200\, Lake Mary\, FL 32746 USA
GEO:28.7573037;-81.3243581
X-APPLE-STRUCTURED-LOCATION;VALUE=URI;X-ADDRESS=4th Street Bar & Grill 132 N 4th St #1200 Lake Mary FL 32746 USA;X-APPLE-RADIUS=500;X-TITLE=132 N 4th St #1200\, Lake Mary\, FL 32746 USA:geo:-81.3243581,28.7573037
END:VEVENT
BEGIN:VEVENT
DTSTART;TZID=America/New_York:20291204T190000
DTEND;TZID=America/New_York:20291204T190000
DTSTAMP:20260420T140957
CREATED:20260105T003047Z
LAST-MODIFIED:20260105T055352Z
UID:10017367-1891105200-1891105200@epictriviafl.com
SUMMARY:Trivia
DESCRIPTION:
URL:https://epictriviafl.com/event/trivia-4th-street/2029-12-04/
LOCATION:4th Street Bar & Grill\, 132 N 4th St #1200\, Lake Mary\, FL 32746 USA
GEO:28.7573037;-81.3243581
X-APPLE-STRUCTURED-LOCATION;VALUE=URI;X-ADDRESS=4th Street Bar & Grill 132 N 4th St #1200 Lake Mary FL 32746 USA;X-APPLE-RADIUS=500;X-TITLE=132 N 4th St #1200\, Lake Mary\, FL 32746 USA:geo:-81.3243581,28.7573037
END:VEVENT
BEGIN:VEVENT
DTSTART;TZID=America/New_York:20291211T190000
DTEND;TZID=America/New_York:20291211T190000
DTSTAMP:20260420T140957
CREATED:20260105T003047Z
LAST-MODIFIED:20260105T055352Z
UID:10017368-1891710000-1891710000@epictriviafl.com
SUMMARY:Trivia
DESCRIPTION:
URL:https://epictriviafl.com/event/trivia-4th-street/2029-12-11/
LOCATION:4th Street Bar & Grill\, 132 N 4th St #1200\, Lake Mary\, FL 32746 USA
GEO:28.7573037;-81.3243581
X-APPLE-STRUCTURED-LOCATION;VALUE=URI;X-ADDRESS=4th Street Bar & Grill 132 N 4th St #1200 Lake Mary FL 32746 USA;X-APPLE-RADIUS=500;X-TITLE=132 N 4th St #1200\, Lake Mary\, FL 32746 USA:geo:-81.3243581,28.7573037
END:VEVENT
BEGIN:VEVENT
DTSTART;TZID=America/New_York:20291218T190000
DTEND;TZID=America/New_York:20291218T190000
DTSTAMP:20260420T140957
CREATED:20260105T003047Z
LAST-MODIFIED:20260105T055352Z
UID:10017369-1892314800-1892314800@epictriviafl.com
SUMMARY:Trivia
DESCRIPTION:
URL:https://epictriviafl.com/event/trivia-4th-street/2029-12-18/
LOCATION:4th Street Bar & Grill\, 132 N 4th St #1200\, Lake Mary\, FL 32746 USA
GEO:28.7573037;-81.3243581
X-APPLE-STRUCTURED-LOCATION;VALUE=URI;X-ADDRESS=4th Street Bar & Grill 132 N 4th St #1200 Lake Mary FL 32746 USA;X-APPLE-RADIUS=500;X-TITLE=132 N 4th St #1200\, Lake Mary\, FL 32746 USA:geo:-81.3243581,28.7573037
END:VEVENT
BEGIN:VEVENT
DTSTART;TZID=America/New_York:20291225T190000
DTEND;TZID=America/New_York:20291225T190000
DTSTAMP:20260420T140957
CREATED:20260105T003047Z
LAST-MODIFIED:20260105T055352Z
UID:10017370-1892919600-1892919600@epictriviafl.com
SUMMARY:Trivia
DESCRIPTION:
URL:https://epictriviafl.com/event/trivia-4th-street/2029-12-25/
LOCATION:4th Street Bar & Grill\, 132 N 4th St #1200\, Lake Mary\, FL 32746 USA
GEO:28.7573037;-81.3243581
X-APPLE-STRUCTURED-LOCATION;VALUE=URI;X-ADDRESS=4th Street Bar & Grill 132 N 4th St #1200 Lake Mary FL 32746 USA;X-APPLE-RADIUS=500;X-TITLE=132 N 4th St #1200\, Lake Mary\, FL 32746 USA:geo:-81.3243581,28.7573037
END:VEVENT
BEGIN:VEVENT
DTSTART;TZID=America/New_York:20300101T190000
DTEND;TZID=America/New_York:20300101T190000
DTSTAMP:20260420T140957
CREATED:20260105T003047Z
LAST-MODIFIED:20260105T055352Z
UID:10017371-1893524400-1893524400@epictriviafl.com
SUMMARY:Trivia
DESCRIPTION:
URL:https://epictriviafl.com/event/trivia-4th-street/2030-01-01/
LOCATION:4th Street Bar & Grill\, 132 N 4th St #1200\, Lake Mary\, FL 32746 USA
GEO:28.7573037;-81.3243581
X-APPLE-STRUCTURED-LOCATION;VALUE=URI;X-ADDRESS=4th Street Bar & Grill 132 N 4th St #1200 Lake Mary FL 32746 USA;X-APPLE-RADIUS=500;X-TITLE=132 N 4th St #1200\, Lake Mary\, FL 32746 USA:geo:-81.3243581,28.7573037
END:VEVENT
BEGIN:VEVENT
DTSTART;TZID=America/New_York:20300108T190000
DTEND;TZID=America/New_York:20300108T190000
DTSTAMP:20260420T140957
CREATED:20260105T003047Z
LAST-MODIFIED:20260105T055352Z
UID:10017372-1894129200-1894129200@epictriviafl.com
SUMMARY:Trivia
DESCRIPTION:
URL:https://epictriviafl.com/event/trivia-4th-street/2030-01-08/
LOCATION:4th Street Bar & Grill\, 132 N 4th St #1200\, Lake Mary\, FL 32746 USA
GEO:28.7573037;-81.3243581
X-APPLE-STRUCTURED-LOCATION;VALUE=URI;X-ADDRESS=4th Street Bar & Grill 132 N 4th St #1200 Lake Mary FL 32746 USA;X-APPLE-RADIUS=500;X-TITLE=132 N 4th St #1200\, Lake Mary\, FL 32746 USA:geo:-81.3243581,28.7573037
END:VEVENT
BEGIN:VEVENT
DTSTART;TZID=America/New_York:20300115T190000
DTEND;TZID=America/New_York:20300115T190000
DTSTAMP:20260420T140957
CREATED:20260105T003047Z
LAST-MODIFIED:20260105T055352Z
UID:10017373-1894734000-1894734000@epictriviafl.com
SUMMARY:Trivia
DESCRIPTION:
URL:https://epictriviafl.com/event/trivia-4th-street/2030-01-15/
LOCATION:4th Street Bar & Grill\, 132 N 4th St #1200\, Lake Mary\, FL 32746 USA
GEO:28.7573037;-81.3243581
X-APPLE-STRUCTURED-LOCATION;VALUE=URI;X-ADDRESS=4th Street Bar & Grill 132 N 4th St #1200 Lake Mary FL 32746 USA;X-APPLE-RADIUS=500;X-TITLE=132 N 4th St #1200\, Lake Mary\, FL 32746 USA:geo:-81.3243581,28.7573037
END:VEVENT
BEGIN:VEVENT
DTSTART;TZID=America/New_York:20300122T190000
DTEND;TZID=America/New_York:20300122T190000
DTSTAMP:20260420T140957
CREATED:20260105T003047Z
LAST-MODIFIED:20260105T055352Z
UID:10017374-1895338800-1895338800@epictriviafl.com
SUMMARY:Trivia
DESCRIPTION:
URL:https://epictriviafl.com/event/trivia-4th-street/2030-01-22/
LOCATION:4th Street Bar & Grill\, 132 N 4th St #1200\, Lake Mary\, FL 32746 USA
GEO:28.7573037;-81.3243581
X-APPLE-STRUCTURED-LOCATION;VALUE=URI;X-ADDRESS=4th Street Bar & Grill 132 N 4th St #1200 Lake Mary FL 32746 USA;X-APPLE-RADIUS=500;X-TITLE=132 N 4th St #1200\, Lake Mary\, FL 32746 USA:geo:-81.3243581,28.7573037
END:VEVENT
BEGIN:VEVENT
DTSTART;TZID=America/New_York:20300129T190000
DTEND;TZID=America/New_York:20300129T190000
DTSTAMP:20260420T140957
CREATED:20260105T003047Z
LAST-MODIFIED:20260105T055352Z
UID:10017375-1895943600-1895943600@epictriviafl.com
SUMMARY:Trivia
DESCRIPTION:
URL:https://epictriviafl.com/event/trivia-4th-street/2030-01-29/
LOCATION:4th Street Bar & Grill\, 132 N 4th St #1200\, Lake Mary\, FL 32746 USA
GEO:28.7573037;-81.3243581
X-APPLE-STRUCTURED-LOCATION;VALUE=URI;X-ADDRESS=4th Street Bar & Grill 132 N 4th St #1200 Lake Mary FL 32746 USA;X-APPLE-RADIUS=500;X-TITLE=132 N 4th St #1200\, Lake Mary\, FL 32746 USA:geo:-81.3243581,28.7573037
END:VEVENT
END:VCALENDAR