BEGIN:VCALENDAR
VERSION:2.0
PRODID:-//Epic Trivia - ECPv6.15.18//NONSGML v1.0//EN
CALSCALE:GREGORIAN
METHOD:PUBLISH
X-ORIGINAL-URL:https://epictriviafl.com
X-WR-CALDESC:Events for Epic Trivia
REFRESH-INTERVAL;VALUE=DURATION:PT1H
X-Robots-Tag:noindex
X-PUBLISHED-TTL:PT1H
BEGIN:VTIMEZONE
TZID:America/New_York
BEGIN:DAYLIGHT
TZOFFSETFROM:-0500
TZOFFSETTO:-0400
TZNAME:EDT
DTSTART:20270314T070000
END:DAYLIGHT
BEGIN:STANDARD
TZOFFSETFROM:-0400
TZOFFSETTO:-0500
TZNAME:EST
DTSTART:20271107T060000
END:STANDARD
BEGIN:DAYLIGHT
TZOFFSETFROM:-0500
TZOFFSETTO:-0400
TZNAME:EDT
DTSTART:20280312T070000
END:DAYLIGHT
BEGIN:STANDARD
TZOFFSETFROM:-0400
TZOFFSETTO:-0500
TZNAME:EST
DTSTART:20281105T060000
END:STANDARD
BEGIN:DAYLIGHT
TZOFFSETFROM:-0500
TZOFFSETTO:-0400
TZNAME:EDT
DTSTART:20290311T070000
END:DAYLIGHT
BEGIN:STANDARD
TZOFFSETFROM:-0400
TZOFFSETTO:-0500
TZNAME:EST
DTSTART:20291104T060000
END:STANDARD
BEGIN:DAYLIGHT
TZOFFSETFROM:-0500
TZOFFSETTO:-0400
TZNAME:EDT
DTSTART:20300310T070000
END:DAYLIGHT
BEGIN:STANDARD
TZOFFSETFROM:-0400
TZOFFSETTO:-0500
TZNAME:EST
DTSTART:20301103T060000
END:STANDARD
END:VTIMEZONE
BEGIN:VEVENT
DTSTART;TZID=America/New_York:20281031T190000
DTEND;TZID=America/New_York:20281031T190000
DTSTAMP:20260420T091318
CREATED:20260105T003047Z
LAST-MODIFIED:20260105T055352Z
UID:10017310-1856631600-1856631600@epictriviafl.com
SUMMARY:Trivia
DESCRIPTION:
URL:https://epictriviafl.com/event/trivia-4th-street/2028-10-31/
LOCATION:4th Street Bar & Grill\, 132 N 4th St #1200\, Lake Mary\, FL 32746 USA
GEO:28.7573037;-81.3243581
X-APPLE-STRUCTURED-LOCATION;VALUE=URI;X-ADDRESS=4th Street Bar & Grill 132 N 4th St #1200 Lake Mary FL 32746 USA;X-APPLE-RADIUS=500;X-TITLE=132 N 4th St #1200\, Lake Mary\, FL 32746 USA:geo:-81.3243581,28.7573037
END:VEVENT
BEGIN:VEVENT
DTSTART;TZID=America/New_York:20281107T190000
DTEND;TZID=America/New_York:20281107T190000
DTSTAMP:20260420T091318
CREATED:20260105T003047Z
LAST-MODIFIED:20260105T055352Z
UID:10017311-1857236400-1857236400@epictriviafl.com
SUMMARY:Trivia
DESCRIPTION:
URL:https://epictriviafl.com/event/trivia-4th-street/2028-11-07/
LOCATION:4th Street Bar & Grill\, 132 N 4th St #1200\, Lake Mary\, FL 32746 USA
GEO:28.7573037;-81.3243581
X-APPLE-STRUCTURED-LOCATION;VALUE=URI;X-ADDRESS=4th Street Bar & Grill 132 N 4th St #1200 Lake Mary FL 32746 USA;X-APPLE-RADIUS=500;X-TITLE=132 N 4th St #1200\, Lake Mary\, FL 32746 USA:geo:-81.3243581,28.7573037
END:VEVENT
BEGIN:VEVENT
DTSTART;TZID=America/New_York:20281114T190000
DTEND;TZID=America/New_York:20281114T190000
DTSTAMP:20260420T091318
CREATED:20260105T003047Z
LAST-MODIFIED:20260105T055352Z
UID:10017312-1857841200-1857841200@epictriviafl.com
SUMMARY:Trivia
DESCRIPTION:
URL:https://epictriviafl.com/event/trivia-4th-street/2028-11-14/
LOCATION:4th Street Bar & Grill\, 132 N 4th St #1200\, Lake Mary\, FL 32746 USA
GEO:28.7573037;-81.3243581
X-APPLE-STRUCTURED-LOCATION;VALUE=URI;X-ADDRESS=4th Street Bar & Grill 132 N 4th St #1200 Lake Mary FL 32746 USA;X-APPLE-RADIUS=500;X-TITLE=132 N 4th St #1200\, Lake Mary\, FL 32746 USA:geo:-81.3243581,28.7573037
END:VEVENT
BEGIN:VEVENT
DTSTART;TZID=America/New_York:20281121T190000
DTEND;TZID=America/New_York:20281121T190000
DTSTAMP:20260420T091318
CREATED:20260105T003047Z
LAST-MODIFIED:20260105T055352Z
UID:10017313-1858446000-1858446000@epictriviafl.com
SUMMARY:Trivia
DESCRIPTION:
URL:https://epictriviafl.com/event/trivia-4th-street/2028-11-21/
LOCATION:4th Street Bar & Grill\, 132 N 4th St #1200\, Lake Mary\, FL 32746 USA
GEO:28.7573037;-81.3243581
X-APPLE-STRUCTURED-LOCATION;VALUE=URI;X-ADDRESS=4th Street Bar & Grill 132 N 4th St #1200 Lake Mary FL 32746 USA;X-APPLE-RADIUS=500;X-TITLE=132 N 4th St #1200\, Lake Mary\, FL 32746 USA:geo:-81.3243581,28.7573037
END:VEVENT
BEGIN:VEVENT
DTSTART;TZID=America/New_York:20281128T190000
DTEND;TZID=America/New_York:20281128T190000
DTSTAMP:20260420T091318
CREATED:20260105T003047Z
LAST-MODIFIED:20260105T055352Z
UID:10017314-1859050800-1859050800@epictriviafl.com
SUMMARY:Trivia
DESCRIPTION:
URL:https://epictriviafl.com/event/trivia-4th-street/2028-11-28/
LOCATION:4th Street Bar & Grill\, 132 N 4th St #1200\, Lake Mary\, FL 32746 USA
GEO:28.7573037;-81.3243581
X-APPLE-STRUCTURED-LOCATION;VALUE=URI;X-ADDRESS=4th Street Bar & Grill 132 N 4th St #1200 Lake Mary FL 32746 USA;X-APPLE-RADIUS=500;X-TITLE=132 N 4th St #1200\, Lake Mary\, FL 32746 USA:geo:-81.3243581,28.7573037
END:VEVENT
BEGIN:VEVENT
DTSTART;TZID=America/New_York:20281205T190000
DTEND;TZID=America/New_York:20281205T190000
DTSTAMP:20260420T091318
CREATED:20260105T003047Z
LAST-MODIFIED:20260105T055352Z
UID:10017315-1859655600-1859655600@epictriviafl.com
SUMMARY:Trivia
DESCRIPTION:
URL:https://epictriviafl.com/event/trivia-4th-street/2028-12-05/
LOCATION:4th Street Bar & Grill\, 132 N 4th St #1200\, Lake Mary\, FL 32746 USA
GEO:28.7573037;-81.3243581
X-APPLE-STRUCTURED-LOCATION;VALUE=URI;X-ADDRESS=4th Street Bar & Grill 132 N 4th St #1200 Lake Mary FL 32746 USA;X-APPLE-RADIUS=500;X-TITLE=132 N 4th St #1200\, Lake Mary\, FL 32746 USA:geo:-81.3243581,28.7573037
END:VEVENT
BEGIN:VEVENT
DTSTART;TZID=America/New_York:20281212T190000
DTEND;TZID=America/New_York:20281212T190000
DTSTAMP:20260420T091318
CREATED:20260105T003047Z
LAST-MODIFIED:20260105T055352Z
UID:10017316-1860260400-1860260400@epictriviafl.com
SUMMARY:Trivia
DESCRIPTION:
URL:https://epictriviafl.com/event/trivia-4th-street/2028-12-12/
LOCATION:4th Street Bar & Grill\, 132 N 4th St #1200\, Lake Mary\, FL 32746 USA
GEO:28.7573037;-81.3243581
X-APPLE-STRUCTURED-LOCATION;VALUE=URI;X-ADDRESS=4th Street Bar & Grill 132 N 4th St #1200 Lake Mary FL 32746 USA;X-APPLE-RADIUS=500;X-TITLE=132 N 4th St #1200\, Lake Mary\, FL 32746 USA:geo:-81.3243581,28.7573037
END:VEVENT
BEGIN:VEVENT
DTSTART;TZID=America/New_York:20281219T190000
DTEND;TZID=America/New_York:20281219T190000
DTSTAMP:20260420T091318
CREATED:20260105T003047Z
LAST-MODIFIED:20260105T055352Z
UID:10017317-1860865200-1860865200@epictriviafl.com
SUMMARY:Trivia
DESCRIPTION:
URL:https://epictriviafl.com/event/trivia-4th-street/2028-12-19/
LOCATION:4th Street Bar & Grill\, 132 N 4th St #1200\, Lake Mary\, FL 32746 USA
GEO:28.7573037;-81.3243581
X-APPLE-STRUCTURED-LOCATION;VALUE=URI;X-ADDRESS=4th Street Bar & Grill 132 N 4th St #1200 Lake Mary FL 32746 USA;X-APPLE-RADIUS=500;X-TITLE=132 N 4th St #1200\, Lake Mary\, FL 32746 USA:geo:-81.3243581,28.7573037
END:VEVENT
BEGIN:VEVENT
DTSTART;TZID=America/New_York:20281226T190000
DTEND;TZID=America/New_York:20281226T190000
DTSTAMP:20260420T091318
CREATED:20260105T003047Z
LAST-MODIFIED:20260105T055352Z
UID:10017318-1861470000-1861470000@epictriviafl.com
SUMMARY:Trivia
DESCRIPTION:
URL:https://epictriviafl.com/event/trivia-4th-street/2028-12-26/
LOCATION:4th Street Bar & Grill\, 132 N 4th St #1200\, Lake Mary\, FL 32746 USA
GEO:28.7573037;-81.3243581
X-APPLE-STRUCTURED-LOCATION;VALUE=URI;X-ADDRESS=4th Street Bar & Grill 132 N 4th St #1200 Lake Mary FL 32746 USA;X-APPLE-RADIUS=500;X-TITLE=132 N 4th St #1200\, Lake Mary\, FL 32746 USA:geo:-81.3243581,28.7573037
END:VEVENT
BEGIN:VEVENT
DTSTART;TZID=America/New_York:20290102T190000
DTEND;TZID=America/New_York:20290102T190000
DTSTAMP:20260420T091318
CREATED:20260105T003047Z
LAST-MODIFIED:20260105T055352Z
UID:10017319-1862074800-1862074800@epictriviafl.com
SUMMARY:Trivia
DESCRIPTION:
URL:https://epictriviafl.com/event/trivia-4th-street/2029-01-02/
LOCATION:4th Street Bar & Grill\, 132 N 4th St #1200\, Lake Mary\, FL 32746 USA
GEO:28.7573037;-81.3243581
X-APPLE-STRUCTURED-LOCATION;VALUE=URI;X-ADDRESS=4th Street Bar & Grill 132 N 4th St #1200 Lake Mary FL 32746 USA;X-APPLE-RADIUS=500;X-TITLE=132 N 4th St #1200\, Lake Mary\, FL 32746 USA:geo:-81.3243581,28.7573037
END:VEVENT
BEGIN:VEVENT
DTSTART;TZID=America/New_York:20290109T190000
DTEND;TZID=America/New_York:20290109T190000
DTSTAMP:20260420T091318
CREATED:20260105T003047Z
LAST-MODIFIED:20260105T055352Z
UID:10017320-1862679600-1862679600@epictriviafl.com
SUMMARY:Trivia
DESCRIPTION:
URL:https://epictriviafl.com/event/trivia-4th-street/2029-01-09/
LOCATION:4th Street Bar & Grill\, 132 N 4th St #1200\, Lake Mary\, FL 32746 USA
GEO:28.7573037;-81.3243581
X-APPLE-STRUCTURED-LOCATION;VALUE=URI;X-ADDRESS=4th Street Bar & Grill 132 N 4th St #1200 Lake Mary FL 32746 USA;X-APPLE-RADIUS=500;X-TITLE=132 N 4th St #1200\, Lake Mary\, FL 32746 USA:geo:-81.3243581,28.7573037
END:VEVENT
BEGIN:VEVENT
DTSTART;TZID=America/New_York:20290116T190000
DTEND;TZID=America/New_York:20290116T190000
DTSTAMP:20260420T091318
CREATED:20260105T003047Z
LAST-MODIFIED:20260105T055352Z
UID:10017321-1863284400-1863284400@epictriviafl.com
SUMMARY:Trivia
DESCRIPTION:
URL:https://epictriviafl.com/event/trivia-4th-street/2029-01-16/
LOCATION:4th Street Bar & Grill\, 132 N 4th St #1200\, Lake Mary\, FL 32746 USA
GEO:28.7573037;-81.3243581
X-APPLE-STRUCTURED-LOCATION;VALUE=URI;X-ADDRESS=4th Street Bar & Grill 132 N 4th St #1200 Lake Mary FL 32746 USA;X-APPLE-RADIUS=500;X-TITLE=132 N 4th St #1200\, Lake Mary\, FL 32746 USA:geo:-81.3243581,28.7573037
END:VEVENT
BEGIN:VEVENT
DTSTART;TZID=America/New_York:20290123T190000
DTEND;TZID=America/New_York:20290123T190000
DTSTAMP:20260420T091318
CREATED:20260105T003047Z
LAST-MODIFIED:20260105T055352Z
UID:10017322-1863889200-1863889200@epictriviafl.com
SUMMARY:Trivia
DESCRIPTION:
URL:https://epictriviafl.com/event/trivia-4th-street/2029-01-23/
LOCATION:4th Street Bar & Grill\, 132 N 4th St #1200\, Lake Mary\, FL 32746 USA
GEO:28.7573037;-81.3243581
X-APPLE-STRUCTURED-LOCATION;VALUE=URI;X-ADDRESS=4th Street Bar & Grill 132 N 4th St #1200 Lake Mary FL 32746 USA;X-APPLE-RADIUS=500;X-TITLE=132 N 4th St #1200\, Lake Mary\, FL 32746 USA:geo:-81.3243581,28.7573037
END:VEVENT
BEGIN:VEVENT
DTSTART;TZID=America/New_York:20290130T190000
DTEND;TZID=America/New_York:20290130T190000
DTSTAMP:20260420T091318
CREATED:20260105T003047Z
LAST-MODIFIED:20260105T055352Z
UID:10017323-1864494000-1864494000@epictriviafl.com
SUMMARY:Trivia
DESCRIPTION:
URL:https://epictriviafl.com/event/trivia-4th-street/2029-01-30/
LOCATION:4th Street Bar & Grill\, 132 N 4th St #1200\, Lake Mary\, FL 32746 USA
GEO:28.7573037;-81.3243581
X-APPLE-STRUCTURED-LOCATION;VALUE=URI;X-ADDRESS=4th Street Bar & Grill 132 N 4th St #1200 Lake Mary FL 32746 USA;X-APPLE-RADIUS=500;X-TITLE=132 N 4th St #1200\, Lake Mary\, FL 32746 USA:geo:-81.3243581,28.7573037
END:VEVENT
BEGIN:VEVENT
DTSTART;TZID=America/New_York:20290206T190000
DTEND;TZID=America/New_York:20290206T190000
DTSTAMP:20260420T091318
CREATED:20260105T003047Z
LAST-MODIFIED:20260105T055352Z
UID:10017324-1865098800-1865098800@epictriviafl.com
SUMMARY:Trivia
DESCRIPTION:
URL:https://epictriviafl.com/event/trivia-4th-street/2029-02-06/
LOCATION:4th Street Bar & Grill\, 132 N 4th St #1200\, Lake Mary\, FL 32746 USA
GEO:28.7573037;-81.3243581
X-APPLE-STRUCTURED-LOCATION;VALUE=URI;X-ADDRESS=4th Street Bar & Grill 132 N 4th St #1200 Lake Mary FL 32746 USA;X-APPLE-RADIUS=500;X-TITLE=132 N 4th St #1200\, Lake Mary\, FL 32746 USA:geo:-81.3243581,28.7573037
END:VEVENT
BEGIN:VEVENT
DTSTART;TZID=America/New_York:20290213T190000
DTEND;TZID=America/New_York:20290213T190000
DTSTAMP:20260420T091318
CREATED:20260105T003047Z
LAST-MODIFIED:20260105T055352Z
UID:10017325-1865703600-1865703600@epictriviafl.com
SUMMARY:Trivia
DESCRIPTION:
URL:https://epictriviafl.com/event/trivia-4th-street/2029-02-13/
LOCATION:4th Street Bar & Grill\, 132 N 4th St #1200\, Lake Mary\, FL 32746 USA
GEO:28.7573037;-81.3243581
X-APPLE-STRUCTURED-LOCATION;VALUE=URI;X-ADDRESS=4th Street Bar & Grill 132 N 4th St #1200 Lake Mary FL 32746 USA;X-APPLE-RADIUS=500;X-TITLE=132 N 4th St #1200\, Lake Mary\, FL 32746 USA:geo:-81.3243581,28.7573037
END:VEVENT
BEGIN:VEVENT
DTSTART;TZID=America/New_York:20290220T190000
DTEND;TZID=America/New_York:20290220T190000
DTSTAMP:20260420T091318
CREATED:20260105T003047Z
LAST-MODIFIED:20260105T055352Z
UID:10017326-1866308400-1866308400@epictriviafl.com
SUMMARY:Trivia
DESCRIPTION:
URL:https://epictriviafl.com/event/trivia-4th-street/2029-02-20/
LOCATION:4th Street Bar & Grill\, 132 N 4th St #1200\, Lake Mary\, FL 32746 USA
GEO:28.7573037;-81.3243581
X-APPLE-STRUCTURED-LOCATION;VALUE=URI;X-ADDRESS=4th Street Bar & Grill 132 N 4th St #1200 Lake Mary FL 32746 USA;X-APPLE-RADIUS=500;X-TITLE=132 N 4th St #1200\, Lake Mary\, FL 32746 USA:geo:-81.3243581,28.7573037
END:VEVENT
BEGIN:VEVENT
DTSTART;TZID=America/New_York:20290227T190000
DTEND;TZID=America/New_York:20290227T190000
DTSTAMP:20260420T091318
CREATED:20260105T003047Z
LAST-MODIFIED:20260105T055352Z
UID:10017327-1866913200-1866913200@epictriviafl.com
SUMMARY:Trivia
DESCRIPTION:
URL:https://epictriviafl.com/event/trivia-4th-street/2029-02-27/
LOCATION:4th Street Bar & Grill\, 132 N 4th St #1200\, Lake Mary\, FL 32746 USA
GEO:28.7573037;-81.3243581
X-APPLE-STRUCTURED-LOCATION;VALUE=URI;X-ADDRESS=4th Street Bar & Grill 132 N 4th St #1200 Lake Mary FL 32746 USA;X-APPLE-RADIUS=500;X-TITLE=132 N 4th St #1200\, Lake Mary\, FL 32746 USA:geo:-81.3243581,28.7573037
END:VEVENT
BEGIN:VEVENT
DTSTART;TZID=America/New_York:20290306T190000
DTEND;TZID=America/New_York:20290306T190000
DTSTAMP:20260420T091318
CREATED:20260105T003047Z
LAST-MODIFIED:20260105T055352Z
UID:10017328-1867518000-1867518000@epictriviafl.com
SUMMARY:Trivia
DESCRIPTION:
URL:https://epictriviafl.com/event/trivia-4th-street/2029-03-06/
LOCATION:4th Street Bar & Grill\, 132 N 4th St #1200\, Lake Mary\, FL 32746 USA
GEO:28.7573037;-81.3243581
X-APPLE-STRUCTURED-LOCATION;VALUE=URI;X-ADDRESS=4th Street Bar & Grill 132 N 4th St #1200 Lake Mary FL 32746 USA;X-APPLE-RADIUS=500;X-TITLE=132 N 4th St #1200\, Lake Mary\, FL 32746 USA:geo:-81.3243581,28.7573037
END:VEVENT
BEGIN:VEVENT
DTSTART;TZID=America/New_York:20290313T190000
DTEND;TZID=America/New_York:20290313T190000
DTSTAMP:20260420T091318
CREATED:20260105T003047Z
LAST-MODIFIED:20260105T055352Z
UID:10017329-1868122800-1868122800@epictriviafl.com
SUMMARY:Trivia
DESCRIPTION:
URL:https://epictriviafl.com/event/trivia-4th-street/2029-03-13/
LOCATION:4th Street Bar & Grill\, 132 N 4th St #1200\, Lake Mary\, FL 32746 USA
GEO:28.7573037;-81.3243581
X-APPLE-STRUCTURED-LOCATION;VALUE=URI;X-ADDRESS=4th Street Bar & Grill 132 N 4th St #1200 Lake Mary FL 32746 USA;X-APPLE-RADIUS=500;X-TITLE=132 N 4th St #1200\, Lake Mary\, FL 32746 USA:geo:-81.3243581,28.7573037
END:VEVENT
BEGIN:VEVENT
DTSTART;TZID=America/New_York:20290320T190000
DTEND;TZID=America/New_York:20290320T190000
DTSTAMP:20260420T091318
CREATED:20260105T003047Z
LAST-MODIFIED:20260105T055352Z
UID:10017330-1868727600-1868727600@epictriviafl.com
SUMMARY:Trivia
DESCRIPTION:
URL:https://epictriviafl.com/event/trivia-4th-street/2029-03-20/
LOCATION:4th Street Bar & Grill\, 132 N 4th St #1200\, Lake Mary\, FL 32746 USA
GEO:28.7573037;-81.3243581
X-APPLE-STRUCTURED-LOCATION;VALUE=URI;X-ADDRESS=4th Street Bar & Grill 132 N 4th St #1200 Lake Mary FL 32746 USA;X-APPLE-RADIUS=500;X-TITLE=132 N 4th St #1200\, Lake Mary\, FL 32746 USA:geo:-81.3243581,28.7573037
END:VEVENT
BEGIN:VEVENT
DTSTART;TZID=America/New_York:20290327T190000
DTEND;TZID=America/New_York:20290327T190000
DTSTAMP:20260420T091318
CREATED:20260105T003047Z
LAST-MODIFIED:20260105T055352Z
UID:10017331-1869332400-1869332400@epictriviafl.com
SUMMARY:Trivia
DESCRIPTION:
URL:https://epictriviafl.com/event/trivia-4th-street/2029-03-27/
LOCATION:4th Street Bar & Grill\, 132 N 4th St #1200\, Lake Mary\, FL 32746 USA
GEO:28.7573037;-81.3243581
X-APPLE-STRUCTURED-LOCATION;VALUE=URI;X-ADDRESS=4th Street Bar & Grill 132 N 4th St #1200 Lake Mary FL 32746 USA;X-APPLE-RADIUS=500;X-TITLE=132 N 4th St #1200\, Lake Mary\, FL 32746 USA:geo:-81.3243581,28.7573037
END:VEVENT
BEGIN:VEVENT
DTSTART;TZID=America/New_York:20290403T190000
DTEND;TZID=America/New_York:20290403T190000
DTSTAMP:20260420T091318
CREATED:20260105T003047Z
LAST-MODIFIED:20260105T055352Z
UID:10017332-1869937200-1869937200@epictriviafl.com
SUMMARY:Trivia
DESCRIPTION:
URL:https://epictriviafl.com/event/trivia-4th-street/2029-04-03/
LOCATION:4th Street Bar & Grill\, 132 N 4th St #1200\, Lake Mary\, FL 32746 USA
GEO:28.7573037;-81.3243581
X-APPLE-STRUCTURED-LOCATION;VALUE=URI;X-ADDRESS=4th Street Bar & Grill 132 N 4th St #1200 Lake Mary FL 32746 USA;X-APPLE-RADIUS=500;X-TITLE=132 N 4th St #1200\, Lake Mary\, FL 32746 USA:geo:-81.3243581,28.7573037
END:VEVENT
BEGIN:VEVENT
DTSTART;TZID=America/New_York:20290410T190000
DTEND;TZID=America/New_York:20290410T190000
DTSTAMP:20260420T091318
CREATED:20260105T003047Z
LAST-MODIFIED:20260105T055352Z
UID:10017333-1870542000-1870542000@epictriviafl.com
SUMMARY:Trivia
DESCRIPTION:
URL:https://epictriviafl.com/event/trivia-4th-street/2029-04-10/
LOCATION:4th Street Bar & Grill\, 132 N 4th St #1200\, Lake Mary\, FL 32746 USA
GEO:28.7573037;-81.3243581
X-APPLE-STRUCTURED-LOCATION;VALUE=URI;X-ADDRESS=4th Street Bar & Grill 132 N 4th St #1200 Lake Mary FL 32746 USA;X-APPLE-RADIUS=500;X-TITLE=132 N 4th St #1200\, Lake Mary\, FL 32746 USA:geo:-81.3243581,28.7573037
END:VEVENT
BEGIN:VEVENT
DTSTART;TZID=America/New_York:20290417T190000
DTEND;TZID=America/New_York:20290417T190000
DTSTAMP:20260420T091318
CREATED:20260105T003047Z
LAST-MODIFIED:20260105T055352Z
UID:10017334-1871146800-1871146800@epictriviafl.com
SUMMARY:Trivia
DESCRIPTION:
URL:https://epictriviafl.com/event/trivia-4th-street/2029-04-17/
LOCATION:4th Street Bar & Grill\, 132 N 4th St #1200\, Lake Mary\, FL 32746 USA
GEO:28.7573037;-81.3243581
X-APPLE-STRUCTURED-LOCATION;VALUE=URI;X-ADDRESS=4th Street Bar & Grill 132 N 4th St #1200 Lake Mary FL 32746 USA;X-APPLE-RADIUS=500;X-TITLE=132 N 4th St #1200\, Lake Mary\, FL 32746 USA:geo:-81.3243581,28.7573037
END:VEVENT
BEGIN:VEVENT
DTSTART;TZID=America/New_York:20290424T190000
DTEND;TZID=America/New_York:20290424T190000
DTSTAMP:20260420T091318
CREATED:20260105T003047Z
LAST-MODIFIED:20260105T055352Z
UID:10017335-1871751600-1871751600@epictriviafl.com
SUMMARY:Trivia
DESCRIPTION:
URL:https://epictriviafl.com/event/trivia-4th-street/2029-04-24/
LOCATION:4th Street Bar & Grill\, 132 N 4th St #1200\, Lake Mary\, FL 32746 USA
GEO:28.7573037;-81.3243581
X-APPLE-STRUCTURED-LOCATION;VALUE=URI;X-ADDRESS=4th Street Bar & Grill 132 N 4th St #1200 Lake Mary FL 32746 USA;X-APPLE-RADIUS=500;X-TITLE=132 N 4th St #1200\, Lake Mary\, FL 32746 USA:geo:-81.3243581,28.7573037
END:VEVENT
BEGIN:VEVENT
DTSTART;TZID=America/New_York:20290501T190000
DTEND;TZID=America/New_York:20290501T190000
DTSTAMP:20260420T091318
CREATED:20260105T003047Z
LAST-MODIFIED:20260105T055352Z
UID:10017336-1872356400-1872356400@epictriviafl.com
SUMMARY:Trivia
DESCRIPTION:
URL:https://epictriviafl.com/event/trivia-4th-street/2029-05-01/
LOCATION:4th Street Bar & Grill\, 132 N 4th St #1200\, Lake Mary\, FL 32746 USA
GEO:28.7573037;-81.3243581
X-APPLE-STRUCTURED-LOCATION;VALUE=URI;X-ADDRESS=4th Street Bar & Grill 132 N 4th St #1200 Lake Mary FL 32746 USA;X-APPLE-RADIUS=500;X-TITLE=132 N 4th St #1200\, Lake Mary\, FL 32746 USA:geo:-81.3243581,28.7573037
END:VEVENT
BEGIN:VEVENT
DTSTART;TZID=America/New_York:20290508T190000
DTEND;TZID=America/New_York:20290508T190000
DTSTAMP:20260420T091318
CREATED:20260105T003047Z
LAST-MODIFIED:20260105T055352Z
UID:10017337-1872961200-1872961200@epictriviafl.com
SUMMARY:Trivia
DESCRIPTION:
URL:https://epictriviafl.com/event/trivia-4th-street/2029-05-08/
LOCATION:4th Street Bar & Grill\, 132 N 4th St #1200\, Lake Mary\, FL 32746 USA
GEO:28.7573037;-81.3243581
X-APPLE-STRUCTURED-LOCATION;VALUE=URI;X-ADDRESS=4th Street Bar & Grill 132 N 4th St #1200 Lake Mary FL 32746 USA;X-APPLE-RADIUS=500;X-TITLE=132 N 4th St #1200\, Lake Mary\, FL 32746 USA:geo:-81.3243581,28.7573037
END:VEVENT
BEGIN:VEVENT
DTSTART;TZID=America/New_York:20290515T190000
DTEND;TZID=America/New_York:20290515T190000
DTSTAMP:20260420T091318
CREATED:20260105T003047Z
LAST-MODIFIED:20260105T055352Z
UID:10017338-1873566000-1873566000@epictriviafl.com
SUMMARY:Trivia
DESCRIPTION:
URL:https://epictriviafl.com/event/trivia-4th-street/2029-05-15/
LOCATION:4th Street Bar & Grill\, 132 N 4th St #1200\, Lake Mary\, FL 32746 USA
GEO:28.7573037;-81.3243581
X-APPLE-STRUCTURED-LOCATION;VALUE=URI;X-ADDRESS=4th Street Bar & Grill 132 N 4th St #1200 Lake Mary FL 32746 USA;X-APPLE-RADIUS=500;X-TITLE=132 N 4th St #1200\, Lake Mary\, FL 32746 USA:geo:-81.3243581,28.7573037
END:VEVENT
BEGIN:VEVENT
DTSTART;TZID=America/New_York:20290522T190000
DTEND;TZID=America/New_York:20290522T190000
DTSTAMP:20260420T091318
CREATED:20260105T003047Z
LAST-MODIFIED:20260105T055352Z
UID:10017339-1874170800-1874170800@epictriviafl.com
SUMMARY:Trivia
DESCRIPTION:
URL:https://epictriviafl.com/event/trivia-4th-street/2029-05-22/
LOCATION:4th Street Bar & Grill\, 132 N 4th St #1200\, Lake Mary\, FL 32746 USA
GEO:28.7573037;-81.3243581
X-APPLE-STRUCTURED-LOCATION;VALUE=URI;X-ADDRESS=4th Street Bar & Grill 132 N 4th St #1200 Lake Mary FL 32746 USA;X-APPLE-RADIUS=500;X-TITLE=132 N 4th St #1200\, Lake Mary\, FL 32746 USA:geo:-81.3243581,28.7573037
END:VEVENT
END:VCALENDAR