BEGIN:VCALENDAR
VERSION:2.0
PRODID:-//Epic Trivia - ECPv6.15.18//NONSGML v1.0//EN
CALSCALE:GREGORIAN
METHOD:PUBLISH
X-WR-CALNAME:Epic Trivia
X-ORIGINAL-URL:https://epictriviafl.com
X-WR-CALDESC:Events for Epic Trivia
REFRESH-INTERVAL;VALUE=DURATION:PT1H
X-Robots-Tag:noindex
X-PUBLISHED-TTL:PT1H
BEGIN:VTIMEZONE
TZID:America/New_York
BEGIN:DAYLIGHT
TZOFFSETFROM:-0500
TZOFFSETTO:-0400
TZNAME:EDT
DTSTART:20250309T070000
END:DAYLIGHT
BEGIN:STANDARD
TZOFFSETFROM:-0400
TZOFFSETTO:-0500
TZNAME:EST
DTSTART:20251102T060000
END:STANDARD
BEGIN:DAYLIGHT
TZOFFSETFROM:-0500
TZOFFSETTO:-0400
TZNAME:EDT
DTSTART:20260308T070000
END:DAYLIGHT
BEGIN:STANDARD
TZOFFSETFROM:-0400
TZOFFSETTO:-0500
TZNAME:EST
DTSTART:20261101T060000
END:STANDARD
BEGIN:DAYLIGHT
TZOFFSETFROM:-0500
TZOFFSETTO:-0400
TZNAME:EDT
DTSTART:20270314T070000
END:DAYLIGHT
BEGIN:STANDARD
TZOFFSETFROM:-0400
TZOFFSETTO:-0500
TZNAME:EST
DTSTART:20271107T060000
END:STANDARD
BEGIN:DAYLIGHT
TZOFFSETFROM:-0500
TZOFFSETTO:-0400
TZNAME:EDT
DTSTART:20280312T070000
END:DAYLIGHT
BEGIN:STANDARD
TZOFFSETFROM:-0400
TZOFFSETTO:-0500
TZNAME:EST
DTSTART:20281105T060000
END:STANDARD
END:VTIMEZONE
BEGIN:VEVENT
DTSTART;TZID=America/New_York:20261005T180000
DTEND;TZID=America/New_York:20261005T180000
DTSTAMP:20260419T210504
CREATED:20260105T003042Z
LAST-MODIFIED:20260105T055906Z
UID:10019282-1791223200-1791223200@epictriviafl.com
SUMMARY:Bingo
DESCRIPTION:
URL:https://epictriviafl.com/event/bingo-gators-deland/2026-10-05/
LOCATION:Gators Deland\, 1788 S Woodland Blvd\, Deland\, FL\, 32720\, United States
GEO:28.956782;-81.321619
X-APPLE-STRUCTURED-LOCATION;VALUE=URI;X-ADDRESS=Gators Deland 1788 S Woodland Blvd Deland FL 32720 United States;X-APPLE-RADIUS=500;X-TITLE=1788 S Woodland Blvd:geo:-81.321619,28.956782
END:VEVENT
BEGIN:VEVENT
DTSTART;TZID=America/New_York:20261007T180000
DTEND;TZID=America/New_York:20261007T180000
DTSTAMP:20260419T210504
CREATED:20260105T003118Z
LAST-MODIFIED:20260105T054848Z
UID:10015122-1791396000-1791396000@epictriviafl.com
SUMMARY:Bingo
DESCRIPTION:
URL:https://epictriviafl.com/event/bingo-gators-deland-2/2026-10-07/
LOCATION:Gators Deland\, 1788 S Woodland Blvd\, Deland\, FL\, 32720\, United States
GEO:28.956782;-81.321619
X-APPLE-STRUCTURED-LOCATION;VALUE=URI;X-ADDRESS=Gators Deland 1788 S Woodland Blvd Deland FL 32720 United States;X-APPLE-RADIUS=500;X-TITLE=1788 S Woodland Blvd:geo:-81.321619,28.956782
END:VEVENT
BEGIN:VEVENT
DTSTART;TZID=America/New_York:20261012T180000
DTEND;TZID=America/New_York:20261012T180000
DTSTAMP:20260419T210504
CREATED:20260105T003042Z
LAST-MODIFIED:20260105T055906Z
UID:10019283-1791828000-1791828000@epictriviafl.com
SUMMARY:Bingo
DESCRIPTION:
URL:https://epictriviafl.com/event/bingo-gators-deland/2026-10-12/
LOCATION:Gators Deland\, 1788 S Woodland Blvd\, Deland\, FL\, 32720\, United States
GEO:28.956782;-81.321619
X-APPLE-STRUCTURED-LOCATION;VALUE=URI;X-ADDRESS=Gators Deland 1788 S Woodland Blvd Deland FL 32720 United States;X-APPLE-RADIUS=500;X-TITLE=1788 S Woodland Blvd:geo:-81.321619,28.956782
END:VEVENT
BEGIN:VEVENT
DTSTART;TZID=America/New_York:20261014T180000
DTEND;TZID=America/New_York:20261014T180000
DTSTAMP:20260419T210504
CREATED:20260105T003118Z
LAST-MODIFIED:20260105T054848Z
UID:10015123-1792000800-1792000800@epictriviafl.com
SUMMARY:Bingo
DESCRIPTION:
URL:https://epictriviafl.com/event/bingo-gators-deland-2/2026-10-14/
LOCATION:Gators Deland\, 1788 S Woodland Blvd\, Deland\, FL\, 32720\, United States
GEO:28.956782;-81.321619
X-APPLE-STRUCTURED-LOCATION;VALUE=URI;X-ADDRESS=Gators Deland 1788 S Woodland Blvd Deland FL 32720 United States;X-APPLE-RADIUS=500;X-TITLE=1788 S Woodland Blvd:geo:-81.321619,28.956782
END:VEVENT
BEGIN:VEVENT
DTSTART;TZID=America/New_York:20261019T180000
DTEND;TZID=America/New_York:20261019T180000
DTSTAMP:20260419T210504
CREATED:20260105T003042Z
LAST-MODIFIED:20260105T055906Z
UID:10019284-1792432800-1792432800@epictriviafl.com
SUMMARY:Bingo
DESCRIPTION:
URL:https://epictriviafl.com/event/bingo-gators-deland/2026-10-19/
LOCATION:Gators Deland\, 1788 S Woodland Blvd\, Deland\, FL\, 32720\, United States
GEO:28.956782;-81.321619
X-APPLE-STRUCTURED-LOCATION;VALUE=URI;X-ADDRESS=Gators Deland 1788 S Woodland Blvd Deland FL 32720 United States;X-APPLE-RADIUS=500;X-TITLE=1788 S Woodland Blvd:geo:-81.321619,28.956782
END:VEVENT
BEGIN:VEVENT
DTSTART;TZID=America/New_York:20261021T180000
DTEND;TZID=America/New_York:20261021T180000
DTSTAMP:20260419T210504
CREATED:20260105T003118Z
LAST-MODIFIED:20260105T054848Z
UID:10015124-1792605600-1792605600@epictriviafl.com
SUMMARY:Bingo
DESCRIPTION:
URL:https://epictriviafl.com/event/bingo-gators-deland-2/2026-10-21/
LOCATION:Gators Deland\, 1788 S Woodland Blvd\, Deland\, FL\, 32720\, United States
GEO:28.956782;-81.321619
X-APPLE-STRUCTURED-LOCATION;VALUE=URI;X-ADDRESS=Gators Deland 1788 S Woodland Blvd Deland FL 32720 United States;X-APPLE-RADIUS=500;X-TITLE=1788 S Woodland Blvd:geo:-81.321619,28.956782
END:VEVENT
BEGIN:VEVENT
DTSTART;TZID=America/New_York:20261026T180000
DTEND;TZID=America/New_York:20261026T180000
DTSTAMP:20260419T210504
CREATED:20260105T003042Z
LAST-MODIFIED:20260105T055906Z
UID:10019285-1793037600-1793037600@epictriviafl.com
SUMMARY:Bingo
DESCRIPTION:
URL:https://epictriviafl.com/event/bingo-gators-deland/2026-10-26/
LOCATION:Gators Deland\, 1788 S Woodland Blvd\, Deland\, FL\, 32720\, United States
GEO:28.956782;-81.321619
X-APPLE-STRUCTURED-LOCATION;VALUE=URI;X-ADDRESS=Gators Deland 1788 S Woodland Blvd Deland FL 32720 United States;X-APPLE-RADIUS=500;X-TITLE=1788 S Woodland Blvd:geo:-81.321619,28.956782
END:VEVENT
BEGIN:VEVENT
DTSTART;TZID=America/New_York:20261028T180000
DTEND;TZID=America/New_York:20261028T180000
DTSTAMP:20260419T210504
CREATED:20260105T003118Z
LAST-MODIFIED:20260105T054848Z
UID:10015125-1793210400-1793210400@epictriviafl.com
SUMMARY:Bingo
DESCRIPTION:
URL:https://epictriviafl.com/event/bingo-gators-deland-2/2026-10-28/
LOCATION:Gators Deland\, 1788 S Woodland Blvd\, Deland\, FL\, 32720\, United States
GEO:28.956782;-81.321619
X-APPLE-STRUCTURED-LOCATION;VALUE=URI;X-ADDRESS=Gators Deland 1788 S Woodland Blvd Deland FL 32720 United States;X-APPLE-RADIUS=500;X-TITLE=1788 S Woodland Blvd:geo:-81.321619,28.956782
END:VEVENT
BEGIN:VEVENT
DTSTART;TZID=America/New_York:20261102T180000
DTEND;TZID=America/New_York:20261102T180000
DTSTAMP:20260419T210504
CREATED:20260105T003042Z
LAST-MODIFIED:20260105T055906Z
UID:10019286-1793642400-1793642400@epictriviafl.com
SUMMARY:Bingo
DESCRIPTION:
URL:https://epictriviafl.com/event/bingo-gators-deland/2026-11-02/
LOCATION:Gators Deland\, 1788 S Woodland Blvd\, Deland\, FL\, 32720\, United States
GEO:28.956782;-81.321619
X-APPLE-STRUCTURED-LOCATION;VALUE=URI;X-ADDRESS=Gators Deland 1788 S Woodland Blvd Deland FL 32720 United States;X-APPLE-RADIUS=500;X-TITLE=1788 S Woodland Blvd:geo:-81.321619,28.956782
END:VEVENT
BEGIN:VEVENT
DTSTART;TZID=America/New_York:20261104T180000
DTEND;TZID=America/New_York:20261104T180000
DTSTAMP:20260419T210504
CREATED:20260105T003118Z
LAST-MODIFIED:20260105T054848Z
UID:10015126-1793815200-1793815200@epictriviafl.com
SUMMARY:Bingo
DESCRIPTION:
URL:https://epictriviafl.com/event/bingo-gators-deland-2/2026-11-04/
LOCATION:Gators Deland\, 1788 S Woodland Blvd\, Deland\, FL\, 32720\, United States
GEO:28.956782;-81.321619
X-APPLE-STRUCTURED-LOCATION;VALUE=URI;X-ADDRESS=Gators Deland 1788 S Woodland Blvd Deland FL 32720 United States;X-APPLE-RADIUS=500;X-TITLE=1788 S Woodland Blvd:geo:-81.321619,28.956782
END:VEVENT
BEGIN:VEVENT
DTSTART;TZID=America/New_York:20261109T180000
DTEND;TZID=America/New_York:20261109T180000
DTSTAMP:20260419T210504
CREATED:20260105T003042Z
LAST-MODIFIED:20260105T055906Z
UID:10019287-1794247200-1794247200@epictriviafl.com
SUMMARY:Bingo
DESCRIPTION:
URL:https://epictriviafl.com/event/bingo-gators-deland/2026-11-09/
LOCATION:Gators Deland\, 1788 S Woodland Blvd\, Deland\, FL\, 32720\, United States
GEO:28.956782;-81.321619
X-APPLE-STRUCTURED-LOCATION;VALUE=URI;X-ADDRESS=Gators Deland 1788 S Woodland Blvd Deland FL 32720 United States;X-APPLE-RADIUS=500;X-TITLE=1788 S Woodland Blvd:geo:-81.321619,28.956782
END:VEVENT
BEGIN:VEVENT
DTSTART;TZID=America/New_York:20261111T180000
DTEND;TZID=America/New_York:20261111T180000
DTSTAMP:20260419T210504
CREATED:20260105T003118Z
LAST-MODIFIED:20260105T054848Z
UID:10015127-1794420000-1794420000@epictriviafl.com
SUMMARY:Bingo
DESCRIPTION:
URL:https://epictriviafl.com/event/bingo-gators-deland-2/2026-11-11/
LOCATION:Gators Deland\, 1788 S Woodland Blvd\, Deland\, FL\, 32720\, United States
GEO:28.956782;-81.321619
X-APPLE-STRUCTURED-LOCATION;VALUE=URI;X-ADDRESS=Gators Deland 1788 S Woodland Blvd Deland FL 32720 United States;X-APPLE-RADIUS=500;X-TITLE=1788 S Woodland Blvd:geo:-81.321619,28.956782
END:VEVENT
BEGIN:VEVENT
DTSTART;TZID=America/New_York:20261116T180000
DTEND;TZID=America/New_York:20261116T180000
DTSTAMP:20260419T210504
CREATED:20260105T003042Z
LAST-MODIFIED:20260105T055906Z
UID:10019288-1794852000-1794852000@epictriviafl.com
SUMMARY:Bingo
DESCRIPTION:
URL:https://epictriviafl.com/event/bingo-gators-deland/2026-11-16/
LOCATION:Gators Deland\, 1788 S Woodland Blvd\, Deland\, FL\, 32720\, United States
GEO:28.956782;-81.321619
X-APPLE-STRUCTURED-LOCATION;VALUE=URI;X-ADDRESS=Gators Deland 1788 S Woodland Blvd Deland FL 32720 United States;X-APPLE-RADIUS=500;X-TITLE=1788 S Woodland Blvd:geo:-81.321619,28.956782
END:VEVENT
BEGIN:VEVENT
DTSTART;TZID=America/New_York:20261118T180000
DTEND;TZID=America/New_York:20261118T180000
DTSTAMP:20260419T210504
CREATED:20260105T003118Z
LAST-MODIFIED:20260105T054848Z
UID:10015128-1795024800-1795024800@epictriviafl.com
SUMMARY:Bingo
DESCRIPTION:
URL:https://epictriviafl.com/event/bingo-gators-deland-2/2026-11-18/
LOCATION:Gators Deland\, 1788 S Woodland Blvd\, Deland\, FL\, 32720\, United States
GEO:28.956782;-81.321619
X-APPLE-STRUCTURED-LOCATION;VALUE=URI;X-ADDRESS=Gators Deland 1788 S Woodland Blvd Deland FL 32720 United States;X-APPLE-RADIUS=500;X-TITLE=1788 S Woodland Blvd:geo:-81.321619,28.956782
END:VEVENT
BEGIN:VEVENT
DTSTART;TZID=America/New_York:20261123T180000
DTEND;TZID=America/New_York:20261123T180000
DTSTAMP:20260419T210504
CREATED:20260105T003042Z
LAST-MODIFIED:20260105T055906Z
UID:10019289-1795456800-1795456800@epictriviafl.com
SUMMARY:Bingo
DESCRIPTION:
URL:https://epictriviafl.com/event/bingo-gators-deland/2026-11-23/
LOCATION:Gators Deland\, 1788 S Woodland Blvd\, Deland\, FL\, 32720\, United States
GEO:28.956782;-81.321619
X-APPLE-STRUCTURED-LOCATION;VALUE=URI;X-ADDRESS=Gators Deland 1788 S Woodland Blvd Deland FL 32720 United States;X-APPLE-RADIUS=500;X-TITLE=1788 S Woodland Blvd:geo:-81.321619,28.956782
END:VEVENT
BEGIN:VEVENT
DTSTART;TZID=America/New_York:20261125T180000
DTEND;TZID=America/New_York:20261125T180000
DTSTAMP:20260419T210504
CREATED:20260105T003118Z
LAST-MODIFIED:20260105T054848Z
UID:10015129-1795629600-1795629600@epictriviafl.com
SUMMARY:Bingo
DESCRIPTION:
URL:https://epictriviafl.com/event/bingo-gators-deland-2/2026-11-25/
LOCATION:Gators Deland\, 1788 S Woodland Blvd\, Deland\, FL\, 32720\, United States
GEO:28.956782;-81.321619
X-APPLE-STRUCTURED-LOCATION;VALUE=URI;X-ADDRESS=Gators Deland 1788 S Woodland Blvd Deland FL 32720 United States;X-APPLE-RADIUS=500;X-TITLE=1788 S Woodland Blvd:geo:-81.321619,28.956782
END:VEVENT
BEGIN:VEVENT
DTSTART;TZID=America/New_York:20261130T180000
DTEND;TZID=America/New_York:20261130T180000
DTSTAMP:20260419T210504
CREATED:20260105T003042Z
LAST-MODIFIED:20260105T055906Z
UID:10019290-1796061600-1796061600@epictriviafl.com
SUMMARY:Bingo
DESCRIPTION:
URL:https://epictriviafl.com/event/bingo-gators-deland/2026-11-30/
LOCATION:Gators Deland\, 1788 S Woodland Blvd\, Deland\, FL\, 32720\, United States
GEO:28.956782;-81.321619
X-APPLE-STRUCTURED-LOCATION;VALUE=URI;X-ADDRESS=Gators Deland 1788 S Woodland Blvd Deland FL 32720 United States;X-APPLE-RADIUS=500;X-TITLE=1788 S Woodland Blvd:geo:-81.321619,28.956782
END:VEVENT
BEGIN:VEVENT
DTSTART;TZID=America/New_York:20261202T180000
DTEND;TZID=America/New_York:20261202T180000
DTSTAMP:20260419T210504
CREATED:20260105T003118Z
LAST-MODIFIED:20260105T054848Z
UID:10015130-1796234400-1796234400@epictriviafl.com
SUMMARY:Bingo
DESCRIPTION:
URL:https://epictriviafl.com/event/bingo-gators-deland-2/2026-12-02/
LOCATION:Gators Deland\, 1788 S Woodland Blvd\, Deland\, FL\, 32720\, United States
GEO:28.956782;-81.321619
X-APPLE-STRUCTURED-LOCATION;VALUE=URI;X-ADDRESS=Gators Deland 1788 S Woodland Blvd Deland FL 32720 United States;X-APPLE-RADIUS=500;X-TITLE=1788 S Woodland Blvd:geo:-81.321619,28.956782
END:VEVENT
BEGIN:VEVENT
DTSTART;TZID=America/New_York:20261207T180000
DTEND;TZID=America/New_York:20261207T180000
DTSTAMP:20260419T210504
CREATED:20260105T003042Z
LAST-MODIFIED:20260105T055906Z
UID:10019291-1796666400-1796666400@epictriviafl.com
SUMMARY:Bingo
DESCRIPTION:
URL:https://epictriviafl.com/event/bingo-gators-deland/2026-12-07/
LOCATION:Gators Deland\, 1788 S Woodland Blvd\, Deland\, FL\, 32720\, United States
GEO:28.956782;-81.321619
X-APPLE-STRUCTURED-LOCATION;VALUE=URI;X-ADDRESS=Gators Deland 1788 S Woodland Blvd Deland FL 32720 United States;X-APPLE-RADIUS=500;X-TITLE=1788 S Woodland Blvd:geo:-81.321619,28.956782
END:VEVENT
BEGIN:VEVENT
DTSTART;TZID=America/New_York:20261209T180000
DTEND;TZID=America/New_York:20261209T180000
DTSTAMP:20260419T210504
CREATED:20260105T003118Z
LAST-MODIFIED:20260105T054848Z
UID:10015131-1796839200-1796839200@epictriviafl.com
SUMMARY:Bingo
DESCRIPTION:
URL:https://epictriviafl.com/event/bingo-gators-deland-2/2026-12-09/
LOCATION:Gators Deland\, 1788 S Woodland Blvd\, Deland\, FL\, 32720\, United States
GEO:28.956782;-81.321619
X-APPLE-STRUCTURED-LOCATION;VALUE=URI;X-ADDRESS=Gators Deland 1788 S Woodland Blvd Deland FL 32720 United States;X-APPLE-RADIUS=500;X-TITLE=1788 S Woodland Blvd:geo:-81.321619,28.956782
END:VEVENT
BEGIN:VEVENT
DTSTART;TZID=America/New_York:20261214T180000
DTEND;TZID=America/New_York:20261214T180000
DTSTAMP:20260419T210504
CREATED:20260105T003042Z
LAST-MODIFIED:20260105T055906Z
UID:10019292-1797271200-1797271200@epictriviafl.com
SUMMARY:Bingo
DESCRIPTION:
URL:https://epictriviafl.com/event/bingo-gators-deland/2026-12-14/
LOCATION:Gators Deland\, 1788 S Woodland Blvd\, Deland\, FL\, 32720\, United States
GEO:28.956782;-81.321619
X-APPLE-STRUCTURED-LOCATION;VALUE=URI;X-ADDRESS=Gators Deland 1788 S Woodland Blvd Deland FL 32720 United States;X-APPLE-RADIUS=500;X-TITLE=1788 S Woodland Blvd:geo:-81.321619,28.956782
END:VEVENT
BEGIN:VEVENT
DTSTART;TZID=America/New_York:20261216T180000
DTEND;TZID=America/New_York:20261216T180000
DTSTAMP:20260419T210504
CREATED:20260105T003118Z
LAST-MODIFIED:20260105T054848Z
UID:10015132-1797444000-1797444000@epictriviafl.com
SUMMARY:Bingo
DESCRIPTION:
URL:https://epictriviafl.com/event/bingo-gators-deland-2/2026-12-16/
LOCATION:Gators Deland\, 1788 S Woodland Blvd\, Deland\, FL\, 32720\, United States
GEO:28.956782;-81.321619
X-APPLE-STRUCTURED-LOCATION;VALUE=URI;X-ADDRESS=Gators Deland 1788 S Woodland Blvd Deland FL 32720 United States;X-APPLE-RADIUS=500;X-TITLE=1788 S Woodland Blvd:geo:-81.321619,28.956782
END:VEVENT
BEGIN:VEVENT
DTSTART;TZID=America/New_York:20261221T180000
DTEND;TZID=America/New_York:20261221T180000
DTSTAMP:20260419T210504
CREATED:20260105T003042Z
LAST-MODIFIED:20260105T055906Z
UID:10019293-1797876000-1797876000@epictriviafl.com
SUMMARY:Bingo
DESCRIPTION:
URL:https://epictriviafl.com/event/bingo-gators-deland/2026-12-21/
LOCATION:Gators Deland\, 1788 S Woodland Blvd\, Deland\, FL\, 32720\, United States
GEO:28.956782;-81.321619
X-APPLE-STRUCTURED-LOCATION;VALUE=URI;X-ADDRESS=Gators Deland 1788 S Woodland Blvd Deland FL 32720 United States;X-APPLE-RADIUS=500;X-TITLE=1788 S Woodland Blvd:geo:-81.321619,28.956782
END:VEVENT
BEGIN:VEVENT
DTSTART;TZID=America/New_York:20261223T180000
DTEND;TZID=America/New_York:20261223T180000
DTSTAMP:20260419T210505
CREATED:20260105T003118Z
LAST-MODIFIED:20260105T054848Z
UID:10015133-1798048800-1798048800@epictriviafl.com
SUMMARY:Bingo
DESCRIPTION:
URL:https://epictriviafl.com/event/bingo-gators-deland-2/2026-12-23/
LOCATION:Gators Deland\, 1788 S Woodland Blvd\, Deland\, FL\, 32720\, United States
GEO:28.956782;-81.321619
X-APPLE-STRUCTURED-LOCATION;VALUE=URI;X-ADDRESS=Gators Deland 1788 S Woodland Blvd Deland FL 32720 United States;X-APPLE-RADIUS=500;X-TITLE=1788 S Woodland Blvd:geo:-81.321619,28.956782
END:VEVENT
BEGIN:VEVENT
DTSTART;TZID=America/New_York:20261228T180000
DTEND;TZID=America/New_York:20261228T180000
DTSTAMP:20260419T210505
CREATED:20260105T003042Z
LAST-MODIFIED:20260105T055906Z
UID:10019294-1798480800-1798480800@epictriviafl.com
SUMMARY:Bingo
DESCRIPTION:
URL:https://epictriviafl.com/event/bingo-gators-deland/2026-12-28/
LOCATION:Gators Deland\, 1788 S Woodland Blvd\, Deland\, FL\, 32720\, United States
GEO:28.956782;-81.321619
X-APPLE-STRUCTURED-LOCATION;VALUE=URI;X-ADDRESS=Gators Deland 1788 S Woodland Blvd Deland FL 32720 United States;X-APPLE-RADIUS=500;X-TITLE=1788 S Woodland Blvd:geo:-81.321619,28.956782
END:VEVENT
BEGIN:VEVENT
DTSTART;TZID=America/New_York:20261230T180000
DTEND;TZID=America/New_York:20261230T180000
DTSTAMP:20260419T210505
CREATED:20260105T003118Z
LAST-MODIFIED:20260105T054848Z
UID:10015134-1798653600-1798653600@epictriviafl.com
SUMMARY:Bingo
DESCRIPTION:
URL:https://epictriviafl.com/event/bingo-gators-deland-2/2026-12-30/
LOCATION:Gators Deland\, 1788 S Woodland Blvd\, Deland\, FL\, 32720\, United States
GEO:28.956782;-81.321619
X-APPLE-STRUCTURED-LOCATION;VALUE=URI;X-ADDRESS=Gators Deland 1788 S Woodland Blvd Deland FL 32720 United States;X-APPLE-RADIUS=500;X-TITLE=1788 S Woodland Blvd:geo:-81.321619,28.956782
END:VEVENT
BEGIN:VEVENT
DTSTART;TZID=America/New_York:20270104T180000
DTEND;TZID=America/New_York:20270104T180000
DTSTAMP:20260419T210505
CREATED:20260105T003042Z
LAST-MODIFIED:20260105T055906Z
UID:10019295-1799085600-1799085600@epictriviafl.com
SUMMARY:Bingo
DESCRIPTION:
URL:https://epictriviafl.com/event/bingo-gators-deland/2027-01-04/
LOCATION:Gators Deland\, 1788 S Woodland Blvd\, Deland\, FL\, 32720\, United States
GEO:28.956782;-81.321619
X-APPLE-STRUCTURED-LOCATION;VALUE=URI;X-ADDRESS=Gators Deland 1788 S Woodland Blvd Deland FL 32720 United States;X-APPLE-RADIUS=500;X-TITLE=1788 S Woodland Blvd:geo:-81.321619,28.956782
END:VEVENT
BEGIN:VEVENT
DTSTART;TZID=America/New_York:20270106T180000
DTEND;TZID=America/New_York:20270106T180000
DTSTAMP:20260419T210505
CREATED:20260105T003118Z
LAST-MODIFIED:20260105T054848Z
UID:10015135-1799258400-1799258400@epictriviafl.com
SUMMARY:Bingo
DESCRIPTION:
URL:https://epictriviafl.com/event/bingo-gators-deland-2/2027-01-06/
LOCATION:Gators Deland\, 1788 S Woodland Blvd\, Deland\, FL\, 32720\, United States
GEO:28.956782;-81.321619
X-APPLE-STRUCTURED-LOCATION;VALUE=URI;X-ADDRESS=Gators Deland 1788 S Woodland Blvd Deland FL 32720 United States;X-APPLE-RADIUS=500;X-TITLE=1788 S Woodland Blvd:geo:-81.321619,28.956782
END:VEVENT
BEGIN:VEVENT
DTSTART;TZID=America/New_York:20270111T180000
DTEND;TZID=America/New_York:20270111T180000
DTSTAMP:20260419T210505
CREATED:20260105T003042Z
LAST-MODIFIED:20260105T055906Z
UID:10019296-1799690400-1799690400@epictriviafl.com
SUMMARY:Bingo
DESCRIPTION:
URL:https://epictriviafl.com/event/bingo-gators-deland/2027-01-11/
LOCATION:Gators Deland\, 1788 S Woodland Blvd\, Deland\, FL\, 32720\, United States
GEO:28.956782;-81.321619
X-APPLE-STRUCTURED-LOCATION;VALUE=URI;X-ADDRESS=Gators Deland 1788 S Woodland Blvd Deland FL 32720 United States;X-APPLE-RADIUS=500;X-TITLE=1788 S Woodland Blvd:geo:-81.321619,28.956782
END:VEVENT
BEGIN:VEVENT
DTSTART;TZID=America/New_York:20270113T180000
DTEND;TZID=America/New_York:20270113T180000
DTSTAMP:20260419T210505
CREATED:20260105T003118Z
LAST-MODIFIED:20260105T054848Z
UID:10015136-1799863200-1799863200@epictriviafl.com
SUMMARY:Bingo
DESCRIPTION:
URL:https://epictriviafl.com/event/bingo-gators-deland-2/2027-01-13/
LOCATION:Gators Deland\, 1788 S Woodland Blvd\, Deland\, FL\, 32720\, United States
GEO:28.956782;-81.321619
X-APPLE-STRUCTURED-LOCATION;VALUE=URI;X-ADDRESS=Gators Deland 1788 S Woodland Blvd Deland FL 32720 United States;X-APPLE-RADIUS=500;X-TITLE=1788 S Woodland Blvd:geo:-81.321619,28.956782
END:VEVENT
END:VCALENDAR