BEGIN:VCALENDAR
VERSION:2.0
PRODID:-//Epic Trivia - ECPv6.15.18//NONSGML v1.0//EN
CALSCALE:GREGORIAN
METHOD:PUBLISH
X-ORIGINAL-URL:https://epictriviafl.com
X-WR-CALDESC:Events for Epic Trivia
REFRESH-INTERVAL;VALUE=DURATION:PT1H
X-Robots-Tag:noindex
X-PUBLISHED-TTL:PT1H
BEGIN:VTIMEZONE
TZID:America/New_York
BEGIN:DAYLIGHT
TZOFFSETFROM:-0500
TZOFFSETTO:-0400
TZNAME:EDT
DTSTART:20280312T070000
END:DAYLIGHT
BEGIN:STANDARD
TZOFFSETFROM:-0400
TZOFFSETTO:-0500
TZNAME:EST
DTSTART:20281105T060000
END:STANDARD
BEGIN:DAYLIGHT
TZOFFSETFROM:-0500
TZOFFSETTO:-0400
TZNAME:EDT
DTSTART:20290311T070000
END:DAYLIGHT
BEGIN:STANDARD
TZOFFSETFROM:-0400
TZOFFSETTO:-0500
TZNAME:EST
DTSTART:20291104T060000
END:STANDARD
BEGIN:DAYLIGHT
TZOFFSETFROM:-0500
TZOFFSETTO:-0400
TZNAME:EDT
DTSTART:20300310T070000
END:DAYLIGHT
BEGIN:STANDARD
TZOFFSETFROM:-0400
TZOFFSETTO:-0500
TZNAME:EST
DTSTART:20301103T060000
END:STANDARD
BEGIN:DAYLIGHT
TZOFFSETFROM:-0500
TZOFFSETTO:-0400
TZNAME:EDT
DTSTART:20310309T070000
END:DAYLIGHT
BEGIN:STANDARD
TZOFFSETFROM:-0400
TZOFFSETTO:-0500
TZNAME:EST
DTSTART:20311102T060000
END:STANDARD
END:VTIMEZONE
BEGIN:VEVENT
DTSTART;TZID=America/New_York:20291226T180000
DTEND;TZID=America/New_York:20291226T180000
DTSTAMP:20260421T183758
CREATED:20260105T003118Z
LAST-MODIFIED:20260105T054848Z
UID:10015290-1893002400-1893002400@epictriviafl.com
SUMMARY:Bingo
DESCRIPTION:
URL:https://epictriviafl.com/event/bingo-gators-deland-2/2029-12-26/
LOCATION:Gators Deland\, 1788 S Woodland Blvd\, Deland\, FL\, 32720\, United States
GEO:28.956782;-81.321619
X-APPLE-STRUCTURED-LOCATION;VALUE=URI;X-ADDRESS=Gators Deland 1788 S Woodland Blvd Deland FL 32720 United States;X-APPLE-RADIUS=500;X-TITLE=1788 S Woodland Blvd:geo:-81.321619,28.956782
END:VEVENT
BEGIN:VEVENT
DTSTART;TZID=America/New_York:20291231T180000
DTEND;TZID=America/New_York:20291231T180000
DTSTAMP:20260421T183758
CREATED:20260105T003042Z
LAST-MODIFIED:20260105T055906Z
UID:10019451-1893434400-1893434400@epictriviafl.com
SUMMARY:Bingo
DESCRIPTION:
URL:https://epictriviafl.com/event/bingo-gators-deland/2029-12-31/
LOCATION:Gators Deland\, 1788 S Woodland Blvd\, Deland\, FL\, 32720\, United States
GEO:28.956782;-81.321619
X-APPLE-STRUCTURED-LOCATION;VALUE=URI;X-ADDRESS=Gators Deland 1788 S Woodland Blvd Deland FL 32720 United States;X-APPLE-RADIUS=500;X-TITLE=1788 S Woodland Blvd:geo:-81.321619,28.956782
END:VEVENT
BEGIN:VEVENT
DTSTART;TZID=America/New_York:20300102T180000
DTEND;TZID=America/New_York:20300102T180000
DTSTAMP:20260421T183758
CREATED:20260105T003118Z
LAST-MODIFIED:20260105T054848Z
UID:10015291-1893607200-1893607200@epictriviafl.com
SUMMARY:Bingo
DESCRIPTION:
URL:https://epictriviafl.com/event/bingo-gators-deland-2/2030-01-02/
LOCATION:Gators Deland\, 1788 S Woodland Blvd\, Deland\, FL\, 32720\, United States
GEO:28.956782;-81.321619
X-APPLE-STRUCTURED-LOCATION;VALUE=URI;X-ADDRESS=Gators Deland 1788 S Woodland Blvd Deland FL 32720 United States;X-APPLE-RADIUS=500;X-TITLE=1788 S Woodland Blvd:geo:-81.321619,28.956782
END:VEVENT
BEGIN:VEVENT
DTSTART;TZID=America/New_York:20300107T180000
DTEND;TZID=America/New_York:20300107T180000
DTSTAMP:20260421T183758
CREATED:20260105T003042Z
LAST-MODIFIED:20260105T055906Z
UID:10019452-1894039200-1894039200@epictriviafl.com
SUMMARY:Bingo
DESCRIPTION:
URL:https://epictriviafl.com/event/bingo-gators-deland/2030-01-07/
LOCATION:Gators Deland\, 1788 S Woodland Blvd\, Deland\, FL\, 32720\, United States
GEO:28.956782;-81.321619
X-APPLE-STRUCTURED-LOCATION;VALUE=URI;X-ADDRESS=Gators Deland 1788 S Woodland Blvd Deland FL 32720 United States;X-APPLE-RADIUS=500;X-TITLE=1788 S Woodland Blvd:geo:-81.321619,28.956782
END:VEVENT
BEGIN:VEVENT
DTSTART;TZID=America/New_York:20300109T180000
DTEND;TZID=America/New_York:20300109T180000
DTSTAMP:20260421T183758
CREATED:20260105T003118Z
LAST-MODIFIED:20260105T054848Z
UID:10015292-1894212000-1894212000@epictriviafl.com
SUMMARY:Bingo
DESCRIPTION:
URL:https://epictriviafl.com/event/bingo-gators-deland-2/2030-01-09/
LOCATION:Gators Deland\, 1788 S Woodland Blvd\, Deland\, FL\, 32720\, United States
GEO:28.956782;-81.321619
X-APPLE-STRUCTURED-LOCATION;VALUE=URI;X-ADDRESS=Gators Deland 1788 S Woodland Blvd Deland FL 32720 United States;X-APPLE-RADIUS=500;X-TITLE=1788 S Woodland Blvd:geo:-81.321619,28.956782
END:VEVENT
BEGIN:VEVENT
DTSTART;TZID=America/New_York:20300114T180000
DTEND;TZID=America/New_York:20300114T180000
DTSTAMP:20260421T183758
CREATED:20260105T003042Z
LAST-MODIFIED:20260105T055906Z
UID:10019453-1894644000-1894644000@epictriviafl.com
SUMMARY:Bingo
DESCRIPTION:
URL:https://epictriviafl.com/event/bingo-gators-deland/2030-01-14/
LOCATION:Gators Deland\, 1788 S Woodland Blvd\, Deland\, FL\, 32720\, United States
GEO:28.956782;-81.321619
X-APPLE-STRUCTURED-LOCATION;VALUE=URI;X-ADDRESS=Gators Deland 1788 S Woodland Blvd Deland FL 32720 United States;X-APPLE-RADIUS=500;X-TITLE=1788 S Woodland Blvd:geo:-81.321619,28.956782
END:VEVENT
BEGIN:VEVENT
DTSTART;TZID=America/New_York:20300116T180000
DTEND;TZID=America/New_York:20300116T180000
DTSTAMP:20260421T183758
CREATED:20260105T003118Z
LAST-MODIFIED:20260105T054848Z
UID:10015293-1894816800-1894816800@epictriviafl.com
SUMMARY:Bingo
DESCRIPTION:
URL:https://epictriviafl.com/event/bingo-gators-deland-2/2030-01-16/
LOCATION:Gators Deland\, 1788 S Woodland Blvd\, Deland\, FL\, 32720\, United States
GEO:28.956782;-81.321619
X-APPLE-STRUCTURED-LOCATION;VALUE=URI;X-ADDRESS=Gators Deland 1788 S Woodland Blvd Deland FL 32720 United States;X-APPLE-RADIUS=500;X-TITLE=1788 S Woodland Blvd:geo:-81.321619,28.956782
END:VEVENT
BEGIN:VEVENT
DTSTART;TZID=America/New_York:20300121T180000
DTEND;TZID=America/New_York:20300121T180000
DTSTAMP:20260421T183758
CREATED:20260105T003042Z
LAST-MODIFIED:20260105T055906Z
UID:10019454-1895248800-1895248800@epictriviafl.com
SUMMARY:Bingo
DESCRIPTION:
URL:https://epictriviafl.com/event/bingo-gators-deland/2030-01-21/
LOCATION:Gators Deland\, 1788 S Woodland Blvd\, Deland\, FL\, 32720\, United States
GEO:28.956782;-81.321619
X-APPLE-STRUCTURED-LOCATION;VALUE=URI;X-ADDRESS=Gators Deland 1788 S Woodland Blvd Deland FL 32720 United States;X-APPLE-RADIUS=500;X-TITLE=1788 S Woodland Blvd:geo:-81.321619,28.956782
END:VEVENT
BEGIN:VEVENT
DTSTART;TZID=America/New_York:20300123T180000
DTEND;TZID=America/New_York:20300123T180000
DTSTAMP:20260421T183758
CREATED:20260105T003118Z
LAST-MODIFIED:20260105T054848Z
UID:10015294-1895421600-1895421600@epictriviafl.com
SUMMARY:Bingo
DESCRIPTION:
URL:https://epictriviafl.com/event/bingo-gators-deland-2/2030-01-23/
LOCATION:Gators Deland\, 1788 S Woodland Blvd\, Deland\, FL\, 32720\, United States
GEO:28.956782;-81.321619
X-APPLE-STRUCTURED-LOCATION;VALUE=URI;X-ADDRESS=Gators Deland 1788 S Woodland Blvd Deland FL 32720 United States;X-APPLE-RADIUS=500;X-TITLE=1788 S Woodland Blvd:geo:-81.321619,28.956782
END:VEVENT
BEGIN:VEVENT
DTSTART;TZID=America/New_York:20300128T180000
DTEND;TZID=America/New_York:20300128T180000
DTSTAMP:20260421T183758
CREATED:20260105T003042Z
LAST-MODIFIED:20260105T055906Z
UID:10019455-1895853600-1895853600@epictriviafl.com
SUMMARY:Bingo
DESCRIPTION:
URL:https://epictriviafl.com/event/bingo-gators-deland/2030-01-28/
LOCATION:Gators Deland\, 1788 S Woodland Blvd\, Deland\, FL\, 32720\, United States
GEO:28.956782;-81.321619
X-APPLE-STRUCTURED-LOCATION;VALUE=URI;X-ADDRESS=Gators Deland 1788 S Woodland Blvd Deland FL 32720 United States;X-APPLE-RADIUS=500;X-TITLE=1788 S Woodland Blvd:geo:-81.321619,28.956782
END:VEVENT
BEGIN:VEVENT
DTSTART;TZID=America/New_York:20300130T180000
DTEND;TZID=America/New_York:20300130T180000
DTSTAMP:20260421T183758
CREATED:20260105T003118Z
LAST-MODIFIED:20260105T054848Z
UID:10015295-1896026400-1896026400@epictriviafl.com
SUMMARY:Bingo
DESCRIPTION:
URL:https://epictriviafl.com/event/bingo-gators-deland-2/2030-01-30/
LOCATION:Gators Deland\, 1788 S Woodland Blvd\, Deland\, FL\, 32720\, United States
GEO:28.956782;-81.321619
X-APPLE-STRUCTURED-LOCATION;VALUE=URI;X-ADDRESS=Gators Deland 1788 S Woodland Blvd Deland FL 32720 United States;X-APPLE-RADIUS=500;X-TITLE=1788 S Woodland Blvd:geo:-81.321619,28.956782
END:VEVENT
BEGIN:VEVENT
DTSTART;TZID=America/New_York:20300204T180000
DTEND;TZID=America/New_York:20300204T180000
DTSTAMP:20260421T183758
CREATED:20260105T003042Z
LAST-MODIFIED:20260105T055906Z
UID:10019456-1896458400-1896458400@epictriviafl.com
SUMMARY:Bingo
DESCRIPTION:
URL:https://epictriviafl.com/event/bingo-gators-deland/2030-02-04/
LOCATION:Gators Deland\, 1788 S Woodland Blvd\, Deland\, FL\, 32720\, United States
GEO:28.956782;-81.321619
X-APPLE-STRUCTURED-LOCATION;VALUE=URI;X-ADDRESS=Gators Deland 1788 S Woodland Blvd Deland FL 32720 United States;X-APPLE-RADIUS=500;X-TITLE=1788 S Woodland Blvd:geo:-81.321619,28.956782
END:VEVENT
BEGIN:VEVENT
DTSTART;TZID=America/New_York:20300206T180000
DTEND;TZID=America/New_York:20300206T180000
DTSTAMP:20260421T183758
CREATED:20260105T003118Z
LAST-MODIFIED:20260105T054848Z
UID:10015296-1896631200-1896631200@epictriviafl.com
SUMMARY:Bingo
DESCRIPTION:
URL:https://epictriviafl.com/event/bingo-gators-deland-2/2030-02-06/
LOCATION:Gators Deland\, 1788 S Woodland Blvd\, Deland\, FL\, 32720\, United States
GEO:28.956782;-81.321619
X-APPLE-STRUCTURED-LOCATION;VALUE=URI;X-ADDRESS=Gators Deland 1788 S Woodland Blvd Deland FL 32720 United States;X-APPLE-RADIUS=500;X-TITLE=1788 S Woodland Blvd:geo:-81.321619,28.956782
END:VEVENT
BEGIN:VEVENT
DTSTART;TZID=America/New_York:20300211T180000
DTEND;TZID=America/New_York:20300211T180000
DTSTAMP:20260421T183758
CREATED:20260105T003042Z
LAST-MODIFIED:20260105T055906Z
UID:10019457-1897063200-1897063200@epictriviafl.com
SUMMARY:Bingo
DESCRIPTION:
URL:https://epictriviafl.com/event/bingo-gators-deland/2030-02-11/
LOCATION:Gators Deland\, 1788 S Woodland Blvd\, Deland\, FL\, 32720\, United States
GEO:28.956782;-81.321619
X-APPLE-STRUCTURED-LOCATION;VALUE=URI;X-ADDRESS=Gators Deland 1788 S Woodland Blvd Deland FL 32720 United States;X-APPLE-RADIUS=500;X-TITLE=1788 S Woodland Blvd:geo:-81.321619,28.956782
END:VEVENT
BEGIN:VEVENT
DTSTART;TZID=America/New_York:20300213T180000
DTEND;TZID=America/New_York:20300213T180000
DTSTAMP:20260421T183758
CREATED:20260105T003118Z
LAST-MODIFIED:20260105T054848Z
UID:10015297-1897236000-1897236000@epictriviafl.com
SUMMARY:Bingo
DESCRIPTION:
URL:https://epictriviafl.com/event/bingo-gators-deland-2/2030-02-13/
LOCATION:Gators Deland\, 1788 S Woodland Blvd\, Deland\, FL\, 32720\, United States
GEO:28.956782;-81.321619
X-APPLE-STRUCTURED-LOCATION;VALUE=URI;X-ADDRESS=Gators Deland 1788 S Woodland Blvd Deland FL 32720 United States;X-APPLE-RADIUS=500;X-TITLE=1788 S Woodland Blvd:geo:-81.321619,28.956782
END:VEVENT
BEGIN:VEVENT
DTSTART;TZID=America/New_York:20300218T180000
DTEND;TZID=America/New_York:20300218T180000
DTSTAMP:20260421T183758
CREATED:20260105T003042Z
LAST-MODIFIED:20260105T055906Z
UID:10019458-1897668000-1897668000@epictriviafl.com
SUMMARY:Bingo
DESCRIPTION:
URL:https://epictriviafl.com/event/bingo-gators-deland/2030-02-18/
LOCATION:Gators Deland\, 1788 S Woodland Blvd\, Deland\, FL\, 32720\, United States
GEO:28.956782;-81.321619
X-APPLE-STRUCTURED-LOCATION;VALUE=URI;X-ADDRESS=Gators Deland 1788 S Woodland Blvd Deland FL 32720 United States;X-APPLE-RADIUS=500;X-TITLE=1788 S Woodland Blvd:geo:-81.321619,28.956782
END:VEVENT
BEGIN:VEVENT
DTSTART;TZID=America/New_York:20300220T180000
DTEND;TZID=America/New_York:20300220T180000
DTSTAMP:20260421T183758
CREATED:20260105T003118Z
LAST-MODIFIED:20260105T054848Z
UID:10015298-1897840800-1897840800@epictriviafl.com
SUMMARY:Bingo
DESCRIPTION:
URL:https://epictriviafl.com/event/bingo-gators-deland-2/2030-02-20/
LOCATION:Gators Deland\, 1788 S Woodland Blvd\, Deland\, FL\, 32720\, United States
GEO:28.956782;-81.321619
X-APPLE-STRUCTURED-LOCATION;VALUE=URI;X-ADDRESS=Gators Deland 1788 S Woodland Blvd Deland FL 32720 United States;X-APPLE-RADIUS=500;X-TITLE=1788 S Woodland Blvd:geo:-81.321619,28.956782
END:VEVENT
BEGIN:VEVENT
DTSTART;TZID=America/New_York:20300225T180000
DTEND;TZID=America/New_York:20300225T180000
DTSTAMP:20260421T183758
CREATED:20260105T003042Z
LAST-MODIFIED:20260105T055906Z
UID:10019459-1898272800-1898272800@epictriviafl.com
SUMMARY:Bingo
DESCRIPTION:
URL:https://epictriviafl.com/event/bingo-gators-deland/2030-02-25/
LOCATION:Gators Deland\, 1788 S Woodland Blvd\, Deland\, FL\, 32720\, United States
GEO:28.956782;-81.321619
X-APPLE-STRUCTURED-LOCATION;VALUE=URI;X-ADDRESS=Gators Deland 1788 S Woodland Blvd Deland FL 32720 United States;X-APPLE-RADIUS=500;X-TITLE=1788 S Woodland Blvd:geo:-81.321619,28.956782
END:VEVENT
BEGIN:VEVENT
DTSTART;TZID=America/New_York:20300227T180000
DTEND;TZID=America/New_York:20300227T180000
DTSTAMP:20260421T183758
CREATED:20260105T003118Z
LAST-MODIFIED:20260105T054848Z
UID:10015299-1898445600-1898445600@epictriviafl.com
SUMMARY:Bingo
DESCRIPTION:
URL:https://epictriviafl.com/event/bingo-gators-deland-2/2030-02-27/
LOCATION:Gators Deland\, 1788 S Woodland Blvd\, Deland\, FL\, 32720\, United States
GEO:28.956782;-81.321619
X-APPLE-STRUCTURED-LOCATION;VALUE=URI;X-ADDRESS=Gators Deland 1788 S Woodland Blvd Deland FL 32720 United States;X-APPLE-RADIUS=500;X-TITLE=1788 S Woodland Blvd:geo:-81.321619,28.956782
END:VEVENT
BEGIN:VEVENT
DTSTART;TZID=America/New_York:20300304T180000
DTEND;TZID=America/New_York:20300304T180000
DTSTAMP:20260421T183758
CREATED:20260105T003042Z
LAST-MODIFIED:20260105T055906Z
UID:10019460-1898877600-1898877600@epictriviafl.com
SUMMARY:Bingo
DESCRIPTION:
URL:https://epictriviafl.com/event/bingo-gators-deland/2030-03-04/
LOCATION:Gators Deland\, 1788 S Woodland Blvd\, Deland\, FL\, 32720\, United States
GEO:28.956782;-81.321619
X-APPLE-STRUCTURED-LOCATION;VALUE=URI;X-ADDRESS=Gators Deland 1788 S Woodland Blvd Deland FL 32720 United States;X-APPLE-RADIUS=500;X-TITLE=1788 S Woodland Blvd:geo:-81.321619,28.956782
END:VEVENT
BEGIN:VEVENT
DTSTART;TZID=America/New_York:20300306T180000
DTEND;TZID=America/New_York:20300306T180000
DTSTAMP:20260421T183758
CREATED:20260105T003118Z
LAST-MODIFIED:20260105T054848Z
UID:10015300-1899050400-1899050400@epictriviafl.com
SUMMARY:Bingo
DESCRIPTION:
URL:https://epictriviafl.com/event/bingo-gators-deland-2/2030-03-06/
LOCATION:Gators Deland\, 1788 S Woodland Blvd\, Deland\, FL\, 32720\, United States
GEO:28.956782;-81.321619
X-APPLE-STRUCTURED-LOCATION;VALUE=URI;X-ADDRESS=Gators Deland 1788 S Woodland Blvd Deland FL 32720 United States;X-APPLE-RADIUS=500;X-TITLE=1788 S Woodland Blvd:geo:-81.321619,28.956782
END:VEVENT
BEGIN:VEVENT
DTSTART;TZID=America/New_York:20300311T180000
DTEND;TZID=America/New_York:20300311T180000
DTSTAMP:20260421T183758
CREATED:20260105T003042Z
LAST-MODIFIED:20260105T055906Z
UID:10019461-1899482400-1899482400@epictriviafl.com
SUMMARY:Bingo
DESCRIPTION:
URL:https://epictriviafl.com/event/bingo-gators-deland/2030-03-11/
LOCATION:Gators Deland\, 1788 S Woodland Blvd\, Deland\, FL\, 32720\, United States
GEO:28.956782;-81.321619
X-APPLE-STRUCTURED-LOCATION;VALUE=URI;X-ADDRESS=Gators Deland 1788 S Woodland Blvd Deland FL 32720 United States;X-APPLE-RADIUS=500;X-TITLE=1788 S Woodland Blvd:geo:-81.321619,28.956782
END:VEVENT
BEGIN:VEVENT
DTSTART;TZID=America/New_York:20300313T180000
DTEND;TZID=America/New_York:20300313T180000
DTSTAMP:20260421T183758
CREATED:20260105T003118Z
LAST-MODIFIED:20260105T054848Z
UID:10015301-1899655200-1899655200@epictriviafl.com
SUMMARY:Bingo
DESCRIPTION:
URL:https://epictriviafl.com/event/bingo-gators-deland-2/2030-03-13/
LOCATION:Gators Deland\, 1788 S Woodland Blvd\, Deland\, FL\, 32720\, United States
GEO:28.956782;-81.321619
X-APPLE-STRUCTURED-LOCATION;VALUE=URI;X-ADDRESS=Gators Deland 1788 S Woodland Blvd Deland FL 32720 United States;X-APPLE-RADIUS=500;X-TITLE=1788 S Woodland Blvd:geo:-81.321619,28.956782
END:VEVENT
BEGIN:VEVENT
DTSTART;TZID=America/New_York:20300318T180000
DTEND;TZID=America/New_York:20300318T180000
DTSTAMP:20260421T183758
CREATED:20260105T003042Z
LAST-MODIFIED:20260105T055906Z
UID:10019462-1900087200-1900087200@epictriviafl.com
SUMMARY:Bingo
DESCRIPTION:
URL:https://epictriviafl.com/event/bingo-gators-deland/2030-03-18/
LOCATION:Gators Deland\, 1788 S Woodland Blvd\, Deland\, FL\, 32720\, United States
GEO:28.956782;-81.321619
X-APPLE-STRUCTURED-LOCATION;VALUE=URI;X-ADDRESS=Gators Deland 1788 S Woodland Blvd Deland FL 32720 United States;X-APPLE-RADIUS=500;X-TITLE=1788 S Woodland Blvd:geo:-81.321619,28.956782
END:VEVENT
BEGIN:VEVENT
DTSTART;TZID=America/New_York:20300320T180000
DTEND;TZID=America/New_York:20300320T180000
DTSTAMP:20260421T183758
CREATED:20260105T003118Z
LAST-MODIFIED:20260105T054848Z
UID:10015302-1900260000-1900260000@epictriviafl.com
SUMMARY:Bingo
DESCRIPTION:
URL:https://epictriviafl.com/event/bingo-gators-deland-2/2030-03-20/
LOCATION:Gators Deland\, 1788 S Woodland Blvd\, Deland\, FL\, 32720\, United States
GEO:28.956782;-81.321619
X-APPLE-STRUCTURED-LOCATION;VALUE=URI;X-ADDRESS=Gators Deland 1788 S Woodland Blvd Deland FL 32720 United States;X-APPLE-RADIUS=500;X-TITLE=1788 S Woodland Blvd:geo:-81.321619,28.956782
END:VEVENT
BEGIN:VEVENT
DTSTART;TZID=America/New_York:20300325T180000
DTEND;TZID=America/New_York:20300325T180000
DTSTAMP:20260421T183758
CREATED:20260105T003042Z
LAST-MODIFIED:20260105T055906Z
UID:10019463-1900692000-1900692000@epictriviafl.com
SUMMARY:Bingo
DESCRIPTION:
URL:https://epictriviafl.com/event/bingo-gators-deland/2030-03-25/
LOCATION:Gators Deland\, 1788 S Woodland Blvd\, Deland\, FL\, 32720\, United States
GEO:28.956782;-81.321619
X-APPLE-STRUCTURED-LOCATION;VALUE=URI;X-ADDRESS=Gators Deland 1788 S Woodland Blvd Deland FL 32720 United States;X-APPLE-RADIUS=500;X-TITLE=1788 S Woodland Blvd:geo:-81.321619,28.956782
END:VEVENT
BEGIN:VEVENT
DTSTART;TZID=America/New_York:20300327T180000
DTEND;TZID=America/New_York:20300327T180000
DTSTAMP:20260421T183758
CREATED:20260105T003118Z
LAST-MODIFIED:20260105T054848Z
UID:10015303-1900864800-1900864800@epictriviafl.com
SUMMARY:Bingo
DESCRIPTION:
URL:https://epictriviafl.com/event/bingo-gators-deland-2/2030-03-27/
LOCATION:Gators Deland\, 1788 S Woodland Blvd\, Deland\, FL\, 32720\, United States
GEO:28.956782;-81.321619
X-APPLE-STRUCTURED-LOCATION;VALUE=URI;X-ADDRESS=Gators Deland 1788 S Woodland Blvd Deland FL 32720 United States;X-APPLE-RADIUS=500;X-TITLE=1788 S Woodland Blvd:geo:-81.321619,28.956782
END:VEVENT
BEGIN:VEVENT
DTSTART;TZID=America/New_York:20300401T180000
DTEND;TZID=America/New_York:20300401T180000
DTSTAMP:20260421T183758
CREATED:20260105T003042Z
LAST-MODIFIED:20260105T055906Z
UID:10019464-1901296800-1901296800@epictriviafl.com
SUMMARY:Bingo
DESCRIPTION:
URL:https://epictriviafl.com/event/bingo-gators-deland/2030-04-01/
LOCATION:Gators Deland\, 1788 S Woodland Blvd\, Deland\, FL\, 32720\, United States
GEO:28.956782;-81.321619
X-APPLE-STRUCTURED-LOCATION;VALUE=URI;X-ADDRESS=Gators Deland 1788 S Woodland Blvd Deland FL 32720 United States;X-APPLE-RADIUS=500;X-TITLE=1788 S Woodland Blvd:geo:-81.321619,28.956782
END:VEVENT
BEGIN:VEVENT
DTSTART;TZID=America/New_York:20300403T180000
DTEND;TZID=America/New_York:20300403T180000
DTSTAMP:20260421T183758
CREATED:20260105T003118Z
LAST-MODIFIED:20260105T054848Z
UID:10015304-1901469600-1901469600@epictriviafl.com
SUMMARY:Bingo
DESCRIPTION:
URL:https://epictriviafl.com/event/bingo-gators-deland-2/2030-04-03/
LOCATION:Gators Deland\, 1788 S Woodland Blvd\, Deland\, FL\, 32720\, United States
GEO:28.956782;-81.321619
X-APPLE-STRUCTURED-LOCATION;VALUE=URI;X-ADDRESS=Gators Deland 1788 S Woodland Blvd Deland FL 32720 United States;X-APPLE-RADIUS=500;X-TITLE=1788 S Woodland Blvd:geo:-81.321619,28.956782
END:VEVENT
BEGIN:VEVENT
DTSTART;TZID=America/New_York:20300408T180000
DTEND;TZID=America/New_York:20300408T180000
DTSTAMP:20260421T183758
CREATED:20260105T003042Z
LAST-MODIFIED:20260105T055906Z
UID:10019465-1901901600-1901901600@epictriviafl.com
SUMMARY:Bingo
DESCRIPTION:
URL:https://epictriviafl.com/event/bingo-gators-deland/2030-04-08/
LOCATION:Gators Deland\, 1788 S Woodland Blvd\, Deland\, FL\, 32720\, United States
GEO:28.956782;-81.321619
X-APPLE-STRUCTURED-LOCATION;VALUE=URI;X-ADDRESS=Gators Deland 1788 S Woodland Blvd Deland FL 32720 United States;X-APPLE-RADIUS=500;X-TITLE=1788 S Woodland Blvd:geo:-81.321619,28.956782
END:VEVENT
END:VCALENDAR