BEGIN:VCALENDAR
VERSION:2.0
PRODID:-//Epic Trivia - ECPv6.15.18//NONSGML v1.0//EN
CALSCALE:GREGORIAN
METHOD:PUBLISH
X-ORIGINAL-URL:https://epictriviafl.com
X-WR-CALDESC:Events for Epic Trivia
REFRESH-INTERVAL;VALUE=DURATION:PT1H
X-Robots-Tag:noindex
X-PUBLISHED-TTL:PT1H
BEGIN:VTIMEZONE
TZID:America/New_York
BEGIN:DAYLIGHT
TZOFFSETFROM:-0500
TZOFFSETTO:-0400
TZNAME:EDT
DTSTART:20280312T070000
END:DAYLIGHT
BEGIN:STANDARD
TZOFFSETFROM:-0400
TZOFFSETTO:-0500
TZNAME:EST
DTSTART:20281105T060000
END:STANDARD
BEGIN:DAYLIGHT
TZOFFSETFROM:-0500
TZOFFSETTO:-0400
TZNAME:EDT
DTSTART:20290311T070000
END:DAYLIGHT
BEGIN:STANDARD
TZOFFSETFROM:-0400
TZOFFSETTO:-0500
TZNAME:EST
DTSTART:20291104T060000
END:STANDARD
BEGIN:DAYLIGHT
TZOFFSETFROM:-0500
TZOFFSETTO:-0400
TZNAME:EDT
DTSTART:20300310T070000
END:DAYLIGHT
BEGIN:STANDARD
TZOFFSETFROM:-0400
TZOFFSETTO:-0500
TZNAME:EST
DTSTART:20301103T060000
END:STANDARD
END:VTIMEZONE
BEGIN:VEVENT
DTSTART;TZID=America/New_York:20290124T180000
DTEND;TZID=America/New_York:20290124T180000
DTSTAMP:20260421T060422
CREATED:20260105T003118Z
LAST-MODIFIED:20260105T054848Z
UID:10015242-1863972000-1863972000@epictriviafl.com
SUMMARY:Bingo
DESCRIPTION:
URL:https://epictriviafl.com/event/bingo-gators-deland-2/2029-01-24/
LOCATION:Gators Deland\, 1788 S Woodland Blvd\, Deland\, FL\, 32720\, United States
GEO:28.956782;-81.321619
X-APPLE-STRUCTURED-LOCATION;VALUE=URI;X-ADDRESS=Gators Deland 1788 S Woodland Blvd Deland FL 32720 United States;X-APPLE-RADIUS=500;X-TITLE=1788 S Woodland Blvd:geo:-81.321619,28.956782
END:VEVENT
BEGIN:VEVENT
DTSTART;TZID=America/New_York:20290129T180000
DTEND;TZID=America/New_York:20290129T180000
DTSTAMP:20260421T060422
CREATED:20260105T003042Z
LAST-MODIFIED:20260105T055906Z
UID:10019403-1864404000-1864404000@epictriviafl.com
SUMMARY:Bingo
DESCRIPTION:
URL:https://epictriviafl.com/event/bingo-gators-deland/2029-01-29/
LOCATION:Gators Deland\, 1788 S Woodland Blvd\, Deland\, FL\, 32720\, United States
GEO:28.956782;-81.321619
X-APPLE-STRUCTURED-LOCATION;VALUE=URI;X-ADDRESS=Gators Deland 1788 S Woodland Blvd Deland FL 32720 United States;X-APPLE-RADIUS=500;X-TITLE=1788 S Woodland Blvd:geo:-81.321619,28.956782
END:VEVENT
BEGIN:VEVENT
DTSTART;TZID=America/New_York:20290131T180000
DTEND;TZID=America/New_York:20290131T180000
DTSTAMP:20260421T060422
CREATED:20260105T003118Z
LAST-MODIFIED:20260105T054848Z
UID:10015243-1864576800-1864576800@epictriviafl.com
SUMMARY:Bingo
DESCRIPTION:
URL:https://epictriviafl.com/event/bingo-gators-deland-2/2029-01-31/
LOCATION:Gators Deland\, 1788 S Woodland Blvd\, Deland\, FL\, 32720\, United States
GEO:28.956782;-81.321619
X-APPLE-STRUCTURED-LOCATION;VALUE=URI;X-ADDRESS=Gators Deland 1788 S Woodland Blvd Deland FL 32720 United States;X-APPLE-RADIUS=500;X-TITLE=1788 S Woodland Blvd:geo:-81.321619,28.956782
END:VEVENT
BEGIN:VEVENT
DTSTART;TZID=America/New_York:20290205T180000
DTEND;TZID=America/New_York:20290205T180000
DTSTAMP:20260421T060422
CREATED:20260105T003042Z
LAST-MODIFIED:20260105T055906Z
UID:10019404-1865008800-1865008800@epictriviafl.com
SUMMARY:Bingo
DESCRIPTION:
URL:https://epictriviafl.com/event/bingo-gators-deland/2029-02-05/
LOCATION:Gators Deland\, 1788 S Woodland Blvd\, Deland\, FL\, 32720\, United States
GEO:28.956782;-81.321619
X-APPLE-STRUCTURED-LOCATION;VALUE=URI;X-ADDRESS=Gators Deland 1788 S Woodland Blvd Deland FL 32720 United States;X-APPLE-RADIUS=500;X-TITLE=1788 S Woodland Blvd:geo:-81.321619,28.956782
END:VEVENT
BEGIN:VEVENT
DTSTART;TZID=America/New_York:20290207T180000
DTEND;TZID=America/New_York:20290207T180000
DTSTAMP:20260421T060422
CREATED:20260105T003118Z
LAST-MODIFIED:20260105T054848Z
UID:10015244-1865181600-1865181600@epictriviafl.com
SUMMARY:Bingo
DESCRIPTION:
URL:https://epictriviafl.com/event/bingo-gators-deland-2/2029-02-07/
LOCATION:Gators Deland\, 1788 S Woodland Blvd\, Deland\, FL\, 32720\, United States
GEO:28.956782;-81.321619
X-APPLE-STRUCTURED-LOCATION;VALUE=URI;X-ADDRESS=Gators Deland 1788 S Woodland Blvd Deland FL 32720 United States;X-APPLE-RADIUS=500;X-TITLE=1788 S Woodland Blvd:geo:-81.321619,28.956782
END:VEVENT
BEGIN:VEVENT
DTSTART;TZID=America/New_York:20290212T180000
DTEND;TZID=America/New_York:20290212T180000
DTSTAMP:20260421T060422
CREATED:20260105T003042Z
LAST-MODIFIED:20260105T055906Z
UID:10019405-1865613600-1865613600@epictriviafl.com
SUMMARY:Bingo
DESCRIPTION:
URL:https://epictriviafl.com/event/bingo-gators-deland/2029-02-12/
LOCATION:Gators Deland\, 1788 S Woodland Blvd\, Deland\, FL\, 32720\, United States
GEO:28.956782;-81.321619
X-APPLE-STRUCTURED-LOCATION;VALUE=URI;X-ADDRESS=Gators Deland 1788 S Woodland Blvd Deland FL 32720 United States;X-APPLE-RADIUS=500;X-TITLE=1788 S Woodland Blvd:geo:-81.321619,28.956782
END:VEVENT
BEGIN:VEVENT
DTSTART;TZID=America/New_York:20290214T180000
DTEND;TZID=America/New_York:20290214T180000
DTSTAMP:20260421T060422
CREATED:20260105T003118Z
LAST-MODIFIED:20260105T054848Z
UID:10015245-1865786400-1865786400@epictriviafl.com
SUMMARY:Bingo
DESCRIPTION:
URL:https://epictriviafl.com/event/bingo-gators-deland-2/2029-02-14/
LOCATION:Gators Deland\, 1788 S Woodland Blvd\, Deland\, FL\, 32720\, United States
GEO:28.956782;-81.321619
X-APPLE-STRUCTURED-LOCATION;VALUE=URI;X-ADDRESS=Gators Deland 1788 S Woodland Blvd Deland FL 32720 United States;X-APPLE-RADIUS=500;X-TITLE=1788 S Woodland Blvd:geo:-81.321619,28.956782
END:VEVENT
BEGIN:VEVENT
DTSTART;TZID=America/New_York:20290219T180000
DTEND;TZID=America/New_York:20290219T180000
DTSTAMP:20260421T060422
CREATED:20260105T003042Z
LAST-MODIFIED:20260105T055906Z
UID:10019406-1866218400-1866218400@epictriviafl.com
SUMMARY:Bingo
DESCRIPTION:
URL:https://epictriviafl.com/event/bingo-gators-deland/2029-02-19/
LOCATION:Gators Deland\, 1788 S Woodland Blvd\, Deland\, FL\, 32720\, United States
GEO:28.956782;-81.321619
X-APPLE-STRUCTURED-LOCATION;VALUE=URI;X-ADDRESS=Gators Deland 1788 S Woodland Blvd Deland FL 32720 United States;X-APPLE-RADIUS=500;X-TITLE=1788 S Woodland Blvd:geo:-81.321619,28.956782
END:VEVENT
BEGIN:VEVENT
DTSTART;TZID=America/New_York:20290221T180000
DTEND;TZID=America/New_York:20290221T180000
DTSTAMP:20260421T060422
CREATED:20260105T003118Z
LAST-MODIFIED:20260105T054848Z
UID:10015246-1866391200-1866391200@epictriviafl.com
SUMMARY:Bingo
DESCRIPTION:
URL:https://epictriviafl.com/event/bingo-gators-deland-2/2029-02-21/
LOCATION:Gators Deland\, 1788 S Woodland Blvd\, Deland\, FL\, 32720\, United States
GEO:28.956782;-81.321619
X-APPLE-STRUCTURED-LOCATION;VALUE=URI;X-ADDRESS=Gators Deland 1788 S Woodland Blvd Deland FL 32720 United States;X-APPLE-RADIUS=500;X-TITLE=1788 S Woodland Blvd:geo:-81.321619,28.956782
END:VEVENT
BEGIN:VEVENT
DTSTART;TZID=America/New_York:20290226T180000
DTEND;TZID=America/New_York:20290226T180000
DTSTAMP:20260421T060422
CREATED:20260105T003042Z
LAST-MODIFIED:20260105T055906Z
UID:10019407-1866823200-1866823200@epictriviafl.com
SUMMARY:Bingo
DESCRIPTION:
URL:https://epictriviafl.com/event/bingo-gators-deland/2029-02-26/
LOCATION:Gators Deland\, 1788 S Woodland Blvd\, Deland\, FL\, 32720\, United States
GEO:28.956782;-81.321619
X-APPLE-STRUCTURED-LOCATION;VALUE=URI;X-ADDRESS=Gators Deland 1788 S Woodland Blvd Deland FL 32720 United States;X-APPLE-RADIUS=500;X-TITLE=1788 S Woodland Blvd:geo:-81.321619,28.956782
END:VEVENT
BEGIN:VEVENT
DTSTART;TZID=America/New_York:20290228T180000
DTEND;TZID=America/New_York:20290228T180000
DTSTAMP:20260421T060422
CREATED:20260105T003118Z
LAST-MODIFIED:20260105T054848Z
UID:10015247-1866996000-1866996000@epictriviafl.com
SUMMARY:Bingo
DESCRIPTION:
URL:https://epictriviafl.com/event/bingo-gators-deland-2/2029-02-28/
LOCATION:Gators Deland\, 1788 S Woodland Blvd\, Deland\, FL\, 32720\, United States
GEO:28.956782;-81.321619
X-APPLE-STRUCTURED-LOCATION;VALUE=URI;X-ADDRESS=Gators Deland 1788 S Woodland Blvd Deland FL 32720 United States;X-APPLE-RADIUS=500;X-TITLE=1788 S Woodland Blvd:geo:-81.321619,28.956782
END:VEVENT
BEGIN:VEVENT
DTSTART;TZID=America/New_York:20290305T180000
DTEND;TZID=America/New_York:20290305T180000
DTSTAMP:20260421T060422
CREATED:20260105T003042Z
LAST-MODIFIED:20260105T055906Z
UID:10019408-1867428000-1867428000@epictriviafl.com
SUMMARY:Bingo
DESCRIPTION:
URL:https://epictriviafl.com/event/bingo-gators-deland/2029-03-05/
LOCATION:Gators Deland\, 1788 S Woodland Blvd\, Deland\, FL\, 32720\, United States
GEO:28.956782;-81.321619
X-APPLE-STRUCTURED-LOCATION;VALUE=URI;X-ADDRESS=Gators Deland 1788 S Woodland Blvd Deland FL 32720 United States;X-APPLE-RADIUS=500;X-TITLE=1788 S Woodland Blvd:geo:-81.321619,28.956782
END:VEVENT
BEGIN:VEVENT
DTSTART;TZID=America/New_York:20290307T180000
DTEND;TZID=America/New_York:20290307T180000
DTSTAMP:20260421T060422
CREATED:20260105T003118Z
LAST-MODIFIED:20260105T054848Z
UID:10015248-1867600800-1867600800@epictriviafl.com
SUMMARY:Bingo
DESCRIPTION:
URL:https://epictriviafl.com/event/bingo-gators-deland-2/2029-03-07/
LOCATION:Gators Deland\, 1788 S Woodland Blvd\, Deland\, FL\, 32720\, United States
GEO:28.956782;-81.321619
X-APPLE-STRUCTURED-LOCATION;VALUE=URI;X-ADDRESS=Gators Deland 1788 S Woodland Blvd Deland FL 32720 United States;X-APPLE-RADIUS=500;X-TITLE=1788 S Woodland Blvd:geo:-81.321619,28.956782
END:VEVENT
BEGIN:VEVENT
DTSTART;TZID=America/New_York:20290312T180000
DTEND;TZID=America/New_York:20290312T180000
DTSTAMP:20260421T060422
CREATED:20260105T003042Z
LAST-MODIFIED:20260105T055906Z
UID:10019409-1868032800-1868032800@epictriviafl.com
SUMMARY:Bingo
DESCRIPTION:
URL:https://epictriviafl.com/event/bingo-gators-deland/2029-03-12/
LOCATION:Gators Deland\, 1788 S Woodland Blvd\, Deland\, FL\, 32720\, United States
GEO:28.956782;-81.321619
X-APPLE-STRUCTURED-LOCATION;VALUE=URI;X-ADDRESS=Gators Deland 1788 S Woodland Blvd Deland FL 32720 United States;X-APPLE-RADIUS=500;X-TITLE=1788 S Woodland Blvd:geo:-81.321619,28.956782
END:VEVENT
BEGIN:VEVENT
DTSTART;TZID=America/New_York:20290314T180000
DTEND;TZID=America/New_York:20290314T180000
DTSTAMP:20260421T060422
CREATED:20260105T003118Z
LAST-MODIFIED:20260105T054848Z
UID:10015249-1868205600-1868205600@epictriviafl.com
SUMMARY:Bingo
DESCRIPTION:
URL:https://epictriviafl.com/event/bingo-gators-deland-2/2029-03-14/
LOCATION:Gators Deland\, 1788 S Woodland Blvd\, Deland\, FL\, 32720\, United States
GEO:28.956782;-81.321619
X-APPLE-STRUCTURED-LOCATION;VALUE=URI;X-ADDRESS=Gators Deland 1788 S Woodland Blvd Deland FL 32720 United States;X-APPLE-RADIUS=500;X-TITLE=1788 S Woodland Blvd:geo:-81.321619,28.956782
END:VEVENT
BEGIN:VEVENT
DTSTART;TZID=America/New_York:20290319T180000
DTEND;TZID=America/New_York:20290319T180000
DTSTAMP:20260421T060422
CREATED:20260105T003042Z
LAST-MODIFIED:20260105T055906Z
UID:10019410-1868637600-1868637600@epictriviafl.com
SUMMARY:Bingo
DESCRIPTION:
URL:https://epictriviafl.com/event/bingo-gators-deland/2029-03-19/
LOCATION:Gators Deland\, 1788 S Woodland Blvd\, Deland\, FL\, 32720\, United States
GEO:28.956782;-81.321619
X-APPLE-STRUCTURED-LOCATION;VALUE=URI;X-ADDRESS=Gators Deland 1788 S Woodland Blvd Deland FL 32720 United States;X-APPLE-RADIUS=500;X-TITLE=1788 S Woodland Blvd:geo:-81.321619,28.956782
END:VEVENT
BEGIN:VEVENT
DTSTART;TZID=America/New_York:20290321T180000
DTEND;TZID=America/New_York:20290321T180000
DTSTAMP:20260421T060422
CREATED:20260105T003118Z
LAST-MODIFIED:20260105T054848Z
UID:10015250-1868810400-1868810400@epictriviafl.com
SUMMARY:Bingo
DESCRIPTION:
URL:https://epictriviafl.com/event/bingo-gators-deland-2/2029-03-21/
LOCATION:Gators Deland\, 1788 S Woodland Blvd\, Deland\, FL\, 32720\, United States
GEO:28.956782;-81.321619
X-APPLE-STRUCTURED-LOCATION;VALUE=URI;X-ADDRESS=Gators Deland 1788 S Woodland Blvd Deland FL 32720 United States;X-APPLE-RADIUS=500;X-TITLE=1788 S Woodland Blvd:geo:-81.321619,28.956782
END:VEVENT
BEGIN:VEVENT
DTSTART;TZID=America/New_York:20290326T180000
DTEND;TZID=America/New_York:20290326T180000
DTSTAMP:20260421T060422
CREATED:20260105T003042Z
LAST-MODIFIED:20260105T055906Z
UID:10019411-1869242400-1869242400@epictriviafl.com
SUMMARY:Bingo
DESCRIPTION:
URL:https://epictriviafl.com/event/bingo-gators-deland/2029-03-26/
LOCATION:Gators Deland\, 1788 S Woodland Blvd\, Deland\, FL\, 32720\, United States
GEO:28.956782;-81.321619
X-APPLE-STRUCTURED-LOCATION;VALUE=URI;X-ADDRESS=Gators Deland 1788 S Woodland Blvd Deland FL 32720 United States;X-APPLE-RADIUS=500;X-TITLE=1788 S Woodland Blvd:geo:-81.321619,28.956782
END:VEVENT
BEGIN:VEVENT
DTSTART;TZID=America/New_York:20290328T180000
DTEND;TZID=America/New_York:20290328T180000
DTSTAMP:20260421T060422
CREATED:20260105T003118Z
LAST-MODIFIED:20260105T054848Z
UID:10015251-1869415200-1869415200@epictriviafl.com
SUMMARY:Bingo
DESCRIPTION:
URL:https://epictriviafl.com/event/bingo-gators-deland-2/2029-03-28/
LOCATION:Gators Deland\, 1788 S Woodland Blvd\, Deland\, FL\, 32720\, United States
GEO:28.956782;-81.321619
X-APPLE-STRUCTURED-LOCATION;VALUE=URI;X-ADDRESS=Gators Deland 1788 S Woodland Blvd Deland FL 32720 United States;X-APPLE-RADIUS=500;X-TITLE=1788 S Woodland Blvd:geo:-81.321619,28.956782
END:VEVENT
BEGIN:VEVENT
DTSTART;TZID=America/New_York:20290402T180000
DTEND;TZID=America/New_York:20290402T180000
DTSTAMP:20260421T060422
CREATED:20260105T003042Z
LAST-MODIFIED:20260105T055906Z
UID:10019412-1869847200-1869847200@epictriviafl.com
SUMMARY:Bingo
DESCRIPTION:
URL:https://epictriviafl.com/event/bingo-gators-deland/2029-04-02/
LOCATION:Gators Deland\, 1788 S Woodland Blvd\, Deland\, FL\, 32720\, United States
GEO:28.956782;-81.321619
X-APPLE-STRUCTURED-LOCATION;VALUE=URI;X-ADDRESS=Gators Deland 1788 S Woodland Blvd Deland FL 32720 United States;X-APPLE-RADIUS=500;X-TITLE=1788 S Woodland Blvd:geo:-81.321619,28.956782
END:VEVENT
BEGIN:VEVENT
DTSTART;TZID=America/New_York:20290404T180000
DTEND;TZID=America/New_York:20290404T180000
DTSTAMP:20260421T060422
CREATED:20260105T003118Z
LAST-MODIFIED:20260105T054848Z
UID:10015252-1870020000-1870020000@epictriviafl.com
SUMMARY:Bingo
DESCRIPTION:
URL:https://epictriviafl.com/event/bingo-gators-deland-2/2029-04-04/
LOCATION:Gators Deland\, 1788 S Woodland Blvd\, Deland\, FL\, 32720\, United States
GEO:28.956782;-81.321619
X-APPLE-STRUCTURED-LOCATION;VALUE=URI;X-ADDRESS=Gators Deland 1788 S Woodland Blvd Deland FL 32720 United States;X-APPLE-RADIUS=500;X-TITLE=1788 S Woodland Blvd:geo:-81.321619,28.956782
END:VEVENT
BEGIN:VEVENT
DTSTART;TZID=America/New_York:20290409T180000
DTEND;TZID=America/New_York:20290409T180000
DTSTAMP:20260421T060422
CREATED:20260105T003042Z
LAST-MODIFIED:20260105T055906Z
UID:10019413-1870452000-1870452000@epictriviafl.com
SUMMARY:Bingo
DESCRIPTION:
URL:https://epictriviafl.com/event/bingo-gators-deland/2029-04-09/
LOCATION:Gators Deland\, 1788 S Woodland Blvd\, Deland\, FL\, 32720\, United States
GEO:28.956782;-81.321619
X-APPLE-STRUCTURED-LOCATION;VALUE=URI;X-ADDRESS=Gators Deland 1788 S Woodland Blvd Deland FL 32720 United States;X-APPLE-RADIUS=500;X-TITLE=1788 S Woodland Blvd:geo:-81.321619,28.956782
END:VEVENT
BEGIN:VEVENT
DTSTART;TZID=America/New_York:20290411T180000
DTEND;TZID=America/New_York:20290411T180000
DTSTAMP:20260421T060422
CREATED:20260105T003118Z
LAST-MODIFIED:20260105T054848Z
UID:10015253-1870624800-1870624800@epictriviafl.com
SUMMARY:Bingo
DESCRIPTION:
URL:https://epictriviafl.com/event/bingo-gators-deland-2/2029-04-11/
LOCATION:Gators Deland\, 1788 S Woodland Blvd\, Deland\, FL\, 32720\, United States
GEO:28.956782;-81.321619
X-APPLE-STRUCTURED-LOCATION;VALUE=URI;X-ADDRESS=Gators Deland 1788 S Woodland Blvd Deland FL 32720 United States;X-APPLE-RADIUS=500;X-TITLE=1788 S Woodland Blvd:geo:-81.321619,28.956782
END:VEVENT
BEGIN:VEVENT
DTSTART;TZID=America/New_York:20290416T180000
DTEND;TZID=America/New_York:20290416T180000
DTSTAMP:20260421T060422
CREATED:20260105T003042Z
LAST-MODIFIED:20260105T055906Z
UID:10019414-1871056800-1871056800@epictriviafl.com
SUMMARY:Bingo
DESCRIPTION:
URL:https://epictriviafl.com/event/bingo-gators-deland/2029-04-16/
LOCATION:Gators Deland\, 1788 S Woodland Blvd\, Deland\, FL\, 32720\, United States
GEO:28.956782;-81.321619
X-APPLE-STRUCTURED-LOCATION;VALUE=URI;X-ADDRESS=Gators Deland 1788 S Woodland Blvd Deland FL 32720 United States;X-APPLE-RADIUS=500;X-TITLE=1788 S Woodland Blvd:geo:-81.321619,28.956782
END:VEVENT
BEGIN:VEVENT
DTSTART;TZID=America/New_York:20290418T180000
DTEND;TZID=America/New_York:20290418T180000
DTSTAMP:20260421T060422
CREATED:20260105T003118Z
LAST-MODIFIED:20260105T054848Z
UID:10015254-1871229600-1871229600@epictriviafl.com
SUMMARY:Bingo
DESCRIPTION:
URL:https://epictriviafl.com/event/bingo-gators-deland-2/2029-04-18/
LOCATION:Gators Deland\, 1788 S Woodland Blvd\, Deland\, FL\, 32720\, United States
GEO:28.956782;-81.321619
X-APPLE-STRUCTURED-LOCATION;VALUE=URI;X-ADDRESS=Gators Deland 1788 S Woodland Blvd Deland FL 32720 United States;X-APPLE-RADIUS=500;X-TITLE=1788 S Woodland Blvd:geo:-81.321619,28.956782
END:VEVENT
BEGIN:VEVENT
DTSTART;TZID=America/New_York:20290423T180000
DTEND;TZID=America/New_York:20290423T180000
DTSTAMP:20260421T060422
CREATED:20260105T003042Z
LAST-MODIFIED:20260105T055906Z
UID:10019415-1871661600-1871661600@epictriviafl.com
SUMMARY:Bingo
DESCRIPTION:
URL:https://epictriviafl.com/event/bingo-gators-deland/2029-04-23/
LOCATION:Gators Deland\, 1788 S Woodland Blvd\, Deland\, FL\, 32720\, United States
GEO:28.956782;-81.321619
X-APPLE-STRUCTURED-LOCATION;VALUE=URI;X-ADDRESS=Gators Deland 1788 S Woodland Blvd Deland FL 32720 United States;X-APPLE-RADIUS=500;X-TITLE=1788 S Woodland Blvd:geo:-81.321619,28.956782
END:VEVENT
BEGIN:VEVENT
DTSTART;TZID=America/New_York:20290425T180000
DTEND;TZID=America/New_York:20290425T180000
DTSTAMP:20260421T060422
CREATED:20260105T003118Z
LAST-MODIFIED:20260105T054848Z
UID:10015255-1871834400-1871834400@epictriviafl.com
SUMMARY:Bingo
DESCRIPTION:
URL:https://epictriviafl.com/event/bingo-gators-deland-2/2029-04-25/
LOCATION:Gators Deland\, 1788 S Woodland Blvd\, Deland\, FL\, 32720\, United States
GEO:28.956782;-81.321619
X-APPLE-STRUCTURED-LOCATION;VALUE=URI;X-ADDRESS=Gators Deland 1788 S Woodland Blvd Deland FL 32720 United States;X-APPLE-RADIUS=500;X-TITLE=1788 S Woodland Blvd:geo:-81.321619,28.956782
END:VEVENT
BEGIN:VEVENT
DTSTART;TZID=America/New_York:20290430T180000
DTEND;TZID=America/New_York:20290430T180000
DTSTAMP:20260421T060422
CREATED:20260105T003042Z
LAST-MODIFIED:20260105T055906Z
UID:10019416-1872266400-1872266400@epictriviafl.com
SUMMARY:Bingo
DESCRIPTION:
URL:https://epictriviafl.com/event/bingo-gators-deland/2029-04-30/
LOCATION:Gators Deland\, 1788 S Woodland Blvd\, Deland\, FL\, 32720\, United States
GEO:28.956782;-81.321619
X-APPLE-STRUCTURED-LOCATION;VALUE=URI;X-ADDRESS=Gators Deland 1788 S Woodland Blvd Deland FL 32720 United States;X-APPLE-RADIUS=500;X-TITLE=1788 S Woodland Blvd:geo:-81.321619,28.956782
END:VEVENT
BEGIN:VEVENT
DTSTART;TZID=America/New_York:20290502T180000
DTEND;TZID=America/New_York:20290502T180000
DTSTAMP:20260421T060422
CREATED:20260105T003118Z
LAST-MODIFIED:20260105T054848Z
UID:10015256-1872439200-1872439200@epictriviafl.com
SUMMARY:Bingo
DESCRIPTION:
URL:https://epictriviafl.com/event/bingo-gators-deland-2/2029-05-02/
LOCATION:Gators Deland\, 1788 S Woodland Blvd\, Deland\, FL\, 32720\, United States
GEO:28.956782;-81.321619
X-APPLE-STRUCTURED-LOCATION;VALUE=URI;X-ADDRESS=Gators Deland 1788 S Woodland Blvd Deland FL 32720 United States;X-APPLE-RADIUS=500;X-TITLE=1788 S Woodland Blvd:geo:-81.321619,28.956782
END:VEVENT
BEGIN:VEVENT
DTSTART;TZID=America/New_York:20290507T180000
DTEND;TZID=America/New_York:20290507T180000
DTSTAMP:20260421T060422
CREATED:20260105T003042Z
LAST-MODIFIED:20260105T055906Z
UID:10019417-1872871200-1872871200@epictriviafl.com
SUMMARY:Bingo
DESCRIPTION:
URL:https://epictriviafl.com/event/bingo-gators-deland/2029-05-07/
LOCATION:Gators Deland\, 1788 S Woodland Blvd\, Deland\, FL\, 32720\, United States
GEO:28.956782;-81.321619
X-APPLE-STRUCTURED-LOCATION;VALUE=URI;X-ADDRESS=Gators Deland 1788 S Woodland Blvd Deland FL 32720 United States;X-APPLE-RADIUS=500;X-TITLE=1788 S Woodland Blvd:geo:-81.321619,28.956782
END:VEVENT
END:VCALENDAR