BEGIN:VCALENDAR
VERSION:2.0
PRODID:-//Epic Trivia - ECPv6.15.18//NONSGML v1.0//EN
CALSCALE:GREGORIAN
METHOD:PUBLISH
X-ORIGINAL-URL:https://epictriviafl.com
X-WR-CALDESC:Events for Epic Trivia
REFRESH-INTERVAL;VALUE=DURATION:PT1H
X-Robots-Tag:noindex
X-PUBLISHED-TTL:PT1H
BEGIN:VTIMEZONE
TZID:America/New_York
BEGIN:DAYLIGHT
TZOFFSETFROM:-0500
TZOFFSETTO:-0400
TZNAME:EDT
DTSTART:20270314T070000
END:DAYLIGHT
BEGIN:STANDARD
TZOFFSETFROM:-0400
TZOFFSETTO:-0500
TZNAME:EST
DTSTART:20271107T060000
END:STANDARD
BEGIN:DAYLIGHT
TZOFFSETFROM:-0500
TZOFFSETTO:-0400
TZNAME:EDT
DTSTART:20280312T070000
END:DAYLIGHT
BEGIN:STANDARD
TZOFFSETFROM:-0400
TZOFFSETTO:-0500
TZNAME:EST
DTSTART:20281105T060000
END:STANDARD
BEGIN:DAYLIGHT
TZOFFSETFROM:-0500
TZOFFSETTO:-0400
TZNAME:EDT
DTSTART:20290311T070000
END:DAYLIGHT
BEGIN:STANDARD
TZOFFSETFROM:-0400
TZOFFSETTO:-0500
TZNAME:EST
DTSTART:20291104T060000
END:STANDARD
BEGIN:DAYLIGHT
TZOFFSETFROM:-0500
TZOFFSETTO:-0400
TZNAME:EDT
DTSTART:20300310T070000
END:DAYLIGHT
BEGIN:STANDARD
TZOFFSETFROM:-0400
TZOFFSETTO:-0500
TZNAME:EST
DTSTART:20301103T060000
END:STANDARD
END:VTIMEZONE
BEGIN:VEVENT
DTSTART;TZID=America/New_York:20281101T180000
DTEND;TZID=America/New_York:20281101T180000
DTSTAMP:20260421T023702
CREATED:20260105T003118Z
LAST-MODIFIED:20260105T054848Z
UID:10015230-1856714400-1856714400@epictriviafl.com
SUMMARY:Bingo
DESCRIPTION:
URL:https://epictriviafl.com/event/bingo-gators-deland-2/2028-11-01/
LOCATION:Gators Deland\, 1788 S Woodland Blvd\, Deland\, FL\, 32720\, United States
GEO:28.956782;-81.321619
X-APPLE-STRUCTURED-LOCATION;VALUE=URI;X-ADDRESS=Gators Deland 1788 S Woodland Blvd Deland FL 32720 United States;X-APPLE-RADIUS=500;X-TITLE=1788 S Woodland Blvd:geo:-81.321619,28.956782
END:VEVENT
BEGIN:VEVENT
DTSTART;TZID=America/New_York:20281106T180000
DTEND;TZID=America/New_York:20281106T180000
DTSTAMP:20260421T023702
CREATED:20260105T003042Z
LAST-MODIFIED:20260105T055906Z
UID:10019391-1857146400-1857146400@epictriviafl.com
SUMMARY:Bingo
DESCRIPTION:
URL:https://epictriviafl.com/event/bingo-gators-deland/2028-11-06/
LOCATION:Gators Deland\, 1788 S Woodland Blvd\, Deland\, FL\, 32720\, United States
GEO:28.956782;-81.321619
X-APPLE-STRUCTURED-LOCATION;VALUE=URI;X-ADDRESS=Gators Deland 1788 S Woodland Blvd Deland FL 32720 United States;X-APPLE-RADIUS=500;X-TITLE=1788 S Woodland Blvd:geo:-81.321619,28.956782
END:VEVENT
BEGIN:VEVENT
DTSTART;TZID=America/New_York:20281108T180000
DTEND;TZID=America/New_York:20281108T180000
DTSTAMP:20260421T023702
CREATED:20260105T003118Z
LAST-MODIFIED:20260105T054848Z
UID:10015231-1857319200-1857319200@epictriviafl.com
SUMMARY:Bingo
DESCRIPTION:
URL:https://epictriviafl.com/event/bingo-gators-deland-2/2028-11-08/
LOCATION:Gators Deland\, 1788 S Woodland Blvd\, Deland\, FL\, 32720\, United States
GEO:28.956782;-81.321619
X-APPLE-STRUCTURED-LOCATION;VALUE=URI;X-ADDRESS=Gators Deland 1788 S Woodland Blvd Deland FL 32720 United States;X-APPLE-RADIUS=500;X-TITLE=1788 S Woodland Blvd:geo:-81.321619,28.956782
END:VEVENT
BEGIN:VEVENT
DTSTART;TZID=America/New_York:20281113T180000
DTEND;TZID=America/New_York:20281113T180000
DTSTAMP:20260421T023702
CREATED:20260105T003042Z
LAST-MODIFIED:20260105T055906Z
UID:10019392-1857751200-1857751200@epictriviafl.com
SUMMARY:Bingo
DESCRIPTION:
URL:https://epictriviafl.com/event/bingo-gators-deland/2028-11-13/
LOCATION:Gators Deland\, 1788 S Woodland Blvd\, Deland\, FL\, 32720\, United States
GEO:28.956782;-81.321619
X-APPLE-STRUCTURED-LOCATION;VALUE=URI;X-ADDRESS=Gators Deland 1788 S Woodland Blvd Deland FL 32720 United States;X-APPLE-RADIUS=500;X-TITLE=1788 S Woodland Blvd:geo:-81.321619,28.956782
END:VEVENT
BEGIN:VEVENT
DTSTART;TZID=America/New_York:20281115T180000
DTEND;TZID=America/New_York:20281115T180000
DTSTAMP:20260421T023702
CREATED:20260105T003118Z
LAST-MODIFIED:20260105T054848Z
UID:10015232-1857924000-1857924000@epictriviafl.com
SUMMARY:Bingo
DESCRIPTION:
URL:https://epictriviafl.com/event/bingo-gators-deland-2/2028-11-15/
LOCATION:Gators Deland\, 1788 S Woodland Blvd\, Deland\, FL\, 32720\, United States
GEO:28.956782;-81.321619
X-APPLE-STRUCTURED-LOCATION;VALUE=URI;X-ADDRESS=Gators Deland 1788 S Woodland Blvd Deland FL 32720 United States;X-APPLE-RADIUS=500;X-TITLE=1788 S Woodland Blvd:geo:-81.321619,28.956782
END:VEVENT
BEGIN:VEVENT
DTSTART;TZID=America/New_York:20281120T180000
DTEND;TZID=America/New_York:20281120T180000
DTSTAMP:20260421T023702
CREATED:20260105T003042Z
LAST-MODIFIED:20260105T055906Z
UID:10019393-1858356000-1858356000@epictriviafl.com
SUMMARY:Bingo
DESCRIPTION:
URL:https://epictriviafl.com/event/bingo-gators-deland/2028-11-20/
LOCATION:Gators Deland\, 1788 S Woodland Blvd\, Deland\, FL\, 32720\, United States
GEO:28.956782;-81.321619
X-APPLE-STRUCTURED-LOCATION;VALUE=URI;X-ADDRESS=Gators Deland 1788 S Woodland Blvd Deland FL 32720 United States;X-APPLE-RADIUS=500;X-TITLE=1788 S Woodland Blvd:geo:-81.321619,28.956782
END:VEVENT
BEGIN:VEVENT
DTSTART;TZID=America/New_York:20281122T180000
DTEND;TZID=America/New_York:20281122T180000
DTSTAMP:20260421T023702
CREATED:20260105T003118Z
LAST-MODIFIED:20260105T054848Z
UID:10015233-1858528800-1858528800@epictriviafl.com
SUMMARY:Bingo
DESCRIPTION:
URL:https://epictriviafl.com/event/bingo-gators-deland-2/2028-11-22/
LOCATION:Gators Deland\, 1788 S Woodland Blvd\, Deland\, FL\, 32720\, United States
GEO:28.956782;-81.321619
X-APPLE-STRUCTURED-LOCATION;VALUE=URI;X-ADDRESS=Gators Deland 1788 S Woodland Blvd Deland FL 32720 United States;X-APPLE-RADIUS=500;X-TITLE=1788 S Woodland Blvd:geo:-81.321619,28.956782
END:VEVENT
BEGIN:VEVENT
DTSTART;TZID=America/New_York:20281127T180000
DTEND;TZID=America/New_York:20281127T180000
DTSTAMP:20260421T023702
CREATED:20260105T003042Z
LAST-MODIFIED:20260105T055906Z
UID:10019394-1858960800-1858960800@epictriviafl.com
SUMMARY:Bingo
DESCRIPTION:
URL:https://epictriviafl.com/event/bingo-gators-deland/2028-11-27/
LOCATION:Gators Deland\, 1788 S Woodland Blvd\, Deland\, FL\, 32720\, United States
GEO:28.956782;-81.321619
X-APPLE-STRUCTURED-LOCATION;VALUE=URI;X-ADDRESS=Gators Deland 1788 S Woodland Blvd Deland FL 32720 United States;X-APPLE-RADIUS=500;X-TITLE=1788 S Woodland Blvd:geo:-81.321619,28.956782
END:VEVENT
BEGIN:VEVENT
DTSTART;TZID=America/New_York:20281129T180000
DTEND;TZID=America/New_York:20281129T180000
DTSTAMP:20260421T023702
CREATED:20260105T003118Z
LAST-MODIFIED:20260105T054848Z
UID:10015234-1859133600-1859133600@epictriviafl.com
SUMMARY:Bingo
DESCRIPTION:
URL:https://epictriviafl.com/event/bingo-gators-deland-2/2028-11-29/
LOCATION:Gators Deland\, 1788 S Woodland Blvd\, Deland\, FL\, 32720\, United States
GEO:28.956782;-81.321619
X-APPLE-STRUCTURED-LOCATION;VALUE=URI;X-ADDRESS=Gators Deland 1788 S Woodland Blvd Deland FL 32720 United States;X-APPLE-RADIUS=500;X-TITLE=1788 S Woodland Blvd:geo:-81.321619,28.956782
END:VEVENT
BEGIN:VEVENT
DTSTART;TZID=America/New_York:20281204T180000
DTEND;TZID=America/New_York:20281204T180000
DTSTAMP:20260421T023702
CREATED:20260105T003042Z
LAST-MODIFIED:20260105T055906Z
UID:10019395-1859565600-1859565600@epictriviafl.com
SUMMARY:Bingo
DESCRIPTION:
URL:https://epictriviafl.com/event/bingo-gators-deland/2028-12-04/
LOCATION:Gators Deland\, 1788 S Woodland Blvd\, Deland\, FL\, 32720\, United States
GEO:28.956782;-81.321619
X-APPLE-STRUCTURED-LOCATION;VALUE=URI;X-ADDRESS=Gators Deland 1788 S Woodland Blvd Deland FL 32720 United States;X-APPLE-RADIUS=500;X-TITLE=1788 S Woodland Blvd:geo:-81.321619,28.956782
END:VEVENT
BEGIN:VEVENT
DTSTART;TZID=America/New_York:20281206T180000
DTEND;TZID=America/New_York:20281206T180000
DTSTAMP:20260421T023702
CREATED:20260105T003118Z
LAST-MODIFIED:20260105T054848Z
UID:10015235-1859738400-1859738400@epictriviafl.com
SUMMARY:Bingo
DESCRIPTION:
URL:https://epictriviafl.com/event/bingo-gators-deland-2/2028-12-06/
LOCATION:Gators Deland\, 1788 S Woodland Blvd\, Deland\, FL\, 32720\, United States
GEO:28.956782;-81.321619
X-APPLE-STRUCTURED-LOCATION;VALUE=URI;X-ADDRESS=Gators Deland 1788 S Woodland Blvd Deland FL 32720 United States;X-APPLE-RADIUS=500;X-TITLE=1788 S Woodland Blvd:geo:-81.321619,28.956782
END:VEVENT
BEGIN:VEVENT
DTSTART;TZID=America/New_York:20281211T180000
DTEND;TZID=America/New_York:20281211T180000
DTSTAMP:20260421T023702
CREATED:20260105T003042Z
LAST-MODIFIED:20260105T055906Z
UID:10019396-1860170400-1860170400@epictriviafl.com
SUMMARY:Bingo
DESCRIPTION:
URL:https://epictriviafl.com/event/bingo-gators-deland/2028-12-11/
LOCATION:Gators Deland\, 1788 S Woodland Blvd\, Deland\, FL\, 32720\, United States
GEO:28.956782;-81.321619
X-APPLE-STRUCTURED-LOCATION;VALUE=URI;X-ADDRESS=Gators Deland 1788 S Woodland Blvd Deland FL 32720 United States;X-APPLE-RADIUS=500;X-TITLE=1788 S Woodland Blvd:geo:-81.321619,28.956782
END:VEVENT
BEGIN:VEVENT
DTSTART;TZID=America/New_York:20281213T180000
DTEND;TZID=America/New_York:20281213T180000
DTSTAMP:20260421T023702
CREATED:20260105T003118Z
LAST-MODIFIED:20260105T054848Z
UID:10015236-1860343200-1860343200@epictriviafl.com
SUMMARY:Bingo
DESCRIPTION:
URL:https://epictriviafl.com/event/bingo-gators-deland-2/2028-12-13/
LOCATION:Gators Deland\, 1788 S Woodland Blvd\, Deland\, FL\, 32720\, United States
GEO:28.956782;-81.321619
X-APPLE-STRUCTURED-LOCATION;VALUE=URI;X-ADDRESS=Gators Deland 1788 S Woodland Blvd Deland FL 32720 United States;X-APPLE-RADIUS=500;X-TITLE=1788 S Woodland Blvd:geo:-81.321619,28.956782
END:VEVENT
BEGIN:VEVENT
DTSTART;TZID=America/New_York:20281218T180000
DTEND;TZID=America/New_York:20281218T180000
DTSTAMP:20260421T023702
CREATED:20260105T003042Z
LAST-MODIFIED:20260105T055906Z
UID:10019397-1860775200-1860775200@epictriviafl.com
SUMMARY:Bingo
DESCRIPTION:
URL:https://epictriviafl.com/event/bingo-gators-deland/2028-12-18/
LOCATION:Gators Deland\, 1788 S Woodland Blvd\, Deland\, FL\, 32720\, United States
GEO:28.956782;-81.321619
X-APPLE-STRUCTURED-LOCATION;VALUE=URI;X-ADDRESS=Gators Deland 1788 S Woodland Blvd Deland FL 32720 United States;X-APPLE-RADIUS=500;X-TITLE=1788 S Woodland Blvd:geo:-81.321619,28.956782
END:VEVENT
BEGIN:VEVENT
DTSTART;TZID=America/New_York:20281220T180000
DTEND;TZID=America/New_York:20281220T180000
DTSTAMP:20260421T023702
CREATED:20260105T003118Z
LAST-MODIFIED:20260105T054848Z
UID:10015237-1860948000-1860948000@epictriviafl.com
SUMMARY:Bingo
DESCRIPTION:
URL:https://epictriviafl.com/event/bingo-gators-deland-2/2028-12-20/
LOCATION:Gators Deland\, 1788 S Woodland Blvd\, Deland\, FL\, 32720\, United States
GEO:28.956782;-81.321619
X-APPLE-STRUCTURED-LOCATION;VALUE=URI;X-ADDRESS=Gators Deland 1788 S Woodland Blvd Deland FL 32720 United States;X-APPLE-RADIUS=500;X-TITLE=1788 S Woodland Blvd:geo:-81.321619,28.956782
END:VEVENT
BEGIN:VEVENT
DTSTART;TZID=America/New_York:20281225T180000
DTEND;TZID=America/New_York:20281225T180000
DTSTAMP:20260421T023702
CREATED:20260105T003042Z
LAST-MODIFIED:20260105T055906Z
UID:10019398-1861380000-1861380000@epictriviafl.com
SUMMARY:Bingo
DESCRIPTION:
URL:https://epictriviafl.com/event/bingo-gators-deland/2028-12-25/
LOCATION:Gators Deland\, 1788 S Woodland Blvd\, Deland\, FL\, 32720\, United States
GEO:28.956782;-81.321619
X-APPLE-STRUCTURED-LOCATION;VALUE=URI;X-ADDRESS=Gators Deland 1788 S Woodland Blvd Deland FL 32720 United States;X-APPLE-RADIUS=500;X-TITLE=1788 S Woodland Blvd:geo:-81.321619,28.956782
END:VEVENT
BEGIN:VEVENT
DTSTART;TZID=America/New_York:20281227T180000
DTEND;TZID=America/New_York:20281227T180000
DTSTAMP:20260421T023702
CREATED:20260105T003118Z
LAST-MODIFIED:20260105T054848Z
UID:10015238-1861552800-1861552800@epictriviafl.com
SUMMARY:Bingo
DESCRIPTION:
URL:https://epictriviafl.com/event/bingo-gators-deland-2/2028-12-27/
LOCATION:Gators Deland\, 1788 S Woodland Blvd\, Deland\, FL\, 32720\, United States
GEO:28.956782;-81.321619
X-APPLE-STRUCTURED-LOCATION;VALUE=URI;X-ADDRESS=Gators Deland 1788 S Woodland Blvd Deland FL 32720 United States;X-APPLE-RADIUS=500;X-TITLE=1788 S Woodland Blvd:geo:-81.321619,28.956782
END:VEVENT
BEGIN:VEVENT
DTSTART;TZID=America/New_York:20290101T180000
DTEND;TZID=America/New_York:20290101T180000
DTSTAMP:20260421T023702
CREATED:20260105T003042Z
LAST-MODIFIED:20260105T055906Z
UID:10019399-1861984800-1861984800@epictriviafl.com
SUMMARY:Bingo
DESCRIPTION:
URL:https://epictriviafl.com/event/bingo-gators-deland/2029-01-01/
LOCATION:Gators Deland\, 1788 S Woodland Blvd\, Deland\, FL\, 32720\, United States
GEO:28.956782;-81.321619
X-APPLE-STRUCTURED-LOCATION;VALUE=URI;X-ADDRESS=Gators Deland 1788 S Woodland Blvd Deland FL 32720 United States;X-APPLE-RADIUS=500;X-TITLE=1788 S Woodland Blvd:geo:-81.321619,28.956782
END:VEVENT
BEGIN:VEVENT
DTSTART;TZID=America/New_York:20290103T180000
DTEND;TZID=America/New_York:20290103T180000
DTSTAMP:20260421T023702
CREATED:20260105T003118Z
LAST-MODIFIED:20260105T054848Z
UID:10015239-1862157600-1862157600@epictriviafl.com
SUMMARY:Bingo
DESCRIPTION:
URL:https://epictriviafl.com/event/bingo-gators-deland-2/2029-01-03/
LOCATION:Gators Deland\, 1788 S Woodland Blvd\, Deland\, FL\, 32720\, United States
GEO:28.956782;-81.321619
X-APPLE-STRUCTURED-LOCATION;VALUE=URI;X-ADDRESS=Gators Deland 1788 S Woodland Blvd Deland FL 32720 United States;X-APPLE-RADIUS=500;X-TITLE=1788 S Woodland Blvd:geo:-81.321619,28.956782
END:VEVENT
BEGIN:VEVENT
DTSTART;TZID=America/New_York:20290108T180000
DTEND;TZID=America/New_York:20290108T180000
DTSTAMP:20260421T023702
CREATED:20260105T003042Z
LAST-MODIFIED:20260105T055906Z
UID:10019400-1862589600-1862589600@epictriviafl.com
SUMMARY:Bingo
DESCRIPTION:
URL:https://epictriviafl.com/event/bingo-gators-deland/2029-01-08/
LOCATION:Gators Deland\, 1788 S Woodland Blvd\, Deland\, FL\, 32720\, United States
GEO:28.956782;-81.321619
X-APPLE-STRUCTURED-LOCATION;VALUE=URI;X-ADDRESS=Gators Deland 1788 S Woodland Blvd Deland FL 32720 United States;X-APPLE-RADIUS=500;X-TITLE=1788 S Woodland Blvd:geo:-81.321619,28.956782
END:VEVENT
BEGIN:VEVENT
DTSTART;TZID=America/New_York:20290110T180000
DTEND;TZID=America/New_York:20290110T180000
DTSTAMP:20260421T023702
CREATED:20260105T003118Z
LAST-MODIFIED:20260105T054848Z
UID:10015240-1862762400-1862762400@epictriviafl.com
SUMMARY:Bingo
DESCRIPTION:
URL:https://epictriviafl.com/event/bingo-gators-deland-2/2029-01-10/
LOCATION:Gators Deland\, 1788 S Woodland Blvd\, Deland\, FL\, 32720\, United States
GEO:28.956782;-81.321619
X-APPLE-STRUCTURED-LOCATION;VALUE=URI;X-ADDRESS=Gators Deland 1788 S Woodland Blvd Deland FL 32720 United States;X-APPLE-RADIUS=500;X-TITLE=1788 S Woodland Blvd:geo:-81.321619,28.956782
END:VEVENT
BEGIN:VEVENT
DTSTART;TZID=America/New_York:20290115T180000
DTEND;TZID=America/New_York:20290115T180000
DTSTAMP:20260421T023702
CREATED:20260105T003042Z
LAST-MODIFIED:20260105T055906Z
UID:10019401-1863194400-1863194400@epictriviafl.com
SUMMARY:Bingo
DESCRIPTION:
URL:https://epictriviafl.com/event/bingo-gators-deland/2029-01-15/
LOCATION:Gators Deland\, 1788 S Woodland Blvd\, Deland\, FL\, 32720\, United States
GEO:28.956782;-81.321619
X-APPLE-STRUCTURED-LOCATION;VALUE=URI;X-ADDRESS=Gators Deland 1788 S Woodland Blvd Deland FL 32720 United States;X-APPLE-RADIUS=500;X-TITLE=1788 S Woodland Blvd:geo:-81.321619,28.956782
END:VEVENT
BEGIN:VEVENT
DTSTART;TZID=America/New_York:20290117T180000
DTEND;TZID=America/New_York:20290117T180000
DTSTAMP:20260421T023702
CREATED:20260105T003118Z
LAST-MODIFIED:20260105T054848Z
UID:10015241-1863367200-1863367200@epictriviafl.com
SUMMARY:Bingo
DESCRIPTION:
URL:https://epictriviafl.com/event/bingo-gators-deland-2/2029-01-17/
LOCATION:Gators Deland\, 1788 S Woodland Blvd\, Deland\, FL\, 32720\, United States
GEO:28.956782;-81.321619
X-APPLE-STRUCTURED-LOCATION;VALUE=URI;X-ADDRESS=Gators Deland 1788 S Woodland Blvd Deland FL 32720 United States;X-APPLE-RADIUS=500;X-TITLE=1788 S Woodland Blvd:geo:-81.321619,28.956782
END:VEVENT
BEGIN:VEVENT
DTSTART;TZID=America/New_York:20290122T180000
DTEND;TZID=America/New_York:20290122T180000
DTSTAMP:20260421T023702
CREATED:20260105T003042Z
LAST-MODIFIED:20260105T055906Z
UID:10019402-1863799200-1863799200@epictriviafl.com
SUMMARY:Bingo
DESCRIPTION:
URL:https://epictriviafl.com/event/bingo-gators-deland/2029-01-22/
LOCATION:Gators Deland\, 1788 S Woodland Blvd\, Deland\, FL\, 32720\, United States
GEO:28.956782;-81.321619
X-APPLE-STRUCTURED-LOCATION;VALUE=URI;X-ADDRESS=Gators Deland 1788 S Woodland Blvd Deland FL 32720 United States;X-APPLE-RADIUS=500;X-TITLE=1788 S Woodland Blvd:geo:-81.321619,28.956782
END:VEVENT
BEGIN:VEVENT
DTSTART;TZID=America/New_York:20290124T180000
DTEND;TZID=America/New_York:20290124T180000
DTSTAMP:20260421T023703
CREATED:20260105T003118Z
LAST-MODIFIED:20260105T054848Z
UID:10015242-1863972000-1863972000@epictriviafl.com
SUMMARY:Bingo
DESCRIPTION:
URL:https://epictriviafl.com/event/bingo-gators-deland-2/2029-01-24/
LOCATION:Gators Deland\, 1788 S Woodland Blvd\, Deland\, FL\, 32720\, United States
GEO:28.956782;-81.321619
X-APPLE-STRUCTURED-LOCATION;VALUE=URI;X-ADDRESS=Gators Deland 1788 S Woodland Blvd Deland FL 32720 United States;X-APPLE-RADIUS=500;X-TITLE=1788 S Woodland Blvd:geo:-81.321619,28.956782
END:VEVENT
BEGIN:VEVENT
DTSTART;TZID=America/New_York:20290129T180000
DTEND;TZID=America/New_York:20290129T180000
DTSTAMP:20260421T023703
CREATED:20260105T003042Z
LAST-MODIFIED:20260105T055906Z
UID:10019403-1864404000-1864404000@epictriviafl.com
SUMMARY:Bingo
DESCRIPTION:
URL:https://epictriviafl.com/event/bingo-gators-deland/2029-01-29/
LOCATION:Gators Deland\, 1788 S Woodland Blvd\, Deland\, FL\, 32720\, United States
GEO:28.956782;-81.321619
X-APPLE-STRUCTURED-LOCATION;VALUE=URI;X-ADDRESS=Gators Deland 1788 S Woodland Blvd Deland FL 32720 United States;X-APPLE-RADIUS=500;X-TITLE=1788 S Woodland Blvd:geo:-81.321619,28.956782
END:VEVENT
BEGIN:VEVENT
DTSTART;TZID=America/New_York:20290131T180000
DTEND;TZID=America/New_York:20290131T180000
DTSTAMP:20260421T023703
CREATED:20260105T003118Z
LAST-MODIFIED:20260105T054848Z
UID:10015243-1864576800-1864576800@epictriviafl.com
SUMMARY:Bingo
DESCRIPTION:
URL:https://epictriviafl.com/event/bingo-gators-deland-2/2029-01-31/
LOCATION:Gators Deland\, 1788 S Woodland Blvd\, Deland\, FL\, 32720\, United States
GEO:28.956782;-81.321619
X-APPLE-STRUCTURED-LOCATION;VALUE=URI;X-ADDRESS=Gators Deland 1788 S Woodland Blvd Deland FL 32720 United States;X-APPLE-RADIUS=500;X-TITLE=1788 S Woodland Blvd:geo:-81.321619,28.956782
END:VEVENT
BEGIN:VEVENT
DTSTART;TZID=America/New_York:20290205T180000
DTEND;TZID=America/New_York:20290205T180000
DTSTAMP:20260421T023703
CREATED:20260105T003042Z
LAST-MODIFIED:20260105T055906Z
UID:10019404-1865008800-1865008800@epictriviafl.com
SUMMARY:Bingo
DESCRIPTION:
URL:https://epictriviafl.com/event/bingo-gators-deland/2029-02-05/
LOCATION:Gators Deland\, 1788 S Woodland Blvd\, Deland\, FL\, 32720\, United States
GEO:28.956782;-81.321619
X-APPLE-STRUCTURED-LOCATION;VALUE=URI;X-ADDRESS=Gators Deland 1788 S Woodland Blvd Deland FL 32720 United States;X-APPLE-RADIUS=500;X-TITLE=1788 S Woodland Blvd:geo:-81.321619,28.956782
END:VEVENT
BEGIN:VEVENT
DTSTART;TZID=America/New_York:20290207T180000
DTEND;TZID=America/New_York:20290207T180000
DTSTAMP:20260421T023703
CREATED:20260105T003118Z
LAST-MODIFIED:20260105T054848Z
UID:10015244-1865181600-1865181600@epictriviafl.com
SUMMARY:Bingo
DESCRIPTION:
URL:https://epictriviafl.com/event/bingo-gators-deland-2/2029-02-07/
LOCATION:Gators Deland\, 1788 S Woodland Blvd\, Deland\, FL\, 32720\, United States
GEO:28.956782;-81.321619
X-APPLE-STRUCTURED-LOCATION;VALUE=URI;X-ADDRESS=Gators Deland 1788 S Woodland Blvd Deland FL 32720 United States;X-APPLE-RADIUS=500;X-TITLE=1788 S Woodland Blvd:geo:-81.321619,28.956782
END:VEVENT
BEGIN:VEVENT
DTSTART;TZID=America/New_York:20290212T180000
DTEND;TZID=America/New_York:20290212T180000
DTSTAMP:20260421T023703
CREATED:20260105T003042Z
LAST-MODIFIED:20260105T055906Z
UID:10019405-1865613600-1865613600@epictriviafl.com
SUMMARY:Bingo
DESCRIPTION:
URL:https://epictriviafl.com/event/bingo-gators-deland/2029-02-12/
LOCATION:Gators Deland\, 1788 S Woodland Blvd\, Deland\, FL\, 32720\, United States
GEO:28.956782;-81.321619
X-APPLE-STRUCTURED-LOCATION;VALUE=URI;X-ADDRESS=Gators Deland 1788 S Woodland Blvd Deland FL 32720 United States;X-APPLE-RADIUS=500;X-TITLE=1788 S Woodland Blvd:geo:-81.321619,28.956782
END:VEVENT
END:VCALENDAR