BEGIN:VCALENDAR
VERSION:2.0
PRODID:-//Epic Trivia - ECPv6.15.18//NONSGML v1.0//EN
CALSCALE:GREGORIAN
METHOD:PUBLISH
X-WR-CALNAME:Epic Trivia
X-ORIGINAL-URL:https://epictriviafl.com
X-WR-CALDESC:Events for Epic Trivia
REFRESH-INTERVAL;VALUE=DURATION:PT1H
X-Robots-Tag:noindex
X-PUBLISHED-TTL:PT1H
BEGIN:VTIMEZONE
TZID:America/New_York
BEGIN:DAYLIGHT
TZOFFSETFROM:-0500
TZOFFSETTO:-0400
TZNAME:EDT
DTSTART:20250309T070000
END:DAYLIGHT
BEGIN:STANDARD
TZOFFSETFROM:-0400
TZOFFSETTO:-0500
TZNAME:EST
DTSTART:20251102T060000
END:STANDARD
BEGIN:DAYLIGHT
TZOFFSETFROM:-0500
TZOFFSETTO:-0400
TZNAME:EDT
DTSTART:20260308T070000
END:DAYLIGHT
BEGIN:STANDARD
TZOFFSETFROM:-0400
TZOFFSETTO:-0500
TZNAME:EST
DTSTART:20261101T060000
END:STANDARD
BEGIN:DAYLIGHT
TZOFFSETFROM:-0500
TZOFFSETTO:-0400
TZNAME:EDT
DTSTART:20270314T070000
END:DAYLIGHT
BEGIN:STANDARD
TZOFFSETFROM:-0400
TZOFFSETTO:-0500
TZNAME:EST
DTSTART:20271107T060000
END:STANDARD
END:VTIMEZONE
BEGIN:VEVENT
DTSTART;TZID=America/New_York:20260415T180000
DTEND;TZID=America/New_York:20260415T180000
DTSTAMP:20260419T180428
CREATED:20260105T003118Z
LAST-MODIFIED:20260105T054848Z
UID:10015097-1776276000-1776276000@epictriviafl.com
SUMMARY:Bingo
DESCRIPTION:
URL:https://epictriviafl.com/event/bingo-gators-deland-2/2026-04-15/
LOCATION:Gators Deland\, 1788 S Woodland Blvd\, Deland\, FL\, 32720\, United States
GEO:28.956782;-81.321619
X-APPLE-STRUCTURED-LOCATION;VALUE=URI;X-ADDRESS=Gators Deland 1788 S Woodland Blvd Deland FL 32720 United States;X-APPLE-RADIUS=500;X-TITLE=1788 S Woodland Blvd:geo:-81.321619,28.956782
END:VEVENT
BEGIN:VEVENT
DTSTART;TZID=America/New_York:20260413T180000
DTEND;TZID=America/New_York:20260413T180000
DTSTAMP:20260419T180428
CREATED:20260105T003042Z
LAST-MODIFIED:20260105T055906Z
UID:10019257-1776103200-1776103200@epictriviafl.com
SUMMARY:Bingo
DESCRIPTION:
URL:https://epictriviafl.com/event/bingo-gators-deland/2026-04-13/
LOCATION:Gators Deland\, 1788 S Woodland Blvd\, Deland\, FL\, 32720\, United States
GEO:28.956782;-81.321619
X-APPLE-STRUCTURED-LOCATION;VALUE=URI;X-ADDRESS=Gators Deland 1788 S Woodland Blvd Deland FL 32720 United States;X-APPLE-RADIUS=500;X-TITLE=1788 S Woodland Blvd:geo:-81.321619,28.956782
END:VEVENT
BEGIN:VEVENT
DTSTART;TZID=America/New_York:20260408T180000
DTEND;TZID=America/New_York:20260408T180000
DTSTAMP:20260419T180428
CREATED:20260105T003118Z
LAST-MODIFIED:20260105T054848Z
UID:10015096-1775671200-1775671200@epictriviafl.com
SUMMARY:Bingo
DESCRIPTION:
URL:https://epictriviafl.com/event/bingo-gators-deland-2/2026-04-08/
LOCATION:Gators Deland\, 1788 S Woodland Blvd\, Deland\, FL\, 32720\, United States
GEO:28.956782;-81.321619
X-APPLE-STRUCTURED-LOCATION;VALUE=URI;X-ADDRESS=Gators Deland 1788 S Woodland Blvd Deland FL 32720 United States;X-APPLE-RADIUS=500;X-TITLE=1788 S Woodland Blvd:geo:-81.321619,28.956782
END:VEVENT
BEGIN:VEVENT
DTSTART;TZID=America/New_York:20260406T180000
DTEND;TZID=America/New_York:20260406T180000
DTSTAMP:20260419T180428
CREATED:20260105T003042Z
LAST-MODIFIED:20260105T055906Z
UID:10019256-1775498400-1775498400@epictriviafl.com
SUMMARY:Bingo
DESCRIPTION:
URL:https://epictriviafl.com/event/bingo-gators-deland/2026-04-06/
LOCATION:Gators Deland\, 1788 S Woodland Blvd\, Deland\, FL\, 32720\, United States
GEO:28.956782;-81.321619
X-APPLE-STRUCTURED-LOCATION;VALUE=URI;X-ADDRESS=Gators Deland 1788 S Woodland Blvd Deland FL 32720 United States;X-APPLE-RADIUS=500;X-TITLE=1788 S Woodland Blvd:geo:-81.321619,28.956782
END:VEVENT
BEGIN:VEVENT
DTSTART;TZID=America/New_York:20260401T180000
DTEND;TZID=America/New_York:20260401T180000
DTSTAMP:20260419T180428
CREATED:20260105T003118Z
LAST-MODIFIED:20260105T054848Z
UID:10015095-1775066400-1775066400@epictriviafl.com
SUMMARY:Bingo
DESCRIPTION:
URL:https://epictriviafl.com/event/bingo-gators-deland-2/2026-04-01/
LOCATION:Gators Deland\, 1788 S Woodland Blvd\, Deland\, FL\, 32720\, United States
GEO:28.956782;-81.321619
X-APPLE-STRUCTURED-LOCATION;VALUE=URI;X-ADDRESS=Gators Deland 1788 S Woodland Blvd Deland FL 32720 United States;X-APPLE-RADIUS=500;X-TITLE=1788 S Woodland Blvd:geo:-81.321619,28.956782
END:VEVENT
BEGIN:VEVENT
DTSTART;TZID=America/New_York:20260330T180000
DTEND;TZID=America/New_York:20260330T180000
DTSTAMP:20260419T180428
CREATED:20260105T003042Z
LAST-MODIFIED:20260105T055906Z
UID:10019255-1774893600-1774893600@epictriviafl.com
SUMMARY:Bingo
DESCRIPTION:
URL:https://epictriviafl.com/event/bingo-gators-deland/2026-03-30/
LOCATION:Gators Deland\, 1788 S Woodland Blvd\, Deland\, FL\, 32720\, United States
GEO:28.956782;-81.321619
X-APPLE-STRUCTURED-LOCATION;VALUE=URI;X-ADDRESS=Gators Deland 1788 S Woodland Blvd Deland FL 32720 United States;X-APPLE-RADIUS=500;X-TITLE=1788 S Woodland Blvd:geo:-81.321619,28.956782
END:VEVENT
BEGIN:VEVENT
DTSTART;TZID=America/New_York:20260325T180000
DTEND;TZID=America/New_York:20260325T180000
DTSTAMP:20260419T180428
CREATED:20260105T003118Z
LAST-MODIFIED:20260105T054848Z
UID:10015094-1774461600-1774461600@epictriviafl.com
SUMMARY:Bingo
DESCRIPTION:
URL:https://epictriviafl.com/event/bingo-gators-deland-2/2026-03-25/
LOCATION:Gators Deland\, 1788 S Woodland Blvd\, Deland\, FL\, 32720\, United States
GEO:28.956782;-81.321619
X-APPLE-STRUCTURED-LOCATION;VALUE=URI;X-ADDRESS=Gators Deland 1788 S Woodland Blvd Deland FL 32720 United States;X-APPLE-RADIUS=500;X-TITLE=1788 S Woodland Blvd:geo:-81.321619,28.956782
END:VEVENT
BEGIN:VEVENT
DTSTART;TZID=America/New_York:20260323T180000
DTEND;TZID=America/New_York:20260323T180000
DTSTAMP:20260419T180428
CREATED:20260105T003042Z
LAST-MODIFIED:20260105T055906Z
UID:10019254-1774288800-1774288800@epictriviafl.com
SUMMARY:Bingo
DESCRIPTION:
URL:https://epictriviafl.com/event/bingo-gators-deland/2026-03-23/
LOCATION:Gators Deland\, 1788 S Woodland Blvd\, Deland\, FL\, 32720\, United States
GEO:28.956782;-81.321619
X-APPLE-STRUCTURED-LOCATION;VALUE=URI;X-ADDRESS=Gators Deland 1788 S Woodland Blvd Deland FL 32720 United States;X-APPLE-RADIUS=500;X-TITLE=1788 S Woodland Blvd:geo:-81.321619,28.956782
END:VEVENT
BEGIN:VEVENT
DTSTART;TZID=America/New_York:20260318T180000
DTEND;TZID=America/New_York:20260318T180000
DTSTAMP:20260419T180428
CREATED:20260105T003118Z
LAST-MODIFIED:20260105T054848Z
UID:10015093-1773856800-1773856800@epictriviafl.com
SUMMARY:Bingo
DESCRIPTION:
URL:https://epictriviafl.com/event/bingo-gators-deland-2/2026-03-18/
LOCATION:Gators Deland\, 1788 S Woodland Blvd\, Deland\, FL\, 32720\, United States
GEO:28.956782;-81.321619
X-APPLE-STRUCTURED-LOCATION;VALUE=URI;X-ADDRESS=Gators Deland 1788 S Woodland Blvd Deland FL 32720 United States;X-APPLE-RADIUS=500;X-TITLE=1788 S Woodland Blvd:geo:-81.321619,28.956782
END:VEVENT
BEGIN:VEVENT
DTSTART;TZID=America/New_York:20260316T180000
DTEND;TZID=America/New_York:20260316T180000
DTSTAMP:20260419T180428
CREATED:20260105T003042Z
LAST-MODIFIED:20260105T055906Z
UID:10019253-1773684000-1773684000@epictriviafl.com
SUMMARY:Bingo
DESCRIPTION:
URL:https://epictriviafl.com/event/bingo-gators-deland/2026-03-16/
LOCATION:Gators Deland\, 1788 S Woodland Blvd\, Deland\, FL\, 32720\, United States
GEO:28.956782;-81.321619
X-APPLE-STRUCTURED-LOCATION;VALUE=URI;X-ADDRESS=Gators Deland 1788 S Woodland Blvd Deland FL 32720 United States;X-APPLE-RADIUS=500;X-TITLE=1788 S Woodland Blvd:geo:-81.321619,28.956782
END:VEVENT
BEGIN:VEVENT
DTSTART;TZID=America/New_York:20260311T180000
DTEND;TZID=America/New_York:20260311T180000
DTSTAMP:20260419T180428
CREATED:20260105T003118Z
LAST-MODIFIED:20260105T054848Z
UID:10015092-1773252000-1773252000@epictriviafl.com
SUMMARY:Bingo
DESCRIPTION:
URL:https://epictriviafl.com/event/bingo-gators-deland-2/2026-03-11/
LOCATION:Gators Deland\, 1788 S Woodland Blvd\, Deland\, FL\, 32720\, United States
GEO:28.956782;-81.321619
X-APPLE-STRUCTURED-LOCATION;VALUE=URI;X-ADDRESS=Gators Deland 1788 S Woodland Blvd Deland FL 32720 United States;X-APPLE-RADIUS=500;X-TITLE=1788 S Woodland Blvd:geo:-81.321619,28.956782
END:VEVENT
BEGIN:VEVENT
DTSTART;TZID=America/New_York:20260309T180000
DTEND;TZID=America/New_York:20260309T180000
DTSTAMP:20260419T180428
CREATED:20260105T003042Z
LAST-MODIFIED:20260105T055906Z
UID:10019252-1773079200-1773079200@epictriviafl.com
SUMMARY:Bingo
DESCRIPTION:
URL:https://epictriviafl.com/event/bingo-gators-deland/2026-03-09/
LOCATION:Gators Deland\, 1788 S Woodland Blvd\, Deland\, FL\, 32720\, United States
GEO:28.956782;-81.321619
X-APPLE-STRUCTURED-LOCATION;VALUE=URI;X-ADDRESS=Gators Deland 1788 S Woodland Blvd Deland FL 32720 United States;X-APPLE-RADIUS=500;X-TITLE=1788 S Woodland Blvd:geo:-81.321619,28.956782
END:VEVENT
BEGIN:VEVENT
DTSTART;TZID=America/New_York:20260304T180000
DTEND;TZID=America/New_York:20260304T180000
DTSTAMP:20260419T180428
CREATED:20260105T003118Z
LAST-MODIFIED:20260105T054848Z
UID:10015091-1772647200-1772647200@epictriviafl.com
SUMMARY:Bingo
DESCRIPTION:
URL:https://epictriviafl.com/event/bingo-gators-deland-2/2026-03-04/
LOCATION:Gators Deland\, 1788 S Woodland Blvd\, Deland\, FL\, 32720\, United States
GEO:28.956782;-81.321619
X-APPLE-STRUCTURED-LOCATION;VALUE=URI;X-ADDRESS=Gators Deland 1788 S Woodland Blvd Deland FL 32720 United States;X-APPLE-RADIUS=500;X-TITLE=1788 S Woodland Blvd:geo:-81.321619,28.956782
END:VEVENT
BEGIN:VEVENT
DTSTART;TZID=America/New_York:20260302T180000
DTEND;TZID=America/New_York:20260302T180000
DTSTAMP:20260419T180428
CREATED:20260105T003042Z
LAST-MODIFIED:20260105T055906Z
UID:10019251-1772474400-1772474400@epictriviafl.com
SUMMARY:Bingo
DESCRIPTION:
URL:https://epictriviafl.com/event/bingo-gators-deland/2026-03-02/
LOCATION:Gators Deland\, 1788 S Woodland Blvd\, Deland\, FL\, 32720\, United States
GEO:28.956782;-81.321619
X-APPLE-STRUCTURED-LOCATION;VALUE=URI;X-ADDRESS=Gators Deland 1788 S Woodland Blvd Deland FL 32720 United States;X-APPLE-RADIUS=500;X-TITLE=1788 S Woodland Blvd:geo:-81.321619,28.956782
END:VEVENT
BEGIN:VEVENT
DTSTART;TZID=America/New_York:20260225T180000
DTEND;TZID=America/New_York:20260225T180000
DTSTAMP:20260419T180428
CREATED:20260105T003118Z
LAST-MODIFIED:20260105T054848Z
UID:10015090-1772042400-1772042400@epictriviafl.com
SUMMARY:Bingo
DESCRIPTION:
URL:https://epictriviafl.com/event/bingo-gators-deland-2/2026-02-25/
LOCATION:Gators Deland\, 1788 S Woodland Blvd\, Deland\, FL\, 32720\, United States
GEO:28.956782;-81.321619
X-APPLE-STRUCTURED-LOCATION;VALUE=URI;X-ADDRESS=Gators Deland 1788 S Woodland Blvd Deland FL 32720 United States;X-APPLE-RADIUS=500;X-TITLE=1788 S Woodland Blvd:geo:-81.321619,28.956782
END:VEVENT
BEGIN:VEVENT
DTSTART;TZID=America/New_York:20260223T180000
DTEND;TZID=America/New_York:20260223T180000
DTSTAMP:20260419T180428
CREATED:20260105T003042Z
LAST-MODIFIED:20260105T055906Z
UID:10019250-1771869600-1771869600@epictriviafl.com
SUMMARY:Bingo
DESCRIPTION:
URL:https://epictriviafl.com/event/bingo-gators-deland/2026-02-23/
LOCATION:Gators Deland\, 1788 S Woodland Blvd\, Deland\, FL\, 32720\, United States
GEO:28.956782;-81.321619
X-APPLE-STRUCTURED-LOCATION;VALUE=URI;X-ADDRESS=Gators Deland 1788 S Woodland Blvd Deland FL 32720 United States;X-APPLE-RADIUS=500;X-TITLE=1788 S Woodland Blvd:geo:-81.321619,28.956782
END:VEVENT
BEGIN:VEVENT
DTSTART;TZID=America/New_York:20260218T180000
DTEND;TZID=America/New_York:20260218T180000
DTSTAMP:20260419T180428
CREATED:20260105T003118Z
LAST-MODIFIED:20260105T054848Z
UID:10015089-1771437600-1771437600@epictriviafl.com
SUMMARY:Bingo
DESCRIPTION:
URL:https://epictriviafl.com/event/bingo-gators-deland-2/2026-02-18/
LOCATION:Gators Deland\, 1788 S Woodland Blvd\, Deland\, FL\, 32720\, United States
GEO:28.956782;-81.321619
X-APPLE-STRUCTURED-LOCATION;VALUE=URI;X-ADDRESS=Gators Deland 1788 S Woodland Blvd Deland FL 32720 United States;X-APPLE-RADIUS=500;X-TITLE=1788 S Woodland Blvd:geo:-81.321619,28.956782
END:VEVENT
BEGIN:VEVENT
DTSTART;TZID=America/New_York:20260216T180000
DTEND;TZID=America/New_York:20260216T180000
DTSTAMP:20260419T180428
CREATED:20260105T003042Z
LAST-MODIFIED:20260105T055906Z
UID:10019249-1771264800-1771264800@epictriviafl.com
SUMMARY:Bingo
DESCRIPTION:
URL:https://epictriviafl.com/event/bingo-gators-deland/2026-02-16/
LOCATION:Gators Deland\, 1788 S Woodland Blvd\, Deland\, FL\, 32720\, United States
GEO:28.956782;-81.321619
X-APPLE-STRUCTURED-LOCATION;VALUE=URI;X-ADDRESS=Gators Deland 1788 S Woodland Blvd Deland FL 32720 United States;X-APPLE-RADIUS=500;X-TITLE=1788 S Woodland Blvd:geo:-81.321619,28.956782
END:VEVENT
BEGIN:VEVENT
DTSTART;TZID=America/New_York:20260211T180000
DTEND;TZID=America/New_York:20260211T180000
DTSTAMP:20260419T180428
CREATED:20260105T003118Z
LAST-MODIFIED:20260105T054848Z
UID:10015088-1770832800-1770832800@epictriviafl.com
SUMMARY:Bingo
DESCRIPTION:
URL:https://epictriviafl.com/event/bingo-gators-deland-2/2026-02-11/
LOCATION:Gators Deland\, 1788 S Woodland Blvd\, Deland\, FL\, 32720\, United States
GEO:28.956782;-81.321619
X-APPLE-STRUCTURED-LOCATION;VALUE=URI;X-ADDRESS=Gators Deland 1788 S Woodland Blvd Deland FL 32720 United States;X-APPLE-RADIUS=500;X-TITLE=1788 S Woodland Blvd:geo:-81.321619,28.956782
END:VEVENT
BEGIN:VEVENT
DTSTART;TZID=America/New_York:20260209T180000
DTEND;TZID=America/New_York:20260209T180000
DTSTAMP:20260419T180428
CREATED:20260105T003042Z
LAST-MODIFIED:20260105T055906Z
UID:10019248-1770660000-1770660000@epictriviafl.com
SUMMARY:Bingo
DESCRIPTION:
URL:https://epictriviafl.com/event/bingo-gators-deland/2026-02-09/
LOCATION:Gators Deland\, 1788 S Woodland Blvd\, Deland\, FL\, 32720\, United States
GEO:28.956782;-81.321619
X-APPLE-STRUCTURED-LOCATION;VALUE=URI;X-ADDRESS=Gators Deland 1788 S Woodland Blvd Deland FL 32720 United States;X-APPLE-RADIUS=500;X-TITLE=1788 S Woodland Blvd:geo:-81.321619,28.956782
END:VEVENT
BEGIN:VEVENT
DTSTART;TZID=America/New_York:20260204T180000
DTEND;TZID=America/New_York:20260204T180000
DTSTAMP:20260419T180428
CREATED:20260105T003118Z
LAST-MODIFIED:20260105T054848Z
UID:10015087-1770228000-1770228000@epictriviafl.com
SUMMARY:Bingo
DESCRIPTION:
URL:https://epictriviafl.com/event/bingo-gators-deland-2/2026-02-04/
LOCATION:Gators Deland\, 1788 S Woodland Blvd\, Deland\, FL\, 32720\, United States
GEO:28.956782;-81.321619
X-APPLE-STRUCTURED-LOCATION;VALUE=URI;X-ADDRESS=Gators Deland 1788 S Woodland Blvd Deland FL 32720 United States;X-APPLE-RADIUS=500;X-TITLE=1788 S Woodland Blvd:geo:-81.321619,28.956782
END:VEVENT
BEGIN:VEVENT
DTSTART;TZID=America/New_York:20260202T180000
DTEND;TZID=America/New_York:20260202T180000
DTSTAMP:20260419T180428
CREATED:20260105T003042Z
LAST-MODIFIED:20260105T055906Z
UID:10019247-1770055200-1770055200@epictriviafl.com
SUMMARY:Bingo
DESCRIPTION:
URL:https://epictriviafl.com/event/bingo-gators-deland/2026-02-02/
LOCATION:Gators Deland\, 1788 S Woodland Blvd\, Deland\, FL\, 32720\, United States
GEO:28.956782;-81.321619
X-APPLE-STRUCTURED-LOCATION;VALUE=URI;X-ADDRESS=Gators Deland 1788 S Woodland Blvd Deland FL 32720 United States;X-APPLE-RADIUS=500;X-TITLE=1788 S Woodland Blvd:geo:-81.321619,28.956782
END:VEVENT
BEGIN:VEVENT
DTSTART;TZID=America/New_York:20260128T180000
DTEND;TZID=America/New_York:20260128T180000
DTSTAMP:20260419T180428
CREATED:20260105T003118Z
LAST-MODIFIED:20260105T054848Z
UID:10015086-1769623200-1769623200@epictriviafl.com
SUMMARY:Bingo
DESCRIPTION:
URL:https://epictriviafl.com/event/bingo-gators-deland-2/2026-01-28/
LOCATION:Gators Deland\, 1788 S Woodland Blvd\, Deland\, FL\, 32720\, United States
GEO:28.956782;-81.321619
X-APPLE-STRUCTURED-LOCATION;VALUE=URI;X-ADDRESS=Gators Deland 1788 S Woodland Blvd Deland FL 32720 United States;X-APPLE-RADIUS=500;X-TITLE=1788 S Woodland Blvd:geo:-81.321619,28.956782
END:VEVENT
BEGIN:VEVENT
DTSTART;TZID=America/New_York:20260126T180000
DTEND;TZID=America/New_York:20260126T180000
DTSTAMP:20260419T180428
CREATED:20260105T003042Z
LAST-MODIFIED:20260105T055906Z
UID:10019246-1769450400-1769450400@epictriviafl.com
SUMMARY:Bingo
DESCRIPTION:
URL:https://epictriviafl.com/event/bingo-gators-deland/2026-01-26/
LOCATION:Gators Deland\, 1788 S Woodland Blvd\, Deland\, FL\, 32720\, United States
GEO:28.956782;-81.321619
X-APPLE-STRUCTURED-LOCATION;VALUE=URI;X-ADDRESS=Gators Deland 1788 S Woodland Blvd Deland FL 32720 United States;X-APPLE-RADIUS=500;X-TITLE=1788 S Woodland Blvd:geo:-81.321619,28.956782
END:VEVENT
BEGIN:VEVENT
DTSTART;TZID=America/New_York:20260121T180000
DTEND;TZID=America/New_York:20260121T180000
DTSTAMP:20260419T180428
CREATED:20260105T003118Z
LAST-MODIFIED:20260105T054848Z
UID:10015085-1769018400-1769018400@epictriviafl.com
SUMMARY:Bingo
DESCRIPTION:
URL:https://epictriviafl.com/event/bingo-gators-deland-2/2026-01-21/
LOCATION:Gators Deland\, 1788 S Woodland Blvd\, Deland\, FL\, 32720\, United States
GEO:28.956782;-81.321619
X-APPLE-STRUCTURED-LOCATION;VALUE=URI;X-ADDRESS=Gators Deland 1788 S Woodland Blvd Deland FL 32720 United States;X-APPLE-RADIUS=500;X-TITLE=1788 S Woodland Blvd:geo:-81.321619,28.956782
END:VEVENT
BEGIN:VEVENT
DTSTART;TZID=America/New_York:20260119T180000
DTEND;TZID=America/New_York:20260119T180000
DTSTAMP:20260419T180428
CREATED:20260105T003042Z
LAST-MODIFIED:20260105T055906Z
UID:10019245-1768845600-1768845600@epictriviafl.com
SUMMARY:Bingo
DESCRIPTION:
URL:https://epictriviafl.com/event/bingo-gators-deland/2026-01-19/
LOCATION:Gators Deland\, 1788 S Woodland Blvd\, Deland\, FL\, 32720\, United States
GEO:28.956782;-81.321619
X-APPLE-STRUCTURED-LOCATION;VALUE=URI;X-ADDRESS=Gators Deland 1788 S Woodland Blvd Deland FL 32720 United States;X-APPLE-RADIUS=500;X-TITLE=1788 S Woodland Blvd:geo:-81.321619,28.956782
END:VEVENT
BEGIN:VEVENT
DTSTART;TZID=America/New_York:20260114T180000
DTEND;TZID=America/New_York:20260114T180000
DTSTAMP:20260419T180428
CREATED:20260105T003118Z
LAST-MODIFIED:20260105T054848Z
UID:10015084-1768413600-1768413600@epictriviafl.com
SUMMARY:Bingo
DESCRIPTION:
URL:https://epictriviafl.com/event/bingo-gators-deland-2/2026-01-14/
LOCATION:Gators Deland\, 1788 S Woodland Blvd\, Deland\, FL\, 32720\, United States
GEO:28.956782;-81.321619
X-APPLE-STRUCTURED-LOCATION;VALUE=URI;X-ADDRESS=Gators Deland 1788 S Woodland Blvd Deland FL 32720 United States;X-APPLE-RADIUS=500;X-TITLE=1788 S Woodland Blvd:geo:-81.321619,28.956782
END:VEVENT
BEGIN:VEVENT
DTSTART;TZID=America/New_York:20260112T180000
DTEND;TZID=America/New_York:20260112T180000
DTSTAMP:20260419T180428
CREATED:20260105T003042Z
LAST-MODIFIED:20260105T055906Z
UID:10019244-1768240800-1768240800@epictriviafl.com
SUMMARY:Bingo
DESCRIPTION:
URL:https://epictriviafl.com/event/bingo-gators-deland/2026-01-12/
LOCATION:Gators Deland\, 1788 S Woodland Blvd\, Deland\, FL\, 32720\, United States
GEO:28.956782;-81.321619
X-APPLE-STRUCTURED-LOCATION;VALUE=URI;X-ADDRESS=Gators Deland 1788 S Woodland Blvd Deland FL 32720 United States;X-APPLE-RADIUS=500;X-TITLE=1788 S Woodland Blvd:geo:-81.321619,28.956782
END:VEVENT
BEGIN:VEVENT
DTSTART;TZID=America/New_York:20260107T180000
DTEND;TZID=America/New_York:20260107T180000
DTSTAMP:20260419T180428
CREATED:20260105T003118Z
LAST-MODIFIED:20260105T054848Z
UID:10008813-1767808800-1767808800@epictriviafl.com
SUMMARY:Bingo
DESCRIPTION:
URL:https://epictriviafl.com/event/bingo-gators-deland-2/2026-01-07/
LOCATION:Gators Deland\, 1788 S Woodland Blvd\, Deland\, FL\, 32720\, United States
GEO:28.956782;-81.321619
X-APPLE-STRUCTURED-LOCATION;VALUE=URI;X-ADDRESS=Gators Deland 1788 S Woodland Blvd Deland FL 32720 United States;X-APPLE-RADIUS=500;X-TITLE=1788 S Woodland Blvd:geo:-81.321619,28.956782
END:VEVENT
BEGIN:VEVENT
DTSTART;TZID=America/New_York:20260105T180000
DTEND;TZID=America/New_York:20260105T180000
DTSTAMP:20260419T180428
CREATED:20260105T003042Z
LAST-MODIFIED:20260105T055906Z
UID:10008796-1767636000-1767636000@epictriviafl.com
SUMMARY:Bingo
DESCRIPTION:
URL:https://epictriviafl.com/event/bingo-gators-deland/2026-01-05/
LOCATION:Gators Deland\, 1788 S Woodland Blvd\, Deland\, FL\, 32720\, United States
GEO:28.956782;-81.321619
X-APPLE-STRUCTURED-LOCATION;VALUE=URI;X-ADDRESS=Gators Deland 1788 S Woodland Blvd Deland FL 32720 United States;X-APPLE-RADIUS=500;X-TITLE=1788 S Woodland Blvd:geo:-81.321619,28.956782
END:VEVENT
END:VCALENDAR