BEGIN:VCALENDAR
VERSION:2.0
PRODID:-//Epic Trivia - ECPv6.15.18//NONSGML v1.0//EN
CALSCALE:GREGORIAN
METHOD:PUBLISH
X-WR-CALNAME:Epic Trivia
X-ORIGINAL-URL:https://epictriviafl.com
X-WR-CALDESC:Events for Epic Trivia
REFRESH-INTERVAL;VALUE=DURATION:PT1H
X-Robots-Tag:noindex
X-PUBLISHED-TTL:PT1H
BEGIN:VTIMEZONE
TZID:America/New_York
BEGIN:DAYLIGHT
TZOFFSETFROM:-0500
TZOFFSETTO:-0400
TZNAME:EDT
DTSTART:20250309T070000
END:DAYLIGHT
BEGIN:STANDARD
TZOFFSETFROM:-0400
TZOFFSETTO:-0500
TZNAME:EST
DTSTART:20251102T060000
END:STANDARD
BEGIN:DAYLIGHT
TZOFFSETFROM:-0500
TZOFFSETTO:-0400
TZNAME:EDT
DTSTART:20260308T070000
END:DAYLIGHT
BEGIN:STANDARD
TZOFFSETFROM:-0400
TZOFFSETTO:-0500
TZNAME:EST
DTSTART:20261101T060000
END:STANDARD
BEGIN:DAYLIGHT
TZOFFSETFROM:-0500
TZOFFSETTO:-0400
TZNAME:EDT
DTSTART:20270314T070000
END:DAYLIGHT
BEGIN:STANDARD
TZOFFSETFROM:-0400
TZOFFSETTO:-0500
TZNAME:EST
DTSTART:20271107T060000
END:STANDARD
END:VTIMEZONE
BEGIN:VEVENT
DTSTART;TZID=America/New_York:20260425T110000
DTEND;TZID=America/New_York:20260425T110000
DTSTAMP:20260419T121800
CREATED:20260105T003232Z
LAST-MODIFIED:20260105T060317Z
UID:10021341-1777114800-1777114800@epictriviafl.com
SUMMARY:Music Bingo
DESCRIPTION:
URL:https://epictriviafl.com/event/music-bingo-cabanna/2026-04-25/
LOCATION:Cabanna Live\, 4380 Carraway Pl\, Sanford\, FL\, 32771\, United States
GEO:28.8347357;-81.3291546
X-APPLE-STRUCTURED-LOCATION;VALUE=URI;X-ADDRESS=Cabanna Live 4380 Carraway Pl Sanford FL 32771 United States;X-APPLE-RADIUS=500;X-TITLE=4380 Carraway Pl:geo:-81.3291546,28.8347357
END:VEVENT
BEGIN:VEVENT
DTSTART;TZID=America/New_York:20260502T110000
DTEND;TZID=America/New_York:20260502T110000
DTSTAMP:20260419T121800
CREATED:20260105T003232Z
LAST-MODIFIED:20260105T060317Z
UID:10021342-1777719600-1777719600@epictriviafl.com
SUMMARY:Music Bingo
DESCRIPTION:
URL:https://epictriviafl.com/event/music-bingo-cabanna/2026-05-02/
LOCATION:Cabanna Live\, 4380 Carraway Pl\, Sanford\, FL\, 32771\, United States
GEO:28.8347357;-81.3291546
X-APPLE-STRUCTURED-LOCATION;VALUE=URI;X-ADDRESS=Cabanna Live 4380 Carraway Pl Sanford FL 32771 United States;X-APPLE-RADIUS=500;X-TITLE=4380 Carraway Pl:geo:-81.3291546,28.8347357
END:VEVENT
BEGIN:VEVENT
DTSTART;TZID=America/New_York:20260509T110000
DTEND;TZID=America/New_York:20260509T110000
DTSTAMP:20260419T121800
CREATED:20260105T003232Z
LAST-MODIFIED:20260105T060317Z
UID:10021343-1778324400-1778324400@epictriviafl.com
SUMMARY:Music Bingo
DESCRIPTION:
URL:https://epictriviafl.com/event/music-bingo-cabanna/2026-05-09/
LOCATION:Cabanna Live\, 4380 Carraway Pl\, Sanford\, FL\, 32771\, United States
GEO:28.8347357;-81.3291546
X-APPLE-STRUCTURED-LOCATION;VALUE=URI;X-ADDRESS=Cabanna Live 4380 Carraway Pl Sanford FL 32771 United States;X-APPLE-RADIUS=500;X-TITLE=4380 Carraway Pl:geo:-81.3291546,28.8347357
END:VEVENT
BEGIN:VEVENT
DTSTART;TZID=America/New_York:20260516T110000
DTEND;TZID=America/New_York:20260516T110000
DTSTAMP:20260419T121800
CREATED:20260105T003232Z
LAST-MODIFIED:20260105T060317Z
UID:10021344-1778929200-1778929200@epictriviafl.com
SUMMARY:Music Bingo
DESCRIPTION:
URL:https://epictriviafl.com/event/music-bingo-cabanna/2026-05-16/
LOCATION:Cabanna Live\, 4380 Carraway Pl\, Sanford\, FL\, 32771\, United States
GEO:28.8347357;-81.3291546
X-APPLE-STRUCTURED-LOCATION;VALUE=URI;X-ADDRESS=Cabanna Live 4380 Carraway Pl Sanford FL 32771 United States;X-APPLE-RADIUS=500;X-TITLE=4380 Carraway Pl:geo:-81.3291546,28.8347357
END:VEVENT
BEGIN:VEVENT
DTSTART;TZID=America/New_York:20260523T110000
DTEND;TZID=America/New_York:20260523T110000
DTSTAMP:20260419T121800
CREATED:20260105T003232Z
LAST-MODIFIED:20260105T060317Z
UID:10021345-1779534000-1779534000@epictriviafl.com
SUMMARY:Music Bingo
DESCRIPTION:
URL:https://epictriviafl.com/event/music-bingo-cabanna/2026-05-23/
LOCATION:Cabanna Live\, 4380 Carraway Pl\, Sanford\, FL\, 32771\, United States
GEO:28.8347357;-81.3291546
X-APPLE-STRUCTURED-LOCATION;VALUE=URI;X-ADDRESS=Cabanna Live 4380 Carraway Pl Sanford FL 32771 United States;X-APPLE-RADIUS=500;X-TITLE=4380 Carraway Pl:geo:-81.3291546,28.8347357
END:VEVENT
BEGIN:VEVENT
DTSTART;TZID=America/New_York:20260530T110000
DTEND;TZID=America/New_York:20260530T110000
DTSTAMP:20260419T121800
CREATED:20260105T003232Z
LAST-MODIFIED:20260105T060317Z
UID:10021346-1780138800-1780138800@epictriviafl.com
SUMMARY:Music Bingo
DESCRIPTION:
URL:https://epictriviafl.com/event/music-bingo-cabanna/2026-05-30/
LOCATION:Cabanna Live\, 4380 Carraway Pl\, Sanford\, FL\, 32771\, United States
GEO:28.8347357;-81.3291546
X-APPLE-STRUCTURED-LOCATION;VALUE=URI;X-ADDRESS=Cabanna Live 4380 Carraway Pl Sanford FL 32771 United States;X-APPLE-RADIUS=500;X-TITLE=4380 Carraway Pl:geo:-81.3291546,28.8347357
END:VEVENT
BEGIN:VEVENT
DTSTART;TZID=America/New_York:20260606T110000
DTEND;TZID=America/New_York:20260606T110000
DTSTAMP:20260419T121800
CREATED:20260105T003232Z
LAST-MODIFIED:20260105T060317Z
UID:10021347-1780743600-1780743600@epictriviafl.com
SUMMARY:Music Bingo
DESCRIPTION:
URL:https://epictriviafl.com/event/music-bingo-cabanna/2026-06-06/
LOCATION:Cabanna Live\, 4380 Carraway Pl\, Sanford\, FL\, 32771\, United States
GEO:28.8347357;-81.3291546
X-APPLE-STRUCTURED-LOCATION;VALUE=URI;X-ADDRESS=Cabanna Live 4380 Carraway Pl Sanford FL 32771 United States;X-APPLE-RADIUS=500;X-TITLE=4380 Carraway Pl:geo:-81.3291546,28.8347357
END:VEVENT
BEGIN:VEVENT
DTSTART;TZID=America/New_York:20260613T110000
DTEND;TZID=America/New_York:20260613T110000
DTSTAMP:20260419T121800
CREATED:20260105T003232Z
LAST-MODIFIED:20260105T060317Z
UID:10021348-1781348400-1781348400@epictriviafl.com
SUMMARY:Music Bingo
DESCRIPTION:
URL:https://epictriviafl.com/event/music-bingo-cabanna/2026-06-13/
LOCATION:Cabanna Live\, 4380 Carraway Pl\, Sanford\, FL\, 32771\, United States
GEO:28.8347357;-81.3291546
X-APPLE-STRUCTURED-LOCATION;VALUE=URI;X-ADDRESS=Cabanna Live 4380 Carraway Pl Sanford FL 32771 United States;X-APPLE-RADIUS=500;X-TITLE=4380 Carraway Pl:geo:-81.3291546,28.8347357
END:VEVENT
BEGIN:VEVENT
DTSTART;TZID=America/New_York:20260620T110000
DTEND;TZID=America/New_York:20260620T110000
DTSTAMP:20260419T121800
CREATED:20260105T003232Z
LAST-MODIFIED:20260105T060317Z
UID:10021349-1781953200-1781953200@epictriviafl.com
SUMMARY:Music Bingo
DESCRIPTION:
URL:https://epictriviafl.com/event/music-bingo-cabanna/2026-06-20/
LOCATION:Cabanna Live\, 4380 Carraway Pl\, Sanford\, FL\, 32771\, United States
GEO:28.8347357;-81.3291546
X-APPLE-STRUCTURED-LOCATION;VALUE=URI;X-ADDRESS=Cabanna Live 4380 Carraway Pl Sanford FL 32771 United States;X-APPLE-RADIUS=500;X-TITLE=4380 Carraway Pl:geo:-81.3291546,28.8347357
END:VEVENT
BEGIN:VEVENT
DTSTART;TZID=America/New_York:20260627T110000
DTEND;TZID=America/New_York:20260627T110000
DTSTAMP:20260419T121800
CREATED:20260105T003232Z
LAST-MODIFIED:20260105T060317Z
UID:10021350-1782558000-1782558000@epictriviafl.com
SUMMARY:Music Bingo
DESCRIPTION:
URL:https://epictriviafl.com/event/music-bingo-cabanna/2026-06-27/
LOCATION:Cabanna Live\, 4380 Carraway Pl\, Sanford\, FL\, 32771\, United States
GEO:28.8347357;-81.3291546
X-APPLE-STRUCTURED-LOCATION;VALUE=URI;X-ADDRESS=Cabanna Live 4380 Carraway Pl Sanford FL 32771 United States;X-APPLE-RADIUS=500;X-TITLE=4380 Carraway Pl:geo:-81.3291546,28.8347357
END:VEVENT
BEGIN:VEVENT
DTSTART;TZID=America/New_York:20260704T110000
DTEND;TZID=America/New_York:20260704T110000
DTSTAMP:20260419T121800
CREATED:20260105T003232Z
LAST-MODIFIED:20260105T060317Z
UID:10021351-1783162800-1783162800@epictriviafl.com
SUMMARY:Music Bingo
DESCRIPTION:
URL:https://epictriviafl.com/event/music-bingo-cabanna/2026-07-04/
LOCATION:Cabanna Live\, 4380 Carraway Pl\, Sanford\, FL\, 32771\, United States
GEO:28.8347357;-81.3291546
X-APPLE-STRUCTURED-LOCATION;VALUE=URI;X-ADDRESS=Cabanna Live 4380 Carraway Pl Sanford FL 32771 United States;X-APPLE-RADIUS=500;X-TITLE=4380 Carraway Pl:geo:-81.3291546,28.8347357
END:VEVENT
BEGIN:VEVENT
DTSTART;TZID=America/New_York:20260711T110000
DTEND;TZID=America/New_York:20260711T110000
DTSTAMP:20260419T121800
CREATED:20260105T003232Z
LAST-MODIFIED:20260105T060317Z
UID:10021352-1783767600-1783767600@epictriviafl.com
SUMMARY:Music Bingo
DESCRIPTION:
URL:https://epictriviafl.com/event/music-bingo-cabanna/2026-07-11/
LOCATION:Cabanna Live\, 4380 Carraway Pl\, Sanford\, FL\, 32771\, United States
GEO:28.8347357;-81.3291546
X-APPLE-STRUCTURED-LOCATION;VALUE=URI;X-ADDRESS=Cabanna Live 4380 Carraway Pl Sanford FL 32771 United States;X-APPLE-RADIUS=500;X-TITLE=4380 Carraway Pl:geo:-81.3291546,28.8347357
END:VEVENT
BEGIN:VEVENT
DTSTART;TZID=America/New_York:20260718T110000
DTEND;TZID=America/New_York:20260718T110000
DTSTAMP:20260419T121800
CREATED:20260105T003232Z
LAST-MODIFIED:20260105T060317Z
UID:10021353-1784372400-1784372400@epictriviafl.com
SUMMARY:Music Bingo
DESCRIPTION:
URL:https://epictriviafl.com/event/music-bingo-cabanna/2026-07-18/
LOCATION:Cabanna Live\, 4380 Carraway Pl\, Sanford\, FL\, 32771\, United States
GEO:28.8347357;-81.3291546
X-APPLE-STRUCTURED-LOCATION;VALUE=URI;X-ADDRESS=Cabanna Live 4380 Carraway Pl Sanford FL 32771 United States;X-APPLE-RADIUS=500;X-TITLE=4380 Carraway Pl:geo:-81.3291546,28.8347357
END:VEVENT
BEGIN:VEVENT
DTSTART;TZID=America/New_York:20260725T110000
DTEND;TZID=America/New_York:20260725T110000
DTSTAMP:20260419T121800
CREATED:20260105T003232Z
LAST-MODIFIED:20260105T060317Z
UID:10021354-1784977200-1784977200@epictriviafl.com
SUMMARY:Music Bingo
DESCRIPTION:
URL:https://epictriviafl.com/event/music-bingo-cabanna/2026-07-25/
LOCATION:Cabanna Live\, 4380 Carraway Pl\, Sanford\, FL\, 32771\, United States
GEO:28.8347357;-81.3291546
X-APPLE-STRUCTURED-LOCATION;VALUE=URI;X-ADDRESS=Cabanna Live 4380 Carraway Pl Sanford FL 32771 United States;X-APPLE-RADIUS=500;X-TITLE=4380 Carraway Pl:geo:-81.3291546,28.8347357
END:VEVENT
BEGIN:VEVENT
DTSTART;TZID=America/New_York:20260801T110000
DTEND;TZID=America/New_York:20260801T110000
DTSTAMP:20260419T121800
CREATED:20260105T003232Z
LAST-MODIFIED:20260105T060317Z
UID:10021355-1785582000-1785582000@epictriviafl.com
SUMMARY:Music Bingo
DESCRIPTION:
URL:https://epictriviafl.com/event/music-bingo-cabanna/2026-08-01/
LOCATION:Cabanna Live\, 4380 Carraway Pl\, Sanford\, FL\, 32771\, United States
GEO:28.8347357;-81.3291546
X-APPLE-STRUCTURED-LOCATION;VALUE=URI;X-ADDRESS=Cabanna Live 4380 Carraway Pl Sanford FL 32771 United States;X-APPLE-RADIUS=500;X-TITLE=4380 Carraway Pl:geo:-81.3291546,28.8347357
END:VEVENT
BEGIN:VEVENT
DTSTART;TZID=America/New_York:20260808T110000
DTEND;TZID=America/New_York:20260808T110000
DTSTAMP:20260419T121800
CREATED:20260105T003232Z
LAST-MODIFIED:20260105T060317Z
UID:10021356-1786186800-1786186800@epictriviafl.com
SUMMARY:Music Bingo
DESCRIPTION:
URL:https://epictriviafl.com/event/music-bingo-cabanna/2026-08-08/
LOCATION:Cabanna Live\, 4380 Carraway Pl\, Sanford\, FL\, 32771\, United States
GEO:28.8347357;-81.3291546
X-APPLE-STRUCTURED-LOCATION;VALUE=URI;X-ADDRESS=Cabanna Live 4380 Carraway Pl Sanford FL 32771 United States;X-APPLE-RADIUS=500;X-TITLE=4380 Carraway Pl:geo:-81.3291546,28.8347357
END:VEVENT
BEGIN:VEVENT
DTSTART;TZID=America/New_York:20260815T110000
DTEND;TZID=America/New_York:20260815T110000
DTSTAMP:20260419T121800
CREATED:20260105T003232Z
LAST-MODIFIED:20260105T060317Z
UID:10021357-1786791600-1786791600@epictriviafl.com
SUMMARY:Music Bingo
DESCRIPTION:
URL:https://epictriviafl.com/event/music-bingo-cabanna/2026-08-15/
LOCATION:Cabanna Live\, 4380 Carraway Pl\, Sanford\, FL\, 32771\, United States
GEO:28.8347357;-81.3291546
X-APPLE-STRUCTURED-LOCATION;VALUE=URI;X-ADDRESS=Cabanna Live 4380 Carraway Pl Sanford FL 32771 United States;X-APPLE-RADIUS=500;X-TITLE=4380 Carraway Pl:geo:-81.3291546,28.8347357
END:VEVENT
BEGIN:VEVENT
DTSTART;TZID=America/New_York:20260822T110000
DTEND;TZID=America/New_York:20260822T110000
DTSTAMP:20260419T121800
CREATED:20260105T003232Z
LAST-MODIFIED:20260105T060317Z
UID:10021358-1787396400-1787396400@epictriviafl.com
SUMMARY:Music Bingo
DESCRIPTION:
URL:https://epictriviafl.com/event/music-bingo-cabanna/2026-08-22/
LOCATION:Cabanna Live\, 4380 Carraway Pl\, Sanford\, FL\, 32771\, United States
GEO:28.8347357;-81.3291546
X-APPLE-STRUCTURED-LOCATION;VALUE=URI;X-ADDRESS=Cabanna Live 4380 Carraway Pl Sanford FL 32771 United States;X-APPLE-RADIUS=500;X-TITLE=4380 Carraway Pl:geo:-81.3291546,28.8347357
END:VEVENT
BEGIN:VEVENT
DTSTART;TZID=America/New_York:20260829T110000
DTEND;TZID=America/New_York:20260829T110000
DTSTAMP:20260419T121800
CREATED:20260105T003232Z
LAST-MODIFIED:20260105T060317Z
UID:10021359-1788001200-1788001200@epictriviafl.com
SUMMARY:Music Bingo
DESCRIPTION:
URL:https://epictriviafl.com/event/music-bingo-cabanna/2026-08-29/
LOCATION:Cabanna Live\, 4380 Carraway Pl\, Sanford\, FL\, 32771\, United States
GEO:28.8347357;-81.3291546
X-APPLE-STRUCTURED-LOCATION;VALUE=URI;X-ADDRESS=Cabanna Live 4380 Carraway Pl Sanford FL 32771 United States;X-APPLE-RADIUS=500;X-TITLE=4380 Carraway Pl:geo:-81.3291546,28.8347357
END:VEVENT
BEGIN:VEVENT
DTSTART;TZID=America/New_York:20260905T110000
DTEND;TZID=America/New_York:20260905T110000
DTSTAMP:20260419T121800
CREATED:20260105T003232Z
LAST-MODIFIED:20260105T060317Z
UID:10021360-1788606000-1788606000@epictriviafl.com
SUMMARY:Music Bingo
DESCRIPTION:
URL:https://epictriviafl.com/event/music-bingo-cabanna/2026-09-05/
LOCATION:Cabanna Live\, 4380 Carraway Pl\, Sanford\, FL\, 32771\, United States
GEO:28.8347357;-81.3291546
X-APPLE-STRUCTURED-LOCATION;VALUE=URI;X-ADDRESS=Cabanna Live 4380 Carraway Pl Sanford FL 32771 United States;X-APPLE-RADIUS=500;X-TITLE=4380 Carraway Pl:geo:-81.3291546,28.8347357
END:VEVENT
BEGIN:VEVENT
DTSTART;TZID=America/New_York:20260912T110000
DTEND;TZID=America/New_York:20260912T110000
DTSTAMP:20260419T121800
CREATED:20260105T003232Z
LAST-MODIFIED:20260105T060317Z
UID:10021361-1789210800-1789210800@epictriviafl.com
SUMMARY:Music Bingo
DESCRIPTION:
URL:https://epictriviafl.com/event/music-bingo-cabanna/2026-09-12/
LOCATION:Cabanna Live\, 4380 Carraway Pl\, Sanford\, FL\, 32771\, United States
GEO:28.8347357;-81.3291546
X-APPLE-STRUCTURED-LOCATION;VALUE=URI;X-ADDRESS=Cabanna Live 4380 Carraway Pl Sanford FL 32771 United States;X-APPLE-RADIUS=500;X-TITLE=4380 Carraway Pl:geo:-81.3291546,28.8347357
END:VEVENT
BEGIN:VEVENT
DTSTART;TZID=America/New_York:20260919T110000
DTEND;TZID=America/New_York:20260919T110000
DTSTAMP:20260419T121800
CREATED:20260105T003232Z
LAST-MODIFIED:20260105T060317Z
UID:10021362-1789815600-1789815600@epictriviafl.com
SUMMARY:Music Bingo
DESCRIPTION:
URL:https://epictriviafl.com/event/music-bingo-cabanna/2026-09-19/
LOCATION:Cabanna Live\, 4380 Carraway Pl\, Sanford\, FL\, 32771\, United States
GEO:28.8347357;-81.3291546
X-APPLE-STRUCTURED-LOCATION;VALUE=URI;X-ADDRESS=Cabanna Live 4380 Carraway Pl Sanford FL 32771 United States;X-APPLE-RADIUS=500;X-TITLE=4380 Carraway Pl:geo:-81.3291546,28.8347357
END:VEVENT
BEGIN:VEVENT
DTSTART;TZID=America/New_York:20260926T110000
DTEND;TZID=America/New_York:20260926T110000
DTSTAMP:20260419T121800
CREATED:20260105T003232Z
LAST-MODIFIED:20260105T060317Z
UID:10021363-1790420400-1790420400@epictriviafl.com
SUMMARY:Music Bingo
DESCRIPTION:
URL:https://epictriviafl.com/event/music-bingo-cabanna/2026-09-26/
LOCATION:Cabanna Live\, 4380 Carraway Pl\, Sanford\, FL\, 32771\, United States
GEO:28.8347357;-81.3291546
X-APPLE-STRUCTURED-LOCATION;VALUE=URI;X-ADDRESS=Cabanna Live 4380 Carraway Pl Sanford FL 32771 United States;X-APPLE-RADIUS=500;X-TITLE=4380 Carraway Pl:geo:-81.3291546,28.8347357
END:VEVENT
BEGIN:VEVENT
DTSTART;TZID=America/New_York:20261003T110000
DTEND;TZID=America/New_York:20261003T110000
DTSTAMP:20260419T121800
CREATED:20260105T003232Z
LAST-MODIFIED:20260105T060317Z
UID:10021364-1791025200-1791025200@epictriviafl.com
SUMMARY:Music Bingo
DESCRIPTION:
URL:https://epictriviafl.com/event/music-bingo-cabanna/2026-10-03/
LOCATION:Cabanna Live\, 4380 Carraway Pl\, Sanford\, FL\, 32771\, United States
GEO:28.8347357;-81.3291546
X-APPLE-STRUCTURED-LOCATION;VALUE=URI;X-ADDRESS=Cabanna Live 4380 Carraway Pl Sanford FL 32771 United States;X-APPLE-RADIUS=500;X-TITLE=4380 Carraway Pl:geo:-81.3291546,28.8347357
END:VEVENT
BEGIN:VEVENT
DTSTART;TZID=America/New_York:20261010T110000
DTEND;TZID=America/New_York:20261010T110000
DTSTAMP:20260419T121800
CREATED:20260105T003232Z
LAST-MODIFIED:20260105T060317Z
UID:10021365-1791630000-1791630000@epictriviafl.com
SUMMARY:Music Bingo
DESCRIPTION:
URL:https://epictriviafl.com/event/music-bingo-cabanna/2026-10-10/
LOCATION:Cabanna Live\, 4380 Carraway Pl\, Sanford\, FL\, 32771\, United States
GEO:28.8347357;-81.3291546
X-APPLE-STRUCTURED-LOCATION;VALUE=URI;X-ADDRESS=Cabanna Live 4380 Carraway Pl Sanford FL 32771 United States;X-APPLE-RADIUS=500;X-TITLE=4380 Carraway Pl:geo:-81.3291546,28.8347357
END:VEVENT
BEGIN:VEVENT
DTSTART;TZID=America/New_York:20261017T110000
DTEND;TZID=America/New_York:20261017T110000
DTSTAMP:20260419T121800
CREATED:20260105T003232Z
LAST-MODIFIED:20260105T060317Z
UID:10021366-1792234800-1792234800@epictriviafl.com
SUMMARY:Music Bingo
DESCRIPTION:
URL:https://epictriviafl.com/event/music-bingo-cabanna/2026-10-17/
LOCATION:Cabanna Live\, 4380 Carraway Pl\, Sanford\, FL\, 32771\, United States
GEO:28.8347357;-81.3291546
X-APPLE-STRUCTURED-LOCATION;VALUE=URI;X-ADDRESS=Cabanna Live 4380 Carraway Pl Sanford FL 32771 United States;X-APPLE-RADIUS=500;X-TITLE=4380 Carraway Pl:geo:-81.3291546,28.8347357
END:VEVENT
BEGIN:VEVENT
DTSTART;TZID=America/New_York:20261024T110000
DTEND;TZID=America/New_York:20261024T110000
DTSTAMP:20260419T121800
CREATED:20260105T003232Z
LAST-MODIFIED:20260105T060317Z
UID:10021367-1792839600-1792839600@epictriviafl.com
SUMMARY:Music Bingo
DESCRIPTION:
URL:https://epictriviafl.com/event/music-bingo-cabanna/2026-10-24/
LOCATION:Cabanna Live\, 4380 Carraway Pl\, Sanford\, FL\, 32771\, United States
GEO:28.8347357;-81.3291546
X-APPLE-STRUCTURED-LOCATION;VALUE=URI;X-ADDRESS=Cabanna Live 4380 Carraway Pl Sanford FL 32771 United States;X-APPLE-RADIUS=500;X-TITLE=4380 Carraway Pl:geo:-81.3291546,28.8347357
END:VEVENT
BEGIN:VEVENT
DTSTART;TZID=America/New_York:20261031T110000
DTEND;TZID=America/New_York:20261031T110000
DTSTAMP:20260419T121800
CREATED:20260105T003232Z
LAST-MODIFIED:20260105T060317Z
UID:10021368-1793444400-1793444400@epictriviafl.com
SUMMARY:Music Bingo
DESCRIPTION:
URL:https://epictriviafl.com/event/music-bingo-cabanna/2026-10-31/
LOCATION:Cabanna Live\, 4380 Carraway Pl\, Sanford\, FL\, 32771\, United States
GEO:28.8347357;-81.3291546
X-APPLE-STRUCTURED-LOCATION;VALUE=URI;X-ADDRESS=Cabanna Live 4380 Carraway Pl Sanford FL 32771 United States;X-APPLE-RADIUS=500;X-TITLE=4380 Carraway Pl:geo:-81.3291546,28.8347357
END:VEVENT
BEGIN:VEVENT
DTSTART;TZID=America/New_York:20261107T110000
DTEND;TZID=America/New_York:20261107T110000
DTSTAMP:20260419T121800
CREATED:20260105T003232Z
LAST-MODIFIED:20260105T060317Z
UID:10021369-1794049200-1794049200@epictriviafl.com
SUMMARY:Music Bingo
DESCRIPTION:
URL:https://epictriviafl.com/event/music-bingo-cabanna/2026-11-07/
LOCATION:Cabanna Live\, 4380 Carraway Pl\, Sanford\, FL\, 32771\, United States
GEO:28.8347357;-81.3291546
X-APPLE-STRUCTURED-LOCATION;VALUE=URI;X-ADDRESS=Cabanna Live 4380 Carraway Pl Sanford FL 32771 United States;X-APPLE-RADIUS=500;X-TITLE=4380 Carraway Pl:geo:-81.3291546,28.8347357
END:VEVENT
BEGIN:VEVENT
DTSTART;TZID=America/New_York:20261114T110000
DTEND;TZID=America/New_York:20261114T110000
DTSTAMP:20260419T121800
CREATED:20260105T003232Z
LAST-MODIFIED:20260105T060317Z
UID:10021370-1794654000-1794654000@epictriviafl.com
SUMMARY:Music Bingo
DESCRIPTION:
URL:https://epictriviafl.com/event/music-bingo-cabanna/2026-11-14/
LOCATION:Cabanna Live\, 4380 Carraway Pl\, Sanford\, FL\, 32771\, United States
GEO:28.8347357;-81.3291546
X-APPLE-STRUCTURED-LOCATION;VALUE=URI;X-ADDRESS=Cabanna Live 4380 Carraway Pl Sanford FL 32771 United States;X-APPLE-RADIUS=500;X-TITLE=4380 Carraway Pl:geo:-81.3291546,28.8347357
END:VEVENT
END:VCALENDAR