BEGIN:VCALENDAR
VERSION:2.0
PRODID:-//Epic Trivia - ECPv6.15.18//NONSGML v1.0//EN
CALSCALE:GREGORIAN
METHOD:PUBLISH
X-WR-CALNAME:Epic Trivia
X-ORIGINAL-URL:https://epictriviafl.com
X-WR-CALDESC:Events for Epic Trivia
REFRESH-INTERVAL;VALUE=DURATION:PT1H
X-Robots-Tag:noindex
X-PUBLISHED-TTL:PT1H
BEGIN:VTIMEZONE
TZID:America/New_York
BEGIN:DAYLIGHT
TZOFFSETFROM:-0500
TZOFFSETTO:-0400
TZNAME:EDT
DTSTART:20250309T070000
END:DAYLIGHT
BEGIN:STANDARD
TZOFFSETFROM:-0400
TZOFFSETTO:-0500
TZNAME:EST
DTSTART:20251102T060000
END:STANDARD
BEGIN:DAYLIGHT
TZOFFSETFROM:-0500
TZOFFSETTO:-0400
TZNAME:EDT
DTSTART:20260308T070000
END:DAYLIGHT
BEGIN:STANDARD
TZOFFSETFROM:-0400
TZOFFSETTO:-0500
TZNAME:EST
DTSTART:20261101T060000
END:STANDARD
BEGIN:DAYLIGHT
TZOFFSETFROM:-0500
TZOFFSETTO:-0400
TZNAME:EDT
DTSTART:20270314T070000
END:DAYLIGHT
BEGIN:STANDARD
TZOFFSETFROM:-0400
TZOFFSETTO:-0500
TZNAME:EST
DTSTART:20271107T060000
END:STANDARD
END:VTIMEZONE
BEGIN:VEVENT
DTSTART;TZID=America/New_York:20260425T133000
DTEND;TZID=America/New_York:20260425T133000
DTSTAMP:20260419T161738
CREATED:20260105T003232Z
LAST-MODIFIED:20260105T060241Z
UID:10021080-1777123800-1777123800@epictriviafl.com
SUMMARY:Music Bingo
DESCRIPTION:
URL:https://epictriviafl.com/event/music-bingo-teak-2/2026-04-25/
LOCATION:Teak Neighborhood Grill\, 6400 Times Square Ave\, Orlando\, FL 32835 USA
GEO:28.5088925;-81.4706804
X-APPLE-STRUCTURED-LOCATION;VALUE=URI;X-ADDRESS=Teak Neighborhood Grill 6400 Times Square Ave Orlando FL 32835 USA;X-APPLE-RADIUS=500;X-TITLE=6400 Times Square Ave\, Orlando\, FL 32835 USA:geo:-81.4706804,28.5088925
END:VEVENT
BEGIN:VEVENT
DTSTART;TZID=America/New_York:20260502T133000
DTEND;TZID=America/New_York:20260502T133000
DTSTAMP:20260419T161738
CREATED:20260105T003232Z
LAST-MODIFIED:20260105T060241Z
UID:10021081-1777728600-1777728600@epictriviafl.com
SUMMARY:Music Bingo
DESCRIPTION:
URL:https://epictriviafl.com/event/music-bingo-teak-2/2026-05-02/
LOCATION:Teak Neighborhood Grill\, 6400 Times Square Ave\, Orlando\, FL 32835 USA
GEO:28.5088925;-81.4706804
X-APPLE-STRUCTURED-LOCATION;VALUE=URI;X-ADDRESS=Teak Neighborhood Grill 6400 Times Square Ave Orlando FL 32835 USA;X-APPLE-RADIUS=500;X-TITLE=6400 Times Square Ave\, Orlando\, FL 32835 USA:geo:-81.4706804,28.5088925
END:VEVENT
BEGIN:VEVENT
DTSTART;TZID=America/New_York:20260509T133000
DTEND;TZID=America/New_York:20260509T133000
DTSTAMP:20260419T161738
CREATED:20260105T003232Z
LAST-MODIFIED:20260105T060241Z
UID:10021082-1778333400-1778333400@epictriviafl.com
SUMMARY:Music Bingo
DESCRIPTION:
URL:https://epictriviafl.com/event/music-bingo-teak-2/2026-05-09/
LOCATION:Teak Neighborhood Grill\, 6400 Times Square Ave\, Orlando\, FL 32835 USA
GEO:28.5088925;-81.4706804
X-APPLE-STRUCTURED-LOCATION;VALUE=URI;X-ADDRESS=Teak Neighborhood Grill 6400 Times Square Ave Orlando FL 32835 USA;X-APPLE-RADIUS=500;X-TITLE=6400 Times Square Ave\, Orlando\, FL 32835 USA:geo:-81.4706804,28.5088925
END:VEVENT
BEGIN:VEVENT
DTSTART;TZID=America/New_York:20260516T133000
DTEND;TZID=America/New_York:20260516T133000
DTSTAMP:20260419T161738
CREATED:20260105T003232Z
LAST-MODIFIED:20260105T060241Z
UID:10021083-1778938200-1778938200@epictriviafl.com
SUMMARY:Music Bingo
DESCRIPTION:
URL:https://epictriviafl.com/event/music-bingo-teak-2/2026-05-16/
LOCATION:Teak Neighborhood Grill\, 6400 Times Square Ave\, Orlando\, FL 32835 USA
GEO:28.5088925;-81.4706804
X-APPLE-STRUCTURED-LOCATION;VALUE=URI;X-ADDRESS=Teak Neighborhood Grill 6400 Times Square Ave Orlando FL 32835 USA;X-APPLE-RADIUS=500;X-TITLE=6400 Times Square Ave\, Orlando\, FL 32835 USA:geo:-81.4706804,28.5088925
END:VEVENT
BEGIN:VEVENT
DTSTART;TZID=America/New_York:20260523T133000
DTEND;TZID=America/New_York:20260523T133000
DTSTAMP:20260419T161738
CREATED:20260105T003232Z
LAST-MODIFIED:20260105T060241Z
UID:10021084-1779543000-1779543000@epictriviafl.com
SUMMARY:Music Bingo
DESCRIPTION:
URL:https://epictriviafl.com/event/music-bingo-teak-2/2026-05-23/
LOCATION:Teak Neighborhood Grill\, 6400 Times Square Ave\, Orlando\, FL 32835 USA
GEO:28.5088925;-81.4706804
X-APPLE-STRUCTURED-LOCATION;VALUE=URI;X-ADDRESS=Teak Neighborhood Grill 6400 Times Square Ave Orlando FL 32835 USA;X-APPLE-RADIUS=500;X-TITLE=6400 Times Square Ave\, Orlando\, FL 32835 USA:geo:-81.4706804,28.5088925
END:VEVENT
BEGIN:VEVENT
DTSTART;TZID=America/New_York:20260530T133000
DTEND;TZID=America/New_York:20260530T133000
DTSTAMP:20260419T161738
CREATED:20260105T003232Z
LAST-MODIFIED:20260105T060241Z
UID:10021085-1780147800-1780147800@epictriviafl.com
SUMMARY:Music Bingo
DESCRIPTION:
URL:https://epictriviafl.com/event/music-bingo-teak-2/2026-05-30/
LOCATION:Teak Neighborhood Grill\, 6400 Times Square Ave\, Orlando\, FL 32835 USA
GEO:28.5088925;-81.4706804
X-APPLE-STRUCTURED-LOCATION;VALUE=URI;X-ADDRESS=Teak Neighborhood Grill 6400 Times Square Ave Orlando FL 32835 USA;X-APPLE-RADIUS=500;X-TITLE=6400 Times Square Ave\, Orlando\, FL 32835 USA:geo:-81.4706804,28.5088925
END:VEVENT
BEGIN:VEVENT
DTSTART;TZID=America/New_York:20260606T133000
DTEND;TZID=America/New_York:20260606T133000
DTSTAMP:20260419T161738
CREATED:20260105T003232Z
LAST-MODIFIED:20260105T060241Z
UID:10021086-1780752600-1780752600@epictriviafl.com
SUMMARY:Music Bingo
DESCRIPTION:
URL:https://epictriviafl.com/event/music-bingo-teak-2/2026-06-06/
LOCATION:Teak Neighborhood Grill\, 6400 Times Square Ave\, Orlando\, FL 32835 USA
GEO:28.5088925;-81.4706804
X-APPLE-STRUCTURED-LOCATION;VALUE=URI;X-ADDRESS=Teak Neighborhood Grill 6400 Times Square Ave Orlando FL 32835 USA;X-APPLE-RADIUS=500;X-TITLE=6400 Times Square Ave\, Orlando\, FL 32835 USA:geo:-81.4706804,28.5088925
END:VEVENT
BEGIN:VEVENT
DTSTART;TZID=America/New_York:20260613T133000
DTEND;TZID=America/New_York:20260613T133000
DTSTAMP:20260419T161738
CREATED:20260105T003232Z
LAST-MODIFIED:20260105T060241Z
UID:10021087-1781357400-1781357400@epictriviafl.com
SUMMARY:Music Bingo
DESCRIPTION:
URL:https://epictriviafl.com/event/music-bingo-teak-2/2026-06-13/
LOCATION:Teak Neighborhood Grill\, 6400 Times Square Ave\, Orlando\, FL 32835 USA
GEO:28.5088925;-81.4706804
X-APPLE-STRUCTURED-LOCATION;VALUE=URI;X-ADDRESS=Teak Neighborhood Grill 6400 Times Square Ave Orlando FL 32835 USA;X-APPLE-RADIUS=500;X-TITLE=6400 Times Square Ave\, Orlando\, FL 32835 USA:geo:-81.4706804,28.5088925
END:VEVENT
BEGIN:VEVENT
DTSTART;TZID=America/New_York:20260620T133000
DTEND;TZID=America/New_York:20260620T133000
DTSTAMP:20260419T161738
CREATED:20260105T003232Z
LAST-MODIFIED:20260105T060241Z
UID:10021088-1781962200-1781962200@epictriviafl.com
SUMMARY:Music Bingo
DESCRIPTION:
URL:https://epictriviafl.com/event/music-bingo-teak-2/2026-06-20/
LOCATION:Teak Neighborhood Grill\, 6400 Times Square Ave\, Orlando\, FL 32835 USA
GEO:28.5088925;-81.4706804
X-APPLE-STRUCTURED-LOCATION;VALUE=URI;X-ADDRESS=Teak Neighborhood Grill 6400 Times Square Ave Orlando FL 32835 USA;X-APPLE-RADIUS=500;X-TITLE=6400 Times Square Ave\, Orlando\, FL 32835 USA:geo:-81.4706804,28.5088925
END:VEVENT
BEGIN:VEVENT
DTSTART;TZID=America/New_York:20260627T133000
DTEND;TZID=America/New_York:20260627T133000
DTSTAMP:20260419T161738
CREATED:20260105T003232Z
LAST-MODIFIED:20260105T060241Z
UID:10021089-1782567000-1782567000@epictriviafl.com
SUMMARY:Music Bingo
DESCRIPTION:
URL:https://epictriviafl.com/event/music-bingo-teak-2/2026-06-27/
LOCATION:Teak Neighborhood Grill\, 6400 Times Square Ave\, Orlando\, FL 32835 USA
GEO:28.5088925;-81.4706804
X-APPLE-STRUCTURED-LOCATION;VALUE=URI;X-ADDRESS=Teak Neighborhood Grill 6400 Times Square Ave Orlando FL 32835 USA;X-APPLE-RADIUS=500;X-TITLE=6400 Times Square Ave\, Orlando\, FL 32835 USA:geo:-81.4706804,28.5088925
END:VEVENT
BEGIN:VEVENT
DTSTART;TZID=America/New_York:20260704T133000
DTEND;TZID=America/New_York:20260704T133000
DTSTAMP:20260419T161738
CREATED:20260105T003232Z
LAST-MODIFIED:20260105T060241Z
UID:10021090-1783171800-1783171800@epictriviafl.com
SUMMARY:Music Bingo
DESCRIPTION:
URL:https://epictriviafl.com/event/music-bingo-teak-2/2026-07-04/
LOCATION:Teak Neighborhood Grill\, 6400 Times Square Ave\, Orlando\, FL 32835 USA
GEO:28.5088925;-81.4706804
X-APPLE-STRUCTURED-LOCATION;VALUE=URI;X-ADDRESS=Teak Neighborhood Grill 6400 Times Square Ave Orlando FL 32835 USA;X-APPLE-RADIUS=500;X-TITLE=6400 Times Square Ave\, Orlando\, FL 32835 USA:geo:-81.4706804,28.5088925
END:VEVENT
BEGIN:VEVENT
DTSTART;TZID=America/New_York:20260711T133000
DTEND;TZID=America/New_York:20260711T133000
DTSTAMP:20260419T161738
CREATED:20260105T003232Z
LAST-MODIFIED:20260105T060241Z
UID:10021091-1783776600-1783776600@epictriviafl.com
SUMMARY:Music Bingo
DESCRIPTION:
URL:https://epictriviafl.com/event/music-bingo-teak-2/2026-07-11/
LOCATION:Teak Neighborhood Grill\, 6400 Times Square Ave\, Orlando\, FL 32835 USA
GEO:28.5088925;-81.4706804
X-APPLE-STRUCTURED-LOCATION;VALUE=URI;X-ADDRESS=Teak Neighborhood Grill 6400 Times Square Ave Orlando FL 32835 USA;X-APPLE-RADIUS=500;X-TITLE=6400 Times Square Ave\, Orlando\, FL 32835 USA:geo:-81.4706804,28.5088925
END:VEVENT
BEGIN:VEVENT
DTSTART;TZID=America/New_York:20260718T133000
DTEND;TZID=America/New_York:20260718T133000
DTSTAMP:20260419T161738
CREATED:20260105T003232Z
LAST-MODIFIED:20260105T060241Z
UID:10021092-1784381400-1784381400@epictriviafl.com
SUMMARY:Music Bingo
DESCRIPTION:
URL:https://epictriviafl.com/event/music-bingo-teak-2/2026-07-18/
LOCATION:Teak Neighborhood Grill\, 6400 Times Square Ave\, Orlando\, FL 32835 USA
GEO:28.5088925;-81.4706804
X-APPLE-STRUCTURED-LOCATION;VALUE=URI;X-ADDRESS=Teak Neighborhood Grill 6400 Times Square Ave Orlando FL 32835 USA;X-APPLE-RADIUS=500;X-TITLE=6400 Times Square Ave\, Orlando\, FL 32835 USA:geo:-81.4706804,28.5088925
END:VEVENT
BEGIN:VEVENT
DTSTART;TZID=America/New_York:20260725T133000
DTEND;TZID=America/New_York:20260725T133000
DTSTAMP:20260419T161738
CREATED:20260105T003232Z
LAST-MODIFIED:20260105T060241Z
UID:10021093-1784986200-1784986200@epictriviafl.com
SUMMARY:Music Bingo
DESCRIPTION:
URL:https://epictriviafl.com/event/music-bingo-teak-2/2026-07-25/
LOCATION:Teak Neighborhood Grill\, 6400 Times Square Ave\, Orlando\, FL 32835 USA
GEO:28.5088925;-81.4706804
X-APPLE-STRUCTURED-LOCATION;VALUE=URI;X-ADDRESS=Teak Neighborhood Grill 6400 Times Square Ave Orlando FL 32835 USA;X-APPLE-RADIUS=500;X-TITLE=6400 Times Square Ave\, Orlando\, FL 32835 USA:geo:-81.4706804,28.5088925
END:VEVENT
BEGIN:VEVENT
DTSTART;TZID=America/New_York:20260801T133000
DTEND;TZID=America/New_York:20260801T133000
DTSTAMP:20260419T161738
CREATED:20260105T003232Z
LAST-MODIFIED:20260105T060241Z
UID:10021094-1785591000-1785591000@epictriviafl.com
SUMMARY:Music Bingo
DESCRIPTION:
URL:https://epictriviafl.com/event/music-bingo-teak-2/2026-08-01/
LOCATION:Teak Neighborhood Grill\, 6400 Times Square Ave\, Orlando\, FL 32835 USA
GEO:28.5088925;-81.4706804
X-APPLE-STRUCTURED-LOCATION;VALUE=URI;X-ADDRESS=Teak Neighborhood Grill 6400 Times Square Ave Orlando FL 32835 USA;X-APPLE-RADIUS=500;X-TITLE=6400 Times Square Ave\, Orlando\, FL 32835 USA:geo:-81.4706804,28.5088925
END:VEVENT
BEGIN:VEVENT
DTSTART;TZID=America/New_York:20260808T133000
DTEND;TZID=America/New_York:20260808T133000
DTSTAMP:20260419T161738
CREATED:20260105T003232Z
LAST-MODIFIED:20260105T060241Z
UID:10021095-1786195800-1786195800@epictriviafl.com
SUMMARY:Music Bingo
DESCRIPTION:
URL:https://epictriviafl.com/event/music-bingo-teak-2/2026-08-08/
LOCATION:Teak Neighborhood Grill\, 6400 Times Square Ave\, Orlando\, FL 32835 USA
GEO:28.5088925;-81.4706804
X-APPLE-STRUCTURED-LOCATION;VALUE=URI;X-ADDRESS=Teak Neighborhood Grill 6400 Times Square Ave Orlando FL 32835 USA;X-APPLE-RADIUS=500;X-TITLE=6400 Times Square Ave\, Orlando\, FL 32835 USA:geo:-81.4706804,28.5088925
END:VEVENT
BEGIN:VEVENT
DTSTART;TZID=America/New_York:20260815T133000
DTEND;TZID=America/New_York:20260815T133000
DTSTAMP:20260419T161738
CREATED:20260105T003232Z
LAST-MODIFIED:20260105T060241Z
UID:10021096-1786800600-1786800600@epictriviafl.com
SUMMARY:Music Bingo
DESCRIPTION:
URL:https://epictriviafl.com/event/music-bingo-teak-2/2026-08-15/
LOCATION:Teak Neighborhood Grill\, 6400 Times Square Ave\, Orlando\, FL 32835 USA
GEO:28.5088925;-81.4706804
X-APPLE-STRUCTURED-LOCATION;VALUE=URI;X-ADDRESS=Teak Neighborhood Grill 6400 Times Square Ave Orlando FL 32835 USA;X-APPLE-RADIUS=500;X-TITLE=6400 Times Square Ave\, Orlando\, FL 32835 USA:geo:-81.4706804,28.5088925
END:VEVENT
BEGIN:VEVENT
DTSTART;TZID=America/New_York:20260822T133000
DTEND;TZID=America/New_York:20260822T133000
DTSTAMP:20260419T161738
CREATED:20260105T003232Z
LAST-MODIFIED:20260105T060241Z
UID:10021097-1787405400-1787405400@epictriviafl.com
SUMMARY:Music Bingo
DESCRIPTION:
URL:https://epictriviafl.com/event/music-bingo-teak-2/2026-08-22/
LOCATION:Teak Neighborhood Grill\, 6400 Times Square Ave\, Orlando\, FL 32835 USA
GEO:28.5088925;-81.4706804
X-APPLE-STRUCTURED-LOCATION;VALUE=URI;X-ADDRESS=Teak Neighborhood Grill 6400 Times Square Ave Orlando FL 32835 USA;X-APPLE-RADIUS=500;X-TITLE=6400 Times Square Ave\, Orlando\, FL 32835 USA:geo:-81.4706804,28.5088925
END:VEVENT
BEGIN:VEVENT
DTSTART;TZID=America/New_York:20260829T133000
DTEND;TZID=America/New_York:20260829T133000
DTSTAMP:20260419T161738
CREATED:20260105T003232Z
LAST-MODIFIED:20260105T060241Z
UID:10021098-1788010200-1788010200@epictriviafl.com
SUMMARY:Music Bingo
DESCRIPTION:
URL:https://epictriviafl.com/event/music-bingo-teak-2/2026-08-29/
LOCATION:Teak Neighborhood Grill\, 6400 Times Square Ave\, Orlando\, FL 32835 USA
GEO:28.5088925;-81.4706804
X-APPLE-STRUCTURED-LOCATION;VALUE=URI;X-ADDRESS=Teak Neighborhood Grill 6400 Times Square Ave Orlando FL 32835 USA;X-APPLE-RADIUS=500;X-TITLE=6400 Times Square Ave\, Orlando\, FL 32835 USA:geo:-81.4706804,28.5088925
END:VEVENT
BEGIN:VEVENT
DTSTART;TZID=America/New_York:20260905T133000
DTEND;TZID=America/New_York:20260905T133000
DTSTAMP:20260419T161738
CREATED:20260105T003232Z
LAST-MODIFIED:20260105T060241Z
UID:10021099-1788615000-1788615000@epictriviafl.com
SUMMARY:Music Bingo
DESCRIPTION:
URL:https://epictriviafl.com/event/music-bingo-teak-2/2026-09-05/
LOCATION:Teak Neighborhood Grill\, 6400 Times Square Ave\, Orlando\, FL 32835 USA
GEO:28.5088925;-81.4706804
X-APPLE-STRUCTURED-LOCATION;VALUE=URI;X-ADDRESS=Teak Neighborhood Grill 6400 Times Square Ave Orlando FL 32835 USA;X-APPLE-RADIUS=500;X-TITLE=6400 Times Square Ave\, Orlando\, FL 32835 USA:geo:-81.4706804,28.5088925
END:VEVENT
BEGIN:VEVENT
DTSTART;TZID=America/New_York:20260912T133000
DTEND;TZID=America/New_York:20260912T133000
DTSTAMP:20260419T161738
CREATED:20260105T003232Z
LAST-MODIFIED:20260105T060241Z
UID:10021100-1789219800-1789219800@epictriviafl.com
SUMMARY:Music Bingo
DESCRIPTION:
URL:https://epictriviafl.com/event/music-bingo-teak-2/2026-09-12/
LOCATION:Teak Neighborhood Grill\, 6400 Times Square Ave\, Orlando\, FL 32835 USA
GEO:28.5088925;-81.4706804
X-APPLE-STRUCTURED-LOCATION;VALUE=URI;X-ADDRESS=Teak Neighborhood Grill 6400 Times Square Ave Orlando FL 32835 USA;X-APPLE-RADIUS=500;X-TITLE=6400 Times Square Ave\, Orlando\, FL 32835 USA:geo:-81.4706804,28.5088925
END:VEVENT
BEGIN:VEVENT
DTSTART;TZID=America/New_York:20260919T133000
DTEND;TZID=America/New_York:20260919T133000
DTSTAMP:20260419T161738
CREATED:20260105T003232Z
LAST-MODIFIED:20260105T060241Z
UID:10021101-1789824600-1789824600@epictriviafl.com
SUMMARY:Music Bingo
DESCRIPTION:
URL:https://epictriviafl.com/event/music-bingo-teak-2/2026-09-19/
LOCATION:Teak Neighborhood Grill\, 6400 Times Square Ave\, Orlando\, FL 32835 USA
GEO:28.5088925;-81.4706804
X-APPLE-STRUCTURED-LOCATION;VALUE=URI;X-ADDRESS=Teak Neighborhood Grill 6400 Times Square Ave Orlando FL 32835 USA;X-APPLE-RADIUS=500;X-TITLE=6400 Times Square Ave\, Orlando\, FL 32835 USA:geo:-81.4706804,28.5088925
END:VEVENT
BEGIN:VEVENT
DTSTART;TZID=America/New_York:20260926T133000
DTEND;TZID=America/New_York:20260926T133000
DTSTAMP:20260419T161738
CREATED:20260105T003232Z
LAST-MODIFIED:20260105T060241Z
UID:10021102-1790429400-1790429400@epictriviafl.com
SUMMARY:Music Bingo
DESCRIPTION:
URL:https://epictriviafl.com/event/music-bingo-teak-2/2026-09-26/
LOCATION:Teak Neighborhood Grill\, 6400 Times Square Ave\, Orlando\, FL 32835 USA
GEO:28.5088925;-81.4706804
X-APPLE-STRUCTURED-LOCATION;VALUE=URI;X-ADDRESS=Teak Neighborhood Grill 6400 Times Square Ave Orlando FL 32835 USA;X-APPLE-RADIUS=500;X-TITLE=6400 Times Square Ave\, Orlando\, FL 32835 USA:geo:-81.4706804,28.5088925
END:VEVENT
BEGIN:VEVENT
DTSTART;TZID=America/New_York:20261003T133000
DTEND;TZID=America/New_York:20261003T133000
DTSTAMP:20260419T161738
CREATED:20260105T003232Z
LAST-MODIFIED:20260105T060241Z
UID:10021103-1791034200-1791034200@epictriviafl.com
SUMMARY:Music Bingo
DESCRIPTION:
URL:https://epictriviafl.com/event/music-bingo-teak-2/2026-10-03/
LOCATION:Teak Neighborhood Grill\, 6400 Times Square Ave\, Orlando\, FL 32835 USA
GEO:28.5088925;-81.4706804
X-APPLE-STRUCTURED-LOCATION;VALUE=URI;X-ADDRESS=Teak Neighborhood Grill 6400 Times Square Ave Orlando FL 32835 USA;X-APPLE-RADIUS=500;X-TITLE=6400 Times Square Ave\, Orlando\, FL 32835 USA:geo:-81.4706804,28.5088925
END:VEVENT
BEGIN:VEVENT
DTSTART;TZID=America/New_York:20261010T133000
DTEND;TZID=America/New_York:20261010T133000
DTSTAMP:20260419T161738
CREATED:20260105T003232Z
LAST-MODIFIED:20260105T060241Z
UID:10021104-1791639000-1791639000@epictriviafl.com
SUMMARY:Music Bingo
DESCRIPTION:
URL:https://epictriviafl.com/event/music-bingo-teak-2/2026-10-10/
LOCATION:Teak Neighborhood Grill\, 6400 Times Square Ave\, Orlando\, FL 32835 USA
GEO:28.5088925;-81.4706804
X-APPLE-STRUCTURED-LOCATION;VALUE=URI;X-ADDRESS=Teak Neighborhood Grill 6400 Times Square Ave Orlando FL 32835 USA;X-APPLE-RADIUS=500;X-TITLE=6400 Times Square Ave\, Orlando\, FL 32835 USA:geo:-81.4706804,28.5088925
END:VEVENT
BEGIN:VEVENT
DTSTART;TZID=America/New_York:20261017T133000
DTEND;TZID=America/New_York:20261017T133000
DTSTAMP:20260419T161738
CREATED:20260105T003232Z
LAST-MODIFIED:20260105T060241Z
UID:10021105-1792243800-1792243800@epictriviafl.com
SUMMARY:Music Bingo
DESCRIPTION:
URL:https://epictriviafl.com/event/music-bingo-teak-2/2026-10-17/
LOCATION:Teak Neighborhood Grill\, 6400 Times Square Ave\, Orlando\, FL 32835 USA
GEO:28.5088925;-81.4706804
X-APPLE-STRUCTURED-LOCATION;VALUE=URI;X-ADDRESS=Teak Neighborhood Grill 6400 Times Square Ave Orlando FL 32835 USA;X-APPLE-RADIUS=500;X-TITLE=6400 Times Square Ave\, Orlando\, FL 32835 USA:geo:-81.4706804,28.5088925
END:VEVENT
BEGIN:VEVENT
DTSTART;TZID=America/New_York:20261024T133000
DTEND;TZID=America/New_York:20261024T133000
DTSTAMP:20260419T161738
CREATED:20260105T003232Z
LAST-MODIFIED:20260105T060241Z
UID:10021106-1792848600-1792848600@epictriviafl.com
SUMMARY:Music Bingo
DESCRIPTION:
URL:https://epictriviafl.com/event/music-bingo-teak-2/2026-10-24/
LOCATION:Teak Neighborhood Grill\, 6400 Times Square Ave\, Orlando\, FL 32835 USA
GEO:28.5088925;-81.4706804
X-APPLE-STRUCTURED-LOCATION;VALUE=URI;X-ADDRESS=Teak Neighborhood Grill 6400 Times Square Ave Orlando FL 32835 USA;X-APPLE-RADIUS=500;X-TITLE=6400 Times Square Ave\, Orlando\, FL 32835 USA:geo:-81.4706804,28.5088925
END:VEVENT
BEGIN:VEVENT
DTSTART;TZID=America/New_York:20261031T133000
DTEND;TZID=America/New_York:20261031T133000
DTSTAMP:20260419T161738
CREATED:20260105T003232Z
LAST-MODIFIED:20260105T060241Z
UID:10021107-1793453400-1793453400@epictriviafl.com
SUMMARY:Music Bingo
DESCRIPTION:
URL:https://epictriviafl.com/event/music-bingo-teak-2/2026-10-31/
LOCATION:Teak Neighborhood Grill\, 6400 Times Square Ave\, Orlando\, FL 32835 USA
GEO:28.5088925;-81.4706804
X-APPLE-STRUCTURED-LOCATION;VALUE=URI;X-ADDRESS=Teak Neighborhood Grill 6400 Times Square Ave Orlando FL 32835 USA;X-APPLE-RADIUS=500;X-TITLE=6400 Times Square Ave\, Orlando\, FL 32835 USA:geo:-81.4706804,28.5088925
END:VEVENT
BEGIN:VEVENT
DTSTART;TZID=America/New_York:20261107T133000
DTEND;TZID=America/New_York:20261107T133000
DTSTAMP:20260419T161738
CREATED:20260105T003232Z
LAST-MODIFIED:20260105T060241Z
UID:10021108-1794058200-1794058200@epictriviafl.com
SUMMARY:Music Bingo
DESCRIPTION:
URL:https://epictriviafl.com/event/music-bingo-teak-2/2026-11-07/
LOCATION:Teak Neighborhood Grill\, 6400 Times Square Ave\, Orlando\, FL 32835 USA
GEO:28.5088925;-81.4706804
X-APPLE-STRUCTURED-LOCATION;VALUE=URI;X-ADDRESS=Teak Neighborhood Grill 6400 Times Square Ave Orlando FL 32835 USA;X-APPLE-RADIUS=500;X-TITLE=6400 Times Square Ave\, Orlando\, FL 32835 USA:geo:-81.4706804,28.5088925
END:VEVENT
BEGIN:VEVENT
DTSTART;TZID=America/New_York:20261114T133000
DTEND;TZID=America/New_York:20261114T133000
DTSTAMP:20260419T161738
CREATED:20260105T003232Z
LAST-MODIFIED:20260105T060241Z
UID:10021109-1794663000-1794663000@epictriviafl.com
SUMMARY:Music Bingo
DESCRIPTION:
URL:https://epictriviafl.com/event/music-bingo-teak-2/2026-11-14/
LOCATION:Teak Neighborhood Grill\, 6400 Times Square Ave\, Orlando\, FL 32835 USA
GEO:28.5088925;-81.4706804
X-APPLE-STRUCTURED-LOCATION;VALUE=URI;X-ADDRESS=Teak Neighborhood Grill 6400 Times Square Ave Orlando FL 32835 USA;X-APPLE-RADIUS=500;X-TITLE=6400 Times Square Ave\, Orlando\, FL 32835 USA:geo:-81.4706804,28.5088925
END:VEVENT
END:VCALENDAR