BEGIN:VCALENDAR
VERSION:2.0
PRODID:-//Epic Trivia - ECPv6.15.18//NONSGML v1.0//EN
CALSCALE:GREGORIAN
METHOD:PUBLISH
X-WR-CALNAME:Epic Trivia
X-ORIGINAL-URL:https://epictriviafl.com
X-WR-CALDESC:Events for Epic Trivia
REFRESH-INTERVAL;VALUE=DURATION:PT1H
X-Robots-Tag:noindex
X-PUBLISHED-TTL:PT1H
BEGIN:VTIMEZONE
TZID:America/New_York
BEGIN:DAYLIGHT
TZOFFSETFROM:-0500
TZOFFSETTO:-0400
TZNAME:EDT
DTSTART:20250309T070000
END:DAYLIGHT
BEGIN:STANDARD
TZOFFSETFROM:-0400
TZOFFSETTO:-0500
TZNAME:EST
DTSTART:20251102T060000
END:STANDARD
BEGIN:DAYLIGHT
TZOFFSETFROM:-0500
TZOFFSETTO:-0400
TZNAME:EDT
DTSTART:20260308T070000
END:DAYLIGHT
BEGIN:STANDARD
TZOFFSETFROM:-0400
TZOFFSETTO:-0500
TZNAME:EST
DTSTART:20261101T060000
END:STANDARD
BEGIN:DAYLIGHT
TZOFFSETFROM:-0500
TZOFFSETTO:-0400
TZNAME:EDT
DTSTART:20270314T070000
END:DAYLIGHT
BEGIN:STANDARD
TZOFFSETFROM:-0400
TZOFFSETTO:-0500
TZNAME:EST
DTSTART:20271107T060000
END:STANDARD
END:VTIMEZONE
BEGIN:VEVENT
DTSTART;TZID=America/New_York:20260426T150000
DTEND;TZID=America/New_York:20260426T150000
DTSTAMP:20260419T180213
CREATED:20260105T003247Z
LAST-MODIFIED:20260105T060114Z
UID:10020299-1777215600-1777215600@epictriviafl.com
SUMMARY:Music Bingo
DESCRIPTION:
URL:https://epictriviafl.com/event/music-bingo-tuffys/2026-04-26/
LOCATION:Tuffys Music Box\, 200 S Myrtle Ave Sanford\, Florida 32771 USA
GEO:28.8106131;-81.2703753
X-APPLE-STRUCTURED-LOCATION;VALUE=URI;X-ADDRESS=Tuffys Music Box 200 S Myrtle Ave Sanford Florida 32771 USA;X-APPLE-RADIUS=500;X-TITLE=200 S Myrtle Ave Sanford\, Florida 32771 USA:geo:-81.2703753,28.8106131
END:VEVENT
BEGIN:VEVENT
DTSTART;TZID=America/New_York:20260503T150000
DTEND;TZID=America/New_York:20260503T150000
DTSTAMP:20260419T180213
CREATED:20260105T003247Z
LAST-MODIFIED:20260105T060114Z
UID:10020300-1777820400-1777820400@epictriviafl.com
SUMMARY:Music Bingo
DESCRIPTION:
URL:https://epictriviafl.com/event/music-bingo-tuffys/2026-05-03/
LOCATION:Tuffys Music Box\, 200 S Myrtle Ave Sanford\, Florida 32771 USA
GEO:28.8106131;-81.2703753
X-APPLE-STRUCTURED-LOCATION;VALUE=URI;X-ADDRESS=Tuffys Music Box 200 S Myrtle Ave Sanford Florida 32771 USA;X-APPLE-RADIUS=500;X-TITLE=200 S Myrtle Ave Sanford\, Florida 32771 USA:geo:-81.2703753,28.8106131
END:VEVENT
BEGIN:VEVENT
DTSTART;TZID=America/New_York:20260510T150000
DTEND;TZID=America/New_York:20260510T150000
DTSTAMP:20260419T180213
CREATED:20260105T003247Z
LAST-MODIFIED:20260105T060114Z
UID:10020301-1778425200-1778425200@epictriviafl.com
SUMMARY:Music Bingo
DESCRIPTION:
URL:https://epictriviafl.com/event/music-bingo-tuffys/2026-05-10/
LOCATION:Tuffys Music Box\, 200 S Myrtle Ave Sanford\, Florida 32771 USA
GEO:28.8106131;-81.2703753
X-APPLE-STRUCTURED-LOCATION;VALUE=URI;X-ADDRESS=Tuffys Music Box 200 S Myrtle Ave Sanford Florida 32771 USA;X-APPLE-RADIUS=500;X-TITLE=200 S Myrtle Ave Sanford\, Florida 32771 USA:geo:-81.2703753,28.8106131
END:VEVENT
BEGIN:VEVENT
DTSTART;TZID=America/New_York:20260517T150000
DTEND;TZID=America/New_York:20260517T150000
DTSTAMP:20260419T180213
CREATED:20260105T003247Z
LAST-MODIFIED:20260105T060114Z
UID:10020302-1779030000-1779030000@epictriviafl.com
SUMMARY:Music Bingo
DESCRIPTION:
URL:https://epictriviafl.com/event/music-bingo-tuffys/2026-05-17/
LOCATION:Tuffys Music Box\, 200 S Myrtle Ave Sanford\, Florida 32771 USA
GEO:28.8106131;-81.2703753
X-APPLE-STRUCTURED-LOCATION;VALUE=URI;X-ADDRESS=Tuffys Music Box 200 S Myrtle Ave Sanford Florida 32771 USA;X-APPLE-RADIUS=500;X-TITLE=200 S Myrtle Ave Sanford\, Florida 32771 USA:geo:-81.2703753,28.8106131
END:VEVENT
BEGIN:VEVENT
DTSTART;TZID=America/New_York:20260524T150000
DTEND;TZID=America/New_York:20260524T150000
DTSTAMP:20260419T180213
CREATED:20260105T003247Z
LAST-MODIFIED:20260105T060114Z
UID:10020303-1779634800-1779634800@epictriviafl.com
SUMMARY:Music Bingo
DESCRIPTION:
URL:https://epictriviafl.com/event/music-bingo-tuffys/2026-05-24/
LOCATION:Tuffys Music Box\, 200 S Myrtle Ave Sanford\, Florida 32771 USA
GEO:28.8106131;-81.2703753
X-APPLE-STRUCTURED-LOCATION;VALUE=URI;X-ADDRESS=Tuffys Music Box 200 S Myrtle Ave Sanford Florida 32771 USA;X-APPLE-RADIUS=500;X-TITLE=200 S Myrtle Ave Sanford\, Florida 32771 USA:geo:-81.2703753,28.8106131
END:VEVENT
BEGIN:VEVENT
DTSTART;TZID=America/New_York:20260531T150000
DTEND;TZID=America/New_York:20260531T150000
DTSTAMP:20260419T180213
CREATED:20260105T003247Z
LAST-MODIFIED:20260105T060114Z
UID:10020304-1780239600-1780239600@epictriviafl.com
SUMMARY:Music Bingo
DESCRIPTION:
URL:https://epictriviafl.com/event/music-bingo-tuffys/2026-05-31/
LOCATION:Tuffys Music Box\, 200 S Myrtle Ave Sanford\, Florida 32771 USA
GEO:28.8106131;-81.2703753
X-APPLE-STRUCTURED-LOCATION;VALUE=URI;X-ADDRESS=Tuffys Music Box 200 S Myrtle Ave Sanford Florida 32771 USA;X-APPLE-RADIUS=500;X-TITLE=200 S Myrtle Ave Sanford\, Florida 32771 USA:geo:-81.2703753,28.8106131
END:VEVENT
BEGIN:VEVENT
DTSTART;TZID=America/New_York:20260607T150000
DTEND;TZID=America/New_York:20260607T150000
DTSTAMP:20260419T180213
CREATED:20260105T003247Z
LAST-MODIFIED:20260105T060114Z
UID:10020305-1780844400-1780844400@epictriviafl.com
SUMMARY:Music Bingo
DESCRIPTION:
URL:https://epictriviafl.com/event/music-bingo-tuffys/2026-06-07/
LOCATION:Tuffys Music Box\, 200 S Myrtle Ave Sanford\, Florida 32771 USA
GEO:28.8106131;-81.2703753
X-APPLE-STRUCTURED-LOCATION;VALUE=URI;X-ADDRESS=Tuffys Music Box 200 S Myrtle Ave Sanford Florida 32771 USA;X-APPLE-RADIUS=500;X-TITLE=200 S Myrtle Ave Sanford\, Florida 32771 USA:geo:-81.2703753,28.8106131
END:VEVENT
BEGIN:VEVENT
DTSTART;TZID=America/New_York:20260614T150000
DTEND;TZID=America/New_York:20260614T150000
DTSTAMP:20260419T180213
CREATED:20260105T003247Z
LAST-MODIFIED:20260105T060114Z
UID:10020306-1781449200-1781449200@epictriviafl.com
SUMMARY:Music Bingo
DESCRIPTION:
URL:https://epictriviafl.com/event/music-bingo-tuffys/2026-06-14/
LOCATION:Tuffys Music Box\, 200 S Myrtle Ave Sanford\, Florida 32771 USA
GEO:28.8106131;-81.2703753
X-APPLE-STRUCTURED-LOCATION;VALUE=URI;X-ADDRESS=Tuffys Music Box 200 S Myrtle Ave Sanford Florida 32771 USA;X-APPLE-RADIUS=500;X-TITLE=200 S Myrtle Ave Sanford\, Florida 32771 USA:geo:-81.2703753,28.8106131
END:VEVENT
BEGIN:VEVENT
DTSTART;TZID=America/New_York:20260621T150000
DTEND;TZID=America/New_York:20260621T150000
DTSTAMP:20260419T180213
CREATED:20260105T003247Z
LAST-MODIFIED:20260105T060114Z
UID:10020307-1782054000-1782054000@epictriviafl.com
SUMMARY:Music Bingo
DESCRIPTION:
URL:https://epictriviafl.com/event/music-bingo-tuffys/2026-06-21/
LOCATION:Tuffys Music Box\, 200 S Myrtle Ave Sanford\, Florida 32771 USA
GEO:28.8106131;-81.2703753
X-APPLE-STRUCTURED-LOCATION;VALUE=URI;X-ADDRESS=Tuffys Music Box 200 S Myrtle Ave Sanford Florida 32771 USA;X-APPLE-RADIUS=500;X-TITLE=200 S Myrtle Ave Sanford\, Florida 32771 USA:geo:-81.2703753,28.8106131
END:VEVENT
BEGIN:VEVENT
DTSTART;TZID=America/New_York:20260628T150000
DTEND;TZID=America/New_York:20260628T150000
DTSTAMP:20260419T180213
CREATED:20260105T003247Z
LAST-MODIFIED:20260105T060114Z
UID:10020308-1782658800-1782658800@epictriviafl.com
SUMMARY:Music Bingo
DESCRIPTION:
URL:https://epictriviafl.com/event/music-bingo-tuffys/2026-06-28/
LOCATION:Tuffys Music Box\, 200 S Myrtle Ave Sanford\, Florida 32771 USA
GEO:28.8106131;-81.2703753
X-APPLE-STRUCTURED-LOCATION;VALUE=URI;X-ADDRESS=Tuffys Music Box 200 S Myrtle Ave Sanford Florida 32771 USA;X-APPLE-RADIUS=500;X-TITLE=200 S Myrtle Ave Sanford\, Florida 32771 USA:geo:-81.2703753,28.8106131
END:VEVENT
BEGIN:VEVENT
DTSTART;TZID=America/New_York:20260705T150000
DTEND;TZID=America/New_York:20260705T150000
DTSTAMP:20260419T180213
CREATED:20260105T003247Z
LAST-MODIFIED:20260105T060114Z
UID:10020309-1783263600-1783263600@epictriviafl.com
SUMMARY:Music Bingo
DESCRIPTION:
URL:https://epictriviafl.com/event/music-bingo-tuffys/2026-07-05/
LOCATION:Tuffys Music Box\, 200 S Myrtle Ave Sanford\, Florida 32771 USA
GEO:28.8106131;-81.2703753
X-APPLE-STRUCTURED-LOCATION;VALUE=URI;X-ADDRESS=Tuffys Music Box 200 S Myrtle Ave Sanford Florida 32771 USA;X-APPLE-RADIUS=500;X-TITLE=200 S Myrtle Ave Sanford\, Florida 32771 USA:geo:-81.2703753,28.8106131
END:VEVENT
BEGIN:VEVENT
DTSTART;TZID=America/New_York:20260712T150000
DTEND;TZID=America/New_York:20260712T150000
DTSTAMP:20260419T180213
CREATED:20260105T003247Z
LAST-MODIFIED:20260105T060114Z
UID:10020310-1783868400-1783868400@epictriviafl.com
SUMMARY:Music Bingo
DESCRIPTION:
URL:https://epictriviafl.com/event/music-bingo-tuffys/2026-07-12/
LOCATION:Tuffys Music Box\, 200 S Myrtle Ave Sanford\, Florida 32771 USA
GEO:28.8106131;-81.2703753
X-APPLE-STRUCTURED-LOCATION;VALUE=URI;X-ADDRESS=Tuffys Music Box 200 S Myrtle Ave Sanford Florida 32771 USA;X-APPLE-RADIUS=500;X-TITLE=200 S Myrtle Ave Sanford\, Florida 32771 USA:geo:-81.2703753,28.8106131
END:VEVENT
BEGIN:VEVENT
DTSTART;TZID=America/New_York:20260719T150000
DTEND;TZID=America/New_York:20260719T150000
DTSTAMP:20260419T180213
CREATED:20260105T003247Z
LAST-MODIFIED:20260105T060114Z
UID:10020311-1784473200-1784473200@epictriviafl.com
SUMMARY:Music Bingo
DESCRIPTION:
URL:https://epictriviafl.com/event/music-bingo-tuffys/2026-07-19/
LOCATION:Tuffys Music Box\, 200 S Myrtle Ave Sanford\, Florida 32771 USA
GEO:28.8106131;-81.2703753
X-APPLE-STRUCTURED-LOCATION;VALUE=URI;X-ADDRESS=Tuffys Music Box 200 S Myrtle Ave Sanford Florida 32771 USA;X-APPLE-RADIUS=500;X-TITLE=200 S Myrtle Ave Sanford\, Florida 32771 USA:geo:-81.2703753,28.8106131
END:VEVENT
BEGIN:VEVENT
DTSTART;TZID=America/New_York:20260726T150000
DTEND;TZID=America/New_York:20260726T150000
DTSTAMP:20260419T180213
CREATED:20260105T003247Z
LAST-MODIFIED:20260105T060114Z
UID:10020312-1785078000-1785078000@epictriviafl.com
SUMMARY:Music Bingo
DESCRIPTION:
URL:https://epictriviafl.com/event/music-bingo-tuffys/2026-07-26/
LOCATION:Tuffys Music Box\, 200 S Myrtle Ave Sanford\, Florida 32771 USA
GEO:28.8106131;-81.2703753
X-APPLE-STRUCTURED-LOCATION;VALUE=URI;X-ADDRESS=Tuffys Music Box 200 S Myrtle Ave Sanford Florida 32771 USA;X-APPLE-RADIUS=500;X-TITLE=200 S Myrtle Ave Sanford\, Florida 32771 USA:geo:-81.2703753,28.8106131
END:VEVENT
BEGIN:VEVENT
DTSTART;TZID=America/New_York:20260802T150000
DTEND;TZID=America/New_York:20260802T150000
DTSTAMP:20260419T180213
CREATED:20260105T003247Z
LAST-MODIFIED:20260105T060114Z
UID:10020313-1785682800-1785682800@epictriviafl.com
SUMMARY:Music Bingo
DESCRIPTION:
URL:https://epictriviafl.com/event/music-bingo-tuffys/2026-08-02/
LOCATION:Tuffys Music Box\, 200 S Myrtle Ave Sanford\, Florida 32771 USA
GEO:28.8106131;-81.2703753
X-APPLE-STRUCTURED-LOCATION;VALUE=URI;X-ADDRESS=Tuffys Music Box 200 S Myrtle Ave Sanford Florida 32771 USA;X-APPLE-RADIUS=500;X-TITLE=200 S Myrtle Ave Sanford\, Florida 32771 USA:geo:-81.2703753,28.8106131
END:VEVENT
BEGIN:VEVENT
DTSTART;TZID=America/New_York:20260809T150000
DTEND;TZID=America/New_York:20260809T150000
DTSTAMP:20260419T180213
CREATED:20260105T003247Z
LAST-MODIFIED:20260105T060114Z
UID:10020314-1786287600-1786287600@epictriviafl.com
SUMMARY:Music Bingo
DESCRIPTION:
URL:https://epictriviafl.com/event/music-bingo-tuffys/2026-08-09/
LOCATION:Tuffys Music Box\, 200 S Myrtle Ave Sanford\, Florida 32771 USA
GEO:28.8106131;-81.2703753
X-APPLE-STRUCTURED-LOCATION;VALUE=URI;X-ADDRESS=Tuffys Music Box 200 S Myrtle Ave Sanford Florida 32771 USA;X-APPLE-RADIUS=500;X-TITLE=200 S Myrtle Ave Sanford\, Florida 32771 USA:geo:-81.2703753,28.8106131
END:VEVENT
BEGIN:VEVENT
DTSTART;TZID=America/New_York:20260816T150000
DTEND;TZID=America/New_York:20260816T150000
DTSTAMP:20260419T180213
CREATED:20260105T003247Z
LAST-MODIFIED:20260105T060114Z
UID:10020315-1786892400-1786892400@epictriviafl.com
SUMMARY:Music Bingo
DESCRIPTION:
URL:https://epictriviafl.com/event/music-bingo-tuffys/2026-08-16/
LOCATION:Tuffys Music Box\, 200 S Myrtle Ave Sanford\, Florida 32771 USA
GEO:28.8106131;-81.2703753
X-APPLE-STRUCTURED-LOCATION;VALUE=URI;X-ADDRESS=Tuffys Music Box 200 S Myrtle Ave Sanford Florida 32771 USA;X-APPLE-RADIUS=500;X-TITLE=200 S Myrtle Ave Sanford\, Florida 32771 USA:geo:-81.2703753,28.8106131
END:VEVENT
BEGIN:VEVENT
DTSTART;TZID=America/New_York:20260823T150000
DTEND;TZID=America/New_York:20260823T150000
DTSTAMP:20260419T180213
CREATED:20260105T003247Z
LAST-MODIFIED:20260105T060114Z
UID:10020316-1787497200-1787497200@epictriviafl.com
SUMMARY:Music Bingo
DESCRIPTION:
URL:https://epictriviafl.com/event/music-bingo-tuffys/2026-08-23/
LOCATION:Tuffys Music Box\, 200 S Myrtle Ave Sanford\, Florida 32771 USA
GEO:28.8106131;-81.2703753
X-APPLE-STRUCTURED-LOCATION;VALUE=URI;X-ADDRESS=Tuffys Music Box 200 S Myrtle Ave Sanford Florida 32771 USA;X-APPLE-RADIUS=500;X-TITLE=200 S Myrtle Ave Sanford\, Florida 32771 USA:geo:-81.2703753,28.8106131
END:VEVENT
BEGIN:VEVENT
DTSTART;TZID=America/New_York:20260830T150000
DTEND;TZID=America/New_York:20260830T150000
DTSTAMP:20260419T180213
CREATED:20260105T003247Z
LAST-MODIFIED:20260105T060114Z
UID:10020317-1788102000-1788102000@epictriviafl.com
SUMMARY:Music Bingo
DESCRIPTION:
URL:https://epictriviafl.com/event/music-bingo-tuffys/2026-08-30/
LOCATION:Tuffys Music Box\, 200 S Myrtle Ave Sanford\, Florida 32771 USA
GEO:28.8106131;-81.2703753
X-APPLE-STRUCTURED-LOCATION;VALUE=URI;X-ADDRESS=Tuffys Music Box 200 S Myrtle Ave Sanford Florida 32771 USA;X-APPLE-RADIUS=500;X-TITLE=200 S Myrtle Ave Sanford\, Florida 32771 USA:geo:-81.2703753,28.8106131
END:VEVENT
BEGIN:VEVENT
DTSTART;TZID=America/New_York:20260906T150000
DTEND;TZID=America/New_York:20260906T150000
DTSTAMP:20260419T180213
CREATED:20260105T003247Z
LAST-MODIFIED:20260105T060114Z
UID:10020318-1788706800-1788706800@epictriviafl.com
SUMMARY:Music Bingo
DESCRIPTION:
URL:https://epictriviafl.com/event/music-bingo-tuffys/2026-09-06/
LOCATION:Tuffys Music Box\, 200 S Myrtle Ave Sanford\, Florida 32771 USA
GEO:28.8106131;-81.2703753
X-APPLE-STRUCTURED-LOCATION;VALUE=URI;X-ADDRESS=Tuffys Music Box 200 S Myrtle Ave Sanford Florida 32771 USA;X-APPLE-RADIUS=500;X-TITLE=200 S Myrtle Ave Sanford\, Florida 32771 USA:geo:-81.2703753,28.8106131
END:VEVENT
BEGIN:VEVENT
DTSTART;TZID=America/New_York:20260913T150000
DTEND;TZID=America/New_York:20260913T150000
DTSTAMP:20260419T180213
CREATED:20260105T003247Z
LAST-MODIFIED:20260105T060114Z
UID:10020319-1789311600-1789311600@epictriviafl.com
SUMMARY:Music Bingo
DESCRIPTION:
URL:https://epictriviafl.com/event/music-bingo-tuffys/2026-09-13/
LOCATION:Tuffys Music Box\, 200 S Myrtle Ave Sanford\, Florida 32771 USA
GEO:28.8106131;-81.2703753
X-APPLE-STRUCTURED-LOCATION;VALUE=URI;X-ADDRESS=Tuffys Music Box 200 S Myrtle Ave Sanford Florida 32771 USA;X-APPLE-RADIUS=500;X-TITLE=200 S Myrtle Ave Sanford\, Florida 32771 USA:geo:-81.2703753,28.8106131
END:VEVENT
BEGIN:VEVENT
DTSTART;TZID=America/New_York:20260920T150000
DTEND;TZID=America/New_York:20260920T150000
DTSTAMP:20260419T180213
CREATED:20260105T003247Z
LAST-MODIFIED:20260105T060114Z
UID:10020320-1789916400-1789916400@epictriviafl.com
SUMMARY:Music Bingo
DESCRIPTION:
URL:https://epictriviafl.com/event/music-bingo-tuffys/2026-09-20/
LOCATION:Tuffys Music Box\, 200 S Myrtle Ave Sanford\, Florida 32771 USA
GEO:28.8106131;-81.2703753
X-APPLE-STRUCTURED-LOCATION;VALUE=URI;X-ADDRESS=Tuffys Music Box 200 S Myrtle Ave Sanford Florida 32771 USA;X-APPLE-RADIUS=500;X-TITLE=200 S Myrtle Ave Sanford\, Florida 32771 USA:geo:-81.2703753,28.8106131
END:VEVENT
BEGIN:VEVENT
DTSTART;TZID=America/New_York:20260927T150000
DTEND;TZID=America/New_York:20260927T150000
DTSTAMP:20260419T180213
CREATED:20260105T003247Z
LAST-MODIFIED:20260105T060114Z
UID:10020321-1790521200-1790521200@epictriviafl.com
SUMMARY:Music Bingo
DESCRIPTION:
URL:https://epictriviafl.com/event/music-bingo-tuffys/2026-09-27/
LOCATION:Tuffys Music Box\, 200 S Myrtle Ave Sanford\, Florida 32771 USA
GEO:28.8106131;-81.2703753
X-APPLE-STRUCTURED-LOCATION;VALUE=URI;X-ADDRESS=Tuffys Music Box 200 S Myrtle Ave Sanford Florida 32771 USA;X-APPLE-RADIUS=500;X-TITLE=200 S Myrtle Ave Sanford\, Florida 32771 USA:geo:-81.2703753,28.8106131
END:VEVENT
BEGIN:VEVENT
DTSTART;TZID=America/New_York:20261004T150000
DTEND;TZID=America/New_York:20261004T150000
DTSTAMP:20260419T180213
CREATED:20260105T003247Z
LAST-MODIFIED:20260105T060114Z
UID:10020322-1791126000-1791126000@epictriviafl.com
SUMMARY:Music Bingo
DESCRIPTION:
URL:https://epictriviafl.com/event/music-bingo-tuffys/2026-10-04/
LOCATION:Tuffys Music Box\, 200 S Myrtle Ave Sanford\, Florida 32771 USA
GEO:28.8106131;-81.2703753
X-APPLE-STRUCTURED-LOCATION;VALUE=URI;X-ADDRESS=Tuffys Music Box 200 S Myrtle Ave Sanford Florida 32771 USA;X-APPLE-RADIUS=500;X-TITLE=200 S Myrtle Ave Sanford\, Florida 32771 USA:geo:-81.2703753,28.8106131
END:VEVENT
BEGIN:VEVENT
DTSTART;TZID=America/New_York:20261011T150000
DTEND;TZID=America/New_York:20261011T150000
DTSTAMP:20260419T180213
CREATED:20260105T003247Z
LAST-MODIFIED:20260105T060114Z
UID:10020323-1791730800-1791730800@epictriviafl.com
SUMMARY:Music Bingo
DESCRIPTION:
URL:https://epictriviafl.com/event/music-bingo-tuffys/2026-10-11/
LOCATION:Tuffys Music Box\, 200 S Myrtle Ave Sanford\, Florida 32771 USA
GEO:28.8106131;-81.2703753
X-APPLE-STRUCTURED-LOCATION;VALUE=URI;X-ADDRESS=Tuffys Music Box 200 S Myrtle Ave Sanford Florida 32771 USA;X-APPLE-RADIUS=500;X-TITLE=200 S Myrtle Ave Sanford\, Florida 32771 USA:geo:-81.2703753,28.8106131
END:VEVENT
BEGIN:VEVENT
DTSTART;TZID=America/New_York:20261018T150000
DTEND;TZID=America/New_York:20261018T150000
DTSTAMP:20260419T180213
CREATED:20260105T003247Z
LAST-MODIFIED:20260105T060114Z
UID:10020324-1792335600-1792335600@epictriviafl.com
SUMMARY:Music Bingo
DESCRIPTION:
URL:https://epictriviafl.com/event/music-bingo-tuffys/2026-10-18/
LOCATION:Tuffys Music Box\, 200 S Myrtle Ave Sanford\, Florida 32771 USA
GEO:28.8106131;-81.2703753
X-APPLE-STRUCTURED-LOCATION;VALUE=URI;X-ADDRESS=Tuffys Music Box 200 S Myrtle Ave Sanford Florida 32771 USA;X-APPLE-RADIUS=500;X-TITLE=200 S Myrtle Ave Sanford\, Florida 32771 USA:geo:-81.2703753,28.8106131
END:VEVENT
BEGIN:VEVENT
DTSTART;TZID=America/New_York:20261025T150000
DTEND;TZID=America/New_York:20261025T150000
DTSTAMP:20260419T180214
CREATED:20260105T003247Z
LAST-MODIFIED:20260105T060114Z
UID:10020325-1792940400-1792940400@epictriviafl.com
SUMMARY:Music Bingo
DESCRIPTION:
URL:https://epictriviafl.com/event/music-bingo-tuffys/2026-10-25/
LOCATION:Tuffys Music Box\, 200 S Myrtle Ave Sanford\, Florida 32771 USA
GEO:28.8106131;-81.2703753
X-APPLE-STRUCTURED-LOCATION;VALUE=URI;X-ADDRESS=Tuffys Music Box 200 S Myrtle Ave Sanford Florida 32771 USA;X-APPLE-RADIUS=500;X-TITLE=200 S Myrtle Ave Sanford\, Florida 32771 USA:geo:-81.2703753,28.8106131
END:VEVENT
BEGIN:VEVENT
DTSTART;TZID=America/New_York:20261101T150000
DTEND;TZID=America/New_York:20261101T150000
DTSTAMP:20260419T180214
CREATED:20260105T003247Z
LAST-MODIFIED:20260105T060114Z
UID:10020326-1793545200-1793545200@epictriviafl.com
SUMMARY:Music Bingo
DESCRIPTION:
URL:https://epictriviafl.com/event/music-bingo-tuffys/2026-11-01/
LOCATION:Tuffys Music Box\, 200 S Myrtle Ave Sanford\, Florida 32771 USA
GEO:28.8106131;-81.2703753
X-APPLE-STRUCTURED-LOCATION;VALUE=URI;X-ADDRESS=Tuffys Music Box 200 S Myrtle Ave Sanford Florida 32771 USA;X-APPLE-RADIUS=500;X-TITLE=200 S Myrtle Ave Sanford\, Florida 32771 USA:geo:-81.2703753,28.8106131
END:VEVENT
BEGIN:VEVENT
DTSTART;TZID=America/New_York:20261108T150000
DTEND;TZID=America/New_York:20261108T150000
DTSTAMP:20260419T180214
CREATED:20260105T003247Z
LAST-MODIFIED:20260105T060114Z
UID:10020327-1794150000-1794150000@epictriviafl.com
SUMMARY:Music Bingo
DESCRIPTION:
URL:https://epictriviafl.com/event/music-bingo-tuffys/2026-11-08/
LOCATION:Tuffys Music Box\, 200 S Myrtle Ave Sanford\, Florida 32771 USA
GEO:28.8106131;-81.2703753
X-APPLE-STRUCTURED-LOCATION;VALUE=URI;X-ADDRESS=Tuffys Music Box 200 S Myrtle Ave Sanford Florida 32771 USA;X-APPLE-RADIUS=500;X-TITLE=200 S Myrtle Ave Sanford\, Florida 32771 USA:geo:-81.2703753,28.8106131
END:VEVENT
BEGIN:VEVENT
DTSTART;TZID=America/New_York:20261115T150000
DTEND;TZID=America/New_York:20261115T150000
DTSTAMP:20260419T180214
CREATED:20260105T003247Z
LAST-MODIFIED:20260105T060114Z
UID:10020328-1794754800-1794754800@epictriviafl.com
SUMMARY:Music Bingo
DESCRIPTION:
URL:https://epictriviafl.com/event/music-bingo-tuffys/2026-11-15/
LOCATION:Tuffys Music Box\, 200 S Myrtle Ave Sanford\, Florida 32771 USA
GEO:28.8106131;-81.2703753
X-APPLE-STRUCTURED-LOCATION;VALUE=URI;X-ADDRESS=Tuffys Music Box 200 S Myrtle Ave Sanford Florida 32771 USA;X-APPLE-RADIUS=500;X-TITLE=200 S Myrtle Ave Sanford\, Florida 32771 USA:geo:-81.2703753,28.8106131
END:VEVENT
END:VCALENDAR